{"text_format":"2","workbook":"xlsx","n_sheets":3,"sheets":["表格模板","建筑","设备类型"],"not_rendered":{"charts":0,"images":0,"macros":0,"external_links":0,"defined_names":4,"comments":2,"pivot_tables":0},"unopened":[],"bounds":{"document_bytes":16777216,"sheet_cells":100000,"run_cost":"one","rows_first":2000,"rows_last":500,"rows_between":2000,"halvings":0,"cell_chars":16384,"cell_head_chars":4096},"cells_cut":0,"cells_raw":0,"read":"whole","date_system":"1900"}

{"sheet":"表格模板","index":0,"n_rows":5004,"n_cols":8,"rows_kept":5004,"cut":false,"hidden":false,"merged":[]}
["Tips:1.此模板为批量添加设备模板，请勿随意修改表格内的函数公式与格式，以免影响导入功能的实现；"]
["        2.批量添加设备，最多只能添加5000条数据；"]
["        3.标红必填项的项目请不要空值。"]
["建筑名称（必填）","建筑ID","设备类型（必填）","设备ID","设备编号（必填）","楼层（必填）","位置描述","备注"]
[null,{"$f":"INDEX(建筑!$B$2:$B$5001,MATCH(表格模板!A5,建筑!$A$2:$A$5001,0),COLUMN(A5))","v":{"$error":"#N/A"}},null,{"$f":"INDEX(设备类型!$B$2:$B$5001,MATCH(表格模板!C5,设备类型!$A$2:$A$5001,0),COLUMN(A5))","v":{"$error":"#N/A"}}]
[null,{"$f":"INDEX(建筑!$B$2:$B$5001,MATCH(表格模板!A6,建筑!$A$2:$A$5001,0),COLUMN(A6))","v":{"$error":"#N/A"}},null,{"$f":"INDEX(设备类型!$B$2:$B$5001,MATCH(表格模板!C6,设备类型!$A$2:$A$5001,0),COLUMN(A6))","v":{"$error":"#N/A"}},""]
[null,{"$f":"INDEX(建筑!$B$2:$B$5001,MATCH(表格模板!A7,建筑!$A$2:$A$5001,0),COLUMN(A7))","v":{"$error":"#N/A"}},null,{"$f":"INDEX(设备类型!$B$2:$B$5001,MATCH(表格模板!C7,设备类型!$A$2:$A$5001,0),COLUMN(A7))","v":{"$error":"#N/A"}}]
[null,{"$f":"INDEX(建筑!$B$2:$B$5001,MATCH(表格模板!A8,建筑!$A$2:$A$5001,0),COLUMN(A8))","v":{"$error":"#N/A"}},null,{"$f":"INDEX(设备类型!$B$2:$B$5001,MATCH(表格模板!C8,设备类型!$A$2:$A$5001,0),COLUMN(A8))","v":{"$error":"#N/A"}}]
[null,{"$f":"INDEX(建筑!$B$2:$B$5001,MATCH(表格模板!A9,建筑!$A$2:$A$5001,0),COLUMN(A9))","v":{"$error":"#N/A"}},null,{"$f":"INDEX(设备类型!$B$2:$B$5001,MATCH(表格模板!C9,设备类型!$A$2:$A$5001,0),COLUMN(A9))","v":{"$error":"#N/A"}}]
[null,{"$f":"INDEX(建筑!$B$2:$B$5001,MATCH(表格模板!A10,建筑!$A$2:$A$5001,0),COLUMN(A10))","v":{"$error":"#N/A"}},null,{"$f":"INDEX(设备类型!$B$2:$B$5001,MATCH(表格模板!C10,设备类型!$A$2:$A$5001,0),COLUMN(A10))","v":{"$error":"#N/A"}}]
[null,{"$f":"INDEX(建筑!$B$2:$B$5001,MATCH(表格模板!A11,建筑!$A$2:$A$5001,0),COLUMN(A11))","v":{"$error":"#N/A"}},null,{"$f":"INDEX(设备类型!$B$2:$B$5001,MATCH(表格模板!C11,设备类型!$A$2:$A$5001,0),COLUMN(A11))","v":{"$error":"#N/A"}}]
[null,{"$f":"INDEX(建筑!$B$2:$B$5001,MATCH(表格模板!A12,建筑!$A$2:$A$5001,0),COLUMN(A12))","v":{"$error":"#N/A"}},null,{"$f":"INDEX(设备类型!$B$2:$B$5001,MATCH(表格模板!C12,设备类型!$A$2:$A$5001,0),COLUMN(A12))","v":{"$error":"#N/A"}}]
[null,{"$f":"INDEX(建筑!$B$2:$B$5001,MATCH(表格模板!A13,建筑!$A$2:$A$5001,0),COLUMN(A13))","v":{"$error":"#N/A"}},null,{"$f":"INDEX(设备类型!$B$2:$B$5001,MATCH(表格模板!C13,设备类型!$A$2:$A$5001,0),COLUMN(A13))","v":{"$error":"#N/A"}}]
[null,{"$f":"INDEX(建筑!$B$2:$B$5001,MATCH(表格模板!A14,建筑!$A$2:$A$5001,0),COLUMN(A14))","v":{"$error":"#N/A"}},null,{"$f":"INDEX(设备类型!$B$2:$B$5001,MATCH(表格模板!C14,设备类型!$A$2:$A$5001,0),COLUMN(A14))","v":{"$error":"#N/A"}}]
[null,{"$f":"INDEX(建筑!$B$2:$B$5001,MATCH(表格模板!A15,建筑!$A$2:$A$5001,0),COLUMN(A15))","v":{"$error":"#N/A"}},null,{"$f":"INDEX(设备类型!$B$2:$B$5001,MATCH(表格模板!C15,设备类型!$A$2:$A$5001,0),COLUMN(A15))","v":{"$error":"#N/A"}}]
[null,{"$f":"INDEX(建筑!$B$2:$B$5001,MATCH(表格模板!A16,建筑!$A$2:$A$5001,0),COLUMN(A16))","v":{"$error":"#N/A"}},null,{"$f":"INDEX(设备类型!$B$2:$B$5001,MATCH(表格模板!C16,设备类型!$A$2:$A$5001,0),COLUMN(A16))","v":{"$error":"#N/A"}}]
[null,{"$f":"INDEX(建筑!$B$2:$B$5001,MATCH(表格模板!A17,建筑!$A$2:$A$5001,0),COLUMN(A17))","v":{"$error":"#N/A"}},null,{"$f":"INDEX(设备类型!$B$2:$B$5001,MATCH(表格模板!C17,设备类型!$A$2:$A$5001,0),COLUMN(A17))","v":{"$error":"#N/A"}}]
[null,{"$f":"INDEX(建筑!$B$2:$B$5001,MATCH(表格模板!A18,建筑!$A$2:$A$5001,0),COLUMN(A18))","v":{"$error":"#N/A"}},null,{"$f":"INDEX(设备类型!$B$2:$B$5001,MATCH(表格模板!C18,设备类型!$A$2:$A$5001,0),COLUMN(A18))","v":{"$error":"#N/A"}}]
[null,{"$f":"INDEX(建筑!$B$2:$B$5001,MATCH(表格模板!A19,建筑!$A$2:$A$5001,0),COLUMN(A19))","v":{"$error":"#N/A"}},null,{"$f":"INDEX(设备类型!$B$2:$B$5001,MATCH(表格模板!C19,设备类型!$A$2:$A$5001,0),COLUMN(A19))","v":{"$error":"#N/A"}}]
[null,{"$f":"INDEX(建筑!$B$2:$B$5001,MATCH(表格模板!A20,建筑!$A$2:$A$5001,0),COLUMN(A20))","v":{"$error":"#N/A"}},null,{"$f":"INDEX(设备类型!$B$2:$B$5001,MATCH(表格模板!C20,设备类型!$A$2:$A$5001,0),COLUMN(A20))","v":{"$error":"#N/A"}}]
[null,{"$f":"INDEX(建筑!$B$2:$B$5001,MATCH(表格模板!A21,建筑!$A$2:$A$5001,0),COLUMN(A21))","v":{"$error":"#N/A"}},null,{"$f":"INDEX(设备类型!$B$2:$B$5001,MATCH(表格模板!C21,设备类型!$A$2:$A$5001,0),COLUMN(A21))","v":{"$error":"#N/A"}}]
[null,{"$f":"INDEX(建筑!$B$2:$B$5001,MATCH(表格模板!A22,建筑!$A$2:$A$5001,0),COLUMN(A22))","v":{"$error":"#N/A"}},null,{"$f":"INDEX(设备类型!$B$2:$B$5001,MATCH(表格模板!C22,设备类型!$A$2:$A$5001,0),COLUMN(A22))","v":{"$error":"#N/A"}}]
[null,{"$f":"INDEX(建筑!$B$2:$B$5001,MATCH(表格模板!A23,建筑!$A$2:$A$5001,0),COLUMN(A23))","v":{"$error":"#N/A"}},null,{"$f":"INDEX(设备类型!$B$2:$B$5001,MATCH(表格模板!C23,设备类型!$A$2:$A$5001,0),COLUMN(A23))","v":{"$error":"#N/A"}}]
[null,{"$f":"INDEX(建筑!$B$2:$B$5001,MATCH(表格模板!A24,建筑!$A$2:$A$5001,0),COLUMN(A24))","v":{"$error":"#N/A"}},null,{"$f":"INDEX(设备类型!$B$2:$B$5001,MATCH(表格模板!C24,设备类型!$A$2:$A$5001,0),COLUMN(A24))","v":{"$error":"#N/A"}}]
[null,{"$f":"INDEX(建筑!$B$2:$B$5001,MATCH(表格模板!A25,建筑!$A$2:$A$5001,0),COLUMN(A25))","v":{"$error":"#N/A"}},null,{"$f":"INDEX(设备类型!$B$2:$B$5001,MATCH(表格模板!C25,设备类型!$A$2:$A$5001,0),COLUMN(A25))","v":{"$error":"#N/A"}}]
[null,{"$f":"INDEX(建筑!$B$2:$B$5001,MATCH(表格模板!A26,建筑!$A$2:$A$5001,0),COLUMN(A26))","v":{"$error":"#N/A"}},null,{"$f":"INDEX(设备类型!$B$2:$B$5001,MATCH(表格模板!C26,设备类型!$A$2:$A$5001,0),COLUMN(A26))","v":{"$error":"#N/A"}}]
[null,{"$f":"INDEX(建筑!$B$2:$B$5001,MATCH(表格模板!A27,建筑!$A$2:$A$5001,0),COLUMN(A27))","v":{"$error":"#N/A"}},null,{"$f":"INDEX(设备类型!$B$2:$B$5001,MATCH(表格模板!C27,设备类型!$A$2:$A$5001,0),COLUMN(A27))","v":{"$error":"#N/A"}}]
[null,{"$f":"INDEX(建筑!$B$2:$B$5001,MATCH(表格模板!A28,建筑!$A$2:$A$5001,0),COLUMN(A28))","v":{"$error":"#N/A"}},null,{"$f":"INDEX(设备类型!$B$2:$B$5001,MATCH(表格模板!C28,设备类型!$A$2:$A$5001,0),COLUMN(A28))","v":{"$error":"#N/A"}}]
[null,{"$f":"INDEX(建筑!$B$2:$B$5001,MATCH(表格模板!A29,建筑!$A$2:$A$5001,0),COLUMN(A29))","v":{"$error":"#N/A"}},null,{"$f":"INDEX(设备类型!$B$2:$B$5001,MATCH(表格模板!C29,设备类型!$A$2:$A$5001,0),COLUMN(A29))","v":{"$error":"#N/A"}}]
[null,{"$f":"INDEX(建筑!$B$2:$B$5001,MATCH(表格模板!A30,建筑!$A$2:$A$5001,0),COLUMN(A30))","v":{"$error":"#N/A"}},null,{"$f":"INDEX(设备类型!$B$2:$B$5001,MATCH(表格模板!C30,设备类型!$A$2:$A$5001,0),COLUMN(A30))","v":{"$error":"#N/A"}}]
[null,{"$f":"INDEX(建筑!$B$2:$B$5001,MATCH(表格模板!A31,建筑!$A$2:$A$5001,0),COLUMN(A31))","v":{"$error":"#N/A"}},null,{"$f":"INDEX(设备类型!$B$2:$B$5001,MATCH(表格模板!C31,设备类型!$A$2:$A$5001,0),COLUMN(A31))","v":{"$error":"#N/A"}}]
[null,{"$f":"INDEX(建筑!$B$2:$B$5001,MATCH(表格模板!A32,建筑!$A$2:$A$5001,0),COLUMN(A32))","v":{"$error":"#N/A"}},null,{"$f":"INDEX(设备类型!$B$2:$B$5001,MATCH(表格模板!C32,设备类型!$A$2:$A$5001,0),COLUMN(A32))","v":{"$error":"#N/A"}}]
[null,{"$f":"INDEX(建筑!$B$2:$B$5001,MATCH(表格模板!A33,建筑!$A$2:$A$5001,0),COLUMN(A33))","v":{"$error":"#N/A"}},null,{"$f":"INDEX(设备类型!$B$2:$B$5001,MATCH(表格模板!C33,设备类型!$A$2:$A$5001,0),COLUMN(A33))","v":{"$error":"#N/A"}}]
[null,{"$f":"INDEX(建筑!$B$2:$B$5001,MATCH(表格模板!A34,建筑!$A$2:$A$5001,0),COLUMN(A34))","v":{"$error":"#N/A"}},null,{"$f":"INDEX(设备类型!$B$2:$B$5001,MATCH(表格模板!C34,设备类型!$A$2:$A$5001,0),COLUMN(A34))","v":{"$error":"#N/A"}}]
[null,{"$f":"INDEX(建筑!$B$2:$B$5001,MATCH(表格模板!A35,建筑!$A$2:$A$5001,0),COLUMN(A35))","v":{"$error":"#N/A"}},null,{"$f":"INDEX(设备类型!$B$2:$B$5001,MATCH(表格模板!C35,设备类型!$A$2:$A$5001,0),COLUMN(A35))","v":{"$error":"#N/A"}}]
[null,{"$f":"INDEX(建筑!$B$2:$B$5001,MATCH(表格模板!A36,建筑!$A$2:$A$5001,0),COLUMN(A36))","v":{"$error":"#N/A"}},null,{"$f":"INDEX(设备类型!$B$2:$B$5001,MATCH(表格模板!C36,设备类型!$A$2:$A$5001,0),COLUMN(A36))","v":{"$error":"#N/A"}}]
[null,{"$f":"INDEX(建筑!$B$2:$B$5001,MATCH(表格模板!A37,建筑!$A$2:$A$5001,0),COLUMN(A37))","v":{"$error":"#N/A"}},null,{"$f":"INDEX(设备类型!$B$2:$B$5001,MATCH(表格模板!C37,设备类型!$A$2:$A$5001,0),COLUMN(A37))","v":{"$error":"#N/A"}}]
[null,{"$f":"INDEX(建筑!$B$2:$B$5001,MATCH(表格模板!A38,建筑!$A$2:$A$5001,0),COLUMN(A38))","v":{"$error":"#N/A"}},null,{"$f":"INDEX(设备类型!$B$2:$B$5001,MATCH(表格模板!C38,设备类型!$A$2:$A$5001,0),COLUMN(A38))","v":{"$error":"#N/A"}}]
[null,{"$f":"INDEX(建筑!$B$2:$B$5001,MATCH(表格模板!A39,建筑!$A$2:$A$5001,0),COLUMN(A39))","v":{"$error":"#N/A"}},null,{"$f":"INDEX(设备类型!$B$2:$B$5001,MATCH(表格模板!C39,设备类型!$A$2:$A$5001,0),COLUMN(A39))","v":{"$error":"#N/A"}}]
[null,{"$f":"INDEX(建筑!$B$2:$B$5001,MATCH(表格模板!A40,建筑!$A$2:$A$5001,0),COLUMN(A40))","v":{"$error":"#N/A"}},null,{"$f":"INDEX(设备类型!$B$2:$B$5001,MATCH(表格模板!C40,设备类型!$A$2:$A$5001,0),COLUMN(A40))","v":{"$error":"#N/A"}}]
[null,{"$f":"INDEX(建筑!$B$2:$B$5001,MATCH(表格模板!A41,建筑!$A$2:$A$5001,0),COLUMN(A41))","v":{"$error":"#N/A"}},null,{"$f":"INDEX(设备类型!$B$2:$B$5001,MATCH(表格模板!C41,设备类型!$A$2:$A$5001,0),COLUMN(A41))","v":{"$error":"#N/A"}}]
[null,{"$f":"INDEX(建筑!$B$2:$B$5001,MATCH(表格模板!A42,建筑!$A$2:$A$5001,0),COLUMN(A42))","v":{"$error":"#N/A"}},null,{"$f":"INDEX(设备类型!$B$2:$B$5001,MATCH(表格模板!C42,设备类型!$A$2:$A$5001,0),COLUMN(A42))","v":{"$error":"#N/A"}}]
[null,{"$f":"INDEX(建筑!$B$2:$B$5001,MATCH(表格模板!A43,建筑!$A$2:$A$5001,0),COLUMN(A43))","v":{"$error":"#N/A"}},null,{"$f":"INDEX(设备类型!$B$2:$B$5001,MATCH(表格模板!C43,设备类型!$A$2:$A$5001,0),COLUMN(A43))","v":{"$error":"#N/A"}}]
[null,{"$f":"INDEX(建筑!$B$2:$B$5001,MATCH(表格模板!A44,建筑!$A$2:$A$5001,0),COLUMN(A44))","v":{"$error":"#N/A"}},null,{"$f":"INDEX(设备类型!$B$2:$B$5001,MATCH(表格模板!C44,设备类型!$A$2:$A$5001,0),COLUMN(A44))","v":{"$error":"#N/A"}}]
[null,{"$f":"INDEX(建筑!$B$2:$B$5001,MATCH(表格模板!A45,建筑!$A$2:$A$5001,0),COLUMN(A45))","v":{"$error":"#N/A"}},null,{"$f":"INDEX(设备类型!$B$2:$B$5001,MATCH(表格模板!C45,设备类型!$A$2:$A$5001,0),COLUMN(A45))","v":{"$error":"#N/A"}}]
[null,{"$f":"INDEX(建筑!$B$2:$B$5001,MATCH(表格模板!A46,建筑!$A$2:$A$5001,0),COLUMN(A46))","v":{"$error":"#N/A"}},null,{"$f":"INDEX(设备类型!$B$2:$B$5001,MATCH(表格模板!C46,设备类型!$A$2:$A$5001,0),COLUMN(A46))","v":{"$error":"#N/A"}}]
[null,{"$f":"INDEX(建筑!$B$2:$B$5001,MATCH(表格模板!A47,建筑!$A$2:$A$5001,0),COLUMN(A47))","v":{"$error":"#N/A"}},null,{"$f":"INDEX(设备类型!$B$2:$B$5001,MATCH(表格模板!C47,设备类型!$A$2:$A$5001,0),COLUMN(A47))","v":{"$error":"#N/A"}}]
[null,{"$f":"INDEX(建筑!$B$2:$B$5001,MATCH(表格模板!A48,建筑!$A$2:$A$5001,0),COLUMN(A48))","v":{"$error":"#N/A"}},null,{"$f":"INDEX(设备类型!$B$2:$B$5001,MATCH(表格模板!C48,设备类型!$A$2:$A$5001,0),COLUMN(A48))","v":{"$error":"#N/A"}}]
[null,{"$f":"INDEX(建筑!$B$2:$B$5001,MATCH(表格模板!A49,建筑!$A$2:$A$5001,0),COLUMN(A49))","v":{"$error":"#N/A"}},null,{"$f":"INDEX(设备类型!$B$2:$B$5001,MATCH(表格模板!C49,设备类型!$A$2:$A$5001,0),COLUMN(A49))","v":{"$error":"#N/A"}}]
[null,{"$f":"INDEX(建筑!$B$2:$B$5001,MATCH(表格模板!A50,建筑!$A$2:$A$5001,0),COLUMN(A50))","v":{"$error":"#N/A"}},null,{"$f":"INDEX(设备类型!$B$2:$B$5001,MATCH(表格模板!C50,设备类型!$A$2:$A$5001,0),COLUMN(A50))","v":{"$error":"#N/A"}}]
[null,{"$f":"INDEX(建筑!$B$2:$B$5001,MATCH(表格模板!A51,建筑!$A$2:$A$5001,0),COLUMN(A51))","v":{"$error":"#N/A"}},null,{"$f":"INDEX(设备类型!$B$2:$B$5001,MATCH(表格模板!C51,设备类型!$A$2:$A$5001,0),COLUMN(A51))","v":{"$error":"#N/A"}}]
[null,{"$f":"INDEX(建筑!$B$2:$B$5001,MATCH(表格模板!A52,建筑!$A$2:$A$5001,0),COLUMN(A52))","v":{"$error":"#N/A"}},null,{"$f":"INDEX(设备类型!$B$2:$B$5001,MATCH(表格模板!C52,设备类型!$A$2:$A$5001,0),COLUMN(A52))","v":{"$error":"#N/A"}}]
[null,{"$f":"INDEX(建筑!$B$2:$B$5001,MATCH(表格模板!A53,建筑!$A$2:$A$5001,0),COLUMN(A53))","v":{"$error":"#N/A"}},null,{"$f":"INDEX(设备类型!$B$2:$B$5001,MATCH(表格模板!C53,设备类型!$A$2:$A$5001,0),COLUMN(A53))","v":{"$error":"#N/A"}}]
[null,{"$f":"INDEX(建筑!$B$2:$B$5001,MATCH(表格模板!A54,建筑!$A$2:$A$5001,0),COLUMN(A54))","v":{"$error":"#N/A"}},null,{"$f":"INDEX(设备类型!$B$2:$B$5001,MATCH(表格模板!C54,设备类型!$A$2:$A$5001,0),COLUMN(A54))","v":{"$error":"#N/A"}}]
[null,{"$f":"INDEX(建筑!$B$2:$B$5001,MATCH(表格模板!A55,建筑!$A$2:$A$5001,0),COLUMN(A55))","v":{"$error":"#N/A"}},null,{"$f":"INDEX(设备类型!$B$2:$B$5001,MATCH(表格模板!C55,设备类型!$A$2:$A$5001,0),COLUMN(A55))","v":{"$error":"#N/A"}}]
[null,{"$f":"INDEX(建筑!$B$2:$B$5001,MATCH(表格模板!A56,建筑!$A$2:$A$5001,0),COLUMN(A56))","v":{"$error":"#N/A"}},null,{"$f":"INDEX(设备类型!$B$2:$B$5001,MATCH(表格模板!C56,设备类型!$A$2:$A$5001,0),COLUMN(A56))","v":{"$error":"#N/A"}}]
[null,{"$f":"INDEX(建筑!$B$2:$B$5001,MATCH(表格模板!A57,建筑!$A$2:$A$5001,0),COLUMN(A57))","v":{"$error":"#N/A"}},null,{"$f":"INDEX(设备类型!$B$2:$B$5001,MATCH(表格模板!C57,设备类型!$A$2:$A$5001,0),COLUMN(A57))","v":{"$error":"#N/A"}}]
[null,{"$f":"INDEX(建筑!$B$2:$B$5001,MATCH(表格模板!A58,建筑!$A$2:$A$5001,0),COLUMN(A58))","v":{"$error":"#N/A"}},null,{"$f":"INDEX(设备类型!$B$2:$B$5001,MATCH(表格模板!C58,设备类型!$A$2:$A$5001,0),COLUMN(A58))","v":{"$error":"#N/A"}}]
[null,{"$f":"INDEX(建筑!$B$2:$B$5001,MATCH(表格模板!A59,建筑!$A$2:$A$5001,0),COLUMN(A59))","v":{"$error":"#N/A"}},null,{"$f":"INDEX(设备类型!$B$2:$B$5001,MATCH(表格模板!C59,设备类型!$A$2:$A$5001,0),COLUMN(A59))","v":{"$error":"#N/A"}}]
[null,{"$f":"INDEX(建筑!$B$2:$B$5001,MATCH(表格模板!A60,建筑!$A$2:$A$5001,0),COLUMN(A60))","v":{"$error":"#N/A"}},null,{"$f":"INDEX(设备类型!$B$2:$B$5001,MATCH(表格模板!C60,设备类型!$A$2:$A$5001,0),COLUMN(A60))","v":{"$error":"#N/A"}}]
[null,{"$f":"INDEX(建筑!$B$2:$B$5001,MATCH(表格模板!A61,建筑!$A$2:$A$5001,0),COLUMN(A61))","v":{"$error":"#N/A"}},null,{"$f":"INDEX(设备类型!$B$2:$B$5001,MATCH(表格模板!C61,设备类型!$A$2:$A$5001,0),COLUMN(A61))","v":{"$error":"#N/A"}}]
[null,{"$f":"INDEX(建筑!$B$2:$B$5001,MATCH(表格模板!A62,建筑!$A$2:$A$5001,0),COLUMN(A62))","v":{"$error":"#N/A"}},null,{"$f":"INDEX(设备类型!$B$2:$B$5001,MATCH(表格模板!C62,设备类型!$A$2:$A$5001,0),COLUMN(A62))","v":{"$error":"#N/A"}}]
[null,{"$f":"INDEX(建筑!$B$2:$B$5001,MATCH(表格模板!A63,建筑!$A$2:$A$5001,0),COLUMN(A63))","v":{"$error":"#N/A"}},null,{"$f":"INDEX(设备类型!$B$2:$B$5001,MATCH(表格模板!C63,设备类型!$A$2:$A$5001,0),COLUMN(A63))","v":{"$error":"#N/A"}}]
[null,{"$f":"INDEX(建筑!$B$2:$B$5001,MATCH(表格模板!A64,建筑!$A$2:$A$5001,0),COLUMN(A64))","v":{"$error":"#N/A"}},null,{"$f":"INDEX(设备类型!$B$2:$B$5001,MATCH(表格模板!C64,设备类型!$A$2:$A$5001,0),COLUMN(A64))","v":{"$error":"#N/A"}}]
[null,{"$f":"INDEX(建筑!$B$2:$B$5001,MATCH(表格模板!A65,建筑!$A$2:$A$5001,0),COLUMN(A65))","v":{"$error":"#N/A"}},null,{"$f":"INDEX(设备类型!$B$2:$B$5001,MATCH(表格模板!C65,设备类型!$A$2:$A$5001,0),COLUMN(A65))","v":{"$error":"#N/A"}}]
[null,{"$f":"INDEX(建筑!$B$2:$B$5001,MATCH(表格模板!A66,建筑!$A$2:$A$5001,0),COLUMN(A66))","v":{"$error":"#N/A"}},null,{"$f":"INDEX(设备类型!$B$2:$B$5001,MATCH(表格模板!C66,设备类型!$A$2:$A$5001,0),COLUMN(A66))","v":{"$error":"#N/A"}}]
[null,{"$f":"INDEX(建筑!$B$2:$B$5001,MATCH(表格模板!A67,建筑!$A$2:$A$5001,0),COLUMN(A67))","v":{"$error":"#N/A"}},null,{"$f":"INDEX(设备类型!$B$2:$B$5001,MATCH(表格模板!C67,设备类型!$A$2:$A$5001,0),COLUMN(A67))","v":{"$error":"#N/A"}}]
[null,{"$f":"INDEX(建筑!$B$2:$B$5001,MATCH(表格模板!A68,建筑!$A$2:$A$5001,0),COLUMN(A68))","v":{"$error":"#N/A"}},null,{"$f":"INDEX(设备类型!$B$2:$B$5001,MATCH(表格模板!C68,设备类型!$A$2:$A$5001,0),COLUMN(A68))","v":{"$error":"#N/A"}}]
[null,{"$f":"INDEX(建筑!$B$2:$B$5001,MATCH(表格模板!A69,建筑!$A$2:$A$5001,0),COLUMN(A69))","v":{"$error":"#N/A"}},null,{"$f":"INDEX(设备类型!$B$2:$B$5001,MATCH(表格模板!C69,设备类型!$A$2:$A$5001,0),COLUMN(A69))","v":{"$error":"#N/A"}}]
[null,{"$f":"INDEX(建筑!$B$2:$B$5001,MATCH(表格模板!A70,建筑!$A$2:$A$5001,0),COLUMN(A70))","v":{"$error":"#N/A"}},null,{"$f":"INDEX(设备类型!$B$2:$B$5001,MATCH(表格模板!C70,设备类型!$A$2:$A$5001,0),COLUMN(A70))","v":{"$error":"#N/A"}}]
[null,{"$f":"INDEX(建筑!$B$2:$B$5001,MATCH(表格模板!A71,建筑!$A$2:$A$5001,0),COLUMN(A71))","v":{"$error":"#N/A"}},null,{"$f":"INDEX(设备类型!$B$2:$B$5001,MATCH(表格模板!C71,设备类型!$A$2:$A$5001,0),COLUMN(A71))","v":{"$error":"#N/A"}}]
[null,{"$f":"INDEX(建筑!$B$2:$B$5001,MATCH(表格模板!A72,建筑!$A$2:$A$5001,0),COLUMN(A72))","v":{"$error":"#N/A"}},null,{"$f":"INDEX(设备类型!$B$2:$B$5001,MATCH(表格模板!C72,设备类型!$A$2:$A$5001,0),COLUMN(A72))","v":{"$error":"#N/A"}}]
[null,{"$f":"INDEX(建筑!$B$2:$B$5001,MATCH(表格模板!A73,建筑!$A$2:$A$5001,0),COLUMN(A73))","v":{"$error":"#N/A"}},null,{"$f":"INDEX(设备类型!$B$2:$B$5001,MATCH(表格模板!C73,设备类型!$A$2:$A$5001,0),COLUMN(A73))","v":{"$error":"#N/A"}}]
[null,{"$f":"INDEX(建筑!$B$2:$B$5001,MATCH(表格模板!A74,建筑!$A$2:$A$5001,0),COLUMN(A74))","v":{"$error":"#N/A"}},null,{"$f":"INDEX(设备类型!$B$2:$B$5001,MATCH(表格模板!C74,设备类型!$A$2:$A$5001,0),COLUMN(A74))","v":{"$error":"#N/A"}}]
[null,{"$f":"INDEX(建筑!$B$2:$B$5001,MATCH(表格模板!A75,建筑!$A$2:$A$5001,0),COLUMN(A75))","v":{"$error":"#N/A"}},null,{"$f":"INDEX(设备类型!$B$2:$B$5001,MATCH(表格模板!C75,设备类型!$A$2:$A$5001,0),COLUMN(A75))","v":{"$error":"#N/A"}}]
[null,{"$f":"INDEX(建筑!$B$2:$B$5001,MATCH(表格模板!A76,建筑!$A$2:$A$5001,0),COLUMN(A76))","v":{"$error":"#N/A"}},null,{"$f":"INDEX(设备类型!$B$2:$B$5001,MATCH(表格模板!C76,设备类型!$A$2:$A$5001,0),COLUMN(A76))","v":{"$error":"#N/A"}}]
[null,{"$f":"INDEX(建筑!$B$2:$B$5001,MATCH(表格模板!A77,建筑!$A$2:$A$5001,0),COLUMN(A77))","v":{"$error":"#N/A"}},null,{"$f":"INDEX(设备类型!$B$2:$B$5001,MATCH(表格模板!C77,设备类型!$A$2:$A$5001,0),COLUMN(A77))","v":{"$error":"#N/A"}}]
[null,{"$f":"INDEX(建筑!$B$2:$B$5001,MATCH(表格模板!A78,建筑!$A$2:$A$5001,0),COLUMN(A78))","v":{"$error":"#N/A"}},null,{"$f":"INDEX(设备类型!$B$2:$B$5001,MATCH(表格模板!C78,设备类型!$A$2:$A$5001,0),COLUMN(A78))","v":{"$error":"#N/A"}}]
[null,{"$f":"INDEX(建筑!$B$2:$B$5001,MATCH(表格模板!A79,建筑!$A$2:$A$5001,0),COLUMN(A79))","v":{"$error":"#N/A"}},null,{"$f":"INDEX(设备类型!$B$2:$B$5001,MATCH(表格模板!C79,设备类型!$A$2:$A$5001,0),COLUMN(A79))","v":{"$error":"#N/A"}}]
[null,{"$f":"INDEX(建筑!$B$2:$B$5001,MATCH(表格模板!A80,建筑!$A$2:$A$5001,0),COLUMN(A80))","v":{"$error":"#N/A"}},null,{"$f":"INDEX(设备类型!$B$2:$B$5001,MATCH(表格模板!C80,设备类型!$A$2:$A$5001,0),COLUMN(A80))","v":{"$error":"#N/A"}}]
[null,{"$f":"INDEX(建筑!$B$2:$B$5001,MATCH(表格模板!A81,建筑!$A$2:$A$5001,0),COLUMN(A81))","v":{"$error":"#N/A"}},null,{"$f":"INDEX(设备类型!$B$2:$B$5001,MATCH(表格模板!C81,设备类型!$A$2:$A$5001,0),COLUMN(A81))","v":{"$error":"#N/A"}}]
[null,{"$f":"INDEX(建筑!$B$2:$B$5001,MATCH(表格模板!A82,建筑!$A$2:$A$5001,0),COLUMN(A82))","v":{"$error":"#N/A"}},null,{"$f":"INDEX(设备类型!$B$2:$B$5001,MATCH(表格模板!C82,设备类型!$A$2:$A$5001,0),COLUMN(A82))","v":{"$error":"#N/A"}}]
[null,{"$f":"INDEX(建筑!$B$2:$B$5001,MATCH(表格模板!A83,建筑!$A$2:$A$5001,0),COLUMN(A83))","v":{"$error":"#N/A"}},null,{"$f":"INDEX(设备类型!$B$2:$B$5001,MATCH(表格模板!C83,设备类型!$A$2:$A$5001,0),COLUMN(A83))","v":{"$error":"#N/A"}}]
[null,{"$f":"INDEX(建筑!$B$2:$B$5001,MATCH(表格模板!A84,建筑!$A$2:$A$5001,0),COLUMN(A84))","v":{"$error":"#N/A"}},null,{"$f":"INDEX(设备类型!$B$2:$B$5001,MATCH(表格模板!C84,设备类型!$A$2:$A$5001,0),COLUMN(A84))","v":{"$error":"#N/A"}}]
[null,{"$f":"INDEX(建筑!$B$2:$B$5001,MATCH(表格模板!A85,建筑!$A$2:$A$5001,0),COLUMN(A85))","v":{"$error":"#N/A"}},null,{"$f":"INDEX(设备类型!$B$2:$B$5001,MATCH(表格模板!C85,设备类型!$A$2:$A$5001,0),COLUMN(A85))","v":{"$error":"#N/A"}}]
[null,{"$f":"INDEX(建筑!$B$2:$B$5001,MATCH(表格模板!A86,建筑!$A$2:$A$5001,0),COLUMN(A86))","v":{"$error":"#N/A"}},null,{"$f":"INDEX(设备类型!$B$2:$B$5001,MATCH(表格模板!C86,设备类型!$A$2:$A$5001,0),COLUMN(A86))","v":{"$error":"#N/A"}}]
[null,{"$f":"INDEX(建筑!$B$2:$B$5001,MATCH(表格模板!A87,建筑!$A$2:$A$5001,0),COLUMN(A87))","v":{"$error":"#N/A"}},null,{"$f":"INDEX(设备类型!$B$2:$B$5001,MATCH(表格模板!C87,设备类型!$A$2:$A$5001,0),COLUMN(A87))","v":{"$error":"#N/A"}}]
[null,{"$f":"INDEX(建筑!$B$2:$B$5001,MATCH(表格模板!A88,建筑!$A$2:$A$5001,0),COLUMN(A88))","v":{"$error":"#N/A"}},null,{"$f":"INDEX(设备类型!$B$2:$B$5001,MATCH(表格模板!C88,设备类型!$A$2:$A$5001,0),COLUMN(A88))","v":{"$error":"#N/A"}}]
[null,{"$f":"INDEX(建筑!$B$2:$B$5001,MATCH(表格模板!A89,建筑!$A$2:$A$5001,0),COLUMN(A89))","v":{"$error":"#N/A"}},null,{"$f":"INDEX(设备类型!$B$2:$B$5001,MATCH(表格模板!C89,设备类型!$A$2:$A$5001,0),COLUMN(A89))","v":{"$error":"#N/A"}}]
[null,{"$f":"INDEX(建筑!$B$2:$B$5001,MATCH(表格模板!A90,建筑!$A$2:$A$5001,0),COLUMN(A90))","v":{"$error":"#N/A"}},null,{"$f":"INDEX(设备类型!$B$2:$B$5001,MATCH(表格模板!C90,设备类型!$A$2:$A$5001,0),COLUMN(A90))","v":{"$error":"#N/A"}}]
[null,{"$f":"INDEX(建筑!$B$2:$B$5001,MATCH(表格模板!A91,建筑!$A$2:$A$5001,0),COLUMN(A91))","v":{"$error":"#N/A"}},null,{"$f":"INDEX(设备类型!$B$2:$B$5001,MATCH(表格模板!C91,设备类型!$A$2:$A$5001,0),COLUMN(A91))","v":{"$error":"#N/A"}}]
[null,{"$f":"INDEX(建筑!$B$2:$B$5001,MATCH(表格模板!A92,建筑!$A$2:$A$5001,0),COLUMN(A92))","v":{"$error":"#N/A"}},null,{"$f":"INDEX(设备类型!$B$2:$B$5001,MATCH(表格模板!C92,设备类型!$A$2:$A$5001,0),COLUMN(A92))","v":{"$error":"#N/A"}}]
[null,{"$f":"INDEX(建筑!$B$2:$B$5001,MATCH(表格模板!A93,建筑!$A$2:$A$5001,0),COLUMN(A93))","v":{"$error":"#N/A"}},null,{"$f":"INDEX(设备类型!$B$2:$B$5001,MATCH(表格模板!C93,设备类型!$A$2:$A$5001,0),COLUMN(A93))","v":{"$error":"#N/A"}}]
[null,{"$f":"INDEX(建筑!$B$2:$B$5001,MATCH(表格模板!A94,建筑!$A$2:$A$5001,0),COLUMN(A94))","v":{"$error":"#N/A"}},null,{"$f":"INDEX(设备类型!$B$2:$B$5001,MATCH(表格模板!C94,设备类型!$A$2:$A$5001,0),COLUMN(A94))","v":{"$error":"#N/A"}}]
[null,{"$f":"INDEX(建筑!$B$2:$B$5001,MATCH(表格模板!A95,建筑!$A$2:$A$5001,0),COLUMN(A95))","v":{"$error":"#N/A"}},null,{"$f":"INDEX(设备类型!$B$2:$B$5001,MATCH(表格模板!C95,设备类型!$A$2:$A$5001,0),COLUMN(A95))","v":{"$error":"#N/A"}}]
[null,{"$f":"INDEX(建筑!$B$2:$B$5001,MATCH(表格模板!A96,建筑!$A$2:$A$5001,0),COLUMN(A96))","v":{"$error":"#N/A"}},null,{"$f":"INDEX(设备类型!$B$2:$B$5001,MATCH(表格模板!C96,设备类型!$A$2:$A$5001,0),COLUMN(A96))","v":{"$error":"#N/A"}}]
[null,{"$f":"INDEX(建筑!$B$2:$B$5001,MATCH(表格模板!A97,建筑!$A$2:$A$5001,0),COLUMN(A97))","v":{"$error":"#N/A"}},null,{"$f":"INDEX(设备类型!$B$2:$B$5001,MATCH(表格模板!C97,设备类型!$A$2:$A$5001,0),COLUMN(A97))","v":{"$error":"#N/A"}}]
[null,{"$f":"INDEX(建筑!$B$2:$B$5001,MATCH(表格模板!A98,建筑!$A$2:$A$5001,0),COLUMN(A98))","v":{"$error":"#N/A"}},null,{"$f":"INDEX(设备类型!$B$2:$B$5001,MATCH(表格模板!C98,设备类型!$A$2:$A$5001,0),COLUMN(A98))","v":{"$error":"#N/A"}}]
[null,{"$f":"INDEX(建筑!$B$2:$B$5001,MATCH(表格模板!A99,建筑!$A$2:$A$5001,0),COLUMN(A99))","v":{"$error":"#N/A"}},null,{"$f":"INDEX(设备类型!$B$2:$B$5001,MATCH(表格模板!C99,设备类型!$A$2:$A$5001,0),COLUMN(A99))","v":{"$error":"#N/A"}}]
[null,{"$f":"INDEX(建筑!$B$2:$B$5001,MATCH(表格模板!A100,建筑!$A$2:$A$5001,0),COLUMN(A100))","v":{"$error":"#N/A"}},null,{"$f":"INDEX(设备类型!$B$2:$B$5001,MATCH(表格模板!C100,设备类型!$A$2:$A$5001,0),COLUMN(A100))","v":{"$error":"#N/A"}}]
[null,{"$f":"INDEX(建筑!$B$2:$B$5001,MATCH(表格模板!A101,建筑!$A$2:$A$5001,0),COLUMN(A101))","v":{"$error":"#N/A"}},null,{"$f":"INDEX(设备类型!$B$2:$B$5001,MATCH(表格模板!C101,设备类型!$A$2:$A$5001,0),COLUMN(A101))","v":{"$error":"#N/A"}}]
[null,{"$f":"INDEX(建筑!$B$2:$B$5001,MATCH(表格模板!A102,建筑!$A$2:$A$5001,0),COLUMN(A102))","v":{"$error":"#N/A"}},null,{"$f":"INDEX(设备类型!$B$2:$B$5001,MATCH(表格模板!C102,设备类型!$A$2:$A$5001,0),COLUMN(A102))","v":{"$error":"#N/A"}}]
[null,{"$f":"INDEX(建筑!$B$2:$B$5001,MATCH(表格模板!A103,建筑!$A$2:$A$5001,0),COLUMN(A103))","v":{"$error":"#N/A"}},null,{"$f":"INDEX(设备类型!$B$2:$B$5001,MATCH(表格模板!C103,设备类型!$A$2:$A$5001,0),COLUMN(A103))","v":{"$error":"#N/A"}}]
[null,{"$f":"INDEX(建筑!$B$2:$B$5001,MATCH(表格模板!A104,建筑!$A$2:$A$5001,0),COLUMN(A104))","v":{"$error":"#N/A"}},null,{"$f":"INDEX(设备类型!$B$2:$B$5001,MATCH(表格模板!C104,设备类型!$A$2:$A$5001,0),COLUMN(A104))","v":{"$error":"#N/A"}}]
[null,{"$f":"INDEX(建筑!$B$2:$B$5001,MATCH(表格模板!A105,建筑!$A$2:$A$5001,0),COLUMN(A105))","v":{"$error":"#N/A"}},null,{"$f":"INDEX(设备类型!$B$2:$B$5001,MATCH(表格模板!C105,设备类型!$A$2:$A$5001,0),COLUMN(A105))","v":{"$error":"#N/A"}}]
[null,{"$f":"INDEX(建筑!$B$2:$B$5001,MATCH(表格模板!A106,建筑!$A$2:$A$5001,0),COLUMN(A106))","v":{"$error":"#N/A"}},null,{"$f":"INDEX(设备类型!$B$2:$B$5001,MATCH(表格模板!C106,设备类型!$A$2:$A$5001,0),COLUMN(A106))","v":{"$error":"#N/A"}}]
[null,{"$f":"INDEX(建筑!$B$2:$B$5001,MATCH(表格模板!A107,建筑!$A$2:$A$5001,0),COLUMN(A107))","v":{"$error":"#N/A"}},null,{"$f":"INDEX(设备类型!$B$2:$B$5001,MATCH(表格模板!C107,设备类型!$A$2:$A$5001,0),COLUMN(A107))","v":{"$error":"#N/A"}}]
[null,{"$f":"INDEX(建筑!$B$2:$B$5001,MATCH(表格模板!A108,建筑!$A$2:$A$5001,0),COLUMN(A108))","v":{"$error":"#N/A"}},null,{"$f":"INDEX(设备类型!$B$2:$B$5001,MATCH(表格模板!C108,设备类型!$A$2:$A$5001,0),COLUMN(A108))","v":{"$error":"#N/A"}}]
[null,{"$f":"INDEX(建筑!$B$2:$B$5001,MATCH(表格模板!A109,建筑!$A$2:$A$5001,0),COLUMN(A109))","v":{"$error":"#N/A"}},null,{"$f":"INDEX(设备类型!$B$2:$B$5001,MATCH(表格模板!C109,设备类型!$A$2:$A$5001,0),COLUMN(A109))","v":{"$error":"#N/A"}}]
[null,{"$f":"INDEX(建筑!$B$2:$B$5001,MATCH(表格模板!A110,建筑!$A$2:$A$5001,0),COLUMN(A110))","v":{"$error":"#N/A"}},null,{"$f":"INDEX(设备类型!$B$2:$B$5001,MATCH(表格模板!C110,设备类型!$A$2:$A$5001,0),COLUMN(A110))","v":{"$error":"#N/A"}}]
[null,{"$f":"INDEX(建筑!$B$2:$B$5001,MATCH(表格模板!A111,建筑!$A$2:$A$5001,0),COLUMN(A111))","v":{"$error":"#N/A"}},null,{"$f":"INDEX(设备类型!$B$2:$B$5001,MATCH(表格模板!C111,设备类型!$A$2:$A$5001,0),COLUMN(A111))","v":{"$error":"#N/A"}}]
[null,{"$f":"INDEX(建筑!$B$2:$B$5001,MATCH(表格模板!A112,建筑!$A$2:$A$5001,0),COLUMN(A112))","v":{"$error":"#N/A"}},null,{"$f":"INDEX(设备类型!$B$2:$B$5001,MATCH(表格模板!C112,设备类型!$A$2:$A$5001,0),COLUMN(A112))","v":{"$error":"#N/A"}}]
[null,{"$f":"INDEX(建筑!$B$2:$B$5001,MATCH(表格模板!A113,建筑!$A$2:$A$5001,0),COLUMN(A113))","v":{"$error":"#N/A"}},null,{"$f":"INDEX(设备类型!$B$2:$B$5001,MATCH(表格模板!C113,设备类型!$A$2:$A$5001,0),COLUMN(A113))","v":{"$error":"#N/A"}}]
[null,{"$f":"INDEX(建筑!$B$2:$B$5001,MATCH(表格模板!A114,建筑!$A$2:$A$5001,0),COLUMN(A114))","v":{"$error":"#N/A"}},null,{"$f":"INDEX(设备类型!$B$2:$B$5001,MATCH(表格模板!C114,设备类型!$A$2:$A$5001,0),COLUMN(A114))","v":{"$error":"#N/A"}}]
[null,{"$f":"INDEX(建筑!$B$2:$B$5001,MATCH(表格模板!A115,建筑!$A$2:$A$5001,0),COLUMN(A115))","v":{"$error":"#N/A"}},null,{"$f":"INDEX(设备类型!$B$2:$B$5001,MATCH(表格模板!C115,设备类型!$A$2:$A$5001,0),COLUMN(A115))","v":{"$error":"#N/A"}}]
[null,{"$f":"INDEX(建筑!$B$2:$B$5001,MATCH(表格模板!A116,建筑!$A$2:$A$5001,0),COLUMN(A116))","v":{"$error":"#N/A"}},null,{"$f":"INDEX(设备类型!$B$2:$B$5001,MATCH(表格模板!C116,设备类型!$A$2:$A$5001,0),COLUMN(A116))","v":{"$error":"#N/A"}}]
[null,{"$f":"INDEX(建筑!$B$2:$B$5001,MATCH(表格模板!A117,建筑!$A$2:$A$5001,0),COLUMN(A117))","v":{"$error":"#N/A"}},null,{"$f":"INDEX(设备类型!$B$2:$B$5001,MATCH(表格模板!C117,设备类型!$A$2:$A$5001,0),COLUMN(A117))","v":{"$error":"#N/A"}}]
[null,{"$f":"INDEX(建筑!$B$2:$B$5001,MATCH(表格模板!A118,建筑!$A$2:$A$5001,0),COLUMN(A118))","v":{"$error":"#N/A"}},null,{"$f":"INDEX(设备类型!$B$2:$B$5001,MATCH(表格模板!C118,设备类型!$A$2:$A$5001,0),COLUMN(A118))","v":{"$error":"#N/A"}}]
[null,{"$f":"INDEX(建筑!$B$2:$B$5001,MATCH(表格模板!A119,建筑!$A$2:$A$5001,0),COLUMN(A119))","v":{"$error":"#N/A"}},null,{"$f":"INDEX(设备类型!$B$2:$B$5001,MATCH(表格模板!C119,设备类型!$A$2:$A$5001,0),COLUMN(A119))","v":{"$error":"#N/A"}}]
[null,{"$f":"INDEX(建筑!$B$2:$B$5001,MATCH(表格模板!A120,建筑!$A$2:$A$5001,0),COLUMN(A120))","v":{"$error":"#N/A"}},null,{"$f":"INDEX(设备类型!$B$2:$B$5001,MATCH(表格模板!C120,设备类型!$A$2:$A$5001,0),COLUMN(A120))","v":{"$error":"#N/A"}}]
[null,{"$f":"INDEX(建筑!$B$2:$B$5001,MATCH(表格模板!A121,建筑!$A$2:$A$5001,0),COLUMN(A121))","v":{"$error":"#N/A"}},null,{"$f":"INDEX(设备类型!$B$2:$B$5001,MATCH(表格模板!C121,设备类型!$A$2:$A$5001,0),COLUMN(A121))","v":{"$error":"#N/A"}}]
[null,{"$f":"INDEX(建筑!$B$2:$B$5001,MATCH(表格模板!A122,建筑!$A$2:$A$5001,0),COLUMN(A122))","v":{"$error":"#N/A"}},null,{"$f":"INDEX(设备类型!$B$2:$B$5001,MATCH(表格模板!C122,设备类型!$A$2:$A$5001,0),COLUMN(A122))","v":{"$error":"#N/A"}}]
[null,{"$f":"INDEX(建筑!$B$2:$B$5001,MATCH(表格模板!A123,建筑!$A$2:$A$5001,0),COLUMN(A123))","v":{"$error":"#N/A"}},null,{"$f":"INDEX(设备类型!$B$2:$B$5001,MATCH(表格模板!C123,设备类型!$A$2:$A$5001,0),COLUMN(A123))","v":{"$error":"#N/A"}}]
[null,{"$f":"INDEX(建筑!$B$2:$B$5001,MATCH(表格模板!A124,建筑!$A$2:$A$5001,0),COLUMN(A124))","v":{"$error":"#N/A"}},null,{"$f":"INDEX(设备类型!$B$2:$B$5001,MATCH(表格模板!C124,设备类型!$A$2:$A$5001,0),COLUMN(A124))","v":{"$error":"#N/A"}}]
[null,{"$f":"INDEX(建筑!$B$2:$B$5001,MATCH(表格模板!A125,建筑!$A$2:$A$5001,0),COLUMN(A125))","v":{"$error":"#N/A"}},null,{"$f":"INDEX(设备类型!$B$2:$B$5001,MATCH(表格模板!C125,设备类型!$A$2:$A$5001,0),COLUMN(A125))","v":{"$error":"#N/A"}}]
[null,{"$f":"INDEX(建筑!$B$2:$B$5001,MATCH(表格模板!A126,建筑!$A$2:$A$5001,0),COLUMN(A126))","v":{"$error":"#N/A"}},null,{"$f":"INDEX(设备类型!$B$2:$B$5001,MATCH(表格模板!C126,设备类型!$A$2:$A$5001,0),COLUMN(A126))","v":{"$error":"#N/A"}}]
[null,{"$f":"INDEX(建筑!$B$2:$B$5001,MATCH(表格模板!A127,建筑!$A$2:$A$5001,0),COLUMN(A127))","v":{"$error":"#N/A"}},null,{"$f":"INDEX(设备类型!$B$2:$B$5001,MATCH(表格模板!C127,设备类型!$A$2:$A$5001,0),COLUMN(A127))","v":{"$error":"#N/A"}}]
[null,{"$f":"INDEX(建筑!$B$2:$B$5001,MATCH(表格模板!A128,建筑!$A$2:$A$5001,0),COLUMN(A128))","v":{"$error":"#N/A"}},null,{"$f":"INDEX(设备类型!$B$2:$B$5001,MATCH(表格模板!C128,设备类型!$A$2:$A$5001,0),COLUMN(A128))","v":{"$error":"#N/A"}}]
[null,{"$f":"INDEX(建筑!$B$2:$B$5001,MATCH(表格模板!A129,建筑!$A$2:$A$5001,0),COLUMN(A129))","v":{"$error":"#N/A"}},null,{"$f":"INDEX(设备类型!$B$2:$B$5001,MATCH(表格模板!C129,设备类型!$A$2:$A$5001,0),COLUMN(A129))","v":{"$error":"#N/A"}}]
[null,{"$f":"INDEX(建筑!$B$2:$B$5001,MATCH(表格模板!A130,建筑!$A$2:$A$5001,0),COLUMN(A130))","v":{"$error":"#N/A"}},null,{"$f":"INDEX(设备类型!$B$2:$B$5001,MATCH(表格模板!C130,设备类型!$A$2:$A$5001,0),COLUMN(A130))","v":{"$error":"#N/A"}}]
[null,{"$f":"INDEX(建筑!$B$2:$B$5001,MATCH(表格模板!A131,建筑!$A$2:$A$5001,0),COLUMN(A131))","v":{"$error":"#N/A"}},null,{"$f":"INDEX(设备类型!$B$2:$B$5001,MATCH(表格模板!C131,设备类型!$A$2:$A$5001,0),COLUMN(A131))","v":{"$error":"#N/A"}}]
[null,{"$f":"INDEX(建筑!$B$2:$B$5001,MATCH(表格模板!A132,建筑!$A$2:$A$5001,0),COLUMN(A132))","v":{"$error":"#N/A"}},null,{"$f":"INDEX(设备类型!$B$2:$B$5001,MATCH(表格模板!C132,设备类型!$A$2:$A$5001,0),COLUMN(A132))","v":{"$error":"#N/A"}}]
[null,{"$f":"INDEX(建筑!$B$2:$B$5001,MATCH(表格模板!A133,建筑!$A$2:$A$5001,0),COLUMN(A133))","v":{"$error":"#N/A"}},null,{"$f":"INDEX(设备类型!$B$2:$B$5001,MATCH(表格模板!C133,设备类型!$A$2:$A$5001,0),COLUMN(A133))","v":{"$error":"#N/A"}}]
[null,{"$f":"INDEX(建筑!$B$2:$B$5001,MATCH(表格模板!A134,建筑!$A$2:$A$5001,0),COLUMN(A134))","v":{"$error":"#N/A"}},null,{"$f":"INDEX(设备类型!$B$2:$B$5001,MATCH(表格模板!C134,设备类型!$A$2:$A$5001,0),COLUMN(A134))","v":{"$error":"#N/A"}}]
[null,{"$f":"INDEX(建筑!$B$2:$B$5001,MATCH(表格模板!A135,建筑!$A$2:$A$5001,0),COLUMN(A135))","v":{"$error":"#N/A"}},null,{"$f":"INDEX(设备类型!$B$2:$B$5001,MATCH(表格模板!C135,设备类型!$A$2:$A$5001,0),COLUMN(A135))","v":{"$error":"#N/A"}}]
[null,{"$f":"INDEX(建筑!$B$2:$B$5001,MATCH(表格模板!A136,建筑!$A$2:$A$5001,0),COLUMN(A136))","v":{"$error":"#N/A"}},null,{"$f":"INDEX(设备类型!$B$2:$B$5001,MATCH(表格模板!C136,设备类型!$A$2:$A$5001,0),COLUMN(A136))","v":{"$error":"#N/A"}}]
[null,{"$f":"INDEX(建筑!$B$2:$B$5001,MATCH(表格模板!A137,建筑!$A$2:$A$5001,0),COLUMN(A137))","v":{"$error":"#N/A"}},null,{"$f":"INDEX(设备类型!$B$2:$B$5001,MATCH(表格模板!C137,设备类型!$A$2:$A$5001,0),COLUMN(A137))","v":{"$error":"#N/A"}}]
[null,{"$f":"INDEX(建筑!$B$2:$B$5001,MATCH(表格模板!A138,建筑!$A$2:$A$5001,0),COLUMN(A138))","v":{"$error":"#N/A"}},null,{"$f":"INDEX(设备类型!$B$2:$B$5001,MATCH(表格模板!C138,设备类型!$A$2:$A$5001,0),COLUMN(A138))","v":{"$error":"#N/A"}}]
[null,{"$f":"INDEX(建筑!$B$2:$B$5001,MATCH(表格模板!A139,建筑!$A$2:$A$5001,0),COLUMN(A139))","v":{"$error":"#N/A"}},null,{"$f":"INDEX(设备类型!$B$2:$B$5001,MATCH(表格模板!C139,设备类型!$A$2:$A$5001,0),COLUMN(A139))","v":{"$error":"#N/A"}}]
[null,{"$f":"INDEX(建筑!$B$2:$B$5001,MATCH(表格模板!A140,建筑!$A$2:$A$5001,0),COLUMN(A140))","v":{"$error":"#N/A"}},null,{"$f":"INDEX(设备类型!$B$2:$B$5001,MATCH(表格模板!C140,设备类型!$A$2:$A$5001,0),COLUMN(A140))","v":{"$error":"#N/A"}}]
[null,{"$f":"INDEX(建筑!$B$2:$B$5001,MATCH(表格模板!A141,建筑!$A$2:$A$5001,0),COLUMN(A141))","v":{"$error":"#N/A"}},null,{"$f":"INDEX(设备类型!$B$2:$B$5001,MATCH(表格模板!C141,设备类型!$A$2:$A$5001,0),COLUMN(A141))","v":{"$error":"#N/A"}}]
[null,{"$f":"INDEX(建筑!$B$2:$B$5001,MATCH(表格模板!A142,建筑!$A$2:$A$5001,0),COLUMN(A142))","v":{"$error":"#N/A"}},null,{"$f":"INDEX(设备类型!$B$2:$B$5001,MATCH(表格模板!C142,设备类型!$A$2:$A$5001,0),COLUMN(A142))","v":{"$error":"#N/A"}}]
[null,{"$f":"INDEX(建筑!$B$2:$B$5001,MATCH(表格模板!A143,建筑!$A$2:$A$5001,0),COLUMN(A143))","v":{"$error":"#N/A"}},null,{"$f":"INDEX(设备类型!$B$2:$B$5001,MATCH(表格模板!C143,设备类型!$A$2:$A$5001,0),COLUMN(A143))","v":{"$error":"#N/A"}}]
[null,{"$f":"INDEX(建筑!$B$2:$B$5001,MATCH(表格模板!A144,建筑!$A$2:$A$5001,0),COLUMN(A144))","v":{"$error":"#N/A"}},null,{"$f":"INDEX(设备类型!$B$2:$B$5001,MATCH(表格模板!C144,设备类型!$A$2:$A$5001,0),COLUMN(A144))","v":{"$error":"#N/A"}}]
[null,{"$f":"INDEX(建筑!$B$2:$B$5001,MATCH(表格模板!A145,建筑!$A$2:$A$5001,0),COLUMN(A145))","v":{"$error":"#N/A"}},null,{"$f":"INDEX(设备类型!$B$2:$B$5001,MATCH(表格模板!C145,设备类型!$A$2:$A$5001,0),COLUMN(A145))","v":{"$error":"#N/A"}}]
[null,{"$f":"INDEX(建筑!$B$2:$B$5001,MATCH(表格模板!A146,建筑!$A$2:$A$5001,0),COLUMN(A146))","v":{"$error":"#N/A"}},null,{"$f":"INDEX(设备类型!$B$2:$B$5001,MATCH(表格模板!C146,设备类型!$A$2:$A$5001,0),COLUMN(A146))","v":{"$error":"#N/A"}}]
[null,{"$f":"INDEX(建筑!$B$2:$B$5001,MATCH(表格模板!A147,建筑!$A$2:$A$5001,0),COLUMN(A147))","v":{"$error":"#N/A"}},null,{"$f":"INDEX(设备类型!$B$2:$B$5001,MATCH(表格模板!C147,设备类型!$A$2:$A$5001,0),COLUMN(A147))","v":{"$error":"#N/A"}}]
[null,{"$f":"INDEX(建筑!$B$2:$B$5001,MATCH(表格模板!A148,建筑!$A$2:$A$5001,0),COLUMN(A148))","v":{"$error":"#N/A"}},null,{"$f":"INDEX(设备类型!$B$2:$B$5001,MATCH(表格模板!C148,设备类型!$A$2:$A$5001,0),COLUMN(A148))","v":{"$error":"#N/A"}}]
[null,{"$f":"INDEX(建筑!$B$2:$B$5001,MATCH(表格模板!A149,建筑!$A$2:$A$5001,0),COLUMN(A149))","v":{"$error":"#N/A"}},null,{"$f":"INDEX(设备类型!$B$2:$B$5001,MATCH(表格模板!C149,设备类型!$A$2:$A$5001,0),COLUMN(A149))","v":{"$error":"#N/A"}}]
[null,{"$f":"INDEX(建筑!$B$2:$B$5001,MATCH(表格模板!A150,建筑!$A$2:$A$5001,0),COLUMN(A150))","v":{"$error":"#N/A"}},null,{"$f":"INDEX(设备类型!$B$2:$B$5001,MATCH(表格模板!C150,设备类型!$A$2:$A$5001,0),COLUMN(A150))","v":{"$error":"#N/A"}}]
[null,{"$f":"INDEX(建筑!$B$2:$B$5001,MATCH(表格模板!A151,建筑!$A$2:$A$5001,0),COLUMN(A151))","v":{"$error":"#N/A"}},null,{"$f":"INDEX(设备类型!$B$2:$B$5001,MATCH(表格模板!C151,设备类型!$A$2:$A$5001,0),COLUMN(A151))","v":{"$error":"#N/A"}}]
[null,{"$f":"INDEX(建筑!$B$2:$B$5001,MATCH(表格模板!A152,建筑!$A$2:$A$5001,0),COLUMN(A152))","v":{"$error":"#N/A"}},null,{"$f":"INDEX(设备类型!$B$2:$B$5001,MATCH(表格模板!C152,设备类型!$A$2:$A$5001,0),COLUMN(A152))","v":{"$error":"#N/A"}}]
[null,{"$f":"INDEX(建筑!$B$2:$B$5001,MATCH(表格模板!A153,建筑!$A$2:$A$5001,0),COLUMN(A153))","v":{"$error":"#N/A"}},null,{"$f":"INDEX(设备类型!$B$2:$B$5001,MATCH(表格模板!C153,设备类型!$A$2:$A$5001,0),COLUMN(A153))","v":{"$error":"#N/A"}}]
[null,{"$f":"INDEX(建筑!$B$2:$B$5001,MATCH(表格模板!A154,建筑!$A$2:$A$5001,0),COLUMN(A154))","v":{"$error":"#N/A"}},null,{"$f":"INDEX(设备类型!$B$2:$B$5001,MATCH(表格模板!C154,设备类型!$A$2:$A$5001,0),COLUMN(A154))","v":{"$error":"#N/A"}}]
[null,{"$f":"INDEX(建筑!$B$2:$B$5001,MATCH(表格模板!A155,建筑!$A$2:$A$5001,0),COLUMN(A155))","v":{"$error":"#N/A"}},null,{"$f":"INDEX(设备类型!$B$2:$B$5001,MATCH(表格模板!C155,设备类型!$A$2:$A$5001,0),COLUMN(A155))","v":{"$error":"#N/A"}}]
[null,{"$f":"INDEX(建筑!$B$2:$B$5001,MATCH(表格模板!A156,建筑!$A$2:$A$5001,0),COLUMN(A156))","v":{"$error":"#N/A"}},null,{"$f":"INDEX(设备类型!$B$2:$B$5001,MATCH(表格模板!C156,设备类型!$A$2:$A$5001,0),COLUMN(A156))","v":{"$error":"#N/A"}}]
[null,{"$f":"INDEX(建筑!$B$2:$B$5001,MATCH(表格模板!A157,建筑!$A$2:$A$5001,0),COLUMN(A157))","v":{"$error":"#N/A"}},null,{"$f":"INDEX(设备类型!$B$2:$B$5001,MATCH(表格模板!C157,设备类型!$A$2:$A$5001,0),COLUMN(A157))","v":{"$error":"#N/A"}}]
[null,{"$f":"INDEX(建筑!$B$2:$B$5001,MATCH(表格模板!A158,建筑!$A$2:$A$5001,0),COLUMN(A158))","v":{"$error":"#N/A"}},null,{"$f":"INDEX(设备类型!$B$2:$B$5001,MATCH(表格模板!C158,设备类型!$A$2:$A$5001,0),COLUMN(A158))","v":{"$error":"#N/A"}}]
[null,{"$f":"INDEX(建筑!$B$2:$B$5001,MATCH(表格模板!A159,建筑!$A$2:$A$5001,0),COLUMN(A159))","v":{"$error":"#N/A"}},null,{"$f":"INDEX(设备类型!$B$2:$B$5001,MATCH(表格模板!C159,设备类型!$A$2:$A$5001,0),COLUMN(A159))","v":{"$error":"#N/A"}}]
[null,{"$f":"INDEX(建筑!$B$2:$B$5001,MATCH(表格模板!A160,建筑!$A$2:$A$5001,0),COLUMN(A160))","v":{"$error":"#N/A"}},null,{"$f":"INDEX(设备类型!$B$2:$B$5001,MATCH(表格模板!C160,设备类型!$A$2:$A$5001,0),COLUMN(A160))","v":{"$error":"#N/A"}}]
[null,{"$f":"INDEX(建筑!$B$2:$B$5001,MATCH(表格模板!A161,建筑!$A$2:$A$5001,0),COLUMN(A161))","v":{"$error":"#N/A"}},null,{"$f":"INDEX(设备类型!$B$2:$B$5001,MATCH(表格模板!C161,设备类型!$A$2:$A$5001,0),COLUMN(A161))","v":{"$error":"#N/A"}}]
[null,{"$f":"INDEX(建筑!$B$2:$B$5001,MATCH(表格模板!A162,建筑!$A$2:$A$5001,0),COLUMN(A162))","v":{"$error":"#N/A"}},null,{"$f":"INDEX(设备类型!$B$2:$B$5001,MATCH(表格模板!C162,设备类型!$A$2:$A$5001,0),COLUMN(A162))","v":{"$error":"#N/A"}}]
[null,{"$f":"INDEX(建筑!$B$2:$B$5001,MATCH(表格模板!A163,建筑!$A$2:$A$5001,0),COLUMN(A163))","v":{"$error":"#N/A"}},null,{"$f":"INDEX(设备类型!$B$2:$B$5001,MATCH(表格模板!C163,设备类型!$A$2:$A$5001,0),COLUMN(A163))","v":{"$error":"#N/A"}}]
[null,{"$f":"INDEX(建筑!$B$2:$B$5001,MATCH(表格模板!A164,建筑!$A$2:$A$5001,0),COLUMN(A164))","v":{"$error":"#N/A"}},null,{"$f":"INDEX(设备类型!$B$2:$B$5001,MATCH(表格模板!C164,设备类型!$A$2:$A$5001,0),COLUMN(A164))","v":{"$error":"#N/A"}}]
[null,{"$f":"INDEX(建筑!$B$2:$B$5001,MATCH(表格模板!A165,建筑!$A$2:$A$5001,0),COLUMN(A165))","v":{"$error":"#N/A"}},null,{"$f":"INDEX(设备类型!$B$2:$B$5001,MATCH(表格模板!C165,设备类型!$A$2:$A$5001,0),COLUMN(A165))","v":{"$error":"#N/A"}}]
[null,{"$f":"INDEX(建筑!$B$2:$B$5001,MATCH(表格模板!A166,建筑!$A$2:$A$5001,0),COLUMN(A166))","v":{"$error":"#N/A"}},null,{"$f":"INDEX(设备类型!$B$2:$B$5001,MATCH(表格模板!C166,设备类型!$A$2:$A$5001,0),COLUMN(A166))","v":{"$error":"#N/A"}}]
[null,{"$f":"INDEX(建筑!$B$2:$B$5001,MATCH(表格模板!A167,建筑!$A$2:$A$5001,0),COLUMN(A167))","v":{"$error":"#N/A"}},null,{"$f":"INDEX(设备类型!$B$2:$B$5001,MATCH(表格模板!C167,设备类型!$A$2:$A$5001,0),COLUMN(A167))","v":{"$error":"#N/A"}}]
[null,{"$f":"INDEX(建筑!$B$2:$B$5001,MATCH(表格模板!A168,建筑!$A$2:$A$5001,0),COLUMN(A168))","v":{"$error":"#N/A"}},null,{"$f":"INDEX(设备类型!$B$2:$B$5001,MATCH(表格模板!C168,设备类型!$A$2:$A$5001,0),COLUMN(A168))","v":{"$error":"#N/A"}}]
[null,{"$f":"INDEX(建筑!$B$2:$B$5001,MATCH(表格模板!A169,建筑!$A$2:$A$5001,0),COLUMN(A169))","v":{"$error":"#N/A"}},null,{"$f":"INDEX(设备类型!$B$2:$B$5001,MATCH(表格模板!C169,设备类型!$A$2:$A$5001,0),COLUMN(A169))","v":{"$error":"#N/A"}}]
[null,{"$f":"INDEX(建筑!$B$2:$B$5001,MATCH(表格模板!A170,建筑!$A$2:$A$5001,0),COLUMN(A170))","v":{"$error":"#N/A"}},null,{"$f":"INDEX(设备类型!$B$2:$B$5001,MATCH(表格模板!C170,设备类型!$A$2:$A$5001,0),COLUMN(A170))","v":{"$error":"#N/A"}}]
[null,{"$f":"INDEX(建筑!$B$2:$B$5001,MATCH(表格模板!A171,建筑!$A$2:$A$5001,0),COLUMN(A171))","v":{"$error":"#N/A"}},null,{"$f":"INDEX(设备类型!$B$2:$B$5001,MATCH(表格模板!C171,设备类型!$A$2:$A$5001,0),COLUMN(A171))","v":{"$error":"#N/A"}}]
[null,{"$f":"INDEX(建筑!$B$2:$B$5001,MATCH(表格模板!A172,建筑!$A$2:$A$5001,0),COLUMN(A172))","v":{"$error":"#N/A"}},null,{"$f":"INDEX(设备类型!$B$2:$B$5001,MATCH(表格模板!C172,设备类型!$A$2:$A$5001,0),COLUMN(A172))","v":{"$error":"#N/A"}}]
[null,{"$f":"INDEX(建筑!$B$2:$B$5001,MATCH(表格模板!A173,建筑!$A$2:$A$5001,0),COLUMN(A173))","v":{"$error":"#N/A"}},null,{"$f":"INDEX(设备类型!$B$2:$B$5001,MATCH(表格模板!C173,设备类型!$A$2:$A$5001,0),COLUMN(A173))","v":{"$error":"#N/A"}}]
[null,{"$f":"INDEX(建筑!$B$2:$B$5001,MATCH(表格模板!A174,建筑!$A$2:$A$5001,0),COLUMN(A174))","v":{"$error":"#N/A"}},null,{"$f":"INDEX(设备类型!$B$2:$B$5001,MATCH(表格模板!C174,设备类型!$A$2:$A$5001,0),COLUMN(A174))","v":{"$error":"#N/A"}}]
[null,{"$f":"INDEX(建筑!$B$2:$B$5001,MATCH(表格模板!A175,建筑!$A$2:$A$5001,0),COLUMN(A175))","v":{"$error":"#N/A"}},null,{"$f":"INDEX(设备类型!$B$2:$B$5001,MATCH(表格模板!C175,设备类型!$A$2:$A$5001,0),COLUMN(A175))","v":{"$error":"#N/A"}}]
[null,{"$f":"INDEX(建筑!$B$2:$B$5001,MATCH(表格模板!A176,建筑!$A$2:$A$5001,0),COLUMN(A176))","v":{"$error":"#N/A"}},null,{"$f":"INDEX(设备类型!$B$2:$B$5001,MATCH(表格模板!C176,设备类型!$A$2:$A$5001,0),COLUMN(A176))","v":{"$error":"#N/A"}}]
[null,{"$f":"INDEX(建筑!$B$2:$B$5001,MATCH(表格模板!A177,建筑!$A$2:$A$5001,0),COLUMN(A177))","v":{"$error":"#N/A"}},null,{"$f":"INDEX(设备类型!$B$2:$B$5001,MATCH(表格模板!C177,设备类型!$A$2:$A$5001,0),COLUMN(A177))","v":{"$error":"#N/A"}}]
[null,{"$f":"INDEX(建筑!$B$2:$B$5001,MATCH(表格模板!A178,建筑!$A$2:$A$5001,0),COLUMN(A178))","v":{"$error":"#N/A"}},null,{"$f":"INDEX(设备类型!$B$2:$B$5001,MATCH(表格模板!C178,设备类型!$A$2:$A$5001,0),COLUMN(A178))","v":{"$error":"#N/A"}}]
[null,{"$f":"INDEX(建筑!$B$2:$B$5001,MATCH(表格模板!A179,建筑!$A$2:$A$5001,0),COLUMN(A179))","v":{"$error":"#N/A"}},null,{"$f":"INDEX(设备类型!$B$2:$B$5001,MATCH(表格模板!C179,设备类型!$A$2:$A$5001,0),COLUMN(A179))","v":{"$error":"#N/A"}}]
[null,{"$f":"INDEX(建筑!$B$2:$B$5001,MATCH(表格模板!A180,建筑!$A$2:$A$5001,0),COLUMN(A180))","v":{"$error":"#N/A"}},null,{"$f":"INDEX(设备类型!$B$2:$B$5001,MATCH(表格模板!C180,设备类型!$A$2:$A$5001,0),COLUMN(A180))","v":{"$error":"#N/A"}}]
[null,{"$f":"INDEX(建筑!$B$2:$B$5001,MATCH(表格模板!A181,建筑!$A$2:$A$5001,0),COLUMN(A181))","v":{"$error":"#N/A"}},null,{"$f":"INDEX(设备类型!$B$2:$B$5001,MATCH(表格模板!C181,设备类型!$A$2:$A$5001,0),COLUMN(A181))","v":{"$error":"#N/A"}}]
[null,{"$f":"INDEX(建筑!$B$2:$B$5001,MATCH(表格模板!A182,建筑!$A$2:$A$5001,0),COLUMN(A182))","v":{"$error":"#N/A"}},null,{"$f":"INDEX(设备类型!$B$2:$B$5001,MATCH(表格模板!C182,设备类型!$A$2:$A$5001,0),COLUMN(A182))","v":{"$error":"#N/A"}}]
[null,{"$f":"INDEX(建筑!$B$2:$B$5001,MATCH(表格模板!A183,建筑!$A$2:$A$5001,0),COLUMN(A183))","v":{"$error":"#N/A"}},null,{"$f":"INDEX(设备类型!$B$2:$B$5001,MATCH(表格模板!C183,设备类型!$A$2:$A$5001,0),COLUMN(A183))","v":{"$error":"#N/A"}}]
[null,{"$f":"INDEX(建筑!$B$2:$B$5001,MATCH(表格模板!A184,建筑!$A$2:$A$5001,0),COLUMN(A184))","v":{"$error":"#N/A"}},null,{"$f":"INDEX(设备类型!$B$2:$B$5001,MATCH(表格模板!C184,设备类型!$A$2:$A$5001,0),COLUMN(A184))","v":{"$error":"#N/A"}}]
[null,{"$f":"INDEX(建筑!$B$2:$B$5001,MATCH(表格模板!A185,建筑!$A$2:$A$5001,0),COLUMN(A185))","v":{"$error":"#N/A"}},null,{"$f":"INDEX(设备类型!$B$2:$B$5001,MATCH(表格模板!C185,设备类型!$A$2:$A$5001,0),COLUMN(A185))","v":{"$error":"#N/A"}}]
[null,{"$f":"INDEX(建筑!$B$2:$B$5001,MATCH(表格模板!A186,建筑!$A$2:$A$5001,0),COLUMN(A186))","v":{"$error":"#N/A"}},null,{"$f":"INDEX(设备类型!$B$2:$B$5001,MATCH(表格模板!C186,设备类型!$A$2:$A$5001,0),COLUMN(A186))","v":{"$error":"#N/A"}}]
[null,{"$f":"INDEX(建筑!$B$2:$B$5001,MATCH(表格模板!A187,建筑!$A$2:$A$5001,0),COLUMN(A187))","v":{"$error":"#N/A"}},null,{"$f":"INDEX(设备类型!$B$2:$B$5001,MATCH(表格模板!C187,设备类型!$A$2:$A$5001,0),COLUMN(A187))","v":{"$error":"#N/A"}}]
[null,{"$f":"INDEX(建筑!$B$2:$B$5001,MATCH(表格模板!A188,建筑!$A$2:$A$5001,0),COLUMN(A188))","v":{"$error":"#N/A"}},null,{"$f":"INDEX(设备类型!$B$2:$B$5001,MATCH(表格模板!C188,设备类型!$A$2:$A$5001,0),COLUMN(A188))","v":{"$error":"#N/A"}}]
[null,{"$f":"INDEX(建筑!$B$2:$B$5001,MATCH(表格模板!A189,建筑!$A$2:$A$5001,0),COLUMN(A189))","v":{"$error":"#N/A"}},null,{"$f":"INDEX(设备类型!$B$2:$B$5001,MATCH(表格模板!C189,设备类型!$A$2:$A$5001,0),COLUMN(A189))","v":{"$error":"#N/A"}}]
[null,{"$f":"INDEX(建筑!$B$2:$B$5001,MATCH(表格模板!A190,建筑!$A$2:$A$5001,0),COLUMN(A190))","v":{"$error":"#N/A"}},null,{"$f":"INDEX(设备类型!$B$2:$B$5001,MATCH(表格模板!C190,设备类型!$A$2:$A$5001,0),COLUMN(A190))","v":{"$error":"#N/A"}}]
[null,{"$f":"INDEX(建筑!$B$2:$B$5001,MATCH(表格模板!A191,建筑!$A$2:$A$5001,0),COLUMN(A191))","v":{"$error":"#N/A"}},null,{"$f":"INDEX(设备类型!$B$2:$B$5001,MATCH(表格模板!C191,设备类型!$A$2:$A$5001,0),COLUMN(A191))","v":{"$error":"#N/A"}}]
[null,{"$f":"INDEX(建筑!$B$2:$B$5001,MATCH(表格模板!A192,建筑!$A$2:$A$5001,0),COLUMN(A192))","v":{"$error":"#N/A"}},null,{"$f":"INDEX(设备类型!$B$2:$B$5001,MATCH(表格模板!C192,设备类型!$A$2:$A$5001,0),COLUMN(A192))","v":{"$error":"#N/A"}}]
[null,{"$f":"INDEX(建筑!$B$2:$B$5001,MATCH(表格模板!A193,建筑!$A$2:$A$5001,0),COLUMN(A193))","v":{"$error":"#N/A"}},null,{"$f":"INDEX(设备类型!$B$2:$B$5001,MATCH(表格模板!C193,设备类型!$A$2:$A$5001,0),COLUMN(A193))","v":{"$error":"#N/A"}}]
[null,{"$f":"INDEX(建筑!$B$2:$B$5001,MATCH(表格模板!A194,建筑!$A$2:$A$5001,0),COLUMN(A194))","v":{"$error":"#N/A"}},null,{"$f":"INDEX(设备类型!$B$2:$B$5001,MATCH(表格模板!C194,设备类型!$A$2:$A$5001,0),COLUMN(A194))","v":{"$error":"#N/A"}}]
[null,{"$f":"INDEX(建筑!$B$2:$B$5001,MATCH(表格模板!A195,建筑!$A$2:$A$5001,0),COLUMN(A195))","v":{"$error":"#N/A"}},null,{"$f":"INDEX(设备类型!$B$2:$B$5001,MATCH(表格模板!C195,设备类型!$A$2:$A$5001,0),COLUMN(A195))","v":{"$error":"#N/A"}}]
[null,{"$f":"INDEX(建筑!$B$2:$B$5001,MATCH(表格模板!A196,建筑!$A$2:$A$5001,0),COLUMN(A196))","v":{"$error":"#N/A"}},null,{"$f":"INDEX(设备类型!$B$2:$B$5001,MATCH(表格模板!C196,设备类型!$A$2:$A$5001,0),COLUMN(A196))","v":{"$error":"#N/A"}}]
[null,{"$f":"INDEX(建筑!$B$2:$B$5001,MATCH(表格模板!A197,建筑!$A$2:$A$5001,0),COLUMN(A197))","v":{"$error":"#N/A"}},null,{"$f":"INDEX(设备类型!$B$2:$B$5001,MATCH(表格模板!C197,设备类型!$A$2:$A$5001,0),COLUMN(A197))","v":{"$error":"#N/A"}}]
[null,{"$f":"INDEX(建筑!$B$2:$B$5001,MATCH(表格模板!A198,建筑!$A$2:$A$5001,0),COLUMN(A198))","v":{"$error":"#N/A"}},null,{"$f":"INDEX(设备类型!$B$2:$B$5001,MATCH(表格模板!C198,设备类型!$A$2:$A$5001,0),COLUMN(A198))","v":{"$error":"#N/A"}}]
[null,{"$f":"INDEX(建筑!$B$2:$B$5001,MATCH(表格模板!A199,建筑!$A$2:$A$5001,0),COLUMN(A199))","v":{"$error":"#N/A"}},null,{"$f":"INDEX(设备类型!$B$2:$B$5001,MATCH(表格模板!C199,设备类型!$A$2:$A$5001,0),COLUMN(A199))","v":{"$error":"#N/A"}}]
[null,{"$f":"INDEX(建筑!$B$2:$B$5001,MATCH(表格模板!A200,建筑!$A$2:$A$5001,0),COLUMN(A200))","v":{"$error":"#N/A"}},null,{"$f":"INDEX(设备类型!$B$2:$B$5001,MATCH(表格模板!C200,设备类型!$A$2:$A$5001,0),COLUMN(A200))","v":{"$error":"#N/A"}}]
[null,{"$f":"INDEX(建筑!$B$2:$B$5001,MATCH(表格模板!A201,建筑!$A$2:$A$5001,0),COLUMN(A201))","v":{"$error":"#N/A"}},null,{"$f":"INDEX(设备类型!$B$2:$B$5001,MATCH(表格模板!C201,设备类型!$A$2:$A$5001,0),COLUMN(A201))","v":{"$error":"#N/A"}}]
[null,{"$f":"INDEX(建筑!$B$2:$B$5001,MATCH(表格模板!A202,建筑!$A$2:$A$5001,0),COLUMN(A202))","v":{"$error":"#N/A"}},null,{"$f":"INDEX(设备类型!$B$2:$B$5001,MATCH(表格模板!C202,设备类型!$A$2:$A$5001,0),COLUMN(A202))","v":{"$error":"#N/A"}}]
[null,{"$f":"INDEX(建筑!$B$2:$B$5001,MATCH(表格模板!A203,建筑!$A$2:$A$5001,0),COLUMN(A203))","v":{"$error":"#N/A"}},null,{"$f":"INDEX(设备类型!$B$2:$B$5001,MATCH(表格模板!C203,设备类型!$A$2:$A$5001,0),COLUMN(A203))","v":{"$error":"#N/A"}}]
[null,{"$f":"INDEX(建筑!$B$2:$B$5001,MATCH(表格模板!A204,建筑!$A$2:$A$5001,0),COLUMN(A204))","v":{"$error":"#N/A"}},null,{"$f":"INDEX(设备类型!$B$2:$B$5001,MATCH(表格模板!C204,设备类型!$A$2:$A$5001,0),COLUMN(A204))","v":{"$error":"#N/A"}}]
[null,{"$f":"INDEX(建筑!$B$2:$B$5001,MATCH(表格模板!A205,建筑!$A$2:$A$5001,0),COLUMN(A205))","v":{"$error":"#N/A"}},null,{"$f":"INDEX(设备类型!$B$2:$B$5001,MATCH(表格模板!C205,设备类型!$A$2:$A$5001,0),COLUMN(A205))","v":{"$error":"#N/A"}}]
[null,{"$f":"INDEX(建筑!$B$2:$B$5001,MATCH(表格模板!A206,建筑!$A$2:$A$5001,0),COLUMN(A206))","v":{"$error":"#N/A"}},null,{"$f":"INDEX(设备类型!$B$2:$B$5001,MATCH(表格模板!C206,设备类型!$A$2:$A$5001,0),COLUMN(A206))","v":{"$error":"#N/A"}}]
[null,{"$f":"INDEX(建筑!$B$2:$B$5001,MATCH(表格模板!A207,建筑!$A$2:$A$5001,0),COLUMN(A207))","v":{"$error":"#N/A"}},null,{"$f":"INDEX(设备类型!$B$2:$B$5001,MATCH(表格模板!C207,设备类型!$A$2:$A$5001,0),COLUMN(A207))","v":{"$error":"#N/A"}}]
[null,{"$f":"INDEX(建筑!$B$2:$B$5001,MATCH(表格模板!A208,建筑!$A$2:$A$5001,0),COLUMN(A208))","v":{"$error":"#N/A"}},null,{"$f":"INDEX(设备类型!$B$2:$B$5001,MATCH(表格模板!C208,设备类型!$A$2:$A$5001,0),COLUMN(A208))","v":{"$error":"#N/A"}}]
[null,{"$f":"INDEX(建筑!$B$2:$B$5001,MATCH(表格模板!A209,建筑!$A$2:$A$5001,0),COLUMN(A209))","v":{"$error":"#N/A"}},null,{"$f":"INDEX(设备类型!$B$2:$B$5001,MATCH(表格模板!C209,设备类型!$A$2:$A$5001,0),COLUMN(A209))","v":{"$error":"#N/A"}}]
[null,{"$f":"INDEX(建筑!$B$2:$B$5001,MATCH(表格模板!A210,建筑!$A$2:$A$5001,0),COLUMN(A210))","v":{"$error":"#N/A"}},null,{"$f":"INDEX(设备类型!$B$2:$B$5001,MATCH(表格模板!C210,设备类型!$A$2:$A$5001,0),COLUMN(A210))","v":{"$error":"#N/A"}}]
[null,{"$f":"INDEX(建筑!$B$2:$B$5001,MATCH(表格模板!A211,建筑!$A$2:$A$5001,0),COLUMN(A211))","v":{"$error":"#N/A"}},null,{"$f":"INDEX(设备类型!$B$2:$B$5001,MATCH(表格模板!C211,设备类型!$A$2:$A$5001,0),COLUMN(A211))","v":{"$error":"#N/A"}}]
[null,{"$f":"INDEX(建筑!$B$2:$B$5001,MATCH(表格模板!A212,建筑!$A$2:$A$5001,0),COLUMN(A212))","v":{"$error":"#N/A"}},null,{"$f":"INDEX(设备类型!$B$2:$B$5001,MATCH(表格模板!C212,设备类型!$A$2:$A$5001,0),COLUMN(A212))","v":{"$error":"#N/A"}}]
[null,{"$f":"INDEX(建筑!$B$2:$B$5001,MATCH(表格模板!A213,建筑!$A$2:$A$5001,0),COLUMN(A213))","v":{"$error":"#N/A"}},null,{"$f":"INDEX(设备类型!$B$2:$B$5001,MATCH(表格模板!C213,设备类型!$A$2:$A$5001,0),COLUMN(A213))","v":{"$error":"#N/A"}}]
[null,{"$f":"INDEX(建筑!$B$2:$B$5001,MATCH(表格模板!A214,建筑!$A$2:$A$5001,0),COLUMN(A214))","v":{"$error":"#N/A"}},null,{"$f":"INDEX(设备类型!$B$2:$B$5001,MATCH(表格模板!C214,设备类型!$A$2:$A$5001,0),COLUMN(A214))","v":{"$error":"#N/A"}}]
[null,{"$f":"INDEX(建筑!$B$2:$B$5001,MATCH(表格模板!A215,建筑!$A$2:$A$5001,0),COLUMN(A215))","v":{"$error":"#N/A"}},null,{"$f":"INDEX(设备类型!$B$2:$B$5001,MATCH(表格模板!C215,设备类型!$A$2:$A$5001,0),COLUMN(A215))","v":{"$error":"#N/A"}}]
[null,{"$f":"INDEX(建筑!$B$2:$B$5001,MATCH(表格模板!A216,建筑!$A$2:$A$5001,0),COLUMN(A216))","v":{"$error":"#N/A"}},null,{"$f":"INDEX(设备类型!$B$2:$B$5001,MATCH(表格模板!C216,设备类型!$A$2:$A$5001,0),COLUMN(A216))","v":{"$error":"#N/A"}}]
[null,{"$f":"INDEX(建筑!$B$2:$B$5001,MATCH(表格模板!A217,建筑!$A$2:$A$5001,0),COLUMN(A217))","v":{"$error":"#N/A"}},null,{"$f":"INDEX(设备类型!$B$2:$B$5001,MATCH(表格模板!C217,设备类型!$A$2:$A$5001,0),COLUMN(A217))","v":{"$error":"#N/A"}}]
[null,{"$f":"INDEX(建筑!$B$2:$B$5001,MATCH(表格模板!A218,建筑!$A$2:$A$5001,0),COLUMN(A218))","v":{"$error":"#N/A"}},null,{"$f":"INDEX(设备类型!$B$2:$B$5001,MATCH(表格模板!C218,设备类型!$A$2:$A$5001,0),COLUMN(A218))","v":{"$error":"#N/A"}}]
[null,{"$f":"INDEX(建筑!$B$2:$B$5001,MATCH(表格模板!A219,建筑!$A$2:$A$5001,0),COLUMN(A219))","v":{"$error":"#N/A"}},null,{"$f":"INDEX(设备类型!$B$2:$B$5001,MATCH(表格模板!C219,设备类型!$A$2:$A$5001,0),COLUMN(A219))","v":{"$error":"#N/A"}}]
[null,{"$f":"INDEX(建筑!$B$2:$B$5001,MATCH(表格模板!A220,建筑!$A$2:$A$5001,0),COLUMN(A220))","v":{"$error":"#N/A"}},null,{"$f":"INDEX(设备类型!$B$2:$B$5001,MATCH(表格模板!C220,设备类型!$A$2:$A$5001,0),COLUMN(A220))","v":{"$error":"#N/A"}}]
[null,{"$f":"INDEX(建筑!$B$2:$B$5001,MATCH(表格模板!A221,建筑!$A$2:$A$5001,0),COLUMN(A221))","v":{"$error":"#N/A"}},null,{"$f":"INDEX(设备类型!$B$2:$B$5001,MATCH(表格模板!C221,设备类型!$A$2:$A$5001,0),COLUMN(A221))","v":{"$error":"#N/A"}}]
[null,{"$f":"INDEX(建筑!$B$2:$B$5001,MATCH(表格模板!A222,建筑!$A$2:$A$5001,0),COLUMN(A222))","v":{"$error":"#N/A"}},null,{"$f":"INDEX(设备类型!$B$2:$B$5001,MATCH(表格模板!C222,设备类型!$A$2:$A$5001,0),COLUMN(A222))","v":{"$error":"#N/A"}}]
[null,{"$f":"INDEX(建筑!$B$2:$B$5001,MATCH(表格模板!A223,建筑!$A$2:$A$5001,0),COLUMN(A223))","v":{"$error":"#N/A"}},null,{"$f":"INDEX(设备类型!$B$2:$B$5001,MATCH(表格模板!C223,设备类型!$A$2:$A$5001,0),COLUMN(A223))","v":{"$error":"#N/A"}}]
[null,{"$f":"INDEX(建筑!$B$2:$B$5001,MATCH(表格模板!A224,建筑!$A$2:$A$5001,0),COLUMN(A224))","v":{"$error":"#N/A"}},null,{"$f":"INDEX(设备类型!$B$2:$B$5001,MATCH(表格模板!C224,设备类型!$A$2:$A$5001,0),COLUMN(A224))","v":{"$error":"#N/A"}}]
[null,{"$f":"INDEX(建筑!$B$2:$B$5001,MATCH(表格模板!A225,建筑!$A$2:$A$5001,0),COLUMN(A225))","v":{"$error":"#N/A"}},null,{"$f":"INDEX(设备类型!$B$2:$B$5001,MATCH(表格模板!C225,设备类型!$A$2:$A$5001,0),COLUMN(A225))","v":{"$error":"#N/A"}}]
[null,{"$f":"INDEX(建筑!$B$2:$B$5001,MATCH(表格模板!A226,建筑!$A$2:$A$5001,0),COLUMN(A226))","v":{"$error":"#N/A"}},null,{"$f":"INDEX(设备类型!$B$2:$B$5001,MATCH(表格模板!C226,设备类型!$A$2:$A$5001,0),COLUMN(A226))","v":{"$error":"#N/A"}}]
[null,{"$f":"INDEX(建筑!$B$2:$B$5001,MATCH(表格模板!A227,建筑!$A$2:$A$5001,0),COLUMN(A227))","v":{"$error":"#N/A"}},null,{"$f":"INDEX(设备类型!$B$2:$B$5001,MATCH(表格模板!C227,设备类型!$A$2:$A$5001,0),COLUMN(A227))","v":{"$error":"#N/A"}}]
[null,{"$f":"INDEX(建筑!$B$2:$B$5001,MATCH(表格模板!A228,建筑!$A$2:$A$5001,0),COLUMN(A228))","v":{"$error":"#N/A"}},null,{"$f":"INDEX(设备类型!$B$2:$B$5001,MATCH(表格模板!C228,设备类型!$A$2:$A$5001,0),COLUMN(A228))","v":{"$error":"#N/A"}}]
[null,{"$f":"INDEX(建筑!$B$2:$B$5001,MATCH(表格模板!A229,建筑!$A$2:$A$5001,0),COLUMN(A229))","v":{"$error":"#N/A"}},null,{"$f":"INDEX(设备类型!$B$2:$B$5001,MATCH(表格模板!C229,设备类型!$A$2:$A$5001,0),COLUMN(A229))","v":{"$error":"#N/A"}}]
[null,{"$f":"INDEX(建筑!$B$2:$B$5001,MATCH(表格模板!A230,建筑!$A$2:$A$5001,0),COLUMN(A230))","v":{"$error":"#N/A"}},null,{"$f":"INDEX(设备类型!$B$2:$B$5001,MATCH(表格模板!C230,设备类型!$A$2:$A$5001,0),COLUMN(A230))","v":{"$error":"#N/A"}}]
[null,{"$f":"INDEX(建筑!$B$2:$B$5001,MATCH(表格模板!A231,建筑!$A$2:$A$5001,0),COLUMN(A231))","v":{"$error":"#N/A"}},null,{"$f":"INDEX(设备类型!$B$2:$B$5001,MATCH(表格模板!C231,设备类型!$A$2:$A$5001,0),COLUMN(A231))","v":{"$error":"#N/A"}}]
[null,{"$f":"INDEX(建筑!$B$2:$B$5001,MATCH(表格模板!A232,建筑!$A$2:$A$5001,0),COLUMN(A232))","v":{"$error":"#N/A"}},null,{"$f":"INDEX(设备类型!$B$2:$B$5001,MATCH(表格模板!C232,设备类型!$A$2:$A$5001,0),COLUMN(A232))","v":{"$error":"#N/A"}}]
[null,{"$f":"INDEX(建筑!$B$2:$B$5001,MATCH(表格模板!A233,建筑!$A$2:$A$5001,0),COLUMN(A233))","v":{"$error":"#N/A"}},null,{"$f":"INDEX(设备类型!$B$2:$B$5001,MATCH(表格模板!C233,设备类型!$A$2:$A$5001,0),COLUMN(A233))","v":{"$error":"#N/A"}}]
[null,{"$f":"INDEX(建筑!$B$2:$B$5001,MATCH(表格模板!A234,建筑!$A$2:$A$5001,0),COLUMN(A234))","v":{"$error":"#N/A"}},null,{"$f":"INDEX(设备类型!$B$2:$B$5001,MATCH(表格模板!C234,设备类型!$A$2:$A$5001,0),COLUMN(A234))","v":{"$error":"#N/A"}}]
[null,{"$f":"INDEX(建筑!$B$2:$B$5001,MATCH(表格模板!A235,建筑!$A$2:$A$5001,0),COLUMN(A235))","v":{"$error":"#N/A"}},null,{"$f":"INDEX(设备类型!$B$2:$B$5001,MATCH(表格模板!C235,设备类型!$A$2:$A$5001,0),COLUMN(A235))","v":{"$error":"#N/A"}}]
[null,{"$f":"INDEX(建筑!$B$2:$B$5001,MATCH(表格模板!A236,建筑!$A$2:$A$5001,0),COLUMN(A236))","v":{"$error":"#N/A"}},null,{"$f":"INDEX(设备类型!$B$2:$B$5001,MATCH(表格模板!C236,设备类型!$A$2:$A$5001,0),COLUMN(A236))","v":{"$error":"#N/A"}}]
[null,{"$f":"INDEX(建筑!$B$2:$B$5001,MATCH(表格模板!A237,建筑!$A$2:$A$5001,0),COLUMN(A237))","v":{"$error":"#N/A"}},null,{"$f":"INDEX(设备类型!$B$2:$B$5001,MATCH(表格模板!C237,设备类型!$A$2:$A$5001,0),COLUMN(A237))","v":{"$error":"#N/A"}}]
[null,{"$f":"INDEX(建筑!$B$2:$B$5001,MATCH(表格模板!A238,建筑!$A$2:$A$5001,0),COLUMN(A238))","v":{"$error":"#N/A"}},null,{"$f":"INDEX(设备类型!$B$2:$B$5001,MATCH(表格模板!C238,设备类型!$A$2:$A$5001,0),COLUMN(A238))","v":{"$error":"#N/A"}}]
[null,{"$f":"INDEX(建筑!$B$2:$B$5001,MATCH(表格模板!A239,建筑!$A$2:$A$5001,0),COLUMN(A239))","v":{"$error":"#N/A"}},null,{"$f":"INDEX(设备类型!$B$2:$B$5001,MATCH(表格模板!C239,设备类型!$A$2:$A$5001,0),COLUMN(A239))","v":{"$error":"#N/A"}}]
[null,{"$f":"INDEX(建筑!$B$2:$B$5001,MATCH(表格模板!A240,建筑!$A$2:$A$5001,0),COLUMN(A240))","v":{"$error":"#N/A"}},null,{"$f":"INDEX(设备类型!$B$2:$B$5001,MATCH(表格模板!C240,设备类型!$A$2:$A$5001,0),COLUMN(A240))","v":{"$error":"#N/A"}}]
[null,{"$f":"INDEX(建筑!$B$2:$B$5001,MATCH(表格模板!A241,建筑!$A$2:$A$5001,0),COLUMN(A241))","v":{"$error":"#N/A"}},null,{"$f":"INDEX(设备类型!$B$2:$B$5001,MATCH(表格模板!C241,设备类型!$A$2:$A$5001,0),COLUMN(A241))","v":{"$error":"#N/A"}}]
[null,{"$f":"INDEX(建筑!$B$2:$B$5001,MATCH(表格模板!A242,建筑!$A$2:$A$5001,0),COLUMN(A242))","v":{"$error":"#N/A"}},null,{"$f":"INDEX(设备类型!$B$2:$B$5001,MATCH(表格模板!C242,设备类型!$A$2:$A$5001,0),COLUMN(A242))","v":{"$error":"#N/A"}}]
[null,{"$f":"INDEX(建筑!$B$2:$B$5001,MATCH(表格模板!A243,建筑!$A$2:$A$5001,0),COLUMN(A243))","v":{"$error":"#N/A"}},null,{"$f":"INDEX(设备类型!$B$2:$B$5001,MATCH(表格模板!C243,设备类型!$A$2:$A$5001,0),COLUMN(A243))","v":{"$error":"#N/A"}}]
[null,{"$f":"INDEX(建筑!$B$2:$B$5001,MATCH(表格模板!A244,建筑!$A$2:$A$5001,0),COLUMN(A244))","v":{"$error":"#N/A"}},null,{"$f":"INDEX(设备类型!$B$2:$B$5001,MATCH(表格模板!C244,设备类型!$A$2:$A$5001,0),COLUMN(A244))","v":{"$error":"#N/A"}}]
[null,{"$f":"INDEX(建筑!$B$2:$B$5001,MATCH(表格模板!A245,建筑!$A$2:$A$5001,0),COLUMN(A245))","v":{"$error":"#N/A"}},null,{"$f":"INDEX(设备类型!$B$2:$B$5001,MATCH(表格模板!C245,设备类型!$A$2:$A$5001,0),COLUMN(A245))","v":{"$error":"#N/A"}}]
[null,{"$f":"INDEX(建筑!$B$2:$B$5001,MATCH(表格模板!A246,建筑!$A$2:$A$5001,0),COLUMN(A246))","v":{"$error":"#N/A"}},null,{"$f":"INDEX(设备类型!$B$2:$B$5001,MATCH(表格模板!C246,设备类型!$A$2:$A$5001,0),COLUMN(A246))","v":{"$error":"#N/A"}}]
[null,{"$f":"INDEX(建筑!$B$2:$B$5001,MATCH(表格模板!A247,建筑!$A$2:$A$5001,0),COLUMN(A247))","v":{"$error":"#N/A"}},null,{"$f":"INDEX(设备类型!$B$2:$B$5001,MATCH(表格模板!C247,设备类型!$A$2:$A$5001,0),COLUMN(A247))","v":{"$error":"#N/A"}}]
[null,{"$f":"INDEX(建筑!$B$2:$B$5001,MATCH(表格模板!A248,建筑!$A$2:$A$5001,0),COLUMN(A248))","v":{"$error":"#N/A"}},null,{"$f":"INDEX(设备类型!$B$2:$B$5001,MATCH(表格模板!C248,设备类型!$A$2:$A$5001,0),COLUMN(A248))","v":{"$error":"#N/A"}}]
[null,{"$f":"INDEX(建筑!$B$2:$B$5001,MATCH(表格模板!A249,建筑!$A$2:$A$5001,0),COLUMN(A249))","v":{"$error":"#N/A"}},null,{"$f":"INDEX(设备类型!$B$2:$B$5001,MATCH(表格模板!C249,设备类型!$A$2:$A$5001,0),COLUMN(A249))","v":{"$error":"#N/A"}}]
[null,{"$f":"INDEX(建筑!$B$2:$B$5001,MATCH(表格模板!A250,建筑!$A$2:$A$5001,0),COLUMN(A250))","v":{"$error":"#N/A"}},null,{"$f":"INDEX(设备类型!$B$2:$B$5001,MATCH(表格模板!C250,设备类型!$A$2:$A$5001,0),COLUMN(A250))","v":{"$error":"#N/A"}}]
[null,{"$f":"INDEX(建筑!$B$2:$B$5001,MATCH(表格模板!A251,建筑!$A$2:$A$5001,0),COLUMN(A251))","v":{"$error":"#N/A"}},null,{"$f":"INDEX(设备类型!$B$2:$B$5001,MATCH(表格模板!C251,设备类型!$A$2:$A$5001,0),COLUMN(A251))","v":{"$error":"#N/A"}}]
[null,{"$f":"INDEX(建筑!$B$2:$B$5001,MATCH(表格模板!A252,建筑!$A$2:$A$5001,0),COLUMN(A252))","v":{"$error":"#N/A"}},null,{"$f":"INDEX(设备类型!$B$2:$B$5001,MATCH(表格模板!C252,设备类型!$A$2:$A$5001,0),COLUMN(A252))","v":{"$error":"#N/A"}}]
[null,{"$f":"INDEX(建筑!$B$2:$B$5001,MATCH(表格模板!A253,建筑!$A$2:$A$5001,0),COLUMN(A253))","v":{"$error":"#N/A"}},null,{"$f":"INDEX(设备类型!$B$2:$B$5001,MATCH(表格模板!C253,设备类型!$A$2:$A$5001,0),COLUMN(A253))","v":{"$error":"#N/A"}}]
[null,{"$f":"INDEX(建筑!$B$2:$B$5001,MATCH(表格模板!A254,建筑!$A$2:$A$5001,0),COLUMN(A254))","v":{"$error":"#N/A"}},null,{"$f":"INDEX(设备类型!$B$2:$B$5001,MATCH(表格模板!C254,设备类型!$A$2:$A$5001,0),COLUMN(A254))","v":{"$error":"#N/A"}}]
[null,{"$f":"INDEX(建筑!$B$2:$B$5001,MATCH(表格模板!A255,建筑!$A$2:$A$5001,0),COLUMN(A255))","v":{"$error":"#N/A"}},null,{"$f":"INDEX(设备类型!$B$2:$B$5001,MATCH(表格模板!C255,设备类型!$A$2:$A$5001,0),COLUMN(A255))","v":{"$error":"#N/A"}}]
[null,{"$f":"INDEX(建筑!$B$2:$B$5001,MATCH(表格模板!A256,建筑!$A$2:$A$5001,0),COLUMN(A256))","v":{"$error":"#N/A"}},null,{"$f":"INDEX(设备类型!$B$2:$B$5001,MATCH(表格模板!C256,设备类型!$A$2:$A$5001,0),COLUMN(A256))","v":{"$error":"#N/A"}}]
[null,{"$f":"INDEX(建筑!$B$2:$B$5001,MATCH(表格模板!A257,建筑!$A$2:$A$5001,0),COLUMN(A257))","v":{"$error":"#N/A"}},null,{"$f":"INDEX(设备类型!$B$2:$B$5001,MATCH(表格模板!C257,设备类型!$A$2:$A$5001,0),COLUMN(A257))","v":{"$error":"#N/A"}}]
[null,{"$f":"INDEX(建筑!$B$2:$B$5001,MATCH(表格模板!A258,建筑!$A$2:$A$5001,0),COLUMN(A258))","v":{"$error":"#N/A"}},null,{"$f":"INDEX(设备类型!$B$2:$B$5001,MATCH(表格模板!C258,设备类型!$A$2:$A$5001,0),COLUMN(A258))","v":{"$error":"#N/A"}}]
[null,{"$f":"INDEX(建筑!$B$2:$B$5001,MATCH(表格模板!A259,建筑!$A$2:$A$5001,0),COLUMN(A259))","v":{"$error":"#N/A"}},null,{"$f":"INDEX(设备类型!$B$2:$B$5001,MATCH(表格模板!C259,设备类型!$A$2:$A$5001,0),COLUMN(A259))","v":{"$error":"#N/A"}}]
[null,{"$f":"INDEX(建筑!$B$2:$B$5001,MATCH(表格模板!A260,建筑!$A$2:$A$5001,0),COLUMN(A260))","v":{"$error":"#N/A"}},null,{"$f":"INDEX(设备类型!$B$2:$B$5001,MATCH(表格模板!C260,设备类型!$A$2:$A$5001,0),COLUMN(A260))","v":{"$error":"#N/A"}}]
[null,{"$f":"INDEX(建筑!$B$2:$B$5001,MATCH(表格模板!A261,建筑!$A$2:$A$5001,0),COLUMN(A261))","v":{"$error":"#N/A"}},null,{"$f":"INDEX(设备类型!$B$2:$B$5001,MATCH(表格模板!C261,设备类型!$A$2:$A$5001,0),COLUMN(A261))","v":{"$error":"#N/A"}}]
[null,{"$f":"INDEX(建筑!$B$2:$B$5001,MATCH(表格模板!A262,建筑!$A$2:$A$5001,0),COLUMN(A262))","v":{"$error":"#N/A"}},null,{"$f":"INDEX(设备类型!$B$2:$B$5001,MATCH(表格模板!C262,设备类型!$A$2:$A$5001,0),COLUMN(A262))","v":{"$error":"#N/A"}}]
[null,{"$f":"INDEX(建筑!$B$2:$B$5001,MATCH(表格模板!A263,建筑!$A$2:$A$5001,0),COLUMN(A263))","v":{"$error":"#N/A"}},null,{"$f":"INDEX(设备类型!$B$2:$B$5001,MATCH(表格模板!C263,设备类型!$A$2:$A$5001,0),COLUMN(A263))","v":{"$error":"#N/A"}}]
[null,{"$f":"INDEX(建筑!$B$2:$B$5001,MATCH(表格模板!A264,建筑!$A$2:$A$5001,0),COLUMN(A264))","v":{"$error":"#N/A"}},null,{"$f":"INDEX(设备类型!$B$2:$B$5001,MATCH(表格模板!C264,设备类型!$A$2:$A$5001,0),COLUMN(A264))","v":{"$error":"#N/A"}}]
[null,{"$f":"INDEX(建筑!$B$2:$B$5001,MATCH(表格模板!A265,建筑!$A$2:$A$5001,0),COLUMN(A265))","v":{"$error":"#N/A"}},null,{"$f":"INDEX(设备类型!$B$2:$B$5001,MATCH(表格模板!C265,设备类型!$A$2:$A$5001,0),COLUMN(A265))","v":{"$error":"#N/A"}}]
[null,{"$f":"INDEX(建筑!$B$2:$B$5001,MATCH(表格模板!A266,建筑!$A$2:$A$5001,0),COLUMN(A266))","v":{"$error":"#N/A"}},null,{"$f":"INDEX(设备类型!$B$2:$B$5001,MATCH(表格模板!C266,设备类型!$A$2:$A$5001,0),COLUMN(A266))","v":{"$error":"#N/A"}}]
[null,{"$f":"INDEX(建筑!$B$2:$B$5001,MATCH(表格模板!A267,建筑!$A$2:$A$5001,0),COLUMN(A267))","v":{"$error":"#N/A"}},null,{"$f":"INDEX(设备类型!$B$2:$B$5001,MATCH(表格模板!C267,设备类型!$A$2:$A$5001,0),COLUMN(A267))","v":{"$error":"#N/A"}}]
[null,{"$f":"INDEX(建筑!$B$2:$B$5001,MATCH(表格模板!A268,建筑!$A$2:$A$5001,0),COLUMN(A268))","v":{"$error":"#N/A"}},null,{"$f":"INDEX(设备类型!$B$2:$B$5001,MATCH(表格模板!C268,设备类型!$A$2:$A$5001,0),COLUMN(A268))","v":{"$error":"#N/A"}}]
[null,{"$f":"INDEX(建筑!$B$2:$B$5001,MATCH(表格模板!A269,建筑!$A$2:$A$5001,0),COLUMN(A269))","v":{"$error":"#N/A"}},null,{"$f":"INDEX(设备类型!$B$2:$B$5001,MATCH(表格模板!C269,设备类型!$A$2:$A$5001,0),COLUMN(A269))","v":{"$error":"#N/A"}}]
[null,{"$f":"INDEX(建筑!$B$2:$B$5001,MATCH(表格模板!A270,建筑!$A$2:$A$5001,0),COLUMN(A270))","v":{"$error":"#N/A"}},null,{"$f":"INDEX(设备类型!$B$2:$B$5001,MATCH(表格模板!C270,设备类型!$A$2:$A$5001,0),COLUMN(A270))","v":{"$error":"#N/A"}}]
[null,{"$f":"INDEX(建筑!$B$2:$B$5001,MATCH(表格模板!A271,建筑!$A$2:$A$5001,0),COLUMN(A271))","v":{"$error":"#N/A"}},null,{"$f":"INDEX(设备类型!$B$2:$B$5001,MATCH(表格模板!C271,设备类型!$A$2:$A$5001,0),COLUMN(A271))","v":{"$error":"#N/A"}}]
[null,{"$f":"INDEX(建筑!$B$2:$B$5001,MATCH(表格模板!A272,建筑!$A$2:$A$5001,0),COLUMN(A272))","v":{"$error":"#N/A"}},null,{"$f":"INDEX(设备类型!$B$2:$B$5001,MATCH(表格模板!C272,设备类型!$A$2:$A$5001,0),COLUMN(A272))","v":{"$error":"#N/A"}}]
[null,{"$f":"INDEX(建筑!$B$2:$B$5001,MATCH(表格模板!A273,建筑!$A$2:$A$5001,0),COLUMN(A273))","v":{"$error":"#N/A"}},null,{"$f":"INDEX(设备类型!$B$2:$B$5001,MATCH(表格模板!C273,设备类型!$A$2:$A$5001,0),COLUMN(A273))","v":{"$error":"#N/A"}}]
[null,{"$f":"INDEX(建筑!$B$2:$B$5001,MATCH(表格模板!A274,建筑!$A$2:$A$5001,0),COLUMN(A274))","v":{"$error":"#N/A"}},null,{"$f":"INDEX(设备类型!$B$2:$B$5001,MATCH(表格模板!C274,设备类型!$A$2:$A$5001,0),COLUMN(A274))","v":{"$error":"#N/A"}}]
[null,{"$f":"INDEX(建筑!$B$2:$B$5001,MATCH(表格模板!A275,建筑!$A$2:$A$5001,0),COLUMN(A275))","v":{"$error":"#N/A"}},null,{"$f":"INDEX(设备类型!$B$2:$B$5001,MATCH(表格模板!C275,设备类型!$A$2:$A$5001,0),COLUMN(A275))","v":{"$error":"#N/A"}}]
[null,{"$f":"INDEX(建筑!$B$2:$B$5001,MATCH(表格模板!A276,建筑!$A$2:$A$5001,0),COLUMN(A276))","v":{"$error":"#N/A"}},null,{"$f":"INDEX(设备类型!$B$2:$B$5001,MATCH(表格模板!C276,设备类型!$A$2:$A$5001,0),COLUMN(A276))","v":{"$error":"#N/A"}}]
[null,{"$f":"INDEX(建筑!$B$2:$B$5001,MATCH(表格模板!A277,建筑!$A$2:$A$5001,0),COLUMN(A277))","v":{"$error":"#N/A"}},null,{"$f":"INDEX(设备类型!$B$2:$B$5001,MATCH(表格模板!C277,设备类型!$A$2:$A$5001,0),COLUMN(A277))","v":{"$error":"#N/A"}}]
[null,{"$f":"INDEX(建筑!$B$2:$B$5001,MATCH(表格模板!A278,建筑!$A$2:$A$5001,0),COLUMN(A278))","v":{"$error":"#N/A"}},null,{"$f":"INDEX(设备类型!$B$2:$B$5001,MATCH(表格模板!C278,设备类型!$A$2:$A$5001,0),COLUMN(A278))","v":{"$error":"#N/A"}}]
[null,{"$f":"INDEX(建筑!$B$2:$B$5001,MATCH(表格模板!A279,建筑!$A$2:$A$5001,0),COLUMN(A279))","v":{"$error":"#N/A"}},null,{"$f":"INDEX(设备类型!$B$2:$B$5001,MATCH(表格模板!C279,设备类型!$A$2:$A$5001,0),COLUMN(A279))","v":{"$error":"#N/A"}}]
[null,{"$f":"INDEX(建筑!$B$2:$B$5001,MATCH(表格模板!A280,建筑!$A$2:$A$5001,0),COLUMN(A280))","v":{"$error":"#N/A"}},null,{"$f":"INDEX(设备类型!$B$2:$B$5001,MATCH(表格模板!C280,设备类型!$A$2:$A$5001,0),COLUMN(A280))","v":{"$error":"#N/A"}}]
[null,{"$f":"INDEX(建筑!$B$2:$B$5001,MATCH(表格模板!A281,建筑!$A$2:$A$5001,0),COLUMN(A281))","v":{"$error":"#N/A"}},null,{"$f":"INDEX(设备类型!$B$2:$B$5001,MATCH(表格模板!C281,设备类型!$A$2:$A$5001,0),COLUMN(A281))","v":{"$error":"#N/A"}}]
[null,{"$f":"INDEX(建筑!$B$2:$B$5001,MATCH(表格模板!A282,建筑!$A$2:$A$5001,0),COLUMN(A282))","v":{"$error":"#N/A"}},null,{"$f":"INDEX(设备类型!$B$2:$B$5001,MATCH(表格模板!C282,设备类型!$A$2:$A$5001,0),COLUMN(A282))","v":{"$error":"#N/A"}}]
[null,{"$f":"INDEX(建筑!$B$2:$B$5001,MATCH(表格模板!A283,建筑!$A$2:$A$5001,0),COLUMN(A283))","v":{"$error":"#N/A"}},null,{"$f":"INDEX(设备类型!$B$2:$B$5001,MATCH(表格模板!C283,设备类型!$A$2:$A$5001,0),COLUMN(A283))","v":{"$error":"#N/A"}}]
[null,{"$f":"INDEX(建筑!$B$2:$B$5001,MATCH(表格模板!A284,建筑!$A$2:$A$5001,0),COLUMN(A284))","v":{"$error":"#N/A"}},null,{"$f":"INDEX(设备类型!$B$2:$B$5001,MATCH(表格模板!C284,设备类型!$A$2:$A$5001,0),COLUMN(A284))","v":{"$error":"#N/A"}}]
[null,{"$f":"INDEX(建筑!$B$2:$B$5001,MATCH(表格模板!A285,建筑!$A$2:$A$5001,0),COLUMN(A285))","v":{"$error":"#N/A"}},null,{"$f":"INDEX(设备类型!$B$2:$B$5001,MATCH(表格模板!C285,设备类型!$A$2:$A$5001,0),COLUMN(A285))","v":{"$error":"#N/A"}}]
[null,{"$f":"INDEX(建筑!$B$2:$B$5001,MATCH(表格模板!A286,建筑!$A$2:$A$5001,0),COLUMN(A286))","v":{"$error":"#N/A"}},null,{"$f":"INDEX(设备类型!$B$2:$B$5001,MATCH(表格模板!C286,设备类型!$A$2:$A$5001,0),COLUMN(A286))","v":{"$error":"#N/A"}}]
[null,{"$f":"INDEX(建筑!$B$2:$B$5001,MATCH(表格模板!A287,建筑!$A$2:$A$5001,0),COLUMN(A287))","v":{"$error":"#N/A"}},null,{"$f":"INDEX(设备类型!$B$2:$B$5001,MATCH(表格模板!C287,设备类型!$A$2:$A$5001,0),COLUMN(A287))","v":{"$error":"#N/A"}}]
[null,{"$f":"INDEX(建筑!$B$2:$B$5001,MATCH(表格模板!A288,建筑!$A$2:$A$5001,0),COLUMN(A288))","v":{"$error":"#N/A"}},null,{"$f":"INDEX(设备类型!$B$2:$B$5001,MATCH(表格模板!C288,设备类型!$A$2:$A$5001,0),COLUMN(A288))","v":{"$error":"#N/A"}}]
[null,{"$f":"INDEX(建筑!$B$2:$B$5001,MATCH(表格模板!A289,建筑!$A$2:$A$5001,0),COLUMN(A289))","v":{"$error":"#N/A"}},null,{"$f":"INDEX(设备类型!$B$2:$B$5001,MATCH(表格模板!C289,设备类型!$A$2:$A$5001,0),COLUMN(A289))","v":{"$error":"#N/A"}}]
[null,{"$f":"INDEX(建筑!$B$2:$B$5001,MATCH(表格模板!A290,建筑!$A$2:$A$5001,0),COLUMN(A290))","v":{"$error":"#N/A"}},null,{"$f":"INDEX(设备类型!$B$2:$B$5001,MATCH(表格模板!C290,设备类型!$A$2:$A$5001,0),COLUMN(A290))","v":{"$error":"#N/A"}}]
[null,{"$f":"INDEX(建筑!$B$2:$B$5001,MATCH(表格模板!A291,建筑!$A$2:$A$5001,0),COLUMN(A291))","v":{"$error":"#N/A"}},null,{"$f":"INDEX(设备类型!$B$2:$B$5001,MATCH(表格模板!C291,设备类型!$A$2:$A$5001,0),COLUMN(A291))","v":{"$error":"#N/A"}}]
[null,{"$f":"INDEX(建筑!$B$2:$B$5001,MATCH(表格模板!A292,建筑!$A$2:$A$5001,0),COLUMN(A292))","v":{"$error":"#N/A"}},null,{"$f":"INDEX(设备类型!$B$2:$B$5001,MATCH(表格模板!C292,设备类型!$A$2:$A$5001,0),COLUMN(A292))","v":{"$error":"#N/A"}}]
[null,{"$f":"INDEX(建筑!$B$2:$B$5001,MATCH(表格模板!A293,建筑!$A$2:$A$5001,0),COLUMN(A293))","v":{"$error":"#N/A"}},null,{"$f":"INDEX(设备类型!$B$2:$B$5001,MATCH(表格模板!C293,设备类型!$A$2:$A$5001,0),COLUMN(A293))","v":{"$error":"#N/A"}}]
[null,{"$f":"INDEX(建筑!$B$2:$B$5001,MATCH(表格模板!A294,建筑!$A$2:$A$5001,0),COLUMN(A294))","v":{"$error":"#N/A"}},null,{"$f":"INDEX(设备类型!$B$2:$B$5001,MATCH(表格模板!C294,设备类型!$A$2:$A$5001,0),COLUMN(A294))","v":{"$error":"#N/A"}}]
[null,{"$f":"INDEX(建筑!$B$2:$B$5001,MATCH(表格模板!A295,建筑!$A$2:$A$5001,0),COLUMN(A295))","v":{"$error":"#N/A"}},null,{"$f":"INDEX(设备类型!$B$2:$B$5001,MATCH(表格模板!C295,设备类型!$A$2:$A$5001,0),COLUMN(A295))","v":{"$error":"#N/A"}}]
[null,{"$f":"INDEX(建筑!$B$2:$B$5001,MATCH(表格模板!A296,建筑!$A$2:$A$5001,0),COLUMN(A296))","v":{"$error":"#N/A"}},null,{"$f":"INDEX(设备类型!$B$2:$B$5001,MATCH(表格模板!C296,设备类型!$A$2:$A$5001,0),COLUMN(A296))","v":{"$error":"#N/A"}}]
[null,{"$f":"INDEX(建筑!$B$2:$B$5001,MATCH(表格模板!A297,建筑!$A$2:$A$5001,0),COLUMN(A297))","v":{"$error":"#N/A"}},null,{"$f":"INDEX(设备类型!$B$2:$B$5001,MATCH(表格模板!C297,设备类型!$A$2:$A$5001,0),COLUMN(A297))","v":{"$error":"#N/A"}}]
[null,{"$f":"INDEX(建筑!$B$2:$B$5001,MATCH(表格模板!A298,建筑!$A$2:$A$5001,0),COLUMN(A298))","v":{"$error":"#N/A"}},null,{"$f":"INDEX(设备类型!$B$2:$B$5001,MATCH(表格模板!C298,设备类型!$A$2:$A$5001,0),COLUMN(A298))","v":{"$error":"#N/A"}}]
[null,{"$f":"INDEX(建筑!$B$2:$B$5001,MATCH(表格模板!A299,建筑!$A$2:$A$5001,0),COLUMN(A299))","v":{"$error":"#N/A"}},null,{"$f":"INDEX(设备类型!$B$2:$B$5001,MATCH(表格模板!C299,设备类型!$A$2:$A$5001,0),COLUMN(A299))","v":{"$error":"#N/A"}}]
[null,{"$f":"INDEX(建筑!$B$2:$B$5001,MATCH(表格模板!A300,建筑!$A$2:$A$5001,0),COLUMN(A300))","v":{"$error":"#N/A"}},null,{"$f":"INDEX(设备类型!$B$2:$B$5001,MATCH(表格模板!C300,设备类型!$A$2:$A$5001,0),COLUMN(A300))","v":{"$error":"#N/A"}}]
[null,{"$f":"INDEX(建筑!$B$2:$B$5001,MATCH(表格模板!A301,建筑!$A$2:$A$5001,0),COLUMN(A301))","v":{"$error":"#N/A"}},null,{"$f":"INDEX(设备类型!$B$2:$B$5001,MATCH(表格模板!C301,设备类型!$A$2:$A$5001,0),COLUMN(A301))","v":{"$error":"#N/A"}}]
[null,{"$f":"INDEX(建筑!$B$2:$B$5001,MATCH(表格模板!A302,建筑!$A$2:$A$5001,0),COLUMN(A302))","v":{"$error":"#N/A"}},null,{"$f":"INDEX(设备类型!$B$2:$B$5001,MATCH(表格模板!C302,设备类型!$A$2:$A$5001,0),COLUMN(A302))","v":{"$error":"#N/A"}}]
[null,{"$f":"INDEX(建筑!$B$2:$B$5001,MATCH(表格模板!A303,建筑!$A$2:$A$5001,0),COLUMN(A303))","v":{"$error":"#N/A"}},null,{"$f":"INDEX(设备类型!$B$2:$B$5001,MATCH(表格模板!C303,设备类型!$A$2:$A$5001,0),COLUMN(A303))","v":{"$error":"#N/A"}}]
[null,{"$f":"INDEX(建筑!$B$2:$B$5001,MATCH(表格模板!A304,建筑!$A$2:$A$5001,0),COLUMN(A304))","v":{"$error":"#N/A"}},null,{"$f":"INDEX(设备类型!$B$2:$B$5001,MATCH(表格模板!C304,设备类型!$A$2:$A$5001,0),COLUMN(A304))","v":{"$error":"#N/A"}}]
[null,{"$f":"INDEX(建筑!$B$2:$B$5001,MATCH(表格模板!A305,建筑!$A$2:$A$5001,0),COLUMN(A305))","v":{"$error":"#N/A"}},null,{"$f":"INDEX(设备类型!$B$2:$B$5001,MATCH(表格模板!C305,设备类型!$A$2:$A$5001,0),COLUMN(A305))","v":{"$error":"#N/A"}}]
[null,{"$f":"INDEX(建筑!$B$2:$B$5001,MATCH(表格模板!A306,建筑!$A$2:$A$5001,0),COLUMN(A306))","v":{"$error":"#N/A"}},null,{"$f":"INDEX(设备类型!$B$2:$B$5001,MATCH(表格模板!C306,设备类型!$A$2:$A$5001,0),COLUMN(A306))","v":{"$error":"#N/A"}}]
[null,{"$f":"INDEX(建筑!$B$2:$B$5001,MATCH(表格模板!A307,建筑!$A$2:$A$5001,0),COLUMN(A307))","v":{"$error":"#N/A"}},null,{"$f":"INDEX(设备类型!$B$2:$B$5001,MATCH(表格模板!C307,设备类型!$A$2:$A$5001,0),COLUMN(A307))","v":{"$error":"#N/A"}}]
[null,{"$f":"INDEX(建筑!$B$2:$B$5001,MATCH(表格模板!A308,建筑!$A$2:$A$5001,0),COLUMN(A308))","v":{"$error":"#N/A"}},null,{"$f":"INDEX(设备类型!$B$2:$B$5001,MATCH(表格模板!C308,设备类型!$A$2:$A$5001,0),COLUMN(A308))","v":{"$error":"#N/A"}}]
[null,{"$f":"INDEX(建筑!$B$2:$B$5001,MATCH(表格模板!A309,建筑!$A$2:$A$5001,0),COLUMN(A309))","v":{"$error":"#N/A"}},null,{"$f":"INDEX(设备类型!$B$2:$B$5001,MATCH(表格模板!C309,设备类型!$A$2:$A$5001,0),COLUMN(A309))","v":{"$error":"#N/A"}}]
[null,{"$f":"INDEX(建筑!$B$2:$B$5001,MATCH(表格模板!A310,建筑!$A$2:$A$5001,0),COLUMN(A310))","v":{"$error":"#N/A"}},null,{"$f":"INDEX(设备类型!$B$2:$B$5001,MATCH(表格模板!C310,设备类型!$A$2:$A$5001,0),COLUMN(A310))","v":{"$error":"#N/A"}}]
[null,{"$f":"INDEX(建筑!$B$2:$B$5001,MATCH(表格模板!A311,建筑!$A$2:$A$5001,0),COLUMN(A311))","v":{"$error":"#N/A"}},null,{"$f":"INDEX(设备类型!$B$2:$B$5001,MATCH(表格模板!C311,设备类型!$A$2:$A$5001,0),COLUMN(A311))","v":{"$error":"#N/A"}}]
[null,{"$f":"INDEX(建筑!$B$2:$B$5001,MATCH(表格模板!A312,建筑!$A$2:$A$5001,0),COLUMN(A312))","v":{"$error":"#N/A"}},null,{"$f":"INDEX(设备类型!$B$2:$B$5001,MATCH(表格模板!C312,设备类型!$A$2:$A$5001,0),COLUMN(A312))","v":{"$error":"#N/A"}}]
[null,{"$f":"INDEX(建筑!$B$2:$B$5001,MATCH(表格模板!A313,建筑!$A$2:$A$5001,0),COLUMN(A313))","v":{"$error":"#N/A"}},null,{"$f":"INDEX(设备类型!$B$2:$B$5001,MATCH(表格模板!C313,设备类型!$A$2:$A$5001,0),COLUMN(A313))","v":{"$error":"#N/A"}}]
[null,{"$f":"INDEX(建筑!$B$2:$B$5001,MATCH(表格模板!A314,建筑!$A$2:$A$5001,0),COLUMN(A314))","v":{"$error":"#N/A"}},null,{"$f":"INDEX(设备类型!$B$2:$B$5001,MATCH(表格模板!C314,设备类型!$A$2:$A$5001,0),COLUMN(A314))","v":{"$error":"#N/A"}}]
[null,{"$f":"INDEX(建筑!$B$2:$B$5001,MATCH(表格模板!A315,建筑!$A$2:$A$5001,0),COLUMN(A315))","v":{"$error":"#N/A"}},null,{"$f":"INDEX(设备类型!$B$2:$B$5001,MATCH(表格模板!C315,设备类型!$A$2:$A$5001,0),COLUMN(A315))","v":{"$error":"#N/A"}}]
[null,{"$f":"INDEX(建筑!$B$2:$B$5001,MATCH(表格模板!A316,建筑!$A$2:$A$5001,0),COLUMN(A316))","v":{"$error":"#N/A"}},null,{"$f":"INDEX(设备类型!$B$2:$B$5001,MATCH(表格模板!C316,设备类型!$A$2:$A$5001,0),COLUMN(A316))","v":{"$error":"#N/A"}}]
[null,{"$f":"INDEX(建筑!$B$2:$B$5001,MATCH(表格模板!A317,建筑!$A$2:$A$5001,0),COLUMN(A317))","v":{"$error":"#N/A"}},null,{"$f":"INDEX(设备类型!$B$2:$B$5001,MATCH(表格模板!C317,设备类型!$A$2:$A$5001,0),COLUMN(A317))","v":{"$error":"#N/A"}}]
[null,{"$f":"INDEX(建筑!$B$2:$B$5001,MATCH(表格模板!A318,建筑!$A$2:$A$5001,0),COLUMN(A318))","v":{"$error":"#N/A"}},null,{"$f":"INDEX(设备类型!$B$2:$B$5001,MATCH(表格模板!C318,设备类型!$A$2:$A$5001,0),COLUMN(A318))","v":{"$error":"#N/A"}}]
[null,{"$f":"INDEX(建筑!$B$2:$B$5001,MATCH(表格模板!A319,建筑!$A$2:$A$5001,0),COLUMN(A319))","v":{"$error":"#N/A"}},null,{"$f":"INDEX(设备类型!$B$2:$B$5001,MATCH(表格模板!C319,设备类型!$A$2:$A$5001,0),COLUMN(A319))","v":{"$error":"#N/A"}}]
[null,{"$f":"INDEX(建筑!$B$2:$B$5001,MATCH(表格模板!A320,建筑!$A$2:$A$5001,0),COLUMN(A320))","v":{"$error":"#N/A"}},null,{"$f":"INDEX(设备类型!$B$2:$B$5001,MATCH(表格模板!C320,设备类型!$A$2:$A$5001,0),COLUMN(A320))","v":{"$error":"#N/A"}}]
[null,{"$f":"INDEX(建筑!$B$2:$B$5001,MATCH(表格模板!A321,建筑!$A$2:$A$5001,0),COLUMN(A321))","v":{"$error":"#N/A"}},null,{"$f":"INDEX(设备类型!$B$2:$B$5001,MATCH(表格模板!C321,设备类型!$A$2:$A$5001,0),COLUMN(A321))","v":{"$error":"#N/A"}}]
[null,{"$f":"INDEX(建筑!$B$2:$B$5001,MATCH(表格模板!A322,建筑!$A$2:$A$5001,0),COLUMN(A322))","v":{"$error":"#N/A"}},null,{"$f":"INDEX(设备类型!$B$2:$B$5001,MATCH(表格模板!C322,设备类型!$A$2:$A$5001,0),COLUMN(A322))","v":{"$error":"#N/A"}}]
[null,{"$f":"INDEX(建筑!$B$2:$B$5001,MATCH(表格模板!A323,建筑!$A$2:$A$5001,0),COLUMN(A323))","v":{"$error":"#N/A"}},null,{"$f":"INDEX(设备类型!$B$2:$B$5001,MATCH(表格模板!C323,设备类型!$A$2:$A$5001,0),COLUMN(A323))","v":{"$error":"#N/A"}}]
[null,{"$f":"INDEX(建筑!$B$2:$B$5001,MATCH(表格模板!A324,建筑!$A$2:$A$5001,0),COLUMN(A324))","v":{"$error":"#N/A"}},null,{"$f":"INDEX(设备类型!$B$2:$B$5001,MATCH(表格模板!C324,设备类型!$A$2:$A$5001,0),COLUMN(A324))","v":{"$error":"#N/A"}}]
[null,{"$f":"INDEX(建筑!$B$2:$B$5001,MATCH(表格模板!A325,建筑!$A$2:$A$5001,0),COLUMN(A325))","v":{"$error":"#N/A"}},null,{"$f":"INDEX(设备类型!$B$2:$B$5001,MATCH(表格模板!C325,设备类型!$A$2:$A$5001,0),COLUMN(A325))","v":{"$error":"#N/A"}}]
[null,{"$f":"INDEX(建筑!$B$2:$B$5001,MATCH(表格模板!A326,建筑!$A$2:$A$5001,0),COLUMN(A326))","v":{"$error":"#N/A"}},null,{"$f":"INDEX(设备类型!$B$2:$B$5001,MATCH(表格模板!C326,设备类型!$A$2:$A$5001,0),COLUMN(A326))","v":{"$error":"#N/A"}}]
[null,{"$f":"INDEX(建筑!$B$2:$B$5001,MATCH(表格模板!A327,建筑!$A$2:$A$5001,0),COLUMN(A327))","v":{"$error":"#N/A"}},null,{"$f":"INDEX(设备类型!$B$2:$B$5001,MATCH(表格模板!C327,设备类型!$A$2:$A$5001,0),COLUMN(A327))","v":{"$error":"#N/A"}}]
[null,{"$f":"INDEX(建筑!$B$2:$B$5001,MATCH(表格模板!A328,建筑!$A$2:$A$5001,0),COLUMN(A328))","v":{"$error":"#N/A"}},null,{"$f":"INDEX(设备类型!$B$2:$B$5001,MATCH(表格模板!C328,设备类型!$A$2:$A$5001,0),COLUMN(A328))","v":{"$error":"#N/A"}}]
[null,{"$f":"INDEX(建筑!$B$2:$B$5001,MATCH(表格模板!A329,建筑!$A$2:$A$5001,0),COLUMN(A329))","v":{"$error":"#N/A"}},null,{"$f":"INDEX(设备类型!$B$2:$B$5001,MATCH(表格模板!C329,设备类型!$A$2:$A$5001,0),COLUMN(A329))","v":{"$error":"#N/A"}}]
[null,{"$f":"INDEX(建筑!$B$2:$B$5001,MATCH(表格模板!A330,建筑!$A$2:$A$5001,0),COLUMN(A330))","v":{"$error":"#N/A"}},null,{"$f":"INDEX(设备类型!$B$2:$B$5001,MATCH(表格模板!C330,设备类型!$A$2:$A$5001,0),COLUMN(A330))","v":{"$error":"#N/A"}}]
[null,{"$f":"INDEX(建筑!$B$2:$B$5001,MATCH(表格模板!A331,建筑!$A$2:$A$5001,0),COLUMN(A331))","v":{"$error":"#N/A"}},null,{"$f":"INDEX(设备类型!$B$2:$B$5001,MATCH(表格模板!C331,设备类型!$A$2:$A$5001,0),COLUMN(A331))","v":{"$error":"#N/A"}}]
[null,{"$f":"INDEX(建筑!$B$2:$B$5001,MATCH(表格模板!A332,建筑!$A$2:$A$5001,0),COLUMN(A332))","v":{"$error":"#N/A"}},null,{"$f":"INDEX(设备类型!$B$2:$B$5001,MATCH(表格模板!C332,设备类型!$A$2:$A$5001,0),COLUMN(A332))","v":{"$error":"#N/A"}}]
[null,{"$f":"INDEX(建筑!$B$2:$B$5001,MATCH(表格模板!A333,建筑!$A$2:$A$5001,0),COLUMN(A333))","v":{"$error":"#N/A"}},null,{"$f":"INDEX(设备类型!$B$2:$B$5001,MATCH(表格模板!C333,设备类型!$A$2:$A$5001,0),COLUMN(A333))","v":{"$error":"#N/A"}}]
[null,{"$f":"INDEX(建筑!$B$2:$B$5001,MATCH(表格模板!A334,建筑!$A$2:$A$5001,0),COLUMN(A334))","v":{"$error":"#N/A"}},null,{"$f":"INDEX(设备类型!$B$2:$B$5001,MATCH(表格模板!C334,设备类型!$A$2:$A$5001,0),COLUMN(A334))","v":{"$error":"#N/A"}}]
[null,{"$f":"INDEX(建筑!$B$2:$B$5001,MATCH(表格模板!A335,建筑!$A$2:$A$5001,0),COLUMN(A335))","v":{"$error":"#N/A"}},null,{"$f":"INDEX(设备类型!$B$2:$B$5001,MATCH(表格模板!C335,设备类型!$A$2:$A$5001,0),COLUMN(A335))","v":{"$error":"#N/A"}}]
[null,{"$f":"INDEX(建筑!$B$2:$B$5001,MATCH(表格模板!A336,建筑!$A$2:$A$5001,0),COLUMN(A336))","v":{"$error":"#N/A"}},null,{"$f":"INDEX(设备类型!$B$2:$B$5001,MATCH(表格模板!C336,设备类型!$A$2:$A$5001,0),COLUMN(A336))","v":{"$error":"#N/A"}}]
[null,{"$f":"INDEX(建筑!$B$2:$B$5001,MATCH(表格模板!A337,建筑!$A$2:$A$5001,0),COLUMN(A337))","v":{"$error":"#N/A"}},null,{"$f":"INDEX(设备类型!$B$2:$B$5001,MATCH(表格模板!C337,设备类型!$A$2:$A$5001,0),COLUMN(A337))","v":{"$error":"#N/A"}}]
[null,{"$f":"INDEX(建筑!$B$2:$B$5001,MATCH(表格模板!A338,建筑!$A$2:$A$5001,0),COLUMN(A338))","v":{"$error":"#N/A"}},null,{"$f":"INDEX(设备类型!$B$2:$B$5001,MATCH(表格模板!C338,设备类型!$A$2:$A$5001,0),COLUMN(A338))","v":{"$error":"#N/A"}}]
[null,{"$f":"INDEX(建筑!$B$2:$B$5001,MATCH(表格模板!A339,建筑!$A$2:$A$5001,0),COLUMN(A339))","v":{"$error":"#N/A"}},null,{"$f":"INDEX(设备类型!$B$2:$B$5001,MATCH(表格模板!C339,设备类型!$A$2:$A$5001,0),COLUMN(A339))","v":{"$error":"#N/A"}}]
[null,{"$f":"INDEX(建筑!$B$2:$B$5001,MATCH(表格模板!A340,建筑!$A$2:$A$5001,0),COLUMN(A340))","v":{"$error":"#N/A"}},null,{"$f":"INDEX(设备类型!$B$2:$B$5001,MATCH(表格模板!C340,设备类型!$A$2:$A$5001,0),COLUMN(A340))","v":{"$error":"#N/A"}}]
[null,{"$f":"INDEX(建筑!$B$2:$B$5001,MATCH(表格模板!A341,建筑!$A$2:$A$5001,0),COLUMN(A341))","v":{"$error":"#N/A"}},null,{"$f":"INDEX(设备类型!$B$2:$B$5001,MATCH(表格模板!C341,设备类型!$A$2:$A$5001,0),COLUMN(A341))","v":{"$error":"#N/A"}}]
[null,{"$f":"INDEX(建筑!$B$2:$B$5001,MATCH(表格模板!A342,建筑!$A$2:$A$5001,0),COLUMN(A342))","v":{"$error":"#N/A"}},null,{"$f":"INDEX(设备类型!$B$2:$B$5001,MATCH(表格模板!C342,设备类型!$A$2:$A$5001,0),COLUMN(A342))","v":{"$error":"#N/A"}}]
[null,{"$f":"INDEX(建筑!$B$2:$B$5001,MATCH(表格模板!A343,建筑!$A$2:$A$5001,0),COLUMN(A343))","v":{"$error":"#N/A"}},null,{"$f":"INDEX(设备类型!$B$2:$B$5001,MATCH(表格模板!C343,设备类型!$A$2:$A$5001,0),COLUMN(A343))","v":{"$error":"#N/A"}}]
[null,{"$f":"INDEX(建筑!$B$2:$B$5001,MATCH(表格模板!A344,建筑!$A$2:$A$5001,0),COLUMN(A344))","v":{"$error":"#N/A"}},null,{"$f":"INDEX(设备类型!$B$2:$B$5001,MATCH(表格模板!C344,设备类型!$A$2:$A$5001,0),COLUMN(A344))","v":{"$error":"#N/A"}}]
[null,{"$f":"INDEX(建筑!$B$2:$B$5001,MATCH(表格模板!A345,建筑!$A$2:$A$5001,0),COLUMN(A345))","v":{"$error":"#N/A"}},null,{"$f":"INDEX(设备类型!$B$2:$B$5001,MATCH(表格模板!C345,设备类型!$A$2:$A$5001,0),COLUMN(A345))","v":{"$error":"#N/A"}}]
[null,{"$f":"INDEX(建筑!$B$2:$B$5001,MATCH(表格模板!A346,建筑!$A$2:$A$5001,0),COLUMN(A346))","v":{"$error":"#N/A"}},null,{"$f":"INDEX(设备类型!$B$2:$B$5001,MATCH(表格模板!C346,设备类型!$A$2:$A$5001,0),COLUMN(A346))","v":{"$error":"#N/A"}}]
[null,{"$f":"INDEX(建筑!$B$2:$B$5001,MATCH(表格模板!A347,建筑!$A$2:$A$5001,0),COLUMN(A347))","v":{"$error":"#N/A"}},null,{"$f":"INDEX(设备类型!$B$2:$B$5001,MATCH(表格模板!C347,设备类型!$A$2:$A$5001,0),COLUMN(A347))","v":{"$error":"#N/A"}}]
[null,{"$f":"INDEX(建筑!$B$2:$B$5001,MATCH(表格模板!A348,建筑!$A$2:$A$5001,0),COLUMN(A348))","v":{"$error":"#N/A"}},null,{"$f":"INDEX(设备类型!$B$2:$B$5001,MATCH(表格模板!C348,设备类型!$A$2:$A$5001,0),COLUMN(A348))","v":{"$error":"#N/A"}}]
[null,{"$f":"INDEX(建筑!$B$2:$B$5001,MATCH(表格模板!A349,建筑!$A$2:$A$5001,0),COLUMN(A349))","v":{"$error":"#N/A"}},null,{"$f":"INDEX(设备类型!$B$2:$B$5001,MATCH(表格模板!C349,设备类型!$A$2:$A$5001,0),COLUMN(A349))","v":{"$error":"#N/A"}}]
[null,{"$f":"INDEX(建筑!$B$2:$B$5001,MATCH(表格模板!A350,建筑!$A$2:$A$5001,0),COLUMN(A350))","v":{"$error":"#N/A"}},null,{"$f":"INDEX(设备类型!$B$2:$B$5001,MATCH(表格模板!C350,设备类型!$A$2:$A$5001,0),COLUMN(A350))","v":{"$error":"#N/A"}}]
[null,{"$f":"INDEX(建筑!$B$2:$B$5001,MATCH(表格模板!A351,建筑!$A$2:$A$5001,0),COLUMN(A351))","v":{"$error":"#N/A"}},null,{"$f":"INDEX(设备类型!$B$2:$B$5001,MATCH(表格模板!C351,设备类型!$A$2:$A$5001,0),COLUMN(A351))","v":{"$error":"#N/A"}}]
[null,{"$f":"INDEX(建筑!$B$2:$B$5001,MATCH(表格模板!A352,建筑!$A$2:$A$5001,0),COLUMN(A352))","v":{"$error":"#N/A"}},null,{"$f":"INDEX(设备类型!$B$2:$B$5001,MATCH(表格模板!C352,设备类型!$A$2:$A$5001,0),COLUMN(A352))","v":{"$error":"#N/A"}}]
[null,{"$f":"INDEX(建筑!$B$2:$B$5001,MATCH(表格模板!A353,建筑!$A$2:$A$5001,0),COLUMN(A353))","v":{"$error":"#N/A"}},null,{"$f":"INDEX(设备类型!$B$2:$B$5001,MATCH(表格模板!C353,设备类型!$A$2:$A$5001,0),COLUMN(A353))","v":{"$error":"#N/A"}}]
[null,{"$f":"INDEX(建筑!$B$2:$B$5001,MATCH(表格模板!A354,建筑!$A$2:$A$5001,0),COLUMN(A354))","v":{"$error":"#N/A"}},null,{"$f":"INDEX(设备类型!$B$2:$B$5001,MATCH(表格模板!C354,设备类型!$A$2:$A$5001,0),COLUMN(A354))","v":{"$error":"#N/A"}}]
[null,{"$f":"INDEX(建筑!$B$2:$B$5001,MATCH(表格模板!A355,建筑!$A$2:$A$5001,0),COLUMN(A355))","v":{"$error":"#N/A"}},null,{"$f":"INDEX(设备类型!$B$2:$B$5001,MATCH(表格模板!C355,设备类型!$A$2:$A$5001,0),COLUMN(A355))","v":{"$error":"#N/A"}}]
[null,{"$f":"INDEX(建筑!$B$2:$B$5001,MATCH(表格模板!A356,建筑!$A$2:$A$5001,0),COLUMN(A356))","v":{"$error":"#N/A"}},null,{"$f":"INDEX(设备类型!$B$2:$B$5001,MATCH(表格模板!C356,设备类型!$A$2:$A$5001,0),COLUMN(A356))","v":{"$error":"#N/A"}}]
[null,{"$f":"INDEX(建筑!$B$2:$B$5001,MATCH(表格模板!A357,建筑!$A$2:$A$5001,0),COLUMN(A357))","v":{"$error":"#N/A"}},null,{"$f":"INDEX(设备类型!$B$2:$B$5001,MATCH(表格模板!C357,设备类型!$A$2:$A$5001,0),COLUMN(A357))","v":{"$error":"#N/A"}}]
[null,{"$f":"INDEX(建筑!$B$2:$B$5001,MATCH(表格模板!A358,建筑!$A$2:$A$5001,0),COLUMN(A358))","v":{"$error":"#N/A"}},null,{"$f":"INDEX(设备类型!$B$2:$B$5001,MATCH(表格模板!C358,设备类型!$A$2:$A$5001,0),COLUMN(A358))","v":{"$error":"#N/A"}}]
[null,{"$f":"INDEX(建筑!$B$2:$B$5001,MATCH(表格模板!A359,建筑!$A$2:$A$5001,0),COLUMN(A359))","v":{"$error":"#N/A"}},null,{"$f":"INDEX(设备类型!$B$2:$B$5001,MATCH(表格模板!C359,设备类型!$A$2:$A$5001,0),COLUMN(A359))","v":{"$error":"#N/A"}}]
[null,{"$f":"INDEX(建筑!$B$2:$B$5001,MATCH(表格模板!A360,建筑!$A$2:$A$5001,0),COLUMN(A360))","v":{"$error":"#N/A"}},null,{"$f":"INDEX(设备类型!$B$2:$B$5001,MATCH(表格模板!C360,设备类型!$A$2:$A$5001,0),COLUMN(A360))","v":{"$error":"#N/A"}}]
[null,{"$f":"INDEX(建筑!$B$2:$B$5001,MATCH(表格模板!A361,建筑!$A$2:$A$5001,0),COLUMN(A361))","v":{"$error":"#N/A"}},null,{"$f":"INDEX(设备类型!$B$2:$B$5001,MATCH(表格模板!C361,设备类型!$A$2:$A$5001,0),COLUMN(A361))","v":{"$error":"#N/A"}}]
[null,{"$f":"INDEX(建筑!$B$2:$B$5001,MATCH(表格模板!A362,建筑!$A$2:$A$5001,0),COLUMN(A362))","v":{"$error":"#N/A"}},null,{"$f":"INDEX(设备类型!$B$2:$B$5001,MATCH(表格模板!C362,设备类型!$A$2:$A$5001,0),COLUMN(A362))","v":{"$error":"#N/A"}}]
[null,{"$f":"INDEX(建筑!$B$2:$B$5001,MATCH(表格模板!A363,建筑!$A$2:$A$5001,0),COLUMN(A363))","v":{"$error":"#N/A"}},null,{"$f":"INDEX(设备类型!$B$2:$B$5001,MATCH(表格模板!C363,设备类型!$A$2:$A$5001,0),COLUMN(A363))","v":{"$error":"#N/A"}}]
[null,{"$f":"INDEX(建筑!$B$2:$B$5001,MATCH(表格模板!A364,建筑!$A$2:$A$5001,0),COLUMN(A364))","v":{"$error":"#N/A"}},null,{"$f":"INDEX(设备类型!$B$2:$B$5001,MATCH(表格模板!C364,设备类型!$A$2:$A$5001,0),COLUMN(A364))","v":{"$error":"#N/A"}}]
[null,{"$f":"INDEX(建筑!$B$2:$B$5001,MATCH(表格模板!A365,建筑!$A$2:$A$5001,0),COLUMN(A365))","v":{"$error":"#N/A"}},null,{"$f":"INDEX(设备类型!$B$2:$B$5001,MATCH(表格模板!C365,设备类型!$A$2:$A$5001,0),COLUMN(A365))","v":{"$error":"#N/A"}}]
[null,{"$f":"INDEX(建筑!$B$2:$B$5001,MATCH(表格模板!A366,建筑!$A$2:$A$5001,0),COLUMN(A366))","v":{"$error":"#N/A"}},null,{"$f":"INDEX(设备类型!$B$2:$B$5001,MATCH(表格模板!C366,设备类型!$A$2:$A$5001,0),COLUMN(A366))","v":{"$error":"#N/A"}}]
[null,{"$f":"INDEX(建筑!$B$2:$B$5001,MATCH(表格模板!A367,建筑!$A$2:$A$5001,0),COLUMN(A367))","v":{"$error":"#N/A"}},null,{"$f":"INDEX(设备类型!$B$2:$B$5001,MATCH(表格模板!C367,设备类型!$A$2:$A$5001,0),COLUMN(A367))","v":{"$error":"#N/A"}}]
[null,{"$f":"INDEX(建筑!$B$2:$B$5001,MATCH(表格模板!A368,建筑!$A$2:$A$5001,0),COLUMN(A368))","v":{"$error":"#N/A"}},null,{"$f":"INDEX(设备类型!$B$2:$B$5001,MATCH(表格模板!C368,设备类型!$A$2:$A$5001,0),COLUMN(A368))","v":{"$error":"#N/A"}}]
[null,{"$f":"INDEX(建筑!$B$2:$B$5001,MATCH(表格模板!A369,建筑!$A$2:$A$5001,0),COLUMN(A369))","v":{"$error":"#N/A"}},null,{"$f":"INDEX(设备类型!$B$2:$B$5001,MATCH(表格模板!C369,设备类型!$A$2:$A$5001,0),COLUMN(A369))","v":{"$error":"#N/A"}}]
[null,{"$f":"INDEX(建筑!$B$2:$B$5001,MATCH(表格模板!A370,建筑!$A$2:$A$5001,0),COLUMN(A370))","v":{"$error":"#N/A"}},null,{"$f":"INDEX(设备类型!$B$2:$B$5001,MATCH(表格模板!C370,设备类型!$A$2:$A$5001,0),COLUMN(A370))","v":{"$error":"#N/A"}}]
[null,{"$f":"INDEX(建筑!$B$2:$B$5001,MATCH(表格模板!A371,建筑!$A$2:$A$5001,0),COLUMN(A371))","v":{"$error":"#N/A"}},null,{"$f":"INDEX(设备类型!$B$2:$B$5001,MATCH(表格模板!C371,设备类型!$A$2:$A$5001,0),COLUMN(A371))","v":{"$error":"#N/A"}}]
[null,{"$f":"INDEX(建筑!$B$2:$B$5001,MATCH(表格模板!A372,建筑!$A$2:$A$5001,0),COLUMN(A372))","v":{"$error":"#N/A"}},null,{"$f":"INDEX(设备类型!$B$2:$B$5001,MATCH(表格模板!C372,设备类型!$A$2:$A$5001,0),COLUMN(A372))","v":{"$error":"#N/A"}}]
[null,{"$f":"INDEX(建筑!$B$2:$B$5001,MATCH(表格模板!A373,建筑!$A$2:$A$5001,0),COLUMN(A373))","v":{"$error":"#N/A"}},null,{"$f":"INDEX(设备类型!$B$2:$B$5001,MATCH(表格模板!C373,设备类型!$A$2:$A$5001,0),COLUMN(A373))","v":{"$error":"#N/A"}}]
[null,{"$f":"INDEX(建筑!$B$2:$B$5001,MATCH(表格模板!A374,建筑!$A$2:$A$5001,0),COLUMN(A374))","v":{"$error":"#N/A"}},null,{"$f":"INDEX(设备类型!$B$2:$B$5001,MATCH(表格模板!C374,设备类型!$A$2:$A$5001,0),COLUMN(A374))","v":{"$error":"#N/A"}}]
[null,{"$f":"INDEX(建筑!$B$2:$B$5001,MATCH(表格模板!A375,建筑!$A$2:$A$5001,0),COLUMN(A375))","v":{"$error":"#N/A"}},null,{"$f":"INDEX(设备类型!$B$2:$B$5001,MATCH(表格模板!C375,设备类型!$A$2:$A$5001,0),COLUMN(A375))","v":{"$error":"#N/A"}}]
[null,{"$f":"INDEX(建筑!$B$2:$B$5001,MATCH(表格模板!A376,建筑!$A$2:$A$5001,0),COLUMN(A376))","v":{"$error":"#N/A"}},null,{"$f":"INDEX(设备类型!$B$2:$B$5001,MATCH(表格模板!C376,设备类型!$A$2:$A$5001,0),COLUMN(A376))","v":{"$error":"#N/A"}}]
[null,{"$f":"INDEX(建筑!$B$2:$B$5001,MATCH(表格模板!A377,建筑!$A$2:$A$5001,0),COLUMN(A377))","v":{"$error":"#N/A"}},null,{"$f":"INDEX(设备类型!$B$2:$B$5001,MATCH(表格模板!C377,设备类型!$A$2:$A$5001,0),COLUMN(A377))","v":{"$error":"#N/A"}}]
[null,{"$f":"INDEX(建筑!$B$2:$B$5001,MATCH(表格模板!A378,建筑!$A$2:$A$5001,0),COLUMN(A378))","v":{"$error":"#N/A"}},null,{"$f":"INDEX(设备类型!$B$2:$B$5001,MATCH(表格模板!C378,设备类型!$A$2:$A$5001,0),COLUMN(A378))","v":{"$error":"#N/A"}}]
[null,{"$f":"INDEX(建筑!$B$2:$B$5001,MATCH(表格模板!A379,建筑!$A$2:$A$5001,0),COLUMN(A379))","v":{"$error":"#N/A"}},null,{"$f":"INDEX(设备类型!$B$2:$B$5001,MATCH(表格模板!C379,设备类型!$A$2:$A$5001,0),COLUMN(A379))","v":{"$error":"#N/A"}}]
[null,{"$f":"INDEX(建筑!$B$2:$B$5001,MATCH(表格模板!A380,建筑!$A$2:$A$5001,0),COLUMN(A380))","v":{"$error":"#N/A"}},null,{"$f":"INDEX(设备类型!$B$2:$B$5001,MATCH(表格模板!C380,设备类型!$A$2:$A$5001,0),COLUMN(A380))","v":{"$error":"#N/A"}}]
[null,{"$f":"INDEX(建筑!$B$2:$B$5001,MATCH(表格模板!A381,建筑!$A$2:$A$5001,0),COLUMN(A381))","v":{"$error":"#N/A"}},null,{"$f":"INDEX(设备类型!$B$2:$B$5001,MATCH(表格模板!C381,设备类型!$A$2:$A$5001,0),COLUMN(A381))","v":{"$error":"#N/A"}}]
[null,{"$f":"INDEX(建筑!$B$2:$B$5001,MATCH(表格模板!A382,建筑!$A$2:$A$5001,0),COLUMN(A382))","v":{"$error":"#N/A"}},null,{"$f":"INDEX(设备类型!$B$2:$B$5001,MATCH(表格模板!C382,设备类型!$A$2:$A$5001,0),COLUMN(A382))","v":{"$error":"#N/A"}}]
[null,{"$f":"INDEX(建筑!$B$2:$B$5001,MATCH(表格模板!A383,建筑!$A$2:$A$5001,0),COLUMN(A383))","v":{"$error":"#N/A"}},null,{"$f":"INDEX(设备类型!$B$2:$B$5001,MATCH(表格模板!C383,设备类型!$A$2:$A$5001,0),COLUMN(A383))","v":{"$error":"#N/A"}}]
[null,{"$f":"INDEX(建筑!$B$2:$B$5001,MATCH(表格模板!A384,建筑!$A$2:$A$5001,0),COLUMN(A384))","v":{"$error":"#N/A"}},null,{"$f":"INDEX(设备类型!$B$2:$B$5001,MATCH(表格模板!C384,设备类型!$A$2:$A$5001,0),COLUMN(A384))","v":{"$error":"#N/A"}}]
[null,{"$f":"INDEX(建筑!$B$2:$B$5001,MATCH(表格模板!A385,建筑!$A$2:$A$5001,0),COLUMN(A385))","v":{"$error":"#N/A"}},null,{"$f":"INDEX(设备类型!$B$2:$B$5001,MATCH(表格模板!C385,设备类型!$A$2:$A$5001,0),COLUMN(A385))","v":{"$error":"#N/A"}}]
[null,{"$f":"INDEX(建筑!$B$2:$B$5001,MATCH(表格模板!A386,建筑!$A$2:$A$5001,0),COLUMN(A386))","v":{"$error":"#N/A"}},null,{"$f":"INDEX(设备类型!$B$2:$B$5001,MATCH(表格模板!C386,设备类型!$A$2:$A$5001,0),COLUMN(A386))","v":{"$error":"#N/A"}}]
[null,{"$f":"INDEX(建筑!$B$2:$B$5001,MATCH(表格模板!A387,建筑!$A$2:$A$5001,0),COLUMN(A387))","v":{"$error":"#N/A"}},null,{"$f":"INDEX(设备类型!$B$2:$B$5001,MATCH(表格模板!C387,设备类型!$A$2:$A$5001,0),COLUMN(A387))","v":{"$error":"#N/A"}}]
[null,{"$f":"INDEX(建筑!$B$2:$B$5001,MATCH(表格模板!A388,建筑!$A$2:$A$5001,0),COLUMN(A388))","v":{"$error":"#N/A"}},null,{"$f":"INDEX(设备类型!$B$2:$B$5001,MATCH(表格模板!C388,设备类型!$A$2:$A$5001,0),COLUMN(A388))","v":{"$error":"#N/A"}}]
[null,{"$f":"INDEX(建筑!$B$2:$B$5001,MATCH(表格模板!A389,建筑!$A$2:$A$5001,0),COLUMN(A389))","v":{"$error":"#N/A"}},null,{"$f":"INDEX(设备类型!$B$2:$B$5001,MATCH(表格模板!C389,设备类型!$A$2:$A$5001,0),COLUMN(A389))","v":{"$error":"#N/A"}}]
[null,{"$f":"INDEX(建筑!$B$2:$B$5001,MATCH(表格模板!A390,建筑!$A$2:$A$5001,0),COLUMN(A390))","v":{"$error":"#N/A"}},null,{"$f":"INDEX(设备类型!$B$2:$B$5001,MATCH(表格模板!C390,设备类型!$A$2:$A$5001,0),COLUMN(A390))","v":{"$error":"#N/A"}}]
[null,{"$f":"INDEX(建筑!$B$2:$B$5001,MATCH(表格模板!A391,建筑!$A$2:$A$5001,0),COLUMN(A391))","v":{"$error":"#N/A"}},null,{"$f":"INDEX(设备类型!$B$2:$B$5001,MATCH(表格模板!C391,设备类型!$A$2:$A$5001,0),COLUMN(A391))","v":{"$error":"#N/A"}}]
[null,{"$f":"INDEX(建筑!$B$2:$B$5001,MATCH(表格模板!A392,建筑!$A$2:$A$5001,0),COLUMN(A392))","v":{"$error":"#N/A"}},null,{"$f":"INDEX(设备类型!$B$2:$B$5001,MATCH(表格模板!C392,设备类型!$A$2:$A$5001,0),COLUMN(A392))","v":{"$error":"#N/A"}}]
[null,{"$f":"INDEX(建筑!$B$2:$B$5001,MATCH(表格模板!A393,建筑!$A$2:$A$5001,0),COLUMN(A393))","v":{"$error":"#N/A"}},null,{"$f":"INDEX(设备类型!$B$2:$B$5001,MATCH(表格模板!C393,设备类型!$A$2:$A$5001,0),COLUMN(A393))","v":{"$error":"#N/A"}}]
[null,{"$f":"INDEX(建筑!$B$2:$B$5001,MATCH(表格模板!A394,建筑!$A$2:$A$5001,0),COLUMN(A394))","v":{"$error":"#N/A"}},null,{"$f":"INDEX(设备类型!$B$2:$B$5001,MATCH(表格模板!C394,设备类型!$A$2:$A$5001,0),COLUMN(A394))","v":{"$error":"#N/A"}}]
[null,{"$f":"INDEX(建筑!$B$2:$B$5001,MATCH(表格模板!A395,建筑!$A$2:$A$5001,0),COLUMN(A395))","v":{"$error":"#N/A"}},null,{"$f":"INDEX(设备类型!$B$2:$B$5001,MATCH(表格模板!C395,设备类型!$A$2:$A$5001,0),COLUMN(A395))","v":{"$error":"#N/A"}}]
[null,{"$f":"INDEX(建筑!$B$2:$B$5001,MATCH(表格模板!A396,建筑!$A$2:$A$5001,0),COLUMN(A396))","v":{"$error":"#N/A"}},null,{"$f":"INDEX(设备类型!$B$2:$B$5001,MATCH(表格模板!C396,设备类型!$A$2:$A$5001,0),COLUMN(A396))","v":{"$error":"#N/A"}}]
[null,{"$f":"INDEX(建筑!$B$2:$B$5001,MATCH(表格模板!A397,建筑!$A$2:$A$5001,0),COLUMN(A397))","v":{"$error":"#N/A"}},null,{"$f":"INDEX(设备类型!$B$2:$B$5001,MATCH(表格模板!C397,设备类型!$A$2:$A$5001,0),COLUMN(A397))","v":{"$error":"#N/A"}}]
[null,{"$f":"INDEX(建筑!$B$2:$B$5001,MATCH(表格模板!A398,建筑!$A$2:$A$5001,0),COLUMN(A398))","v":{"$error":"#N/A"}},null,{"$f":"INDEX(设备类型!$B$2:$B$5001,MATCH(表格模板!C398,设备类型!$A$2:$A$5001,0),COLUMN(A398))","v":{"$error":"#N/A"}}]
[null,{"$f":"INDEX(建筑!$B$2:$B$5001,MATCH(表格模板!A399,建筑!$A$2:$A$5001,0),COLUMN(A399))","v":{"$error":"#N/A"}},null,{"$f":"INDEX(设备类型!$B$2:$B$5001,MATCH(表格模板!C399,设备类型!$A$2:$A$5001,0),COLUMN(A399))","v":{"$error":"#N/A"}}]
[null,{"$f":"INDEX(建筑!$B$2:$B$5001,MATCH(表格模板!A400,建筑!$A$2:$A$5001,0),COLUMN(A400))","v":{"$error":"#N/A"}},null,{"$f":"INDEX(设备类型!$B$2:$B$5001,MATCH(表格模板!C400,设备类型!$A$2:$A$5001,0),COLUMN(A400))","v":{"$error":"#N/A"}}]
[null,{"$f":"INDEX(建筑!$B$2:$B$5001,MATCH(表格模板!A401,建筑!$A$2:$A$5001,0),COLUMN(A401))","v":{"$error":"#N/A"}},null,{"$f":"INDEX(设备类型!$B$2:$B$5001,MATCH(表格模板!C401,设备类型!$A$2:$A$5001,0),COLUMN(A401))","v":{"$error":"#N/A"}}]
[null,{"$f":"INDEX(建筑!$B$2:$B$5001,MATCH(表格模板!A402,建筑!$A$2:$A$5001,0),COLUMN(A402))","v":{"$error":"#N/A"}},null,{"$f":"INDEX(设备类型!$B$2:$B$5001,MATCH(表格模板!C402,设备类型!$A$2:$A$5001,0),COLUMN(A402))","v":{"$error":"#N/A"}}]
[null,{"$f":"INDEX(建筑!$B$2:$B$5001,MATCH(表格模板!A403,建筑!$A$2:$A$5001,0),COLUMN(A403))","v":{"$error":"#N/A"}},null,{"$f":"INDEX(设备类型!$B$2:$B$5001,MATCH(表格模板!C403,设备类型!$A$2:$A$5001,0),COLUMN(A403))","v":{"$error":"#N/A"}}]
[null,{"$f":"INDEX(建筑!$B$2:$B$5001,MATCH(表格模板!A404,建筑!$A$2:$A$5001,0),COLUMN(A404))","v":{"$error":"#N/A"}},null,{"$f":"INDEX(设备类型!$B$2:$B$5001,MATCH(表格模板!C404,设备类型!$A$2:$A$5001,0),COLUMN(A404))","v":{"$error":"#N/A"}}]
[null,{"$f":"INDEX(建筑!$B$2:$B$5001,MATCH(表格模板!A405,建筑!$A$2:$A$5001,0),COLUMN(A405))","v":{"$error":"#N/A"}},null,{"$f":"INDEX(设备类型!$B$2:$B$5001,MATCH(表格模板!C405,设备类型!$A$2:$A$5001,0),COLUMN(A405))","v":{"$error":"#N/A"}}]
[null,{"$f":"INDEX(建筑!$B$2:$B$5001,MATCH(表格模板!A406,建筑!$A$2:$A$5001,0),COLUMN(A406))","v":{"$error":"#N/A"}},null,{"$f":"INDEX(设备类型!$B$2:$B$5001,MATCH(表格模板!C406,设备类型!$A$2:$A$5001,0),COLUMN(A406))","v":{"$error":"#N/A"}}]
[null,{"$f":"INDEX(建筑!$B$2:$B$5001,MATCH(表格模板!A407,建筑!$A$2:$A$5001,0),COLUMN(A407))","v":{"$error":"#N/A"}},null,{"$f":"INDEX(设备类型!$B$2:$B$5001,MATCH(表格模板!C407,设备类型!$A$2:$A$5001,0),COLUMN(A407))","v":{"$error":"#N/A"}}]
[null,{"$f":"INDEX(建筑!$B$2:$B$5001,MATCH(表格模板!A408,建筑!$A$2:$A$5001,0),COLUMN(A408))","v":{"$error":"#N/A"}},null,{"$f":"INDEX(设备类型!$B$2:$B$5001,MATCH(表格模板!C408,设备类型!$A$2:$A$5001,0),COLUMN(A408))","v":{"$error":"#N/A"}}]
[null,{"$f":"INDEX(建筑!$B$2:$B$5001,MATCH(表格模板!A409,建筑!$A$2:$A$5001,0),COLUMN(A409))","v":{"$error":"#N/A"}},null,{"$f":"INDEX(设备类型!$B$2:$B$5001,MATCH(表格模板!C409,设备类型!$A$2:$A$5001,0),COLUMN(A409))","v":{"$error":"#N/A"}}]
[null,{"$f":"INDEX(建筑!$B$2:$B$5001,MATCH(表格模板!A410,建筑!$A$2:$A$5001,0),COLUMN(A410))","v":{"$error":"#N/A"}},null,{"$f":"INDEX(设备类型!$B$2:$B$5001,MATCH(表格模板!C410,设备类型!$A$2:$A$5001,0),COLUMN(A410))","v":{"$error":"#N/A"}}]
[null,{"$f":"INDEX(建筑!$B$2:$B$5001,MATCH(表格模板!A411,建筑!$A$2:$A$5001,0),COLUMN(A411))","v":{"$error":"#N/A"}},null,{"$f":"INDEX(设备类型!$B$2:$B$5001,MATCH(表格模板!C411,设备类型!$A$2:$A$5001,0),COLUMN(A411))","v":{"$error":"#N/A"}}]
[null,{"$f":"INDEX(建筑!$B$2:$B$5001,MATCH(表格模板!A412,建筑!$A$2:$A$5001,0),COLUMN(A412))","v":{"$error":"#N/A"}},null,{"$f":"INDEX(设备类型!$B$2:$B$5001,MATCH(表格模板!C412,设备类型!$A$2:$A$5001,0),COLUMN(A412))","v":{"$error":"#N/A"}}]
[null,{"$f":"INDEX(建筑!$B$2:$B$5001,MATCH(表格模板!A413,建筑!$A$2:$A$5001,0),COLUMN(A413))","v":{"$error":"#N/A"}},null,{"$f":"INDEX(设备类型!$B$2:$B$5001,MATCH(表格模板!C413,设备类型!$A$2:$A$5001,0),COLUMN(A413))","v":{"$error":"#N/A"}}]
[null,{"$f":"INDEX(建筑!$B$2:$B$5001,MATCH(表格模板!A414,建筑!$A$2:$A$5001,0),COLUMN(A414))","v":{"$error":"#N/A"}},null,{"$f":"INDEX(设备类型!$B$2:$B$5001,MATCH(表格模板!C414,设备类型!$A$2:$A$5001,0),COLUMN(A414))","v":{"$error":"#N/A"}}]
[null,{"$f":"INDEX(建筑!$B$2:$B$5001,MATCH(表格模板!A415,建筑!$A$2:$A$5001,0),COLUMN(A415))","v":{"$error":"#N/A"}},null,{"$f":"INDEX(设备类型!$B$2:$B$5001,MATCH(表格模板!C415,设备类型!$A$2:$A$5001,0),COLUMN(A415))","v":{"$error":"#N/A"}}]
[null,{"$f":"INDEX(建筑!$B$2:$B$5001,MATCH(表格模板!A416,建筑!$A$2:$A$5001,0),COLUMN(A416))","v":{"$error":"#N/A"}},null,{"$f":"INDEX(设备类型!$B$2:$B$5001,MATCH(表格模板!C416,设备类型!$A$2:$A$5001,0),COLUMN(A416))","v":{"$error":"#N/A"}}]
[null,{"$f":"INDEX(建筑!$B$2:$B$5001,MATCH(表格模板!A417,建筑!$A$2:$A$5001,0),COLUMN(A417))","v":{"$error":"#N/A"}},null,{"$f":"INDEX(设备类型!$B$2:$B$5001,MATCH(表格模板!C417,设备类型!$A$2:$A$5001,0),COLUMN(A417))","v":{"$error":"#N/A"}}]
[null,{"$f":"INDEX(建筑!$B$2:$B$5001,MATCH(表格模板!A418,建筑!$A$2:$A$5001,0),COLUMN(A418))","v":{"$error":"#N/A"}},null,{"$f":"INDEX(设备类型!$B$2:$B$5001,MATCH(表格模板!C418,设备类型!$A$2:$A$5001,0),COLUMN(A418))","v":{"$error":"#N/A"}}]
[null,{"$f":"INDEX(建筑!$B$2:$B$5001,MATCH(表格模板!A419,建筑!$A$2:$A$5001,0),COLUMN(A419))","v":{"$error":"#N/A"}},null,{"$f":"INDEX(设备类型!$B$2:$B$5001,MATCH(表格模板!C419,设备类型!$A$2:$A$5001,0),COLUMN(A419))","v":{"$error":"#N/A"}}]
[null,{"$f":"INDEX(建筑!$B$2:$B$5001,MATCH(表格模板!A420,建筑!$A$2:$A$5001,0),COLUMN(A420))","v":{"$error":"#N/A"}},null,{"$f":"INDEX(设备类型!$B$2:$B$5001,MATCH(表格模板!C420,设备类型!$A$2:$A$5001,0),COLUMN(A420))","v":{"$error":"#N/A"}}]
[null,{"$f":"INDEX(建筑!$B$2:$B$5001,MATCH(表格模板!A421,建筑!$A$2:$A$5001,0),COLUMN(A421))","v":{"$error":"#N/A"}},null,{"$f":"INDEX(设备类型!$B$2:$B$5001,MATCH(表格模板!C421,设备类型!$A$2:$A$5001,0),COLUMN(A421))","v":{"$error":"#N/A"}}]
[null,{"$f":"INDEX(建筑!$B$2:$B$5001,MATCH(表格模板!A422,建筑!$A$2:$A$5001,0),COLUMN(A422))","v":{"$error":"#N/A"}},null,{"$f":"INDEX(设备类型!$B$2:$B$5001,MATCH(表格模板!C422,设备类型!$A$2:$A$5001,0),COLUMN(A422))","v":{"$error":"#N/A"}}]
[null,{"$f":"INDEX(建筑!$B$2:$B$5001,MATCH(表格模板!A423,建筑!$A$2:$A$5001,0),COLUMN(A423))","v":{"$error":"#N/A"}},null,{"$f":"INDEX(设备类型!$B$2:$B$5001,MATCH(表格模板!C423,设备类型!$A$2:$A$5001,0),COLUMN(A423))","v":{"$error":"#N/A"}}]
[null,{"$f":"INDEX(建筑!$B$2:$B$5001,MATCH(表格模板!A424,建筑!$A$2:$A$5001,0),COLUMN(A424))","v":{"$error":"#N/A"}},null,{"$f":"INDEX(设备类型!$B$2:$B$5001,MATCH(表格模板!C424,设备类型!$A$2:$A$5001,0),COLUMN(A424))","v":{"$error":"#N/A"}}]
[null,{"$f":"INDEX(建筑!$B$2:$B$5001,MATCH(表格模板!A425,建筑!$A$2:$A$5001,0),COLUMN(A425))","v":{"$error":"#N/A"}},null,{"$f":"INDEX(设备类型!$B$2:$B$5001,MATCH(表格模板!C425,设备类型!$A$2:$A$5001,0),COLUMN(A425))","v":{"$error":"#N/A"}}]
[null,{"$f":"INDEX(建筑!$B$2:$B$5001,MATCH(表格模板!A426,建筑!$A$2:$A$5001,0),COLUMN(A426))","v":{"$error":"#N/A"}},null,{"$f":"INDEX(设备类型!$B$2:$B$5001,MATCH(表格模板!C426,设备类型!$A$2:$A$5001,0),COLUMN(A426))","v":{"$error":"#N/A"}}]
[null,{"$f":"INDEX(建筑!$B$2:$B$5001,MATCH(表格模板!A427,建筑!$A$2:$A$5001,0),COLUMN(A427))","v":{"$error":"#N/A"}},null,{"$f":"INDEX(设备类型!$B$2:$B$5001,MATCH(表格模板!C427,设备类型!$A$2:$A$5001,0),COLUMN(A427))","v":{"$error":"#N/A"}}]
[null,{"$f":"INDEX(建筑!$B$2:$B$5001,MATCH(表格模板!A428,建筑!$A$2:$A$5001,0),COLUMN(A428))","v":{"$error":"#N/A"}},null,{"$f":"INDEX(设备类型!$B$2:$B$5001,MATCH(表格模板!C428,设备类型!$A$2:$A$5001,0),COLUMN(A428))","v":{"$error":"#N/A"}}]
[null,{"$f":"INDEX(建筑!$B$2:$B$5001,MATCH(表格模板!A429,建筑!$A$2:$A$5001,0),COLUMN(A429))","v":{"$error":"#N/A"}},null,{"$f":"INDEX(设备类型!$B$2:$B$5001,MATCH(表格模板!C429,设备类型!$A$2:$A$5001,0),COLUMN(A429))","v":{"$error":"#N/A"}}]
[null,{"$f":"INDEX(建筑!$B$2:$B$5001,MATCH(表格模板!A430,建筑!$A$2:$A$5001,0),COLUMN(A430))","v":{"$error":"#N/A"}},null,{"$f":"INDEX(设备类型!$B$2:$B$5001,MATCH(表格模板!C430,设备类型!$A$2:$A$5001,0),COLUMN(A430))","v":{"$error":"#N/A"}}]
[null,{"$f":"INDEX(建筑!$B$2:$B$5001,MATCH(表格模板!A431,建筑!$A$2:$A$5001,0),COLUMN(A431))","v":{"$error":"#N/A"}},null,{"$f":"INDEX(设备类型!$B$2:$B$5001,MATCH(表格模板!C431,设备类型!$A$2:$A$5001,0),COLUMN(A431))","v":{"$error":"#N/A"}}]
[null,{"$f":"INDEX(建筑!$B$2:$B$5001,MATCH(表格模板!A432,建筑!$A$2:$A$5001,0),COLUMN(A432))","v":{"$error":"#N/A"}},null,{"$f":"INDEX(设备类型!$B$2:$B$5001,MATCH(表格模板!C432,设备类型!$A$2:$A$5001,0),COLUMN(A432))","v":{"$error":"#N/A"}}]
[null,{"$f":"INDEX(建筑!$B$2:$B$5001,MATCH(表格模板!A433,建筑!$A$2:$A$5001,0),COLUMN(A433))","v":{"$error":"#N/A"}},null,{"$f":"INDEX(设备类型!$B$2:$B$5001,MATCH(表格模板!C433,设备类型!$A$2:$A$5001,0),COLUMN(A433))","v":{"$error":"#N/A"}}]
[null,{"$f":"INDEX(建筑!$B$2:$B$5001,MATCH(表格模板!A434,建筑!$A$2:$A$5001,0),COLUMN(A434))","v":{"$error":"#N/A"}},null,{"$f":"INDEX(设备类型!$B$2:$B$5001,MATCH(表格模板!C434,设备类型!$A$2:$A$5001,0),COLUMN(A434))","v":{"$error":"#N/A"}}]
[null,{"$f":"INDEX(建筑!$B$2:$B$5001,MATCH(表格模板!A435,建筑!$A$2:$A$5001,0),COLUMN(A435))","v":{"$error":"#N/A"}},null,{"$f":"INDEX(设备类型!$B$2:$B$5001,MATCH(表格模板!C435,设备类型!$A$2:$A$5001,0),COLUMN(A435))","v":{"$error":"#N/A"}}]
[null,{"$f":"INDEX(建筑!$B$2:$B$5001,MATCH(表格模板!A436,建筑!$A$2:$A$5001,0),COLUMN(A436))","v":{"$error":"#N/A"}},null,{"$f":"INDEX(设备类型!$B$2:$B$5001,MATCH(表格模板!C436,设备类型!$A$2:$A$5001,0),COLUMN(A436))","v":{"$error":"#N/A"}}]
[null,{"$f":"INDEX(建筑!$B$2:$B$5001,MATCH(表格模板!A437,建筑!$A$2:$A$5001,0),COLUMN(A437))","v":{"$error":"#N/A"}},null,{"$f":"INDEX(设备类型!$B$2:$B$5001,MATCH(表格模板!C437,设备类型!$A$2:$A$5001,0),COLUMN(A437))","v":{"$error":"#N/A"}}]
[null,{"$f":"INDEX(建筑!$B$2:$B$5001,MATCH(表格模板!A438,建筑!$A$2:$A$5001,0),COLUMN(A438))","v":{"$error":"#N/A"}},null,{"$f":"INDEX(设备类型!$B$2:$B$5001,MATCH(表格模板!C438,设备类型!$A$2:$A$5001,0),COLUMN(A438))","v":{"$error":"#N/A"}}]
[null,{"$f":"INDEX(建筑!$B$2:$B$5001,MATCH(表格模板!A439,建筑!$A$2:$A$5001,0),COLUMN(A439))","v":{"$error":"#N/A"}},null,{"$f":"INDEX(设备类型!$B$2:$B$5001,MATCH(表格模板!C439,设备类型!$A$2:$A$5001,0),COLUMN(A439))","v":{"$error":"#N/A"}}]
[null,{"$f":"INDEX(建筑!$B$2:$B$5001,MATCH(表格模板!A440,建筑!$A$2:$A$5001,0),COLUMN(A440))","v":{"$error":"#N/A"}},null,{"$f":"INDEX(设备类型!$B$2:$B$5001,MATCH(表格模板!C440,设备类型!$A$2:$A$5001,0),COLUMN(A440))","v":{"$error":"#N/A"}}]
[null,{"$f":"INDEX(建筑!$B$2:$B$5001,MATCH(表格模板!A441,建筑!$A$2:$A$5001,0),COLUMN(A441))","v":{"$error":"#N/A"}},null,{"$f":"INDEX(设备类型!$B$2:$B$5001,MATCH(表格模板!C441,设备类型!$A$2:$A$5001,0),COLUMN(A441))","v":{"$error":"#N/A"}}]
[null,{"$f":"INDEX(建筑!$B$2:$B$5001,MATCH(表格模板!A442,建筑!$A$2:$A$5001,0),COLUMN(A442))","v":{"$error":"#N/A"}},null,{"$f":"INDEX(设备类型!$B$2:$B$5001,MATCH(表格模板!C442,设备类型!$A$2:$A$5001,0),COLUMN(A442))","v":{"$error":"#N/A"}}]
[null,{"$f":"INDEX(建筑!$B$2:$B$5001,MATCH(表格模板!A443,建筑!$A$2:$A$5001,0),COLUMN(A443))","v":{"$error":"#N/A"}},null,{"$f":"INDEX(设备类型!$B$2:$B$5001,MATCH(表格模板!C443,设备类型!$A$2:$A$5001,0),COLUMN(A443))","v":{"$error":"#N/A"}}]
[null,{"$f":"INDEX(建筑!$B$2:$B$5001,MATCH(表格模板!A444,建筑!$A$2:$A$5001,0),COLUMN(A444))","v":{"$error":"#N/A"}},null,{"$f":"INDEX(设备类型!$B$2:$B$5001,MATCH(表格模板!C444,设备类型!$A$2:$A$5001,0),COLUMN(A444))","v":{"$error":"#N/A"}}]
[null,{"$f":"INDEX(建筑!$B$2:$B$5001,MATCH(表格模板!A445,建筑!$A$2:$A$5001,0),COLUMN(A445))","v":{"$error":"#N/A"}},null,{"$f":"INDEX(设备类型!$B$2:$B$5001,MATCH(表格模板!C445,设备类型!$A$2:$A$5001,0),COLUMN(A445))","v":{"$error":"#N/A"}}]
[null,{"$f":"INDEX(建筑!$B$2:$B$5001,MATCH(表格模板!A446,建筑!$A$2:$A$5001,0),COLUMN(A446))","v":{"$error":"#N/A"}},null,{"$f":"INDEX(设备类型!$B$2:$B$5001,MATCH(表格模板!C446,设备类型!$A$2:$A$5001,0),COLUMN(A446))","v":{"$error":"#N/A"}}]
[null,{"$f":"INDEX(建筑!$B$2:$B$5001,MATCH(表格模板!A447,建筑!$A$2:$A$5001,0),COLUMN(A447))","v":{"$error":"#N/A"}},null,{"$f":"INDEX(设备类型!$B$2:$B$5001,MATCH(表格模板!C447,设备类型!$A$2:$A$5001,0),COLUMN(A447))","v":{"$error":"#N/A"}}]
[null,{"$f":"INDEX(建筑!$B$2:$B$5001,MATCH(表格模板!A448,建筑!$A$2:$A$5001,0),COLUMN(A448))","v":{"$error":"#N/A"}},null,{"$f":"INDEX(设备类型!$B$2:$B$5001,MATCH(表格模板!C448,设备类型!$A$2:$A$5001,0),COLUMN(A448))","v":{"$error":"#N/A"}}]
[null,{"$f":"INDEX(建筑!$B$2:$B$5001,MATCH(表格模板!A449,建筑!$A$2:$A$5001,0),COLUMN(A449))","v":{"$error":"#N/A"}},null,{"$f":"INDEX(设备类型!$B$2:$B$5001,MATCH(表格模板!C449,设备类型!$A$2:$A$5001,0),COLUMN(A449))","v":{"$error":"#N/A"}}]
[null,{"$f":"INDEX(建筑!$B$2:$B$5001,MATCH(表格模板!A450,建筑!$A$2:$A$5001,0),COLUMN(A450))","v":{"$error":"#N/A"}},null,{"$f":"INDEX(设备类型!$B$2:$B$5001,MATCH(表格模板!C450,设备类型!$A$2:$A$5001,0),COLUMN(A450))","v":{"$error":"#N/A"}}]
[null,{"$f":"INDEX(建筑!$B$2:$B$5001,MATCH(表格模板!A451,建筑!$A$2:$A$5001,0),COLUMN(A451))","v":{"$error":"#N/A"}},null,{"$f":"INDEX(设备类型!$B$2:$B$5001,MATCH(表格模板!C451,设备类型!$A$2:$A$5001,0),COLUMN(A451))","v":{"$error":"#N/A"}}]
[null,{"$f":"INDEX(建筑!$B$2:$B$5001,MATCH(表格模板!A452,建筑!$A$2:$A$5001,0),COLUMN(A452))","v":{"$error":"#N/A"}},null,{"$f":"INDEX(设备类型!$B$2:$B$5001,MATCH(表格模板!C452,设备类型!$A$2:$A$5001,0),COLUMN(A452))","v":{"$error":"#N/A"}}]
[null,{"$f":"INDEX(建筑!$B$2:$B$5001,MATCH(表格模板!A453,建筑!$A$2:$A$5001,0),COLUMN(A453))","v":{"$error":"#N/A"}},null,{"$f":"INDEX(设备类型!$B$2:$B$5001,MATCH(表格模板!C453,设备类型!$A$2:$A$5001,0),COLUMN(A453))","v":{"$error":"#N/A"}}]
[null,{"$f":"INDEX(建筑!$B$2:$B$5001,MATCH(表格模板!A454,建筑!$A$2:$A$5001,0),COLUMN(A454))","v":{"$error":"#N/A"}},null,{"$f":"INDEX(设备类型!$B$2:$B$5001,MATCH(表格模板!C454,设备类型!$A$2:$A$5001,0),COLUMN(A454))","v":{"$error":"#N/A"}}]
[null,{"$f":"INDEX(建筑!$B$2:$B$5001,MATCH(表格模板!A455,建筑!$A$2:$A$5001,0),COLUMN(A455))","v":{"$error":"#N/A"}},null,{"$f":"INDEX(设备类型!$B$2:$B$5001,MATCH(表格模板!C455,设备类型!$A$2:$A$5001,0),COLUMN(A455))","v":{"$error":"#N/A"}}]
[null,{"$f":"INDEX(建筑!$B$2:$B$5001,MATCH(表格模板!A456,建筑!$A$2:$A$5001,0),COLUMN(A456))","v":{"$error":"#N/A"}},null,{"$f":"INDEX(设备类型!$B$2:$B$5001,MATCH(表格模板!C456,设备类型!$A$2:$A$5001,0),COLUMN(A456))","v":{"$error":"#N/A"}}]
[null,{"$f":"INDEX(建筑!$B$2:$B$5001,MATCH(表格模板!A457,建筑!$A$2:$A$5001,0),COLUMN(A457))","v":{"$error":"#N/A"}},null,{"$f":"INDEX(设备类型!$B$2:$B$5001,MATCH(表格模板!C457,设备类型!$A$2:$A$5001,0),COLUMN(A457))","v":{"$error":"#N/A"}}]
[null,{"$f":"INDEX(建筑!$B$2:$B$5001,MATCH(表格模板!A458,建筑!$A$2:$A$5001,0),COLUMN(A458))","v":{"$error":"#N/A"}},null,{"$f":"INDEX(设备类型!$B$2:$B$5001,MATCH(表格模板!C458,设备类型!$A$2:$A$5001,0),COLUMN(A458))","v":{"$error":"#N/A"}}]
[null,{"$f":"INDEX(建筑!$B$2:$B$5001,MATCH(表格模板!A459,建筑!$A$2:$A$5001,0),COLUMN(A459))","v":{"$error":"#N/A"}},null,{"$f":"INDEX(设备类型!$B$2:$B$5001,MATCH(表格模板!C459,设备类型!$A$2:$A$5001,0),COLUMN(A459))","v":{"$error":"#N/A"}}]
[null,{"$f":"INDEX(建筑!$B$2:$B$5001,MATCH(表格模板!A460,建筑!$A$2:$A$5001,0),COLUMN(A460))","v":{"$error":"#N/A"}},null,{"$f":"INDEX(设备类型!$B$2:$B$5001,MATCH(表格模板!C460,设备类型!$A$2:$A$5001,0),COLUMN(A460))","v":{"$error":"#N/A"}}]
[null,{"$f":"INDEX(建筑!$B$2:$B$5001,MATCH(表格模板!A461,建筑!$A$2:$A$5001,0),COLUMN(A461))","v":{"$error":"#N/A"}},null,{"$f":"INDEX(设备类型!$B$2:$B$5001,MATCH(表格模板!C461,设备类型!$A$2:$A$5001,0),COLUMN(A461))","v":{"$error":"#N/A"}}]
[null,{"$f":"INDEX(建筑!$B$2:$B$5001,MATCH(表格模板!A462,建筑!$A$2:$A$5001,0),COLUMN(A462))","v":{"$error":"#N/A"}},null,{"$f":"INDEX(设备类型!$B$2:$B$5001,MATCH(表格模板!C462,设备类型!$A$2:$A$5001,0),COLUMN(A462))","v":{"$error":"#N/A"}}]
[null,{"$f":"INDEX(建筑!$B$2:$B$5001,MATCH(表格模板!A463,建筑!$A$2:$A$5001,0),COLUMN(A463))","v":{"$error":"#N/A"}},null,{"$f":"INDEX(设备类型!$B$2:$B$5001,MATCH(表格模板!C463,设备类型!$A$2:$A$5001,0),COLUMN(A463))","v":{"$error":"#N/A"}}]
[null,{"$f":"INDEX(建筑!$B$2:$B$5001,MATCH(表格模板!A464,建筑!$A$2:$A$5001,0),COLUMN(A464))","v":{"$error":"#N/A"}},null,{"$f":"INDEX(设备类型!$B$2:$B$5001,MATCH(表格模板!C464,设备类型!$A$2:$A$5001,0),COLUMN(A464))","v":{"$error":"#N/A"}}]
[null,{"$f":"INDEX(建筑!$B$2:$B$5001,MATCH(表格模板!A465,建筑!$A$2:$A$5001,0),COLUMN(A465))","v":{"$error":"#N/A"}},null,{"$f":"INDEX(设备类型!$B$2:$B$5001,MATCH(表格模板!C465,设备类型!$A$2:$A$5001,0),COLUMN(A465))","v":{"$error":"#N/A"}}]
[null,{"$f":"INDEX(建筑!$B$2:$B$5001,MATCH(表格模板!A466,建筑!$A$2:$A$5001,0),COLUMN(A466))","v":{"$error":"#N/A"}},null,{"$f":"INDEX(设备类型!$B$2:$B$5001,MATCH(表格模板!C466,设备类型!$A$2:$A$5001,0),COLUMN(A466))","v":{"$error":"#N/A"}}]
[null,{"$f":"INDEX(建筑!$B$2:$B$5001,MATCH(表格模板!A467,建筑!$A$2:$A$5001,0),COLUMN(A467))","v":{"$error":"#N/A"}},null,{"$f":"INDEX(设备类型!$B$2:$B$5001,MATCH(表格模板!C467,设备类型!$A$2:$A$5001,0),COLUMN(A467))","v":{"$error":"#N/A"}}]
[null,{"$f":"INDEX(建筑!$B$2:$B$5001,MATCH(表格模板!A468,建筑!$A$2:$A$5001,0),COLUMN(A468))","v":{"$error":"#N/A"}},null,{"$f":"INDEX(设备类型!$B$2:$B$5001,MATCH(表格模板!C468,设备类型!$A$2:$A$5001,0),COLUMN(A468))","v":{"$error":"#N/A"}}]
[null,{"$f":"INDEX(建筑!$B$2:$B$5001,MATCH(表格模板!A469,建筑!$A$2:$A$5001,0),COLUMN(A469))","v":{"$error":"#N/A"}},null,{"$f":"INDEX(设备类型!$B$2:$B$5001,MATCH(表格模板!C469,设备类型!$A$2:$A$5001,0),COLUMN(A469))","v":{"$error":"#N/A"}}]
[null,{"$f":"INDEX(建筑!$B$2:$B$5001,MATCH(表格模板!A470,建筑!$A$2:$A$5001,0),COLUMN(A470))","v":{"$error":"#N/A"}},null,{"$f":"INDEX(设备类型!$B$2:$B$5001,MATCH(表格模板!C470,设备类型!$A$2:$A$5001,0),COLUMN(A470))","v":{"$error":"#N/A"}}]
[null,{"$f":"INDEX(建筑!$B$2:$B$5001,MATCH(表格模板!A471,建筑!$A$2:$A$5001,0),COLUMN(A471))","v":{"$error":"#N/A"}},null,{"$f":"INDEX(设备类型!$B$2:$B$5001,MATCH(表格模板!C471,设备类型!$A$2:$A$5001,0),COLUMN(A471))","v":{"$error":"#N/A"}}]
[null,{"$f":"INDEX(建筑!$B$2:$B$5001,MATCH(表格模板!A472,建筑!$A$2:$A$5001,0),COLUMN(A472))","v":{"$error":"#N/A"}},null,{"$f":"INDEX(设备类型!$B$2:$B$5001,MATCH(表格模板!C472,设备类型!$A$2:$A$5001,0),COLUMN(A472))","v":{"$error":"#N/A"}}]
[null,{"$f":"INDEX(建筑!$B$2:$B$5001,MATCH(表格模板!A473,建筑!$A$2:$A$5001,0),COLUMN(A473))","v":{"$error":"#N/A"}},null,{"$f":"INDEX(设备类型!$B$2:$B$5001,MATCH(表格模板!C473,设备类型!$A$2:$A$5001,0),COLUMN(A473))","v":{"$error":"#N/A"}}]
[null,{"$f":"INDEX(建筑!$B$2:$B$5001,MATCH(表格模板!A474,建筑!$A$2:$A$5001,0),COLUMN(A474))","v":{"$error":"#N/A"}},null,{"$f":"INDEX(设备类型!$B$2:$B$5001,MATCH(表格模板!C474,设备类型!$A$2:$A$5001,0),COLUMN(A474))","v":{"$error":"#N/A"}}]
[null,{"$f":"INDEX(建筑!$B$2:$B$5001,MATCH(表格模板!A475,建筑!$A$2:$A$5001,0),COLUMN(A475))","v":{"$error":"#N/A"}},null,{"$f":"INDEX(设备类型!$B$2:$B$5001,MATCH(表格模板!C475,设备类型!$A$2:$A$5001,0),COLUMN(A475))","v":{"$error":"#N/A"}}]
[null,{"$f":"INDEX(建筑!$B$2:$B$5001,MATCH(表格模板!A476,建筑!$A$2:$A$5001,0),COLUMN(A476))","v":{"$error":"#N/A"}},null,{"$f":"INDEX(设备类型!$B$2:$B$5001,MATCH(表格模板!C476,设备类型!$A$2:$A$5001,0),COLUMN(A476))","v":{"$error":"#N/A"}}]
[null,{"$f":"INDEX(建筑!$B$2:$B$5001,MATCH(表格模板!A477,建筑!$A$2:$A$5001,0),COLUMN(A477))","v":{"$error":"#N/A"}},null,{"$f":"INDEX(设备类型!$B$2:$B$5001,MATCH(表格模板!C477,设备类型!$A$2:$A$5001,0),COLUMN(A477))","v":{"$error":"#N/A"}}]
[null,{"$f":"INDEX(建筑!$B$2:$B$5001,MATCH(表格模板!A478,建筑!$A$2:$A$5001,0),COLUMN(A478))","v":{"$error":"#N/A"}},null,{"$f":"INDEX(设备类型!$B$2:$B$5001,MATCH(表格模板!C478,设备类型!$A$2:$A$5001,0),COLUMN(A478))","v":{"$error":"#N/A"}}]
[null,{"$f":"INDEX(建筑!$B$2:$B$5001,MATCH(表格模板!A479,建筑!$A$2:$A$5001,0),COLUMN(A479))","v":{"$error":"#N/A"}},null,{"$f":"INDEX(设备类型!$B$2:$B$5001,MATCH(表格模板!C479,设备类型!$A$2:$A$5001,0),COLUMN(A479))","v":{"$error":"#N/A"}}]
[null,{"$f":"INDEX(建筑!$B$2:$B$5001,MATCH(表格模板!A480,建筑!$A$2:$A$5001,0),COLUMN(A480))","v":{"$error":"#N/A"}},null,{"$f":"INDEX(设备类型!$B$2:$B$5001,MATCH(表格模板!C480,设备类型!$A$2:$A$5001,0),COLUMN(A480))","v":{"$error":"#N/A"}}]
[null,{"$f":"INDEX(建筑!$B$2:$B$5001,MATCH(表格模板!A481,建筑!$A$2:$A$5001,0),COLUMN(A481))","v":{"$error":"#N/A"}},null,{"$f":"INDEX(设备类型!$B$2:$B$5001,MATCH(表格模板!C481,设备类型!$A$2:$A$5001,0),COLUMN(A481))","v":{"$error":"#N/A"}}]
[null,{"$f":"INDEX(建筑!$B$2:$B$5001,MATCH(表格模板!A482,建筑!$A$2:$A$5001,0),COLUMN(A482))","v":{"$error":"#N/A"}},null,{"$f":"INDEX(设备类型!$B$2:$B$5001,MATCH(表格模板!C482,设备类型!$A$2:$A$5001,0),COLUMN(A482))","v":{"$error":"#N/A"}}]
[null,{"$f":"INDEX(建筑!$B$2:$B$5001,MATCH(表格模板!A483,建筑!$A$2:$A$5001,0),COLUMN(A483))","v":{"$error":"#N/A"}},null,{"$f":"INDEX(设备类型!$B$2:$B$5001,MATCH(表格模板!C483,设备类型!$A$2:$A$5001,0),COLUMN(A483))","v":{"$error":"#N/A"}}]
[null,{"$f":"INDEX(建筑!$B$2:$B$5001,MATCH(表格模板!A484,建筑!$A$2:$A$5001,0),COLUMN(A484))","v":{"$error":"#N/A"}},null,{"$f":"INDEX(设备类型!$B$2:$B$5001,MATCH(表格模板!C484,设备类型!$A$2:$A$5001,0),COLUMN(A484))","v":{"$error":"#N/A"}}]
[null,{"$f":"INDEX(建筑!$B$2:$B$5001,MATCH(表格模板!A485,建筑!$A$2:$A$5001,0),COLUMN(A485))","v":{"$error":"#N/A"}},null,{"$f":"INDEX(设备类型!$B$2:$B$5001,MATCH(表格模板!C485,设备类型!$A$2:$A$5001,0),COLUMN(A485))","v":{"$error":"#N/A"}}]
[null,{"$f":"INDEX(建筑!$B$2:$B$5001,MATCH(表格模板!A486,建筑!$A$2:$A$5001,0),COLUMN(A486))","v":{"$error":"#N/A"}},null,{"$f":"INDEX(设备类型!$B$2:$B$5001,MATCH(表格模板!C486,设备类型!$A$2:$A$5001,0),COLUMN(A486))","v":{"$error":"#N/A"}}]
[null,{"$f":"INDEX(建筑!$B$2:$B$5001,MATCH(表格模板!A487,建筑!$A$2:$A$5001,0),COLUMN(A487))","v":{"$error":"#N/A"}},null,{"$f":"INDEX(设备类型!$B$2:$B$5001,MATCH(表格模板!C487,设备类型!$A$2:$A$5001,0),COLUMN(A487))","v":{"$error":"#N/A"}}]
[null,{"$f":"INDEX(建筑!$B$2:$B$5001,MATCH(表格模板!A488,建筑!$A$2:$A$5001,0),COLUMN(A488))","v":{"$error":"#N/A"}},null,{"$f":"INDEX(设备类型!$B$2:$B$5001,MATCH(表格模板!C488,设备类型!$A$2:$A$5001,0),COLUMN(A488))","v":{"$error":"#N/A"}}]
[null,{"$f":"INDEX(建筑!$B$2:$B$5001,MATCH(表格模板!A489,建筑!$A$2:$A$5001,0),COLUMN(A489))","v":{"$error":"#N/A"}},null,{"$f":"INDEX(设备类型!$B$2:$B$5001,MATCH(表格模板!C489,设备类型!$A$2:$A$5001,0),COLUMN(A489))","v":{"$error":"#N/A"}}]
[null,{"$f":"INDEX(建筑!$B$2:$B$5001,MATCH(表格模板!A490,建筑!$A$2:$A$5001,0),COLUMN(A490))","v":{"$error":"#N/A"}},null,{"$f":"INDEX(设备类型!$B$2:$B$5001,MATCH(表格模板!C490,设备类型!$A$2:$A$5001,0),COLUMN(A490))","v":{"$error":"#N/A"}}]
[null,{"$f":"INDEX(建筑!$B$2:$B$5001,MATCH(表格模板!A491,建筑!$A$2:$A$5001,0),COLUMN(A491))","v":{"$error":"#N/A"}},null,{"$f":"INDEX(设备类型!$B$2:$B$5001,MATCH(表格模板!C491,设备类型!$A$2:$A$5001,0),COLUMN(A491))","v":{"$error":"#N/A"}}]
[null,{"$f":"INDEX(建筑!$B$2:$B$5001,MATCH(表格模板!A492,建筑!$A$2:$A$5001,0),COLUMN(A492))","v":{"$error":"#N/A"}},null,{"$f":"INDEX(设备类型!$B$2:$B$5001,MATCH(表格模板!C492,设备类型!$A$2:$A$5001,0),COLUMN(A492))","v":{"$error":"#N/A"}}]
[null,{"$f":"INDEX(建筑!$B$2:$B$5001,MATCH(表格模板!A493,建筑!$A$2:$A$5001,0),COLUMN(A493))","v":{"$error":"#N/A"}},null,{"$f":"INDEX(设备类型!$B$2:$B$5001,MATCH(表格模板!C493,设备类型!$A$2:$A$5001,0),COLUMN(A493))","v":{"$error":"#N/A"}}]
[null,{"$f":"INDEX(建筑!$B$2:$B$5001,MATCH(表格模板!A494,建筑!$A$2:$A$5001,0),COLUMN(A494))","v":{"$error":"#N/A"}},null,{"$f":"INDEX(设备类型!$B$2:$B$5001,MATCH(表格模板!C494,设备类型!$A$2:$A$5001,0),COLUMN(A494))","v":{"$error":"#N/A"}}]
[null,{"$f":"INDEX(建筑!$B$2:$B$5001,MATCH(表格模板!A495,建筑!$A$2:$A$5001,0),COLUMN(A495))","v":{"$error":"#N/A"}},null,{"$f":"INDEX(设备类型!$B$2:$B$5001,MATCH(表格模板!C495,设备类型!$A$2:$A$5001,0),COLUMN(A495))","v":{"$error":"#N/A"}}]
[null,{"$f":"INDEX(建筑!$B$2:$B$5001,MATCH(表格模板!A496,建筑!$A$2:$A$5001,0),COLUMN(A496))","v":{"$error":"#N/A"}},null,{"$f":"INDEX(设备类型!$B$2:$B$5001,MATCH(表格模板!C496,设备类型!$A$2:$A$5001,0),COLUMN(A496))","v":{"$error":"#N/A"}}]
[null,{"$f":"INDEX(建筑!$B$2:$B$5001,MATCH(表格模板!A497,建筑!$A$2:$A$5001,0),COLUMN(A497))","v":{"$error":"#N/A"}},null,{"$f":"INDEX(设备类型!$B$2:$B$5001,MATCH(表格模板!C497,设备类型!$A$2:$A$5001,0),COLUMN(A497))","v":{"$error":"#N/A"}}]
[null,{"$f":"INDEX(建筑!$B$2:$B$5001,MATCH(表格模板!A498,建筑!$A$2:$A$5001,0),COLUMN(A498))","v":{"$error":"#N/A"}},null,{"$f":"INDEX(设备类型!$B$2:$B$5001,MATCH(表格模板!C498,设备类型!$A$2:$A$5001,0),COLUMN(A498))","v":{"$error":"#N/A"}}]
[null,{"$f":"INDEX(建筑!$B$2:$B$5001,MATCH(表格模板!A499,建筑!$A$2:$A$5001,0),COLUMN(A499))","v":{"$error":"#N/A"}},null,{"$f":"INDEX(设备类型!$B$2:$B$5001,MATCH(表格模板!C499,设备类型!$A$2:$A$5001,0),COLUMN(A499))","v":{"$error":"#N/A"}}]
[null,{"$f":"INDEX(建筑!$B$2:$B$5001,MATCH(表格模板!A500,建筑!$A$2:$A$5001,0),COLUMN(A500))","v":{"$error":"#N/A"}},null,{"$f":"INDEX(设备类型!$B$2:$B$5001,MATCH(表格模板!C500,设备类型!$A$2:$A$5001,0),COLUMN(A500))","v":{"$error":"#N/A"}}]
[null,{"$f":"INDEX(建筑!$B$2:$B$5001,MATCH(表格模板!A501,建筑!$A$2:$A$5001,0),COLUMN(A501))","v":{"$error":"#N/A"}},null,{"$f":"INDEX(设备类型!$B$2:$B$5001,MATCH(表格模板!C501,设备类型!$A$2:$A$5001,0),COLUMN(A501))","v":{"$error":"#N/A"}}]
[null,{"$f":"INDEX(建筑!$B$2:$B$5001,MATCH(表格模板!A502,建筑!$A$2:$A$5001,0),COLUMN(A502))","v":{"$error":"#N/A"}},null,{"$f":"INDEX(设备类型!$B$2:$B$5001,MATCH(表格模板!C502,设备类型!$A$2:$A$5001,0),COLUMN(A502))","v":{"$error":"#N/A"}}]
[null,{"$f":"INDEX(建筑!$B$2:$B$5001,MATCH(表格模板!A503,建筑!$A$2:$A$5001,0),COLUMN(A503))","v":{"$error":"#N/A"}},null,{"$f":"INDEX(设备类型!$B$2:$B$5001,MATCH(表格模板!C503,设备类型!$A$2:$A$5001,0),COLUMN(A503))","v":{"$error":"#N/A"}}]
[null,{"$f":"INDEX(建筑!$B$2:$B$5001,MATCH(表格模板!A504,建筑!$A$2:$A$5001,0),COLUMN(A504))","v":{"$error":"#N/A"}},null,{"$f":"INDEX(设备类型!$B$2:$B$5001,MATCH(表格模板!C504,设备类型!$A$2:$A$5001,0),COLUMN(A504))","v":{"$error":"#N/A"}}]
[null,{"$f":"INDEX(建筑!$B$2:$B$5001,MATCH(表格模板!A505,建筑!$A$2:$A$5001,0),COLUMN(A505))","v":{"$error":"#N/A"}},null,{"$f":"INDEX(设备类型!$B$2:$B$5001,MATCH(表格模板!C505,设备类型!$A$2:$A$5001,0),COLUMN(A505))","v":{"$error":"#N/A"}}]
[null,{"$f":"INDEX(建筑!$B$2:$B$5001,MATCH(表格模板!A506,建筑!$A$2:$A$5001,0),COLUMN(A506))","v":{"$error":"#N/A"}},null,{"$f":"INDEX(设备类型!$B$2:$B$5001,MATCH(表格模板!C506,设备类型!$A$2:$A$5001,0),COLUMN(A506))","v":{"$error":"#N/A"}}]
[null,{"$f":"INDEX(建筑!$B$2:$B$5001,MATCH(表格模板!A507,建筑!$A$2:$A$5001,0),COLUMN(A507))","v":{"$error":"#N/A"}},null,{"$f":"INDEX(设备类型!$B$2:$B$5001,MATCH(表格模板!C507,设备类型!$A$2:$A$5001,0),COLUMN(A507))","v":{"$error":"#N/A"}}]
[null,{"$f":"INDEX(建筑!$B$2:$B$5001,MATCH(表格模板!A508,建筑!$A$2:$A$5001,0),COLUMN(A508))","v":{"$error":"#N/A"}},null,{"$f":"INDEX(设备类型!$B$2:$B$5001,MATCH(表格模板!C508,设备类型!$A$2:$A$5001,0),COLUMN(A508))","v":{"$error":"#N/A"}}]
[null,{"$f":"INDEX(建筑!$B$2:$B$5001,MATCH(表格模板!A509,建筑!$A$2:$A$5001,0),COLUMN(A509))","v":{"$error":"#N/A"}},null,{"$f":"INDEX(设备类型!$B$2:$B$5001,MATCH(表格模板!C509,设备类型!$A$2:$A$5001,0),COLUMN(A509))","v":{"$error":"#N/A"}}]
[null,{"$f":"INDEX(建筑!$B$2:$B$5001,MATCH(表格模板!A510,建筑!$A$2:$A$5001,0),COLUMN(A510))","v":{"$error":"#N/A"}},null,{"$f":"INDEX(设备类型!$B$2:$B$5001,MATCH(表格模板!C510,设备类型!$A$2:$A$5001,0),COLUMN(A510))","v":{"$error":"#N/A"}}]
[null,{"$f":"INDEX(建筑!$B$2:$B$5001,MATCH(表格模板!A511,建筑!$A$2:$A$5001,0),COLUMN(A511))","v":{"$error":"#N/A"}},null,{"$f":"INDEX(设备类型!$B$2:$B$5001,MATCH(表格模板!C511,设备类型!$A$2:$A$5001,0),COLUMN(A511))","v":{"$error":"#N/A"}}]
[null,{"$f":"INDEX(建筑!$B$2:$B$5001,MATCH(表格模板!A512,建筑!$A$2:$A$5001,0),COLUMN(A512))","v":{"$error":"#N/A"}},null,{"$f":"INDEX(设备类型!$B$2:$B$5001,MATCH(表格模板!C512,设备类型!$A$2:$A$5001,0),COLUMN(A512))","v":{"$error":"#N/A"}}]
[null,{"$f":"INDEX(建筑!$B$2:$B$5001,MATCH(表格模板!A513,建筑!$A$2:$A$5001,0),COLUMN(A513))","v":{"$error":"#N/A"}},null,{"$f":"INDEX(设备类型!$B$2:$B$5001,MATCH(表格模板!C513,设备类型!$A$2:$A$5001,0),COLUMN(A513))","v":{"$error":"#N/A"}}]
[null,{"$f":"INDEX(建筑!$B$2:$B$5001,MATCH(表格模板!A514,建筑!$A$2:$A$5001,0),COLUMN(A514))","v":{"$error":"#N/A"}},null,{"$f":"INDEX(设备类型!$B$2:$B$5001,MATCH(表格模板!C514,设备类型!$A$2:$A$5001,0),COLUMN(A514))","v":{"$error":"#N/A"}}]
[null,{"$f":"INDEX(建筑!$B$2:$B$5001,MATCH(表格模板!A515,建筑!$A$2:$A$5001,0),COLUMN(A515))","v":{"$error":"#N/A"}},null,{"$f":"INDEX(设备类型!$B$2:$B$5001,MATCH(表格模板!C515,设备类型!$A$2:$A$5001,0),COLUMN(A515))","v":{"$error":"#N/A"}}]
[null,{"$f":"INDEX(建筑!$B$2:$B$5001,MATCH(表格模板!A516,建筑!$A$2:$A$5001,0),COLUMN(A516))","v":{"$error":"#N/A"}},null,{"$f":"INDEX(设备类型!$B$2:$B$5001,MATCH(表格模板!C516,设备类型!$A$2:$A$5001,0),COLUMN(A516))","v":{"$error":"#N/A"}}]
[null,{"$f":"INDEX(建筑!$B$2:$B$5001,MATCH(表格模板!A517,建筑!$A$2:$A$5001,0),COLUMN(A517))","v":{"$error":"#N/A"}},null,{"$f":"INDEX(设备类型!$B$2:$B$5001,MATCH(表格模板!C517,设备类型!$A$2:$A$5001,0),COLUMN(A517))","v":{"$error":"#N/A"}}]
[null,{"$f":"INDEX(建筑!$B$2:$B$5001,MATCH(表格模板!A518,建筑!$A$2:$A$5001,0),COLUMN(A518))","v":{"$error":"#N/A"}},null,{"$f":"INDEX(设备类型!$B$2:$B$5001,MATCH(表格模板!C518,设备类型!$A$2:$A$5001,0),COLUMN(A518))","v":{"$error":"#N/A"}}]
[null,{"$f":"INDEX(建筑!$B$2:$B$5001,MATCH(表格模板!A519,建筑!$A$2:$A$5001,0),COLUMN(A519))","v":{"$error":"#N/A"}},null,{"$f":"INDEX(设备类型!$B$2:$B$5001,MATCH(表格模板!C519,设备类型!$A$2:$A$5001,0),COLUMN(A519))","v":{"$error":"#N/A"}}]
[null,{"$f":"INDEX(建筑!$B$2:$B$5001,MATCH(表格模板!A520,建筑!$A$2:$A$5001,0),COLUMN(A520))","v":{"$error":"#N/A"}},null,{"$f":"INDEX(设备类型!$B$2:$B$5001,MATCH(表格模板!C520,设备类型!$A$2:$A$5001,0),COLUMN(A520))","v":{"$error":"#N/A"}}]
[null,{"$f":"INDEX(建筑!$B$2:$B$5001,MATCH(表格模板!A521,建筑!$A$2:$A$5001,0),COLUMN(A521))","v":{"$error":"#N/A"}},null,{"$f":"INDEX(设备类型!$B$2:$B$5001,MATCH(表格模板!C521,设备类型!$A$2:$A$5001,0),COLUMN(A521))","v":{"$error":"#N/A"}}]
[null,{"$f":"INDEX(建筑!$B$2:$B$5001,MATCH(表格模板!A522,建筑!$A$2:$A$5001,0),COLUMN(A522))","v":{"$error":"#N/A"}},null,{"$f":"INDEX(设备类型!$B$2:$B$5001,MATCH(表格模板!C522,设备类型!$A$2:$A$5001,0),COLUMN(A522))","v":{"$error":"#N/A"}}]
[null,{"$f":"INDEX(建筑!$B$2:$B$5001,MATCH(表格模板!A523,建筑!$A$2:$A$5001,0),COLUMN(A523))","v":{"$error":"#N/A"}},null,{"$f":"INDEX(设备类型!$B$2:$B$5001,MATCH(表格模板!C523,设备类型!$A$2:$A$5001,0),COLUMN(A523))","v":{"$error":"#N/A"}}]
[null,{"$f":"INDEX(建筑!$B$2:$B$5001,MATCH(表格模板!A524,建筑!$A$2:$A$5001,0),COLUMN(A524))","v":{"$error":"#N/A"}},null,{"$f":"INDEX(设备类型!$B$2:$B$5001,MATCH(表格模板!C524,设备类型!$A$2:$A$5001,0),COLUMN(A524))","v":{"$error":"#N/A"}}]
[null,{"$f":"INDEX(建筑!$B$2:$B$5001,MATCH(表格模板!A525,建筑!$A$2:$A$5001,0),COLUMN(A525))","v":{"$error":"#N/A"}},null,{"$f":"INDEX(设备类型!$B$2:$B$5001,MATCH(表格模板!C525,设备类型!$A$2:$A$5001,0),COLUMN(A525))","v":{"$error":"#N/A"}}]
[null,{"$f":"INDEX(建筑!$B$2:$B$5001,MATCH(表格模板!A526,建筑!$A$2:$A$5001,0),COLUMN(A526))","v":{"$error":"#N/A"}},null,{"$f":"INDEX(设备类型!$B$2:$B$5001,MATCH(表格模板!C526,设备类型!$A$2:$A$5001,0),COLUMN(A526))","v":{"$error":"#N/A"}}]
[null,{"$f":"INDEX(建筑!$B$2:$B$5001,MATCH(表格模板!A527,建筑!$A$2:$A$5001,0),COLUMN(A527))","v":{"$error":"#N/A"}},null,{"$f":"INDEX(设备类型!$B$2:$B$5001,MATCH(表格模板!C527,设备类型!$A$2:$A$5001,0),COLUMN(A527))","v":{"$error":"#N/A"}}]
[null,{"$f":"INDEX(建筑!$B$2:$B$5001,MATCH(表格模板!A528,建筑!$A$2:$A$5001,0),COLUMN(A528))","v":{"$error":"#N/A"}},null,{"$f":"INDEX(设备类型!$B$2:$B$5001,MATCH(表格模板!C528,设备类型!$A$2:$A$5001,0),COLUMN(A528))","v":{"$error":"#N/A"}}]
[null,{"$f":"INDEX(建筑!$B$2:$B$5001,MATCH(表格模板!A529,建筑!$A$2:$A$5001,0),COLUMN(A529))","v":{"$error":"#N/A"}},null,{"$f":"INDEX(设备类型!$B$2:$B$5001,MATCH(表格模板!C529,设备类型!$A$2:$A$5001,0),COLUMN(A529))","v":{"$error":"#N/A"}}]
[null,{"$f":"INDEX(建筑!$B$2:$B$5001,MATCH(表格模板!A530,建筑!$A$2:$A$5001,0),COLUMN(A530))","v":{"$error":"#N/A"}},null,{"$f":"INDEX(设备类型!$B$2:$B$5001,MATCH(表格模板!C530,设备类型!$A$2:$A$5001,0),COLUMN(A530))","v":{"$error":"#N/A"}}]
[null,{"$f":"INDEX(建筑!$B$2:$B$5001,MATCH(表格模板!A531,建筑!$A$2:$A$5001,0),COLUMN(A531))","v":{"$error":"#N/A"}},null,{"$f":"INDEX(设备类型!$B$2:$B$5001,MATCH(表格模板!C531,设备类型!$A$2:$A$5001,0),COLUMN(A531))","v":{"$error":"#N/A"}}]
[null,{"$f":"INDEX(建筑!$B$2:$B$5001,MATCH(表格模板!A532,建筑!$A$2:$A$5001,0),COLUMN(A532))","v":{"$error":"#N/A"}},null,{"$f":"INDEX(设备类型!$B$2:$B$5001,MATCH(表格模板!C532,设备类型!$A$2:$A$5001,0),COLUMN(A532))","v":{"$error":"#N/A"}}]
[null,{"$f":"INDEX(建筑!$B$2:$B$5001,MATCH(表格模板!A533,建筑!$A$2:$A$5001,0),COLUMN(A533))","v":{"$error":"#N/A"}},null,{"$f":"INDEX(设备类型!$B$2:$B$5001,MATCH(表格模板!C533,设备类型!$A$2:$A$5001,0),COLUMN(A533))","v":{"$error":"#N/A"}}]
[null,{"$f":"INDEX(建筑!$B$2:$B$5001,MATCH(表格模板!A534,建筑!$A$2:$A$5001,0),COLUMN(A534))","v":{"$error":"#N/A"}},null,{"$f":"INDEX(设备类型!$B$2:$B$5001,MATCH(表格模板!C534,设备类型!$A$2:$A$5001,0),COLUMN(A534))","v":{"$error":"#N/A"}}]
[null,{"$f":"INDEX(建筑!$B$2:$B$5001,MATCH(表格模板!A535,建筑!$A$2:$A$5001,0),COLUMN(A535))","v":{"$error":"#N/A"}},null,{"$f":"INDEX(设备类型!$B$2:$B$5001,MATCH(表格模板!C535,设备类型!$A$2:$A$5001,0),COLUMN(A535))","v":{"$error":"#N/A"}}]
[null,{"$f":"INDEX(建筑!$B$2:$B$5001,MATCH(表格模板!A536,建筑!$A$2:$A$5001,0),COLUMN(A536))","v":{"$error":"#N/A"}},null,{"$f":"INDEX(设备类型!$B$2:$B$5001,MATCH(表格模板!C536,设备类型!$A$2:$A$5001,0),COLUMN(A536))","v":{"$error":"#N/A"}}]
[null,{"$f":"INDEX(建筑!$B$2:$B$5001,MATCH(表格模板!A537,建筑!$A$2:$A$5001,0),COLUMN(A537))","v":{"$error":"#N/A"}},null,{"$f":"INDEX(设备类型!$B$2:$B$5001,MATCH(表格模板!C537,设备类型!$A$2:$A$5001,0),COLUMN(A537))","v":{"$error":"#N/A"}}]
[null,{"$f":"INDEX(建筑!$B$2:$B$5001,MATCH(表格模板!A538,建筑!$A$2:$A$5001,0),COLUMN(A538))","v":{"$error":"#N/A"}},null,{"$f":"INDEX(设备类型!$B$2:$B$5001,MATCH(表格模板!C538,设备类型!$A$2:$A$5001,0),COLUMN(A538))","v":{"$error":"#N/A"}}]
[null,{"$f":"INDEX(建筑!$B$2:$B$5001,MATCH(表格模板!A539,建筑!$A$2:$A$5001,0),COLUMN(A539))","v":{"$error":"#N/A"}},null,{"$f":"INDEX(设备类型!$B$2:$B$5001,MATCH(表格模板!C539,设备类型!$A$2:$A$5001,0),COLUMN(A539))","v":{"$error":"#N/A"}}]
[null,{"$f":"INDEX(建筑!$B$2:$B$5001,MATCH(表格模板!A540,建筑!$A$2:$A$5001,0),COLUMN(A540))","v":{"$error":"#N/A"}},null,{"$f":"INDEX(设备类型!$B$2:$B$5001,MATCH(表格模板!C540,设备类型!$A$2:$A$5001,0),COLUMN(A540))","v":{"$error":"#N/A"}}]
[null,{"$f":"INDEX(建筑!$B$2:$B$5001,MATCH(表格模板!A541,建筑!$A$2:$A$5001,0),COLUMN(A541))","v":{"$error":"#N/A"}},null,{"$f":"INDEX(设备类型!$B$2:$B$5001,MATCH(表格模板!C541,设备类型!$A$2:$A$5001,0),COLUMN(A541))","v":{"$error":"#N/A"}}]
[null,{"$f":"INDEX(建筑!$B$2:$B$5001,MATCH(表格模板!A542,建筑!$A$2:$A$5001,0),COLUMN(A542))","v":{"$error":"#N/A"}},null,{"$f":"INDEX(设备类型!$B$2:$B$5001,MATCH(表格模板!C542,设备类型!$A$2:$A$5001,0),COLUMN(A542))","v":{"$error":"#N/A"}}]
[null,{"$f":"INDEX(建筑!$B$2:$B$5001,MATCH(表格模板!A543,建筑!$A$2:$A$5001,0),COLUMN(A543))","v":{"$error":"#N/A"}},null,{"$f":"INDEX(设备类型!$B$2:$B$5001,MATCH(表格模板!C543,设备类型!$A$2:$A$5001,0),COLUMN(A543))","v":{"$error":"#N/A"}}]
[null,{"$f":"INDEX(建筑!$B$2:$B$5001,MATCH(表格模板!A544,建筑!$A$2:$A$5001,0),COLUMN(A544))","v":{"$error":"#N/A"}},null,{"$f":"INDEX(设备类型!$B$2:$B$5001,MATCH(表格模板!C544,设备类型!$A$2:$A$5001,0),COLUMN(A544))","v":{"$error":"#N/A"}}]
[null,{"$f":"INDEX(建筑!$B$2:$B$5001,MATCH(表格模板!A545,建筑!$A$2:$A$5001,0),COLUMN(A545))","v":{"$error":"#N/A"}},null,{"$f":"INDEX(设备类型!$B$2:$B$5001,MATCH(表格模板!C545,设备类型!$A$2:$A$5001,0),COLUMN(A545))","v":{"$error":"#N/A"}}]
[null,{"$f":"INDEX(建筑!$B$2:$B$5001,MATCH(表格模板!A546,建筑!$A$2:$A$5001,0),COLUMN(A546))","v":{"$error":"#N/A"}},null,{"$f":"INDEX(设备类型!$B$2:$B$5001,MATCH(表格模板!C546,设备类型!$A$2:$A$5001,0),COLUMN(A546))","v":{"$error":"#N/A"}}]
[null,{"$f":"INDEX(建筑!$B$2:$B$5001,MATCH(表格模板!A547,建筑!$A$2:$A$5001,0),COLUMN(A547))","v":{"$error":"#N/A"}},null,{"$f":"INDEX(设备类型!$B$2:$B$5001,MATCH(表格模板!C547,设备类型!$A$2:$A$5001,0),COLUMN(A547))","v":{"$error":"#N/A"}}]
[null,{"$f":"INDEX(建筑!$B$2:$B$5001,MATCH(表格模板!A548,建筑!$A$2:$A$5001,0),COLUMN(A548))","v":{"$error":"#N/A"}},null,{"$f":"INDEX(设备类型!$B$2:$B$5001,MATCH(表格模板!C548,设备类型!$A$2:$A$5001,0),COLUMN(A548))","v":{"$error":"#N/A"}}]
[null,{"$f":"INDEX(建筑!$B$2:$B$5001,MATCH(表格模板!A549,建筑!$A$2:$A$5001,0),COLUMN(A549))","v":{"$error":"#N/A"}},null,{"$f":"INDEX(设备类型!$B$2:$B$5001,MATCH(表格模板!C549,设备类型!$A$2:$A$5001,0),COLUMN(A549))","v":{"$error":"#N/A"}}]
[null,{"$f":"INDEX(建筑!$B$2:$B$5001,MATCH(表格模板!A550,建筑!$A$2:$A$5001,0),COLUMN(A550))","v":{"$error":"#N/A"}},null,{"$f":"INDEX(设备类型!$B$2:$B$5001,MATCH(表格模板!C550,设备类型!$A$2:$A$5001,0),COLUMN(A550))","v":{"$error":"#N/A"}}]
[null,{"$f":"INDEX(建筑!$B$2:$B$5001,MATCH(表格模板!A551,建筑!$A$2:$A$5001,0),COLUMN(A551))","v":{"$error":"#N/A"}},null,{"$f":"INDEX(设备类型!$B$2:$B$5001,MATCH(表格模板!C551,设备类型!$A$2:$A$5001,0),COLUMN(A551))","v":{"$error":"#N/A"}}]
[null,{"$f":"INDEX(建筑!$B$2:$B$5001,MATCH(表格模板!A552,建筑!$A$2:$A$5001,0),COLUMN(A552))","v":{"$error":"#N/A"}},null,{"$f":"INDEX(设备类型!$B$2:$B$5001,MATCH(表格模板!C552,设备类型!$A$2:$A$5001,0),COLUMN(A552))","v":{"$error":"#N/A"}}]
[null,{"$f":"INDEX(建筑!$B$2:$B$5001,MATCH(表格模板!A553,建筑!$A$2:$A$5001,0),COLUMN(A553))","v":{"$error":"#N/A"}},null,{"$f":"INDEX(设备类型!$B$2:$B$5001,MATCH(表格模板!C553,设备类型!$A$2:$A$5001,0),COLUMN(A553))","v":{"$error":"#N/A"}}]
[null,{"$f":"INDEX(建筑!$B$2:$B$5001,MATCH(表格模板!A554,建筑!$A$2:$A$5001,0),COLUMN(A554))","v":{"$error":"#N/A"}},null,{"$f":"INDEX(设备类型!$B$2:$B$5001,MATCH(表格模板!C554,设备类型!$A$2:$A$5001,0),COLUMN(A554))","v":{"$error":"#N/A"}}]
[null,{"$f":"INDEX(建筑!$B$2:$B$5001,MATCH(表格模板!A555,建筑!$A$2:$A$5001,0),COLUMN(A555))","v":{"$error":"#N/A"}},null,{"$f":"INDEX(设备类型!$B$2:$B$5001,MATCH(表格模板!C555,设备类型!$A$2:$A$5001,0),COLUMN(A555))","v":{"$error":"#N/A"}}]
[null,{"$f":"INDEX(建筑!$B$2:$B$5001,MATCH(表格模板!A556,建筑!$A$2:$A$5001,0),COLUMN(A556))","v":{"$error":"#N/A"}},null,{"$f":"INDEX(设备类型!$B$2:$B$5001,MATCH(表格模板!C556,设备类型!$A$2:$A$5001,0),COLUMN(A556))","v":{"$error":"#N/A"}}]
[null,{"$f":"INDEX(建筑!$B$2:$B$5001,MATCH(表格模板!A557,建筑!$A$2:$A$5001,0),COLUMN(A557))","v":{"$error":"#N/A"}},null,{"$f":"INDEX(设备类型!$B$2:$B$5001,MATCH(表格模板!C557,设备类型!$A$2:$A$5001,0),COLUMN(A557))","v":{"$error":"#N/A"}}]
[null,{"$f":"INDEX(建筑!$B$2:$B$5001,MATCH(表格模板!A558,建筑!$A$2:$A$5001,0),COLUMN(A558))","v":{"$error":"#N/A"}},null,{"$f":"INDEX(设备类型!$B$2:$B$5001,MATCH(表格模板!C558,设备类型!$A$2:$A$5001,0),COLUMN(A558))","v":{"$error":"#N/A"}}]
[null,{"$f":"INDEX(建筑!$B$2:$B$5001,MATCH(表格模板!A559,建筑!$A$2:$A$5001,0),COLUMN(A559))","v":{"$error":"#N/A"}},null,{"$f":"INDEX(设备类型!$B$2:$B$5001,MATCH(表格模板!C559,设备类型!$A$2:$A$5001,0),COLUMN(A559))","v":{"$error":"#N/A"}}]
[null,{"$f":"INDEX(建筑!$B$2:$B$5001,MATCH(表格模板!A560,建筑!$A$2:$A$5001,0),COLUMN(A560))","v":{"$error":"#N/A"}},null,{"$f":"INDEX(设备类型!$B$2:$B$5001,MATCH(表格模板!C560,设备类型!$A$2:$A$5001,0),COLUMN(A560))","v":{"$error":"#N/A"}}]
[null,{"$f":"INDEX(建筑!$B$2:$B$5001,MATCH(表格模板!A561,建筑!$A$2:$A$5001,0),COLUMN(A561))","v":{"$error":"#N/A"}},null,{"$f":"INDEX(设备类型!$B$2:$B$5001,MATCH(表格模板!C561,设备类型!$A$2:$A$5001,0),COLUMN(A561))","v":{"$error":"#N/A"}}]
[null,{"$f":"INDEX(建筑!$B$2:$B$5001,MATCH(表格模板!A562,建筑!$A$2:$A$5001,0),COLUMN(A562))","v":{"$error":"#N/A"}},null,{"$f":"INDEX(设备类型!$B$2:$B$5001,MATCH(表格模板!C562,设备类型!$A$2:$A$5001,0),COLUMN(A562))","v":{"$error":"#N/A"}}]
[null,{"$f":"INDEX(建筑!$B$2:$B$5001,MATCH(表格模板!A563,建筑!$A$2:$A$5001,0),COLUMN(A563))","v":{"$error":"#N/A"}},null,{"$f":"INDEX(设备类型!$B$2:$B$5001,MATCH(表格模板!C563,设备类型!$A$2:$A$5001,0),COLUMN(A563))","v":{"$error":"#N/A"}}]
[null,{"$f":"INDEX(建筑!$B$2:$B$5001,MATCH(表格模板!A564,建筑!$A$2:$A$5001,0),COLUMN(A564))","v":{"$error":"#N/A"}},null,{"$f":"INDEX(设备类型!$B$2:$B$5001,MATCH(表格模板!C564,设备类型!$A$2:$A$5001,0),COLUMN(A564))","v":{"$error":"#N/A"}}]
[null,{"$f":"INDEX(建筑!$B$2:$B$5001,MATCH(表格模板!A565,建筑!$A$2:$A$5001,0),COLUMN(A565))","v":{"$error":"#N/A"}},null,{"$f":"INDEX(设备类型!$B$2:$B$5001,MATCH(表格模板!C565,设备类型!$A$2:$A$5001,0),COLUMN(A565))","v":{"$error":"#N/A"}}]
[null,{"$f":"INDEX(建筑!$B$2:$B$5001,MATCH(表格模板!A566,建筑!$A$2:$A$5001,0),COLUMN(A566))","v":{"$error":"#N/A"}},null,{"$f":"INDEX(设备类型!$B$2:$B$5001,MATCH(表格模板!C566,设备类型!$A$2:$A$5001,0),COLUMN(A566))","v":{"$error":"#N/A"}}]
[null,{"$f":"INDEX(建筑!$B$2:$B$5001,MATCH(表格模板!A567,建筑!$A$2:$A$5001,0),COLUMN(A567))","v":{"$error":"#N/A"}},null,{"$f":"INDEX(设备类型!$B$2:$B$5001,MATCH(表格模板!C567,设备类型!$A$2:$A$5001,0),COLUMN(A567))","v":{"$error":"#N/A"}}]
[null,{"$f":"INDEX(建筑!$B$2:$B$5001,MATCH(表格模板!A568,建筑!$A$2:$A$5001,0),COLUMN(A568))","v":{"$error":"#N/A"}},null,{"$f":"INDEX(设备类型!$B$2:$B$5001,MATCH(表格模板!C568,设备类型!$A$2:$A$5001,0),COLUMN(A568))","v":{"$error":"#N/A"}}]
[null,{"$f":"INDEX(建筑!$B$2:$B$5001,MATCH(表格模板!A569,建筑!$A$2:$A$5001,0),COLUMN(A569))","v":{"$error":"#N/A"}},null,{"$f":"INDEX(设备类型!$B$2:$B$5001,MATCH(表格模板!C569,设备类型!$A$2:$A$5001,0),COLUMN(A569))","v":{"$error":"#N/A"}}]
[null,{"$f":"INDEX(建筑!$B$2:$B$5001,MATCH(表格模板!A570,建筑!$A$2:$A$5001,0),COLUMN(A570))","v":{"$error":"#N/A"}},null,{"$f":"INDEX(设备类型!$B$2:$B$5001,MATCH(表格模板!C570,设备类型!$A$2:$A$5001,0),COLUMN(A570))","v":{"$error":"#N/A"}}]
[null,{"$f":"INDEX(建筑!$B$2:$B$5001,MATCH(表格模板!A571,建筑!$A$2:$A$5001,0),COLUMN(A571))","v":{"$error":"#N/A"}},null,{"$f":"INDEX(设备类型!$B$2:$B$5001,MATCH(表格模板!C571,设备类型!$A$2:$A$5001,0),COLUMN(A571))","v":{"$error":"#N/A"}}]
[null,{"$f":"INDEX(建筑!$B$2:$B$5001,MATCH(表格模板!A572,建筑!$A$2:$A$5001,0),COLUMN(A572))","v":{"$error":"#N/A"}},null,{"$f":"INDEX(设备类型!$B$2:$B$5001,MATCH(表格模板!C572,设备类型!$A$2:$A$5001,0),COLUMN(A572))","v":{"$error":"#N/A"}}]
[null,{"$f":"INDEX(建筑!$B$2:$B$5001,MATCH(表格模板!A573,建筑!$A$2:$A$5001,0),COLUMN(A573))","v":{"$error":"#N/A"}},null,{"$f":"INDEX(设备类型!$B$2:$B$5001,MATCH(表格模板!C573,设备类型!$A$2:$A$5001,0),COLUMN(A573))","v":{"$error":"#N/A"}}]
[null,{"$f":"INDEX(建筑!$B$2:$B$5001,MATCH(表格模板!A574,建筑!$A$2:$A$5001,0),COLUMN(A574))","v":{"$error":"#N/A"}},null,{"$f":"INDEX(设备类型!$B$2:$B$5001,MATCH(表格模板!C574,设备类型!$A$2:$A$5001,0),COLUMN(A574))","v":{"$error":"#N/A"}}]
[null,{"$f":"INDEX(建筑!$B$2:$B$5001,MATCH(表格模板!A575,建筑!$A$2:$A$5001,0),COLUMN(A575))","v":{"$error":"#N/A"}},null,{"$f":"INDEX(设备类型!$B$2:$B$5001,MATCH(表格模板!C575,设备类型!$A$2:$A$5001,0),COLUMN(A575))","v":{"$error":"#N/A"}}]
[null,{"$f":"INDEX(建筑!$B$2:$B$5001,MATCH(表格模板!A576,建筑!$A$2:$A$5001,0),COLUMN(A576))","v":{"$error":"#N/A"}},null,{"$f":"INDEX(设备类型!$B$2:$B$5001,MATCH(表格模板!C576,设备类型!$A$2:$A$5001,0),COLUMN(A576))","v":{"$error":"#N/A"}}]
[null,{"$f":"INDEX(建筑!$B$2:$B$5001,MATCH(表格模板!A577,建筑!$A$2:$A$5001,0),COLUMN(A577))","v":{"$error":"#N/A"}},null,{"$f":"INDEX(设备类型!$B$2:$B$5001,MATCH(表格模板!C577,设备类型!$A$2:$A$5001,0),COLUMN(A577))","v":{"$error":"#N/A"}}]
[null,{"$f":"INDEX(建筑!$B$2:$B$5001,MATCH(表格模板!A578,建筑!$A$2:$A$5001,0),COLUMN(A578))","v":{"$error":"#N/A"}},null,{"$f":"INDEX(设备类型!$B$2:$B$5001,MATCH(表格模板!C578,设备类型!$A$2:$A$5001,0),COLUMN(A578))","v":{"$error":"#N/A"}}]
[null,{"$f":"INDEX(建筑!$B$2:$B$5001,MATCH(表格模板!A579,建筑!$A$2:$A$5001,0),COLUMN(A579))","v":{"$error":"#N/A"}},null,{"$f":"INDEX(设备类型!$B$2:$B$5001,MATCH(表格模板!C579,设备类型!$A$2:$A$5001,0),COLUMN(A579))","v":{"$error":"#N/A"}}]
[null,{"$f":"INDEX(建筑!$B$2:$B$5001,MATCH(表格模板!A580,建筑!$A$2:$A$5001,0),COLUMN(A580))","v":{"$error":"#N/A"}},null,{"$f":"INDEX(设备类型!$B$2:$B$5001,MATCH(表格模板!C580,设备类型!$A$2:$A$5001,0),COLUMN(A580))","v":{"$error":"#N/A"}}]
[null,{"$f":"INDEX(建筑!$B$2:$B$5001,MATCH(表格模板!A581,建筑!$A$2:$A$5001,0),COLUMN(A581))","v":{"$error":"#N/A"}},null,{"$f":"INDEX(设备类型!$B$2:$B$5001,MATCH(表格模板!C581,设备类型!$A$2:$A$5001,0),COLUMN(A581))","v":{"$error":"#N/A"}}]
[null,{"$f":"INDEX(建筑!$B$2:$B$5001,MATCH(表格模板!A582,建筑!$A$2:$A$5001,0),COLUMN(A582))","v":{"$error":"#N/A"}},null,{"$f":"INDEX(设备类型!$B$2:$B$5001,MATCH(表格模板!C582,设备类型!$A$2:$A$5001,0),COLUMN(A582))","v":{"$error":"#N/A"}}]
[null,{"$f":"INDEX(建筑!$B$2:$B$5001,MATCH(表格模板!A583,建筑!$A$2:$A$5001,0),COLUMN(A583))","v":{"$error":"#N/A"}},null,{"$f":"INDEX(设备类型!$B$2:$B$5001,MATCH(表格模板!C583,设备类型!$A$2:$A$5001,0),COLUMN(A583))","v":{"$error":"#N/A"}}]
[null,{"$f":"INDEX(建筑!$B$2:$B$5001,MATCH(表格模板!A584,建筑!$A$2:$A$5001,0),COLUMN(A584))","v":{"$error":"#N/A"}},null,{"$f":"INDEX(设备类型!$B$2:$B$5001,MATCH(表格模板!C584,设备类型!$A$2:$A$5001,0),COLUMN(A584))","v":{"$error":"#N/A"}}]
[null,{"$f":"INDEX(建筑!$B$2:$B$5001,MATCH(表格模板!A585,建筑!$A$2:$A$5001,0),COLUMN(A585))","v":{"$error":"#N/A"}},null,{"$f":"INDEX(设备类型!$B$2:$B$5001,MATCH(表格模板!C585,设备类型!$A$2:$A$5001,0),COLUMN(A585))","v":{"$error":"#N/A"}}]
[null,{"$f":"INDEX(建筑!$B$2:$B$5001,MATCH(表格模板!A586,建筑!$A$2:$A$5001,0),COLUMN(A586))","v":{"$error":"#N/A"}},null,{"$f":"INDEX(设备类型!$B$2:$B$5001,MATCH(表格模板!C586,设备类型!$A$2:$A$5001,0),COLUMN(A586))","v":{"$error":"#N/A"}}]
[null,{"$f":"INDEX(建筑!$B$2:$B$5001,MATCH(表格模板!A587,建筑!$A$2:$A$5001,0),COLUMN(A587))","v":{"$error":"#N/A"}},null,{"$f":"INDEX(设备类型!$B$2:$B$5001,MATCH(表格模板!C587,设备类型!$A$2:$A$5001,0),COLUMN(A587))","v":{"$error":"#N/A"}}]
[null,{"$f":"INDEX(建筑!$B$2:$B$5001,MATCH(表格模板!A588,建筑!$A$2:$A$5001,0),COLUMN(A588))","v":{"$error":"#N/A"}},null,{"$f":"INDEX(设备类型!$B$2:$B$5001,MATCH(表格模板!C588,设备类型!$A$2:$A$5001,0),COLUMN(A588))","v":{"$error":"#N/A"}}]
[null,{"$f":"INDEX(建筑!$B$2:$B$5001,MATCH(表格模板!A589,建筑!$A$2:$A$5001,0),COLUMN(A589))","v":{"$error":"#N/A"}},null,{"$f":"INDEX(设备类型!$B$2:$B$5001,MATCH(表格模板!C589,设备类型!$A$2:$A$5001,0),COLUMN(A589))","v":{"$error":"#N/A"}}]
[null,{"$f":"INDEX(建筑!$B$2:$B$5001,MATCH(表格模板!A590,建筑!$A$2:$A$5001,0),COLUMN(A590))","v":{"$error":"#N/A"}},null,{"$f":"INDEX(设备类型!$B$2:$B$5001,MATCH(表格模板!C590,设备类型!$A$2:$A$5001,0),COLUMN(A590))","v":{"$error":"#N/A"}}]
[null,{"$f":"INDEX(建筑!$B$2:$B$5001,MATCH(表格模板!A591,建筑!$A$2:$A$5001,0),COLUMN(A591))","v":{"$error":"#N/A"}},null,{"$f":"INDEX(设备类型!$B$2:$B$5001,MATCH(表格模板!C591,设备类型!$A$2:$A$5001,0),COLUMN(A591))","v":{"$error":"#N/A"}}]
[null,{"$f":"INDEX(建筑!$B$2:$B$5001,MATCH(表格模板!A592,建筑!$A$2:$A$5001,0),COLUMN(A592))","v":{"$error":"#N/A"}},null,{"$f":"INDEX(设备类型!$B$2:$B$5001,MATCH(表格模板!C592,设备类型!$A$2:$A$5001,0),COLUMN(A592))","v":{"$error":"#N/A"}}]
[null,{"$f":"INDEX(建筑!$B$2:$B$5001,MATCH(表格模板!A593,建筑!$A$2:$A$5001,0),COLUMN(A593))","v":{"$error":"#N/A"}},null,{"$f":"INDEX(设备类型!$B$2:$B$5001,MATCH(表格模板!C593,设备类型!$A$2:$A$5001,0),COLUMN(A593))","v":{"$error":"#N/A"}}]
[null,{"$f":"INDEX(建筑!$B$2:$B$5001,MATCH(表格模板!A594,建筑!$A$2:$A$5001,0),COLUMN(A594))","v":{"$error":"#N/A"}},null,{"$f":"INDEX(设备类型!$B$2:$B$5001,MATCH(表格模板!C594,设备类型!$A$2:$A$5001,0),COLUMN(A594))","v":{"$error":"#N/A"}}]
[null,{"$f":"INDEX(建筑!$B$2:$B$5001,MATCH(表格模板!A595,建筑!$A$2:$A$5001,0),COLUMN(A595))","v":{"$error":"#N/A"}},null,{"$f":"INDEX(设备类型!$B$2:$B$5001,MATCH(表格模板!C595,设备类型!$A$2:$A$5001,0),COLUMN(A595))","v":{"$error":"#N/A"}}]
[null,{"$f":"INDEX(建筑!$B$2:$B$5001,MATCH(表格模板!A596,建筑!$A$2:$A$5001,0),COLUMN(A596))","v":{"$error":"#N/A"}},null,{"$f":"INDEX(设备类型!$B$2:$B$5001,MATCH(表格模板!C596,设备类型!$A$2:$A$5001,0),COLUMN(A596))","v":{"$error":"#N/A"}}]
[null,{"$f":"INDEX(建筑!$B$2:$B$5001,MATCH(表格模板!A597,建筑!$A$2:$A$5001,0),COLUMN(A597))","v":{"$error":"#N/A"}},null,{"$f":"INDEX(设备类型!$B$2:$B$5001,MATCH(表格模板!C597,设备类型!$A$2:$A$5001,0),COLUMN(A597))","v":{"$error":"#N/A"}}]
[null,{"$f":"INDEX(建筑!$B$2:$B$5001,MATCH(表格模板!A598,建筑!$A$2:$A$5001,0),COLUMN(A598))","v":{"$error":"#N/A"}},null,{"$f":"INDEX(设备类型!$B$2:$B$5001,MATCH(表格模板!C598,设备类型!$A$2:$A$5001,0),COLUMN(A598))","v":{"$error":"#N/A"}}]
[null,{"$f":"INDEX(建筑!$B$2:$B$5001,MATCH(表格模板!A599,建筑!$A$2:$A$5001,0),COLUMN(A599))","v":{"$error":"#N/A"}},null,{"$f":"INDEX(设备类型!$B$2:$B$5001,MATCH(表格模板!C599,设备类型!$A$2:$A$5001,0),COLUMN(A599))","v":{"$error":"#N/A"}}]
[null,{"$f":"INDEX(建筑!$B$2:$B$5001,MATCH(表格模板!A600,建筑!$A$2:$A$5001,0),COLUMN(A600))","v":{"$error":"#N/A"}},null,{"$f":"INDEX(设备类型!$B$2:$B$5001,MATCH(表格模板!C600,设备类型!$A$2:$A$5001,0),COLUMN(A600))","v":{"$error":"#N/A"}}]
[null,{"$f":"INDEX(建筑!$B$2:$B$5001,MATCH(表格模板!A601,建筑!$A$2:$A$5001,0),COLUMN(A601))","v":{"$error":"#N/A"}},null,{"$f":"INDEX(设备类型!$B$2:$B$5001,MATCH(表格模板!C601,设备类型!$A$2:$A$5001,0),COLUMN(A601))","v":{"$error":"#N/A"}}]
[null,{"$f":"INDEX(建筑!$B$2:$B$5001,MATCH(表格模板!A602,建筑!$A$2:$A$5001,0),COLUMN(A602))","v":{"$error":"#N/A"}},null,{"$f":"INDEX(设备类型!$B$2:$B$5001,MATCH(表格模板!C602,设备类型!$A$2:$A$5001,0),COLUMN(A602))","v":{"$error":"#N/A"}}]
[null,{"$f":"INDEX(建筑!$B$2:$B$5001,MATCH(表格模板!A603,建筑!$A$2:$A$5001,0),COLUMN(A603))","v":{"$error":"#N/A"}},null,{"$f":"INDEX(设备类型!$B$2:$B$5001,MATCH(表格模板!C603,设备类型!$A$2:$A$5001,0),COLUMN(A603))","v":{"$error":"#N/A"}}]
[null,{"$f":"INDEX(建筑!$B$2:$B$5001,MATCH(表格模板!A604,建筑!$A$2:$A$5001,0),COLUMN(A604))","v":{"$error":"#N/A"}},null,{"$f":"INDEX(设备类型!$B$2:$B$5001,MATCH(表格模板!C604,设备类型!$A$2:$A$5001,0),COLUMN(A604))","v":{"$error":"#N/A"}}]
[null,{"$f":"INDEX(建筑!$B$2:$B$5001,MATCH(表格模板!A605,建筑!$A$2:$A$5001,0),COLUMN(A605))","v":{"$error":"#N/A"}},null,{"$f":"INDEX(设备类型!$B$2:$B$5001,MATCH(表格模板!C605,设备类型!$A$2:$A$5001,0),COLUMN(A605))","v":{"$error":"#N/A"}}]
[null,{"$f":"INDEX(建筑!$B$2:$B$5001,MATCH(表格模板!A606,建筑!$A$2:$A$5001,0),COLUMN(A606))","v":{"$error":"#N/A"}},null,{"$f":"INDEX(设备类型!$B$2:$B$5001,MATCH(表格模板!C606,设备类型!$A$2:$A$5001,0),COLUMN(A606))","v":{"$error":"#N/A"}}]
[null,{"$f":"INDEX(建筑!$B$2:$B$5001,MATCH(表格模板!A607,建筑!$A$2:$A$5001,0),COLUMN(A607))","v":{"$error":"#N/A"}},null,{"$f":"INDEX(设备类型!$B$2:$B$5001,MATCH(表格模板!C607,设备类型!$A$2:$A$5001,0),COLUMN(A607))","v":{"$error":"#N/A"}}]
[null,{"$f":"INDEX(建筑!$B$2:$B$5001,MATCH(表格模板!A608,建筑!$A$2:$A$5001,0),COLUMN(A608))","v":{"$error":"#N/A"}},null,{"$f":"INDEX(设备类型!$B$2:$B$5001,MATCH(表格模板!C608,设备类型!$A$2:$A$5001,0),COLUMN(A608))","v":{"$error":"#N/A"}}]
[null,{"$f":"INDEX(建筑!$B$2:$B$5001,MATCH(表格模板!A609,建筑!$A$2:$A$5001,0),COLUMN(A609))","v":{"$error":"#N/A"}},null,{"$f":"INDEX(设备类型!$B$2:$B$5001,MATCH(表格模板!C609,设备类型!$A$2:$A$5001,0),COLUMN(A609))","v":{"$error":"#N/A"}}]
[null,{"$f":"INDEX(建筑!$B$2:$B$5001,MATCH(表格模板!A610,建筑!$A$2:$A$5001,0),COLUMN(A610))","v":{"$error":"#N/A"}},null,{"$f":"INDEX(设备类型!$B$2:$B$5001,MATCH(表格模板!C610,设备类型!$A$2:$A$5001,0),COLUMN(A610))","v":{"$error":"#N/A"}}]
[null,{"$f":"INDEX(建筑!$B$2:$B$5001,MATCH(表格模板!A611,建筑!$A$2:$A$5001,0),COLUMN(A611))","v":{"$error":"#N/A"}},null,{"$f":"INDEX(设备类型!$B$2:$B$5001,MATCH(表格模板!C611,设备类型!$A$2:$A$5001,0),COLUMN(A611))","v":{"$error":"#N/A"}}]
[null,{"$f":"INDEX(建筑!$B$2:$B$5001,MATCH(表格模板!A612,建筑!$A$2:$A$5001,0),COLUMN(A612))","v":{"$error":"#N/A"}},null,{"$f":"INDEX(设备类型!$B$2:$B$5001,MATCH(表格模板!C612,设备类型!$A$2:$A$5001,0),COLUMN(A612))","v":{"$error":"#N/A"}}]
[null,{"$f":"INDEX(建筑!$B$2:$B$5001,MATCH(表格模板!A613,建筑!$A$2:$A$5001,0),COLUMN(A613))","v":{"$error":"#N/A"}},null,{"$f":"INDEX(设备类型!$B$2:$B$5001,MATCH(表格模板!C613,设备类型!$A$2:$A$5001,0),COLUMN(A613))","v":{"$error":"#N/A"}}]
[null,{"$f":"INDEX(建筑!$B$2:$B$5001,MATCH(表格模板!A614,建筑!$A$2:$A$5001,0),COLUMN(A614))","v":{"$error":"#N/A"}},null,{"$f":"INDEX(设备类型!$B$2:$B$5001,MATCH(表格模板!C614,设备类型!$A$2:$A$5001,0),COLUMN(A614))","v":{"$error":"#N/A"}}]
[null,{"$f":"INDEX(建筑!$B$2:$B$5001,MATCH(表格模板!A615,建筑!$A$2:$A$5001,0),COLUMN(A615))","v":{"$error":"#N/A"}},null,{"$f":"INDEX(设备类型!$B$2:$B$5001,MATCH(表格模板!C615,设备类型!$A$2:$A$5001,0),COLUMN(A615))","v":{"$error":"#N/A"}}]
[null,{"$f":"INDEX(建筑!$B$2:$B$5001,MATCH(表格模板!A616,建筑!$A$2:$A$5001,0),COLUMN(A616))","v":{"$error":"#N/A"}},null,{"$f":"INDEX(设备类型!$B$2:$B$5001,MATCH(表格模板!C616,设备类型!$A$2:$A$5001,0),COLUMN(A616))","v":{"$error":"#N/A"}}]
[null,{"$f":"INDEX(建筑!$B$2:$B$5001,MATCH(表格模板!A617,建筑!$A$2:$A$5001,0),COLUMN(A617))","v":{"$error":"#N/A"}},null,{"$f":"INDEX(设备类型!$B$2:$B$5001,MATCH(表格模板!C617,设备类型!$A$2:$A$5001,0),COLUMN(A617))","v":{"$error":"#N/A"}}]
[null,{"$f":"INDEX(建筑!$B$2:$B$5001,MATCH(表格模板!A618,建筑!$A$2:$A$5001,0),COLUMN(A618))","v":{"$error":"#N/A"}},null,{"$f":"INDEX(设备类型!$B$2:$B$5001,MATCH(表格模板!C618,设备类型!$A$2:$A$5001,0),COLUMN(A618))","v":{"$error":"#N/A"}}]
[null,{"$f":"INDEX(建筑!$B$2:$B$5001,MATCH(表格模板!A619,建筑!$A$2:$A$5001,0),COLUMN(A619))","v":{"$error":"#N/A"}},null,{"$f":"INDEX(设备类型!$B$2:$B$5001,MATCH(表格模板!C619,设备类型!$A$2:$A$5001,0),COLUMN(A619))","v":{"$error":"#N/A"}}]
[null,{"$f":"INDEX(建筑!$B$2:$B$5001,MATCH(表格模板!A620,建筑!$A$2:$A$5001,0),COLUMN(A620))","v":{"$error":"#N/A"}},null,{"$f":"INDEX(设备类型!$B$2:$B$5001,MATCH(表格模板!C620,设备类型!$A$2:$A$5001,0),COLUMN(A620))","v":{"$error":"#N/A"}}]
[null,{"$f":"INDEX(建筑!$B$2:$B$5001,MATCH(表格模板!A621,建筑!$A$2:$A$5001,0),COLUMN(A621))","v":{"$error":"#N/A"}},null,{"$f":"INDEX(设备类型!$B$2:$B$5001,MATCH(表格模板!C621,设备类型!$A$2:$A$5001,0),COLUMN(A621))","v":{"$error":"#N/A"}}]
[null,{"$f":"INDEX(建筑!$B$2:$B$5001,MATCH(表格模板!A622,建筑!$A$2:$A$5001,0),COLUMN(A622))","v":{"$error":"#N/A"}},null,{"$f":"INDEX(设备类型!$B$2:$B$5001,MATCH(表格模板!C622,设备类型!$A$2:$A$5001,0),COLUMN(A622))","v":{"$error":"#N/A"}}]
[null,{"$f":"INDEX(建筑!$B$2:$B$5001,MATCH(表格模板!A623,建筑!$A$2:$A$5001,0),COLUMN(A623))","v":{"$error":"#N/A"}},null,{"$f":"INDEX(设备类型!$B$2:$B$5001,MATCH(表格模板!C623,设备类型!$A$2:$A$5001,0),COLUMN(A623))","v":{"$error":"#N/A"}}]
[null,{"$f":"INDEX(建筑!$B$2:$B$5001,MATCH(表格模板!A624,建筑!$A$2:$A$5001,0),COLUMN(A624))","v":{"$error":"#N/A"}},null,{"$f":"INDEX(设备类型!$B$2:$B$5001,MATCH(表格模板!C624,设备类型!$A$2:$A$5001,0),COLUMN(A624))","v":{"$error":"#N/A"}}]
[null,{"$f":"INDEX(建筑!$B$2:$B$5001,MATCH(表格模板!A625,建筑!$A$2:$A$5001,0),COLUMN(A625))","v":{"$error":"#N/A"}},null,{"$f":"INDEX(设备类型!$B$2:$B$5001,MATCH(表格模板!C625,设备类型!$A$2:$A$5001,0),COLUMN(A625))","v":{"$error":"#N/A"}}]
[null,{"$f":"INDEX(建筑!$B$2:$B$5001,MATCH(表格模板!A626,建筑!$A$2:$A$5001,0),COLUMN(A626))","v":{"$error":"#N/A"}},null,{"$f":"INDEX(设备类型!$B$2:$B$5001,MATCH(表格模板!C626,设备类型!$A$2:$A$5001,0),COLUMN(A626))","v":{"$error":"#N/A"}}]
[null,{"$f":"INDEX(建筑!$B$2:$B$5001,MATCH(表格模板!A627,建筑!$A$2:$A$5001,0),COLUMN(A627))","v":{"$error":"#N/A"}},null,{"$f":"INDEX(设备类型!$B$2:$B$5001,MATCH(表格模板!C627,设备类型!$A$2:$A$5001,0),COLUMN(A627))","v":{"$error":"#N/A"}}]
[null,{"$f":"INDEX(建筑!$B$2:$B$5001,MATCH(表格模板!A628,建筑!$A$2:$A$5001,0),COLUMN(A628))","v":{"$error":"#N/A"}},null,{"$f":"INDEX(设备类型!$B$2:$B$5001,MATCH(表格模板!C628,设备类型!$A$2:$A$5001,0),COLUMN(A628))","v":{"$error":"#N/A"}}]
[null,{"$f":"INDEX(建筑!$B$2:$B$5001,MATCH(表格模板!A629,建筑!$A$2:$A$5001,0),COLUMN(A629))","v":{"$error":"#N/A"}},null,{"$f":"INDEX(设备类型!$B$2:$B$5001,MATCH(表格模板!C629,设备类型!$A$2:$A$5001,0),COLUMN(A629))","v":{"$error":"#N/A"}}]
[null,{"$f":"INDEX(建筑!$B$2:$B$5001,MATCH(表格模板!A630,建筑!$A$2:$A$5001,0),COLUMN(A630))","v":{"$error":"#N/A"}},null,{"$f":"INDEX(设备类型!$B$2:$B$5001,MATCH(表格模板!C630,设备类型!$A$2:$A$5001,0),COLUMN(A630))","v":{"$error":"#N/A"}}]
[null,{"$f":"INDEX(建筑!$B$2:$B$5001,MATCH(表格模板!A631,建筑!$A$2:$A$5001,0),COLUMN(A631))","v":{"$error":"#N/A"}},null,{"$f":"INDEX(设备类型!$B$2:$B$5001,MATCH(表格模板!C631,设备类型!$A$2:$A$5001,0),COLUMN(A631))","v":{"$error":"#N/A"}}]
[null,{"$f":"INDEX(建筑!$B$2:$B$5001,MATCH(表格模板!A632,建筑!$A$2:$A$5001,0),COLUMN(A632))","v":{"$error":"#N/A"}},null,{"$f":"INDEX(设备类型!$B$2:$B$5001,MATCH(表格模板!C632,设备类型!$A$2:$A$5001,0),COLUMN(A632))","v":{"$error":"#N/A"}}]
[null,{"$f":"INDEX(建筑!$B$2:$B$5001,MATCH(表格模板!A633,建筑!$A$2:$A$5001,0),COLUMN(A633))","v":{"$error":"#N/A"}},null,{"$f":"INDEX(设备类型!$B$2:$B$5001,MATCH(表格模板!C633,设备类型!$A$2:$A$5001,0),COLUMN(A633))","v":{"$error":"#N/A"}}]
[null,{"$f":"INDEX(建筑!$B$2:$B$5001,MATCH(表格模板!A634,建筑!$A$2:$A$5001,0),COLUMN(A634))","v":{"$error":"#N/A"}},null,{"$f":"INDEX(设备类型!$B$2:$B$5001,MATCH(表格模板!C634,设备类型!$A$2:$A$5001,0),COLUMN(A634))","v":{"$error":"#N/A"}}]
[null,{"$f":"INDEX(建筑!$B$2:$B$5001,MATCH(表格模板!A635,建筑!$A$2:$A$5001,0),COLUMN(A635))","v":{"$error":"#N/A"}},null,{"$f":"INDEX(设备类型!$B$2:$B$5001,MATCH(表格模板!C635,设备类型!$A$2:$A$5001,0),COLUMN(A635))","v":{"$error":"#N/A"}}]
[null,{"$f":"INDEX(建筑!$B$2:$B$5001,MATCH(表格模板!A636,建筑!$A$2:$A$5001,0),COLUMN(A636))","v":{"$error":"#N/A"}},null,{"$f":"INDEX(设备类型!$B$2:$B$5001,MATCH(表格模板!C636,设备类型!$A$2:$A$5001,0),COLUMN(A636))","v":{"$error":"#N/A"}}]
[null,{"$f":"INDEX(建筑!$B$2:$B$5001,MATCH(表格模板!A637,建筑!$A$2:$A$5001,0),COLUMN(A637))","v":{"$error":"#N/A"}},null,{"$f":"INDEX(设备类型!$B$2:$B$5001,MATCH(表格模板!C637,设备类型!$A$2:$A$5001,0),COLUMN(A637))","v":{"$error":"#N/A"}}]
[null,{"$f":"INDEX(建筑!$B$2:$B$5001,MATCH(表格模板!A638,建筑!$A$2:$A$5001,0),COLUMN(A638))","v":{"$error":"#N/A"}},null,{"$f":"INDEX(设备类型!$B$2:$B$5001,MATCH(表格模板!C638,设备类型!$A$2:$A$5001,0),COLUMN(A638))","v":{"$error":"#N/A"}}]
[null,{"$f":"INDEX(建筑!$B$2:$B$5001,MATCH(表格模板!A639,建筑!$A$2:$A$5001,0),COLUMN(A639))","v":{"$error":"#N/A"}},null,{"$f":"INDEX(设备类型!$B$2:$B$5001,MATCH(表格模板!C639,设备类型!$A$2:$A$5001,0),COLUMN(A639))","v":{"$error":"#N/A"}}]
[null,{"$f":"INDEX(建筑!$B$2:$B$5001,MATCH(表格模板!A640,建筑!$A$2:$A$5001,0),COLUMN(A640))","v":{"$error":"#N/A"}},null,{"$f":"INDEX(设备类型!$B$2:$B$5001,MATCH(表格模板!C640,设备类型!$A$2:$A$5001,0),COLUMN(A640))","v":{"$error":"#N/A"}}]
[null,{"$f":"INDEX(建筑!$B$2:$B$5001,MATCH(表格模板!A641,建筑!$A$2:$A$5001,0),COLUMN(A641))","v":{"$error":"#N/A"}},null,{"$f":"INDEX(设备类型!$B$2:$B$5001,MATCH(表格模板!C641,设备类型!$A$2:$A$5001,0),COLUMN(A641))","v":{"$error":"#N/A"}}]
[null,{"$f":"INDEX(建筑!$B$2:$B$5001,MATCH(表格模板!A642,建筑!$A$2:$A$5001,0),COLUMN(A642))","v":{"$error":"#N/A"}},null,{"$f":"INDEX(设备类型!$B$2:$B$5001,MATCH(表格模板!C642,设备类型!$A$2:$A$5001,0),COLUMN(A642))","v":{"$error":"#N/A"}}]
[null,{"$f":"INDEX(建筑!$B$2:$B$5001,MATCH(表格模板!A643,建筑!$A$2:$A$5001,0),COLUMN(A643))","v":{"$error":"#N/A"}},null,{"$f":"INDEX(设备类型!$B$2:$B$5001,MATCH(表格模板!C643,设备类型!$A$2:$A$5001,0),COLUMN(A643))","v":{"$error":"#N/A"}}]
[null,{"$f":"INDEX(建筑!$B$2:$B$5001,MATCH(表格模板!A644,建筑!$A$2:$A$5001,0),COLUMN(A644))","v":{"$error":"#N/A"}},null,{"$f":"INDEX(设备类型!$B$2:$B$5001,MATCH(表格模板!C644,设备类型!$A$2:$A$5001,0),COLUMN(A644))","v":{"$error":"#N/A"}}]
[null,{"$f":"INDEX(建筑!$B$2:$B$5001,MATCH(表格模板!A645,建筑!$A$2:$A$5001,0),COLUMN(A645))","v":{"$error":"#N/A"}},null,{"$f":"INDEX(设备类型!$B$2:$B$5001,MATCH(表格模板!C645,设备类型!$A$2:$A$5001,0),COLUMN(A645))","v":{"$error":"#N/A"}}]
[null,{"$f":"INDEX(建筑!$B$2:$B$5001,MATCH(表格模板!A646,建筑!$A$2:$A$5001,0),COLUMN(A646))","v":{"$error":"#N/A"}},null,{"$f":"INDEX(设备类型!$B$2:$B$5001,MATCH(表格模板!C646,设备类型!$A$2:$A$5001,0),COLUMN(A646))","v":{"$error":"#N/A"}}]
[null,{"$f":"INDEX(建筑!$B$2:$B$5001,MATCH(表格模板!A647,建筑!$A$2:$A$5001,0),COLUMN(A647))","v":{"$error":"#N/A"}},null,{"$f":"INDEX(设备类型!$B$2:$B$5001,MATCH(表格模板!C647,设备类型!$A$2:$A$5001,0),COLUMN(A647))","v":{"$error":"#N/A"}}]
[null,{"$f":"INDEX(建筑!$B$2:$B$5001,MATCH(表格模板!A648,建筑!$A$2:$A$5001,0),COLUMN(A648))","v":{"$error":"#N/A"}},null,{"$f":"INDEX(设备类型!$B$2:$B$5001,MATCH(表格模板!C648,设备类型!$A$2:$A$5001,0),COLUMN(A648))","v":{"$error":"#N/A"}}]
[null,{"$f":"INDEX(建筑!$B$2:$B$5001,MATCH(表格模板!A649,建筑!$A$2:$A$5001,0),COLUMN(A649))","v":{"$error":"#N/A"}},null,{"$f":"INDEX(设备类型!$B$2:$B$5001,MATCH(表格模板!C649,设备类型!$A$2:$A$5001,0),COLUMN(A649))","v":{"$error":"#N/A"}}]
[null,{"$f":"INDEX(建筑!$B$2:$B$5001,MATCH(表格模板!A650,建筑!$A$2:$A$5001,0),COLUMN(A650))","v":{"$error":"#N/A"}},null,{"$f":"INDEX(设备类型!$B$2:$B$5001,MATCH(表格模板!C650,设备类型!$A$2:$A$5001,0),COLUMN(A650))","v":{"$error":"#N/A"}}]
[null,{"$f":"INDEX(建筑!$B$2:$B$5001,MATCH(表格模板!A651,建筑!$A$2:$A$5001,0),COLUMN(A651))","v":{"$error":"#N/A"}},null,{"$f":"INDEX(设备类型!$B$2:$B$5001,MATCH(表格模板!C651,设备类型!$A$2:$A$5001,0),COLUMN(A651))","v":{"$error":"#N/A"}}]
[null,{"$f":"INDEX(建筑!$B$2:$B$5001,MATCH(表格模板!A652,建筑!$A$2:$A$5001,0),COLUMN(A652))","v":{"$error":"#N/A"}},null,{"$f":"INDEX(设备类型!$B$2:$B$5001,MATCH(表格模板!C652,设备类型!$A$2:$A$5001,0),COLUMN(A652))","v":{"$error":"#N/A"}}]
[null,{"$f":"INDEX(建筑!$B$2:$B$5001,MATCH(表格模板!A653,建筑!$A$2:$A$5001,0),COLUMN(A653))","v":{"$error":"#N/A"}},null,{"$f":"INDEX(设备类型!$B$2:$B$5001,MATCH(表格模板!C653,设备类型!$A$2:$A$5001,0),COLUMN(A653))","v":{"$error":"#N/A"}}]
[null,{"$f":"INDEX(建筑!$B$2:$B$5001,MATCH(表格模板!A654,建筑!$A$2:$A$5001,0),COLUMN(A654))","v":{"$error":"#N/A"}},null,{"$f":"INDEX(设备类型!$B$2:$B$5001,MATCH(表格模板!C654,设备类型!$A$2:$A$5001,0),COLUMN(A654))","v":{"$error":"#N/A"}}]
[null,{"$f":"INDEX(建筑!$B$2:$B$5001,MATCH(表格模板!A655,建筑!$A$2:$A$5001,0),COLUMN(A655))","v":{"$error":"#N/A"}},null,{"$f":"INDEX(设备类型!$B$2:$B$5001,MATCH(表格模板!C655,设备类型!$A$2:$A$5001,0),COLUMN(A655))","v":{"$error":"#N/A"}}]
[null,{"$f":"INDEX(建筑!$B$2:$B$5001,MATCH(表格模板!A656,建筑!$A$2:$A$5001,0),COLUMN(A656))","v":{"$error":"#N/A"}},null,{"$f":"INDEX(设备类型!$B$2:$B$5001,MATCH(表格模板!C656,设备类型!$A$2:$A$5001,0),COLUMN(A656))","v":{"$error":"#N/A"}}]
[null,{"$f":"INDEX(建筑!$B$2:$B$5001,MATCH(表格模板!A657,建筑!$A$2:$A$5001,0),COLUMN(A657))","v":{"$error":"#N/A"}},null,{"$f":"INDEX(设备类型!$B$2:$B$5001,MATCH(表格模板!C657,设备类型!$A$2:$A$5001,0),COLUMN(A657))","v":{"$error":"#N/A"}}]
[null,{"$f":"INDEX(建筑!$B$2:$B$5001,MATCH(表格模板!A658,建筑!$A$2:$A$5001,0),COLUMN(A658))","v":{"$error":"#N/A"}},null,{"$f":"INDEX(设备类型!$B$2:$B$5001,MATCH(表格模板!C658,设备类型!$A$2:$A$5001,0),COLUMN(A658))","v":{"$error":"#N/A"}}]
[null,{"$f":"INDEX(建筑!$B$2:$B$5001,MATCH(表格模板!A659,建筑!$A$2:$A$5001,0),COLUMN(A659))","v":{"$error":"#N/A"}},null,{"$f":"INDEX(设备类型!$B$2:$B$5001,MATCH(表格模板!C659,设备类型!$A$2:$A$5001,0),COLUMN(A659))","v":{"$error":"#N/A"}}]
[null,{"$f":"INDEX(建筑!$B$2:$B$5001,MATCH(表格模板!A660,建筑!$A$2:$A$5001,0),COLUMN(A660))","v":{"$error":"#N/A"}},null,{"$f":"INDEX(设备类型!$B$2:$B$5001,MATCH(表格模板!C660,设备类型!$A$2:$A$5001,0),COLUMN(A660))","v":{"$error":"#N/A"}}]
[null,{"$f":"INDEX(建筑!$B$2:$B$5001,MATCH(表格模板!A661,建筑!$A$2:$A$5001,0),COLUMN(A661))","v":{"$error":"#N/A"}},null,{"$f":"INDEX(设备类型!$B$2:$B$5001,MATCH(表格模板!C661,设备类型!$A$2:$A$5001,0),COLUMN(A661))","v":{"$error":"#N/A"}}]
[null,{"$f":"INDEX(建筑!$B$2:$B$5001,MATCH(表格模板!A662,建筑!$A$2:$A$5001,0),COLUMN(A662))","v":{"$error":"#N/A"}},null,{"$f":"INDEX(设备类型!$B$2:$B$5001,MATCH(表格模板!C662,设备类型!$A$2:$A$5001,0),COLUMN(A662))","v":{"$error":"#N/A"}}]
[null,{"$f":"INDEX(建筑!$B$2:$B$5001,MATCH(表格模板!A663,建筑!$A$2:$A$5001,0),COLUMN(A663))","v":{"$error":"#N/A"}},null,{"$f":"INDEX(设备类型!$B$2:$B$5001,MATCH(表格模板!C663,设备类型!$A$2:$A$5001,0),COLUMN(A663))","v":{"$error":"#N/A"}}]
[null,{"$f":"INDEX(建筑!$B$2:$B$5001,MATCH(表格模板!A664,建筑!$A$2:$A$5001,0),COLUMN(A664))","v":{"$error":"#N/A"}},null,{"$f":"INDEX(设备类型!$B$2:$B$5001,MATCH(表格模板!C664,设备类型!$A$2:$A$5001,0),COLUMN(A664))","v":{"$error":"#N/A"}}]
[null,{"$f":"INDEX(建筑!$B$2:$B$5001,MATCH(表格模板!A665,建筑!$A$2:$A$5001,0),COLUMN(A665))","v":{"$error":"#N/A"}},null,{"$f":"INDEX(设备类型!$B$2:$B$5001,MATCH(表格模板!C665,设备类型!$A$2:$A$5001,0),COLUMN(A665))","v":{"$error":"#N/A"}}]
[null,{"$f":"INDEX(建筑!$B$2:$B$5001,MATCH(表格模板!A666,建筑!$A$2:$A$5001,0),COLUMN(A666))","v":{"$error":"#N/A"}},null,{"$f":"INDEX(设备类型!$B$2:$B$5001,MATCH(表格模板!C666,设备类型!$A$2:$A$5001,0),COLUMN(A666))","v":{"$error":"#N/A"}}]
[null,{"$f":"INDEX(建筑!$B$2:$B$5001,MATCH(表格模板!A667,建筑!$A$2:$A$5001,0),COLUMN(A667))","v":{"$error":"#N/A"}},null,{"$f":"INDEX(设备类型!$B$2:$B$5001,MATCH(表格模板!C667,设备类型!$A$2:$A$5001,0),COLUMN(A667))","v":{"$error":"#N/A"}}]
[null,{"$f":"INDEX(建筑!$B$2:$B$5001,MATCH(表格模板!A668,建筑!$A$2:$A$5001,0),COLUMN(A668))","v":{"$error":"#N/A"}},null,{"$f":"INDEX(设备类型!$B$2:$B$5001,MATCH(表格模板!C668,设备类型!$A$2:$A$5001,0),COLUMN(A668))","v":{"$error":"#N/A"}}]
[null,{"$f":"INDEX(建筑!$B$2:$B$5001,MATCH(表格模板!A669,建筑!$A$2:$A$5001,0),COLUMN(A669))","v":{"$error":"#N/A"}},null,{"$f":"INDEX(设备类型!$B$2:$B$5001,MATCH(表格模板!C669,设备类型!$A$2:$A$5001,0),COLUMN(A669))","v":{"$error":"#N/A"}}]
[null,{"$f":"INDEX(建筑!$B$2:$B$5001,MATCH(表格模板!A670,建筑!$A$2:$A$5001,0),COLUMN(A670))","v":{"$error":"#N/A"}},null,{"$f":"INDEX(设备类型!$B$2:$B$5001,MATCH(表格模板!C670,设备类型!$A$2:$A$5001,0),COLUMN(A670))","v":{"$error":"#N/A"}}]
[null,{"$f":"INDEX(建筑!$B$2:$B$5001,MATCH(表格模板!A671,建筑!$A$2:$A$5001,0),COLUMN(A671))","v":{"$error":"#N/A"}},null,{"$f":"INDEX(设备类型!$B$2:$B$5001,MATCH(表格模板!C671,设备类型!$A$2:$A$5001,0),COLUMN(A671))","v":{"$error":"#N/A"}}]
[null,{"$f":"INDEX(建筑!$B$2:$B$5001,MATCH(表格模板!A672,建筑!$A$2:$A$5001,0),COLUMN(A672))","v":{"$error":"#N/A"}},null,{"$f":"INDEX(设备类型!$B$2:$B$5001,MATCH(表格模板!C672,设备类型!$A$2:$A$5001,0),COLUMN(A672))","v":{"$error":"#N/A"}}]
[null,{"$f":"INDEX(建筑!$B$2:$B$5001,MATCH(表格模板!A673,建筑!$A$2:$A$5001,0),COLUMN(A673))","v":{"$error":"#N/A"}},null,{"$f":"INDEX(设备类型!$B$2:$B$5001,MATCH(表格模板!C673,设备类型!$A$2:$A$5001,0),COLUMN(A673))","v":{"$error":"#N/A"}}]
[null,{"$f":"INDEX(建筑!$B$2:$B$5001,MATCH(表格模板!A674,建筑!$A$2:$A$5001,0),COLUMN(A674))","v":{"$error":"#N/A"}},null,{"$f":"INDEX(设备类型!$B$2:$B$5001,MATCH(表格模板!C674,设备类型!$A$2:$A$5001,0),COLUMN(A674))","v":{"$error":"#N/A"}}]
[null,{"$f":"INDEX(建筑!$B$2:$B$5001,MATCH(表格模板!A675,建筑!$A$2:$A$5001,0),COLUMN(A675))","v":{"$error":"#N/A"}},null,{"$f":"INDEX(设备类型!$B$2:$B$5001,MATCH(表格模板!C675,设备类型!$A$2:$A$5001,0),COLUMN(A675))","v":{"$error":"#N/A"}}]
[null,{"$f":"INDEX(建筑!$B$2:$B$5001,MATCH(表格模板!A676,建筑!$A$2:$A$5001,0),COLUMN(A676))","v":{"$error":"#N/A"}},null,{"$f":"INDEX(设备类型!$B$2:$B$5001,MATCH(表格模板!C676,设备类型!$A$2:$A$5001,0),COLUMN(A676))","v":{"$error":"#N/A"}}]
[null,{"$f":"INDEX(建筑!$B$2:$B$5001,MATCH(表格模板!A677,建筑!$A$2:$A$5001,0),COLUMN(A677))","v":{"$error":"#N/A"}},null,{"$f":"INDEX(设备类型!$B$2:$B$5001,MATCH(表格模板!C677,设备类型!$A$2:$A$5001,0),COLUMN(A677))","v":{"$error":"#N/A"}}]
[null,{"$f":"INDEX(建筑!$B$2:$B$5001,MATCH(表格模板!A678,建筑!$A$2:$A$5001,0),COLUMN(A678))","v":{"$error":"#N/A"}},null,{"$f":"INDEX(设备类型!$B$2:$B$5001,MATCH(表格模板!C678,设备类型!$A$2:$A$5001,0),COLUMN(A678))","v":{"$error":"#N/A"}}]
[null,{"$f":"INDEX(建筑!$B$2:$B$5001,MATCH(表格模板!A679,建筑!$A$2:$A$5001,0),COLUMN(A679))","v":{"$error":"#N/A"}},null,{"$f":"INDEX(设备类型!$B$2:$B$5001,MATCH(表格模板!C679,设备类型!$A$2:$A$5001,0),COLUMN(A679))","v":{"$error":"#N/A"}}]
[null,{"$f":"INDEX(建筑!$B$2:$B$5001,MATCH(表格模板!A680,建筑!$A$2:$A$5001,0),COLUMN(A680))","v":{"$error":"#N/A"}},null,{"$f":"INDEX(设备类型!$B$2:$B$5001,MATCH(表格模板!C680,设备类型!$A$2:$A$5001,0),COLUMN(A680))","v":{"$error":"#N/A"}}]
[null,{"$f":"INDEX(建筑!$B$2:$B$5001,MATCH(表格模板!A681,建筑!$A$2:$A$5001,0),COLUMN(A681))","v":{"$error":"#N/A"}},null,{"$f":"INDEX(设备类型!$B$2:$B$5001,MATCH(表格模板!C681,设备类型!$A$2:$A$5001,0),COLUMN(A681))","v":{"$error":"#N/A"}}]
[null,{"$f":"INDEX(建筑!$B$2:$B$5001,MATCH(表格模板!A682,建筑!$A$2:$A$5001,0),COLUMN(A682))","v":{"$error":"#N/A"}},null,{"$f":"INDEX(设备类型!$B$2:$B$5001,MATCH(表格模板!C682,设备类型!$A$2:$A$5001,0),COLUMN(A682))","v":{"$error":"#N/A"}}]
[null,{"$f":"INDEX(建筑!$B$2:$B$5001,MATCH(表格模板!A683,建筑!$A$2:$A$5001,0),COLUMN(A683))","v":{"$error":"#N/A"}},null,{"$f":"INDEX(设备类型!$B$2:$B$5001,MATCH(表格模板!C683,设备类型!$A$2:$A$5001,0),COLUMN(A683))","v":{"$error":"#N/A"}}]
[null,{"$f":"INDEX(建筑!$B$2:$B$5001,MATCH(表格模板!A684,建筑!$A$2:$A$5001,0),COLUMN(A684))","v":{"$error":"#N/A"}},null,{"$f":"INDEX(设备类型!$B$2:$B$5001,MATCH(表格模板!C684,设备类型!$A$2:$A$5001,0),COLUMN(A684))","v":{"$error":"#N/A"}}]
[null,{"$f":"INDEX(建筑!$B$2:$B$5001,MATCH(表格模板!A685,建筑!$A$2:$A$5001,0),COLUMN(A685))","v":{"$error":"#N/A"}},null,{"$f":"INDEX(设备类型!$B$2:$B$5001,MATCH(表格模板!C685,设备类型!$A$2:$A$5001,0),COLUMN(A685))","v":{"$error":"#N/A"}}]
[null,{"$f":"INDEX(建筑!$B$2:$B$5001,MATCH(表格模板!A686,建筑!$A$2:$A$5001,0),COLUMN(A686))","v":{"$error":"#N/A"}},null,{"$f":"INDEX(设备类型!$B$2:$B$5001,MATCH(表格模板!C686,设备类型!$A$2:$A$5001,0),COLUMN(A686))","v":{"$error":"#N/A"}}]
[null,{"$f":"INDEX(建筑!$B$2:$B$5001,MATCH(表格模板!A687,建筑!$A$2:$A$5001,0),COLUMN(A687))","v":{"$error":"#N/A"}},null,{"$f":"INDEX(设备类型!$B$2:$B$5001,MATCH(表格模板!C687,设备类型!$A$2:$A$5001,0),COLUMN(A687))","v":{"$error":"#N/A"}}]
[null,{"$f":"INDEX(建筑!$B$2:$B$5001,MATCH(表格模板!A688,建筑!$A$2:$A$5001,0),COLUMN(A688))","v":{"$error":"#N/A"}},null,{"$f":"INDEX(设备类型!$B$2:$B$5001,MATCH(表格模板!C688,设备类型!$A$2:$A$5001,0),COLUMN(A688))","v":{"$error":"#N/A"}}]
[null,{"$f":"INDEX(建筑!$B$2:$B$5001,MATCH(表格模板!A689,建筑!$A$2:$A$5001,0),COLUMN(A689))","v":{"$error":"#N/A"}},null,{"$f":"INDEX(设备类型!$B$2:$B$5001,MATCH(表格模板!C689,设备类型!$A$2:$A$5001,0),COLUMN(A689))","v":{"$error":"#N/A"}}]
[null,{"$f":"INDEX(建筑!$B$2:$B$5001,MATCH(表格模板!A690,建筑!$A$2:$A$5001,0),COLUMN(A690))","v":{"$error":"#N/A"}},null,{"$f":"INDEX(设备类型!$B$2:$B$5001,MATCH(表格模板!C690,设备类型!$A$2:$A$5001,0),COLUMN(A690))","v":{"$error":"#N/A"}}]
[null,{"$f":"INDEX(建筑!$B$2:$B$5001,MATCH(表格模板!A691,建筑!$A$2:$A$5001,0),COLUMN(A691))","v":{"$error":"#N/A"}},null,{"$f":"INDEX(设备类型!$B$2:$B$5001,MATCH(表格模板!C691,设备类型!$A$2:$A$5001,0),COLUMN(A691))","v":{"$error":"#N/A"}}]
[null,{"$f":"INDEX(建筑!$B$2:$B$5001,MATCH(表格模板!A692,建筑!$A$2:$A$5001,0),COLUMN(A692))","v":{"$error":"#N/A"}},null,{"$f":"INDEX(设备类型!$B$2:$B$5001,MATCH(表格模板!C692,设备类型!$A$2:$A$5001,0),COLUMN(A692))","v":{"$error":"#N/A"}}]
[null,{"$f":"INDEX(建筑!$B$2:$B$5001,MATCH(表格模板!A693,建筑!$A$2:$A$5001,0),COLUMN(A693))","v":{"$error":"#N/A"}},null,{"$f":"INDEX(设备类型!$B$2:$B$5001,MATCH(表格模板!C693,设备类型!$A$2:$A$5001,0),COLUMN(A693))","v":{"$error":"#N/A"}}]
[null,{"$f":"INDEX(建筑!$B$2:$B$5001,MATCH(表格模板!A694,建筑!$A$2:$A$5001,0),COLUMN(A694))","v":{"$error":"#N/A"}},null,{"$f":"INDEX(设备类型!$B$2:$B$5001,MATCH(表格模板!C694,设备类型!$A$2:$A$5001,0),COLUMN(A694))","v":{"$error":"#N/A"}}]
[null,{"$f":"INDEX(建筑!$B$2:$B$5001,MATCH(表格模板!A695,建筑!$A$2:$A$5001,0),COLUMN(A695))","v":{"$error":"#N/A"}},null,{"$f":"INDEX(设备类型!$B$2:$B$5001,MATCH(表格模板!C695,设备类型!$A$2:$A$5001,0),COLUMN(A695))","v":{"$error":"#N/A"}}]
[null,{"$f":"INDEX(建筑!$B$2:$B$5001,MATCH(表格模板!A696,建筑!$A$2:$A$5001,0),COLUMN(A696))","v":{"$error":"#N/A"}},null,{"$f":"INDEX(设备类型!$B$2:$B$5001,MATCH(表格模板!C696,设备类型!$A$2:$A$5001,0),COLUMN(A696))","v":{"$error":"#N/A"}}]
[null,{"$f":"INDEX(建筑!$B$2:$B$5001,MATCH(表格模板!A697,建筑!$A$2:$A$5001,0),COLUMN(A697))","v":{"$error":"#N/A"}},null,{"$f":"INDEX(设备类型!$B$2:$B$5001,MATCH(表格模板!C697,设备类型!$A$2:$A$5001,0),COLUMN(A697))","v":{"$error":"#N/A"}}]
[null,{"$f":"INDEX(建筑!$B$2:$B$5001,MATCH(表格模板!A698,建筑!$A$2:$A$5001,0),COLUMN(A698))","v":{"$error":"#N/A"}},null,{"$f":"INDEX(设备类型!$B$2:$B$5001,MATCH(表格模板!C698,设备类型!$A$2:$A$5001,0),COLUMN(A698))","v":{"$error":"#N/A"}}]
[null,{"$f":"INDEX(建筑!$B$2:$B$5001,MATCH(表格模板!A699,建筑!$A$2:$A$5001,0),COLUMN(A699))","v":{"$error":"#N/A"}},null,{"$f":"INDEX(设备类型!$B$2:$B$5001,MATCH(表格模板!C699,设备类型!$A$2:$A$5001,0),COLUMN(A699))","v":{"$error":"#N/A"}}]
[null,{"$f":"INDEX(建筑!$B$2:$B$5001,MATCH(表格模板!A700,建筑!$A$2:$A$5001,0),COLUMN(A700))","v":{"$error":"#N/A"}},null,{"$f":"INDEX(设备类型!$B$2:$B$5001,MATCH(表格模板!C700,设备类型!$A$2:$A$5001,0),COLUMN(A700))","v":{"$error":"#N/A"}}]
[null,{"$f":"INDEX(建筑!$B$2:$B$5001,MATCH(表格模板!A701,建筑!$A$2:$A$5001,0),COLUMN(A701))","v":{"$error":"#N/A"}},null,{"$f":"INDEX(设备类型!$B$2:$B$5001,MATCH(表格模板!C701,设备类型!$A$2:$A$5001,0),COLUMN(A701))","v":{"$error":"#N/A"}}]
[null,{"$f":"INDEX(建筑!$B$2:$B$5001,MATCH(表格模板!A702,建筑!$A$2:$A$5001,0),COLUMN(A702))","v":{"$error":"#N/A"}},null,{"$f":"INDEX(设备类型!$B$2:$B$5001,MATCH(表格模板!C702,设备类型!$A$2:$A$5001,0),COLUMN(A702))","v":{"$error":"#N/A"}}]
[null,{"$f":"INDEX(建筑!$B$2:$B$5001,MATCH(表格模板!A703,建筑!$A$2:$A$5001,0),COLUMN(A703))","v":{"$error":"#N/A"}},null,{"$f":"INDEX(设备类型!$B$2:$B$5001,MATCH(表格模板!C703,设备类型!$A$2:$A$5001,0),COLUMN(A703))","v":{"$error":"#N/A"}}]
[null,{"$f":"INDEX(建筑!$B$2:$B$5001,MATCH(表格模板!A704,建筑!$A$2:$A$5001,0),COLUMN(A704))","v":{"$error":"#N/A"}},null,{"$f":"INDEX(设备类型!$B$2:$B$5001,MATCH(表格模板!C704,设备类型!$A$2:$A$5001,0),COLUMN(A704))","v":{"$error":"#N/A"}}]
[null,{"$f":"INDEX(建筑!$B$2:$B$5001,MATCH(表格模板!A705,建筑!$A$2:$A$5001,0),COLUMN(A705))","v":{"$error":"#N/A"}},null,{"$f":"INDEX(设备类型!$B$2:$B$5001,MATCH(表格模板!C705,设备类型!$A$2:$A$5001,0),COLUMN(A705))","v":{"$error":"#N/A"}}]
[null,{"$f":"INDEX(建筑!$B$2:$B$5001,MATCH(表格模板!A706,建筑!$A$2:$A$5001,0),COLUMN(A706))","v":{"$error":"#N/A"}},null,{"$f":"INDEX(设备类型!$B$2:$B$5001,MATCH(表格模板!C706,设备类型!$A$2:$A$5001,0),COLUMN(A706))","v":{"$error":"#N/A"}}]
[null,{"$f":"INDEX(建筑!$B$2:$B$5001,MATCH(表格模板!A707,建筑!$A$2:$A$5001,0),COLUMN(A707))","v":{"$error":"#N/A"}},null,{"$f":"INDEX(设备类型!$B$2:$B$5001,MATCH(表格模板!C707,设备类型!$A$2:$A$5001,0),COLUMN(A707))","v":{"$error":"#N/A"}}]
[null,{"$f":"INDEX(建筑!$B$2:$B$5001,MATCH(表格模板!A708,建筑!$A$2:$A$5001,0),COLUMN(A708))","v":{"$error":"#N/A"}},null,{"$f":"INDEX(设备类型!$B$2:$B$5001,MATCH(表格模板!C708,设备类型!$A$2:$A$5001,0),COLUMN(A708))","v":{"$error":"#N/A"}}]
[null,{"$f":"INDEX(建筑!$B$2:$B$5001,MATCH(表格模板!A709,建筑!$A$2:$A$5001,0),COLUMN(A709))","v":{"$error":"#N/A"}},null,{"$f":"INDEX(设备类型!$B$2:$B$5001,MATCH(表格模板!C709,设备类型!$A$2:$A$5001,0),COLUMN(A709))","v":{"$error":"#N/A"}}]
[null,{"$f":"INDEX(建筑!$B$2:$B$5001,MATCH(表格模板!A710,建筑!$A$2:$A$5001,0),COLUMN(A710))","v":{"$error":"#N/A"}},null,{"$f":"INDEX(设备类型!$B$2:$B$5001,MATCH(表格模板!C710,设备类型!$A$2:$A$5001,0),COLUMN(A710))","v":{"$error":"#N/A"}}]
[null,{"$f":"INDEX(建筑!$B$2:$B$5001,MATCH(表格模板!A711,建筑!$A$2:$A$5001,0),COLUMN(A711))","v":{"$error":"#N/A"}},null,{"$f":"INDEX(设备类型!$B$2:$B$5001,MATCH(表格模板!C711,设备类型!$A$2:$A$5001,0),COLUMN(A711))","v":{"$error":"#N/A"}}]
[null,{"$f":"INDEX(建筑!$B$2:$B$5001,MATCH(表格模板!A712,建筑!$A$2:$A$5001,0),COLUMN(A712))","v":{"$error":"#N/A"}},null,{"$f":"INDEX(设备类型!$B$2:$B$5001,MATCH(表格模板!C712,设备类型!$A$2:$A$5001,0),COLUMN(A712))","v":{"$error":"#N/A"}}]
[null,{"$f":"INDEX(建筑!$B$2:$B$5001,MATCH(表格模板!A713,建筑!$A$2:$A$5001,0),COLUMN(A713))","v":{"$error":"#N/A"}},null,{"$f":"INDEX(设备类型!$B$2:$B$5001,MATCH(表格模板!C713,设备类型!$A$2:$A$5001,0),COLUMN(A713))","v":{"$error":"#N/A"}}]
[null,{"$f":"INDEX(建筑!$B$2:$B$5001,MATCH(表格模板!A714,建筑!$A$2:$A$5001,0),COLUMN(A714))","v":{"$error":"#N/A"}},null,{"$f":"INDEX(设备类型!$B$2:$B$5001,MATCH(表格模板!C714,设备类型!$A$2:$A$5001,0),COLUMN(A714))","v":{"$error":"#N/A"}}]
[null,{"$f":"INDEX(建筑!$B$2:$B$5001,MATCH(表格模板!A715,建筑!$A$2:$A$5001,0),COLUMN(A715))","v":{"$error":"#N/A"}},null,{"$f":"INDEX(设备类型!$B$2:$B$5001,MATCH(表格模板!C715,设备类型!$A$2:$A$5001,0),COLUMN(A715))","v":{"$error":"#N/A"}}]
[null,{"$f":"INDEX(建筑!$B$2:$B$5001,MATCH(表格模板!A716,建筑!$A$2:$A$5001,0),COLUMN(A716))","v":{"$error":"#N/A"}},null,{"$f":"INDEX(设备类型!$B$2:$B$5001,MATCH(表格模板!C716,设备类型!$A$2:$A$5001,0),COLUMN(A716))","v":{"$error":"#N/A"}}]
[null,{"$f":"INDEX(建筑!$B$2:$B$5001,MATCH(表格模板!A717,建筑!$A$2:$A$5001,0),COLUMN(A717))","v":{"$error":"#N/A"}},null,{"$f":"INDEX(设备类型!$B$2:$B$5001,MATCH(表格模板!C717,设备类型!$A$2:$A$5001,0),COLUMN(A717))","v":{"$error":"#N/A"}}]
[null,{"$f":"INDEX(建筑!$B$2:$B$5001,MATCH(表格模板!A718,建筑!$A$2:$A$5001,0),COLUMN(A718))","v":{"$error":"#N/A"}},null,{"$f":"INDEX(设备类型!$B$2:$B$5001,MATCH(表格模板!C718,设备类型!$A$2:$A$5001,0),COLUMN(A718))","v":{"$error":"#N/A"}}]
[null,{"$f":"INDEX(建筑!$B$2:$B$5001,MATCH(表格模板!A719,建筑!$A$2:$A$5001,0),COLUMN(A719))","v":{"$error":"#N/A"}},null,{"$f":"INDEX(设备类型!$B$2:$B$5001,MATCH(表格模板!C719,设备类型!$A$2:$A$5001,0),COLUMN(A719))","v":{"$error":"#N/A"}}]
[null,{"$f":"INDEX(建筑!$B$2:$B$5001,MATCH(表格模板!A720,建筑!$A$2:$A$5001,0),COLUMN(A720))","v":{"$error":"#N/A"}},null,{"$f":"INDEX(设备类型!$B$2:$B$5001,MATCH(表格模板!C720,设备类型!$A$2:$A$5001,0),COLUMN(A720))","v":{"$error":"#N/A"}}]
[null,{"$f":"INDEX(建筑!$B$2:$B$5001,MATCH(表格模板!A721,建筑!$A$2:$A$5001,0),COLUMN(A721))","v":{"$error":"#N/A"}},null,{"$f":"INDEX(设备类型!$B$2:$B$5001,MATCH(表格模板!C721,设备类型!$A$2:$A$5001,0),COLUMN(A721))","v":{"$error":"#N/A"}}]
[null,{"$f":"INDEX(建筑!$B$2:$B$5001,MATCH(表格模板!A722,建筑!$A$2:$A$5001,0),COLUMN(A722))","v":{"$error":"#N/A"}},null,{"$f":"INDEX(设备类型!$B$2:$B$5001,MATCH(表格模板!C722,设备类型!$A$2:$A$5001,0),COLUMN(A722))","v":{"$error":"#N/A"}}]
[null,{"$f":"INDEX(建筑!$B$2:$B$5001,MATCH(表格模板!A723,建筑!$A$2:$A$5001,0),COLUMN(A723))","v":{"$error":"#N/A"}},null,{"$f":"INDEX(设备类型!$B$2:$B$5001,MATCH(表格模板!C723,设备类型!$A$2:$A$5001,0),COLUMN(A723))","v":{"$error":"#N/A"}}]
[null,{"$f":"INDEX(建筑!$B$2:$B$5001,MATCH(表格模板!A724,建筑!$A$2:$A$5001,0),COLUMN(A724))","v":{"$error":"#N/A"}},null,{"$f":"INDEX(设备类型!$B$2:$B$5001,MATCH(表格模板!C724,设备类型!$A$2:$A$5001,0),COLUMN(A724))","v":{"$error":"#N/A"}}]
[null,{"$f":"INDEX(建筑!$B$2:$B$5001,MATCH(表格模板!A725,建筑!$A$2:$A$5001,0),COLUMN(A725))","v":{"$error":"#N/A"}},null,{"$f":"INDEX(设备类型!$B$2:$B$5001,MATCH(表格模板!C725,设备类型!$A$2:$A$5001,0),COLUMN(A725))","v":{"$error":"#N/A"}}]
[null,{"$f":"INDEX(建筑!$B$2:$B$5001,MATCH(表格模板!A726,建筑!$A$2:$A$5001,0),COLUMN(A726))","v":{"$error":"#N/A"}},null,{"$f":"INDEX(设备类型!$B$2:$B$5001,MATCH(表格模板!C726,设备类型!$A$2:$A$5001,0),COLUMN(A726))","v":{"$error":"#N/A"}}]
[null,{"$f":"INDEX(建筑!$B$2:$B$5001,MATCH(表格模板!A727,建筑!$A$2:$A$5001,0),COLUMN(A727))","v":{"$error":"#N/A"}},null,{"$f":"INDEX(设备类型!$B$2:$B$5001,MATCH(表格模板!C727,设备类型!$A$2:$A$5001,0),COLUMN(A727))","v":{"$error":"#N/A"}}]
[null,{"$f":"INDEX(建筑!$B$2:$B$5001,MATCH(表格模板!A728,建筑!$A$2:$A$5001,0),COLUMN(A728))","v":{"$error":"#N/A"}},null,{"$f":"INDEX(设备类型!$B$2:$B$5001,MATCH(表格模板!C728,设备类型!$A$2:$A$5001,0),COLUMN(A728))","v":{"$error":"#N/A"}}]
[null,{"$f":"INDEX(建筑!$B$2:$B$5001,MATCH(表格模板!A729,建筑!$A$2:$A$5001,0),COLUMN(A729))","v":{"$error":"#N/A"}},null,{"$f":"INDEX(设备类型!$B$2:$B$5001,MATCH(表格模板!C729,设备类型!$A$2:$A$5001,0),COLUMN(A729))","v":{"$error":"#N/A"}}]
[null,{"$f":"INDEX(建筑!$B$2:$B$5001,MATCH(表格模板!A730,建筑!$A$2:$A$5001,0),COLUMN(A730))","v":{"$error":"#N/A"}},null,{"$f":"INDEX(设备类型!$B$2:$B$5001,MATCH(表格模板!C730,设备类型!$A$2:$A$5001,0),COLUMN(A730))","v":{"$error":"#N/A"}}]
[null,{"$f":"INDEX(建筑!$B$2:$B$5001,MATCH(表格模板!A731,建筑!$A$2:$A$5001,0),COLUMN(A731))","v":{"$error":"#N/A"}},null,{"$f":"INDEX(设备类型!$B$2:$B$5001,MATCH(表格模板!C731,设备类型!$A$2:$A$5001,0),COLUMN(A731))","v":{"$error":"#N/A"}}]
[null,{"$f":"INDEX(建筑!$B$2:$B$5001,MATCH(表格模板!A732,建筑!$A$2:$A$5001,0),COLUMN(A732))","v":{"$error":"#N/A"}},null,{"$f":"INDEX(设备类型!$B$2:$B$5001,MATCH(表格模板!C732,设备类型!$A$2:$A$5001,0),COLUMN(A732))","v":{"$error":"#N/A"}}]
[null,{"$f":"INDEX(建筑!$B$2:$B$5001,MATCH(表格模板!A733,建筑!$A$2:$A$5001,0),COLUMN(A733))","v":{"$error":"#N/A"}},null,{"$f":"INDEX(设备类型!$B$2:$B$5001,MATCH(表格模板!C733,设备类型!$A$2:$A$5001,0),COLUMN(A733))","v":{"$error":"#N/A"}}]
[null,{"$f":"INDEX(建筑!$B$2:$B$5001,MATCH(表格模板!A734,建筑!$A$2:$A$5001,0),COLUMN(A734))","v":{"$error":"#N/A"}},null,{"$f":"INDEX(设备类型!$B$2:$B$5001,MATCH(表格模板!C734,设备类型!$A$2:$A$5001,0),COLUMN(A734))","v":{"$error":"#N/A"}}]
[null,{"$f":"INDEX(建筑!$B$2:$B$5001,MATCH(表格模板!A735,建筑!$A$2:$A$5001,0),COLUMN(A735))","v":{"$error":"#N/A"}},null,{"$f":"INDEX(设备类型!$B$2:$B$5001,MATCH(表格模板!C735,设备类型!$A$2:$A$5001,0),COLUMN(A735))","v":{"$error":"#N/A"}}]
[null,{"$f":"INDEX(建筑!$B$2:$B$5001,MATCH(表格模板!A736,建筑!$A$2:$A$5001,0),COLUMN(A736))","v":{"$error":"#N/A"}},null,{"$f":"INDEX(设备类型!$B$2:$B$5001,MATCH(表格模板!C736,设备类型!$A$2:$A$5001,0),COLUMN(A736))","v":{"$error":"#N/A"}}]
[null,{"$f":"INDEX(建筑!$B$2:$B$5001,MATCH(表格模板!A737,建筑!$A$2:$A$5001,0),COLUMN(A737))","v":{"$error":"#N/A"}},null,{"$f":"INDEX(设备类型!$B$2:$B$5001,MATCH(表格模板!C737,设备类型!$A$2:$A$5001,0),COLUMN(A737))","v":{"$error":"#N/A"}}]
[null,{"$f":"INDEX(建筑!$B$2:$B$5001,MATCH(表格模板!A738,建筑!$A$2:$A$5001,0),COLUMN(A738))","v":{"$error":"#N/A"}},null,{"$f":"INDEX(设备类型!$B$2:$B$5001,MATCH(表格模板!C738,设备类型!$A$2:$A$5001,0),COLUMN(A738))","v":{"$error":"#N/A"}}]
[null,{"$f":"INDEX(建筑!$B$2:$B$5001,MATCH(表格模板!A739,建筑!$A$2:$A$5001,0),COLUMN(A739))","v":{"$error":"#N/A"}},null,{"$f":"INDEX(设备类型!$B$2:$B$5001,MATCH(表格模板!C739,设备类型!$A$2:$A$5001,0),COLUMN(A739))","v":{"$error":"#N/A"}}]
[null,{"$f":"INDEX(建筑!$B$2:$B$5001,MATCH(表格模板!A740,建筑!$A$2:$A$5001,0),COLUMN(A740))","v":{"$error":"#N/A"}},null,{"$f":"INDEX(设备类型!$B$2:$B$5001,MATCH(表格模板!C740,设备类型!$A$2:$A$5001,0),COLUMN(A740))","v":{"$error":"#N/A"}}]
[null,{"$f":"INDEX(建筑!$B$2:$B$5001,MATCH(表格模板!A741,建筑!$A$2:$A$5001,0),COLUMN(A741))","v":{"$error":"#N/A"}},null,{"$f":"INDEX(设备类型!$B$2:$B$5001,MATCH(表格模板!C741,设备类型!$A$2:$A$5001,0),COLUMN(A741))","v":{"$error":"#N/A"}}]
[null,{"$f":"INDEX(建筑!$B$2:$B$5001,MATCH(表格模板!A742,建筑!$A$2:$A$5001,0),COLUMN(A742))","v":{"$error":"#N/A"}},null,{"$f":"INDEX(设备类型!$B$2:$B$5001,MATCH(表格模板!C742,设备类型!$A$2:$A$5001,0),COLUMN(A742))","v":{"$error":"#N/A"}}]
[null,{"$f":"INDEX(建筑!$B$2:$B$5001,MATCH(表格模板!A743,建筑!$A$2:$A$5001,0),COLUMN(A743))","v":{"$error":"#N/A"}},null,{"$f":"INDEX(设备类型!$B$2:$B$5001,MATCH(表格模板!C743,设备类型!$A$2:$A$5001,0),COLUMN(A743))","v":{"$error":"#N/A"}}]
[null,{"$f":"INDEX(建筑!$B$2:$B$5001,MATCH(表格模板!A744,建筑!$A$2:$A$5001,0),COLUMN(A744))","v":{"$error":"#N/A"}},null,{"$f":"INDEX(设备类型!$B$2:$B$5001,MATCH(表格模板!C744,设备类型!$A$2:$A$5001,0),COLUMN(A744))","v":{"$error":"#N/A"}}]
[null,{"$f":"INDEX(建筑!$B$2:$B$5001,MATCH(表格模板!A745,建筑!$A$2:$A$5001,0),COLUMN(A745))","v":{"$error":"#N/A"}},null,{"$f":"INDEX(设备类型!$B$2:$B$5001,MATCH(表格模板!C745,设备类型!$A$2:$A$5001,0),COLUMN(A745))","v":{"$error":"#N/A"}}]
[null,{"$f":"INDEX(建筑!$B$2:$B$5001,MATCH(表格模板!A746,建筑!$A$2:$A$5001,0),COLUMN(A746))","v":{"$error":"#N/A"}},null,{"$f":"INDEX(设备类型!$B$2:$B$5001,MATCH(表格模板!C746,设备类型!$A$2:$A$5001,0),COLUMN(A746))","v":{"$error":"#N/A"}}]
[null,{"$f":"INDEX(建筑!$B$2:$B$5001,MATCH(表格模板!A747,建筑!$A$2:$A$5001,0),COLUMN(A747))","v":{"$error":"#N/A"}},null,{"$f":"INDEX(设备类型!$B$2:$B$5001,MATCH(表格模板!C747,设备类型!$A$2:$A$5001,0),COLUMN(A747))","v":{"$error":"#N/A"}}]
[null,{"$f":"INDEX(建筑!$B$2:$B$5001,MATCH(表格模板!A748,建筑!$A$2:$A$5001,0),COLUMN(A748))","v":{"$error":"#N/A"}},null,{"$f":"INDEX(设备类型!$B$2:$B$5001,MATCH(表格模板!C748,设备类型!$A$2:$A$5001,0),COLUMN(A748))","v":{"$error":"#N/A"}}]
[null,{"$f":"INDEX(建筑!$B$2:$B$5001,MATCH(表格模板!A749,建筑!$A$2:$A$5001,0),COLUMN(A749))","v":{"$error":"#N/A"}},null,{"$f":"INDEX(设备类型!$B$2:$B$5001,MATCH(表格模板!C749,设备类型!$A$2:$A$5001,0),COLUMN(A749))","v":{"$error":"#N/A"}}]
[null,{"$f":"INDEX(建筑!$B$2:$B$5001,MATCH(表格模板!A750,建筑!$A$2:$A$5001,0),COLUMN(A750))","v":{"$error":"#N/A"}},null,{"$f":"INDEX(设备类型!$B$2:$B$5001,MATCH(表格模板!C750,设备类型!$A$2:$A$5001,0),COLUMN(A750))","v":{"$error":"#N/A"}}]
[null,{"$f":"INDEX(建筑!$B$2:$B$5001,MATCH(表格模板!A751,建筑!$A$2:$A$5001,0),COLUMN(A751))","v":{"$error":"#N/A"}},null,{"$f":"INDEX(设备类型!$B$2:$B$5001,MATCH(表格模板!C751,设备类型!$A$2:$A$5001,0),COLUMN(A751))","v":{"$error":"#N/A"}}]
[null,{"$f":"INDEX(建筑!$B$2:$B$5001,MATCH(表格模板!A752,建筑!$A$2:$A$5001,0),COLUMN(A752))","v":{"$error":"#N/A"}},null,{"$f":"INDEX(设备类型!$B$2:$B$5001,MATCH(表格模板!C752,设备类型!$A$2:$A$5001,0),COLUMN(A752))","v":{"$error":"#N/A"}}]
[null,{"$f":"INDEX(建筑!$B$2:$B$5001,MATCH(表格模板!A753,建筑!$A$2:$A$5001,0),COLUMN(A753))","v":{"$error":"#N/A"}},null,{"$f":"INDEX(设备类型!$B$2:$B$5001,MATCH(表格模板!C753,设备类型!$A$2:$A$5001,0),COLUMN(A753))","v":{"$error":"#N/A"}}]
[null,{"$f":"INDEX(建筑!$B$2:$B$5001,MATCH(表格模板!A754,建筑!$A$2:$A$5001,0),COLUMN(A754))","v":{"$error":"#N/A"}},null,{"$f":"INDEX(设备类型!$B$2:$B$5001,MATCH(表格模板!C754,设备类型!$A$2:$A$5001,0),COLUMN(A754))","v":{"$error":"#N/A"}}]
[null,{"$f":"INDEX(建筑!$B$2:$B$5001,MATCH(表格模板!A755,建筑!$A$2:$A$5001,0),COLUMN(A755))","v":{"$error":"#N/A"}},null,{"$f":"INDEX(设备类型!$B$2:$B$5001,MATCH(表格模板!C755,设备类型!$A$2:$A$5001,0),COLUMN(A755))","v":{"$error":"#N/A"}}]
[null,{"$f":"INDEX(建筑!$B$2:$B$5001,MATCH(表格模板!A756,建筑!$A$2:$A$5001,0),COLUMN(A756))","v":{"$error":"#N/A"}},null,{"$f":"INDEX(设备类型!$B$2:$B$5001,MATCH(表格模板!C756,设备类型!$A$2:$A$5001,0),COLUMN(A756))","v":{"$error":"#N/A"}}]
[null,{"$f":"INDEX(建筑!$B$2:$B$5001,MATCH(表格模板!A757,建筑!$A$2:$A$5001,0),COLUMN(A757))","v":{"$error":"#N/A"}},null,{"$f":"INDEX(设备类型!$B$2:$B$5001,MATCH(表格模板!C757,设备类型!$A$2:$A$5001,0),COLUMN(A757))","v":{"$error":"#N/A"}}]
[null,{"$f":"INDEX(建筑!$B$2:$B$5001,MATCH(表格模板!A758,建筑!$A$2:$A$5001,0),COLUMN(A758))","v":{"$error":"#N/A"}},null,{"$f":"INDEX(设备类型!$B$2:$B$5001,MATCH(表格模板!C758,设备类型!$A$2:$A$5001,0),COLUMN(A758))","v":{"$error":"#N/A"}}]
[null,{"$f":"INDEX(建筑!$B$2:$B$5001,MATCH(表格模板!A759,建筑!$A$2:$A$5001,0),COLUMN(A759))","v":{"$error":"#N/A"}},null,{"$f":"INDEX(设备类型!$B$2:$B$5001,MATCH(表格模板!C759,设备类型!$A$2:$A$5001,0),COLUMN(A759))","v":{"$error":"#N/A"}}]
[null,{"$f":"INDEX(建筑!$B$2:$B$5001,MATCH(表格模板!A760,建筑!$A$2:$A$5001,0),COLUMN(A760))","v":{"$error":"#N/A"}},null,{"$f":"INDEX(设备类型!$B$2:$B$5001,MATCH(表格模板!C760,设备类型!$A$2:$A$5001,0),COLUMN(A760))","v":{"$error":"#N/A"}}]
[null,{"$f":"INDEX(建筑!$B$2:$B$5001,MATCH(表格模板!A761,建筑!$A$2:$A$5001,0),COLUMN(A761))","v":{"$error":"#N/A"}},null,{"$f":"INDEX(设备类型!$B$2:$B$5001,MATCH(表格模板!C761,设备类型!$A$2:$A$5001,0),COLUMN(A761))","v":{"$error":"#N/A"}}]
[null,{"$f":"INDEX(建筑!$B$2:$B$5001,MATCH(表格模板!A762,建筑!$A$2:$A$5001,0),COLUMN(A762))","v":{"$error":"#N/A"}},null,{"$f":"INDEX(设备类型!$B$2:$B$5001,MATCH(表格模板!C762,设备类型!$A$2:$A$5001,0),COLUMN(A762))","v":{"$error":"#N/A"}}]
[null,{"$f":"INDEX(建筑!$B$2:$B$5001,MATCH(表格模板!A763,建筑!$A$2:$A$5001,0),COLUMN(A763))","v":{"$error":"#N/A"}},null,{"$f":"INDEX(设备类型!$B$2:$B$5001,MATCH(表格模板!C763,设备类型!$A$2:$A$5001,0),COLUMN(A763))","v":{"$error":"#N/A"}}]
[null,{"$f":"INDEX(建筑!$B$2:$B$5001,MATCH(表格模板!A764,建筑!$A$2:$A$5001,0),COLUMN(A764))","v":{"$error":"#N/A"}},null,{"$f":"INDEX(设备类型!$B$2:$B$5001,MATCH(表格模板!C764,设备类型!$A$2:$A$5001,0),COLUMN(A764))","v":{"$error":"#N/A"}}]
[null,{"$f":"INDEX(建筑!$B$2:$B$5001,MATCH(表格模板!A765,建筑!$A$2:$A$5001,0),COLUMN(A765))","v":{"$error":"#N/A"}},null,{"$f":"INDEX(设备类型!$B$2:$B$5001,MATCH(表格模板!C765,设备类型!$A$2:$A$5001,0),COLUMN(A765))","v":{"$error":"#N/A"}}]
[null,{"$f":"INDEX(建筑!$B$2:$B$5001,MATCH(表格模板!A766,建筑!$A$2:$A$5001,0),COLUMN(A766))","v":{"$error":"#N/A"}},null,{"$f":"INDEX(设备类型!$B$2:$B$5001,MATCH(表格模板!C766,设备类型!$A$2:$A$5001,0),COLUMN(A766))","v":{"$error":"#N/A"}}]
[null,{"$f":"INDEX(建筑!$B$2:$B$5001,MATCH(表格模板!A767,建筑!$A$2:$A$5001,0),COLUMN(A767))","v":{"$error":"#N/A"}},null,{"$f":"INDEX(设备类型!$B$2:$B$5001,MATCH(表格模板!C767,设备类型!$A$2:$A$5001,0),COLUMN(A767))","v":{"$error":"#N/A"}}]
[null,{"$f":"INDEX(建筑!$B$2:$B$5001,MATCH(表格模板!A768,建筑!$A$2:$A$5001,0),COLUMN(A768))","v":{"$error":"#N/A"}},null,{"$f":"INDEX(设备类型!$B$2:$B$5001,MATCH(表格模板!C768,设备类型!$A$2:$A$5001,0),COLUMN(A768))","v":{"$error":"#N/A"}}]
[null,{"$f":"INDEX(建筑!$B$2:$B$5001,MATCH(表格模板!A769,建筑!$A$2:$A$5001,0),COLUMN(A769))","v":{"$error":"#N/A"}},null,{"$f":"INDEX(设备类型!$B$2:$B$5001,MATCH(表格模板!C769,设备类型!$A$2:$A$5001,0),COLUMN(A769))","v":{"$error":"#N/A"}}]
[null,{"$f":"INDEX(建筑!$B$2:$B$5001,MATCH(表格模板!A770,建筑!$A$2:$A$5001,0),COLUMN(A770))","v":{"$error":"#N/A"}},null,{"$f":"INDEX(设备类型!$B$2:$B$5001,MATCH(表格模板!C770,设备类型!$A$2:$A$5001,0),COLUMN(A770))","v":{"$error":"#N/A"}}]
[null,{"$f":"INDEX(建筑!$B$2:$B$5001,MATCH(表格模板!A771,建筑!$A$2:$A$5001,0),COLUMN(A771))","v":{"$error":"#N/A"}},null,{"$f":"INDEX(设备类型!$B$2:$B$5001,MATCH(表格模板!C771,设备类型!$A$2:$A$5001,0),COLUMN(A771))","v":{"$error":"#N/A"}}]
[null,{"$f":"INDEX(建筑!$B$2:$B$5001,MATCH(表格模板!A772,建筑!$A$2:$A$5001,0),COLUMN(A772))","v":{"$error":"#N/A"}},null,{"$f":"INDEX(设备类型!$B$2:$B$5001,MATCH(表格模板!C772,设备类型!$A$2:$A$5001,0),COLUMN(A772))","v":{"$error":"#N/A"}}]
[null,{"$f":"INDEX(建筑!$B$2:$B$5001,MATCH(表格模板!A773,建筑!$A$2:$A$5001,0),COLUMN(A773))","v":{"$error":"#N/A"}},null,{"$f":"INDEX(设备类型!$B$2:$B$5001,MATCH(表格模板!C773,设备类型!$A$2:$A$5001,0),COLUMN(A773))","v":{"$error":"#N/A"}}]
[null,{"$f":"INDEX(建筑!$B$2:$B$5001,MATCH(表格模板!A774,建筑!$A$2:$A$5001,0),COLUMN(A774))","v":{"$error":"#N/A"}},null,{"$f":"INDEX(设备类型!$B$2:$B$5001,MATCH(表格模板!C774,设备类型!$A$2:$A$5001,0),COLUMN(A774))","v":{"$error":"#N/A"}}]
[null,{"$f":"INDEX(建筑!$B$2:$B$5001,MATCH(表格模板!A775,建筑!$A$2:$A$5001,0),COLUMN(A775))","v":{"$error":"#N/A"}},null,{"$f":"INDEX(设备类型!$B$2:$B$5001,MATCH(表格模板!C775,设备类型!$A$2:$A$5001,0),COLUMN(A775))","v":{"$error":"#N/A"}}]
[null,{"$f":"INDEX(建筑!$B$2:$B$5001,MATCH(表格模板!A776,建筑!$A$2:$A$5001,0),COLUMN(A776))","v":{"$error":"#N/A"}},null,{"$f":"INDEX(设备类型!$B$2:$B$5001,MATCH(表格模板!C776,设备类型!$A$2:$A$5001,0),COLUMN(A776))","v":{"$error":"#N/A"}}]
[null,{"$f":"INDEX(建筑!$B$2:$B$5001,MATCH(表格模板!A777,建筑!$A$2:$A$5001,0),COLUMN(A777))","v":{"$error":"#N/A"}},null,{"$f":"INDEX(设备类型!$B$2:$B$5001,MATCH(表格模板!C777,设备类型!$A$2:$A$5001,0),COLUMN(A777))","v":{"$error":"#N/A"}}]
[null,{"$f":"INDEX(建筑!$B$2:$B$5001,MATCH(表格模板!A778,建筑!$A$2:$A$5001,0),COLUMN(A778))","v":{"$error":"#N/A"}},null,{"$f":"INDEX(设备类型!$B$2:$B$5001,MATCH(表格模板!C778,设备类型!$A$2:$A$5001,0),COLUMN(A778))","v":{"$error":"#N/A"}}]
[null,{"$f":"INDEX(建筑!$B$2:$B$5001,MATCH(表格模板!A779,建筑!$A$2:$A$5001,0),COLUMN(A779))","v":{"$error":"#N/A"}},null,{"$f":"INDEX(设备类型!$B$2:$B$5001,MATCH(表格模板!C779,设备类型!$A$2:$A$5001,0),COLUMN(A779))","v":{"$error":"#N/A"}}]
[null,{"$f":"INDEX(建筑!$B$2:$B$5001,MATCH(表格模板!A780,建筑!$A$2:$A$5001,0),COLUMN(A780))","v":{"$error":"#N/A"}},null,{"$f":"INDEX(设备类型!$B$2:$B$5001,MATCH(表格模板!C780,设备类型!$A$2:$A$5001,0),COLUMN(A780))","v":{"$error":"#N/A"}}]
[null,{"$f":"INDEX(建筑!$B$2:$B$5001,MATCH(表格模板!A781,建筑!$A$2:$A$5001,0),COLUMN(A781))","v":{"$error":"#N/A"}},null,{"$f":"INDEX(设备类型!$B$2:$B$5001,MATCH(表格模板!C781,设备类型!$A$2:$A$5001,0),COLUMN(A781))","v":{"$error":"#N/A"}}]
[null,{"$f":"INDEX(建筑!$B$2:$B$5001,MATCH(表格模板!A782,建筑!$A$2:$A$5001,0),COLUMN(A782))","v":{"$error":"#N/A"}},null,{"$f":"INDEX(设备类型!$B$2:$B$5001,MATCH(表格模板!C782,设备类型!$A$2:$A$5001,0),COLUMN(A782))","v":{"$error":"#N/A"}}]
[null,{"$f":"INDEX(建筑!$B$2:$B$5001,MATCH(表格模板!A783,建筑!$A$2:$A$5001,0),COLUMN(A783))","v":{"$error":"#N/A"}},null,{"$f":"INDEX(设备类型!$B$2:$B$5001,MATCH(表格模板!C783,设备类型!$A$2:$A$5001,0),COLUMN(A783))","v":{"$error":"#N/A"}}]
[null,{"$f":"INDEX(建筑!$B$2:$B$5001,MATCH(表格模板!A784,建筑!$A$2:$A$5001,0),COLUMN(A784))","v":{"$error":"#N/A"}},null,{"$f":"INDEX(设备类型!$B$2:$B$5001,MATCH(表格模板!C784,设备类型!$A$2:$A$5001,0),COLUMN(A784))","v":{"$error":"#N/A"}}]
[null,{"$f":"INDEX(建筑!$B$2:$B$5001,MATCH(表格模板!A785,建筑!$A$2:$A$5001,0),COLUMN(A785))","v":{"$error":"#N/A"}},null,{"$f":"INDEX(设备类型!$B$2:$B$5001,MATCH(表格模板!C785,设备类型!$A$2:$A$5001,0),COLUMN(A785))","v":{"$error":"#N/A"}}]
[null,{"$f":"INDEX(建筑!$B$2:$B$5001,MATCH(表格模板!A786,建筑!$A$2:$A$5001,0),COLUMN(A786))","v":{"$error":"#N/A"}},null,{"$f":"INDEX(设备类型!$B$2:$B$5001,MATCH(表格模板!C786,设备类型!$A$2:$A$5001,0),COLUMN(A786))","v":{"$error":"#N/A"}}]
[null,{"$f":"INDEX(建筑!$B$2:$B$5001,MATCH(表格模板!A787,建筑!$A$2:$A$5001,0),COLUMN(A787))","v":{"$error":"#N/A"}},null,{"$f":"INDEX(设备类型!$B$2:$B$5001,MATCH(表格模板!C787,设备类型!$A$2:$A$5001,0),COLUMN(A787))","v":{"$error":"#N/A"}}]
[null,{"$f":"INDEX(建筑!$B$2:$B$5001,MATCH(表格模板!A788,建筑!$A$2:$A$5001,0),COLUMN(A788))","v":{"$error":"#N/A"}},null,{"$f":"INDEX(设备类型!$B$2:$B$5001,MATCH(表格模板!C788,设备类型!$A$2:$A$5001,0),COLUMN(A788))","v":{"$error":"#N/A"}}]
[null,{"$f":"INDEX(建筑!$B$2:$B$5001,MATCH(表格模板!A789,建筑!$A$2:$A$5001,0),COLUMN(A789))","v":{"$error":"#N/A"}},null,{"$f":"INDEX(设备类型!$B$2:$B$5001,MATCH(表格模板!C789,设备类型!$A$2:$A$5001,0),COLUMN(A789))","v":{"$error":"#N/A"}}]
[null,{"$f":"INDEX(建筑!$B$2:$B$5001,MATCH(表格模板!A790,建筑!$A$2:$A$5001,0),COLUMN(A790))","v":{"$error":"#N/A"}},null,{"$f":"INDEX(设备类型!$B$2:$B$5001,MATCH(表格模板!C790,设备类型!$A$2:$A$5001,0),COLUMN(A790))","v":{"$error":"#N/A"}}]
[null,{"$f":"INDEX(建筑!$B$2:$B$5001,MATCH(表格模板!A791,建筑!$A$2:$A$5001,0),COLUMN(A791))","v":{"$error":"#N/A"}},null,{"$f":"INDEX(设备类型!$B$2:$B$5001,MATCH(表格模板!C791,设备类型!$A$2:$A$5001,0),COLUMN(A791))","v":{"$error":"#N/A"}}]
[null,{"$f":"INDEX(建筑!$B$2:$B$5001,MATCH(表格模板!A792,建筑!$A$2:$A$5001,0),COLUMN(A792))","v":{"$error":"#N/A"}},null,{"$f":"INDEX(设备类型!$B$2:$B$5001,MATCH(表格模板!C792,设备类型!$A$2:$A$5001,0),COLUMN(A792))","v":{"$error":"#N/A"}}]
[null,{"$f":"INDEX(建筑!$B$2:$B$5001,MATCH(表格模板!A793,建筑!$A$2:$A$5001,0),COLUMN(A793))","v":{"$error":"#N/A"}},null,{"$f":"INDEX(设备类型!$B$2:$B$5001,MATCH(表格模板!C793,设备类型!$A$2:$A$5001,0),COLUMN(A793))","v":{"$error":"#N/A"}}]
[null,{"$f":"INDEX(建筑!$B$2:$B$5001,MATCH(表格模板!A794,建筑!$A$2:$A$5001,0),COLUMN(A794))","v":{"$error":"#N/A"}},null,{"$f":"INDEX(设备类型!$B$2:$B$5001,MATCH(表格模板!C794,设备类型!$A$2:$A$5001,0),COLUMN(A794))","v":{"$error":"#N/A"}}]
[null,{"$f":"INDEX(建筑!$B$2:$B$5001,MATCH(表格模板!A795,建筑!$A$2:$A$5001,0),COLUMN(A795))","v":{"$error":"#N/A"}},null,{"$f":"INDEX(设备类型!$B$2:$B$5001,MATCH(表格模板!C795,设备类型!$A$2:$A$5001,0),COLUMN(A795))","v":{"$error":"#N/A"}}]
[null,{"$f":"INDEX(建筑!$B$2:$B$5001,MATCH(表格模板!A796,建筑!$A$2:$A$5001,0),COLUMN(A796))","v":{"$error":"#N/A"}},null,{"$f":"INDEX(设备类型!$B$2:$B$5001,MATCH(表格模板!C796,设备类型!$A$2:$A$5001,0),COLUMN(A796))","v":{"$error":"#N/A"}}]
[null,{"$f":"INDEX(建筑!$B$2:$B$5001,MATCH(表格模板!A797,建筑!$A$2:$A$5001,0),COLUMN(A797))","v":{"$error":"#N/A"}},null,{"$f":"INDEX(设备类型!$B$2:$B$5001,MATCH(表格模板!C797,设备类型!$A$2:$A$5001,0),COLUMN(A797))","v":{"$error":"#N/A"}}]
[null,{"$f":"INDEX(建筑!$B$2:$B$5001,MATCH(表格模板!A798,建筑!$A$2:$A$5001,0),COLUMN(A798))","v":{"$error":"#N/A"}},null,{"$f":"INDEX(设备类型!$B$2:$B$5001,MATCH(表格模板!C798,设备类型!$A$2:$A$5001,0),COLUMN(A798))","v":{"$error":"#N/A"}}]
[null,{"$f":"INDEX(建筑!$B$2:$B$5001,MATCH(表格模板!A799,建筑!$A$2:$A$5001,0),COLUMN(A799))","v":{"$error":"#N/A"}},null,{"$f":"INDEX(设备类型!$B$2:$B$5001,MATCH(表格模板!C799,设备类型!$A$2:$A$5001,0),COLUMN(A799))","v":{"$error":"#N/A"}}]
[null,{"$f":"INDEX(建筑!$B$2:$B$5001,MATCH(表格模板!A800,建筑!$A$2:$A$5001,0),COLUMN(A800))","v":{"$error":"#N/A"}},null,{"$f":"INDEX(设备类型!$B$2:$B$5001,MATCH(表格模板!C800,设备类型!$A$2:$A$5001,0),COLUMN(A800))","v":{"$error":"#N/A"}}]
[null,{"$f":"INDEX(建筑!$B$2:$B$5001,MATCH(表格模板!A801,建筑!$A$2:$A$5001,0),COLUMN(A801))","v":{"$error":"#N/A"}},null,{"$f":"INDEX(设备类型!$B$2:$B$5001,MATCH(表格模板!C801,设备类型!$A$2:$A$5001,0),COLUMN(A801))","v":{"$error":"#N/A"}}]
[null,{"$f":"INDEX(建筑!$B$2:$B$5001,MATCH(表格模板!A802,建筑!$A$2:$A$5001,0),COLUMN(A802))","v":{"$error":"#N/A"}},null,{"$f":"INDEX(设备类型!$B$2:$B$5001,MATCH(表格模板!C802,设备类型!$A$2:$A$5001,0),COLUMN(A802))","v":{"$error":"#N/A"}}]
[null,{"$f":"INDEX(建筑!$B$2:$B$5001,MATCH(表格模板!A803,建筑!$A$2:$A$5001,0),COLUMN(A803))","v":{"$error":"#N/A"}},null,{"$f":"INDEX(设备类型!$B$2:$B$5001,MATCH(表格模板!C803,设备类型!$A$2:$A$5001,0),COLUMN(A803))","v":{"$error":"#N/A"}}]
[null,{"$f":"INDEX(建筑!$B$2:$B$5001,MATCH(表格模板!A804,建筑!$A$2:$A$5001,0),COLUMN(A804))","v":{"$error":"#N/A"}},null,{"$f":"INDEX(设备类型!$B$2:$B$5001,MATCH(表格模板!C804,设备类型!$A$2:$A$5001,0),COLUMN(A804))","v":{"$error":"#N/A"}}]
[null,{"$f":"INDEX(建筑!$B$2:$B$5001,MATCH(表格模板!A805,建筑!$A$2:$A$5001,0),COLUMN(A805))","v":{"$error":"#N/A"}},null,{"$f":"INDEX(设备类型!$B$2:$B$5001,MATCH(表格模板!C805,设备类型!$A$2:$A$5001,0),COLUMN(A805))","v":{"$error":"#N/A"}}]
[null,{"$f":"INDEX(建筑!$B$2:$B$5001,MATCH(表格模板!A806,建筑!$A$2:$A$5001,0),COLUMN(A806))","v":{"$error":"#N/A"}},null,{"$f":"INDEX(设备类型!$B$2:$B$5001,MATCH(表格模板!C806,设备类型!$A$2:$A$5001,0),COLUMN(A806))","v":{"$error":"#N/A"}}]
[null,{"$f":"INDEX(建筑!$B$2:$B$5001,MATCH(表格模板!A807,建筑!$A$2:$A$5001,0),COLUMN(A807))","v":{"$error":"#N/A"}},null,{"$f":"INDEX(设备类型!$B$2:$B$5001,MATCH(表格模板!C807,设备类型!$A$2:$A$5001,0),COLUMN(A807))","v":{"$error":"#N/A"}}]
[null,{"$f":"INDEX(建筑!$B$2:$B$5001,MATCH(表格模板!A808,建筑!$A$2:$A$5001,0),COLUMN(A808))","v":{"$error":"#N/A"}},null,{"$f":"INDEX(设备类型!$B$2:$B$5001,MATCH(表格模板!C808,设备类型!$A$2:$A$5001,0),COLUMN(A808))","v":{"$error":"#N/A"}}]
[null,{"$f":"INDEX(建筑!$B$2:$B$5001,MATCH(表格模板!A809,建筑!$A$2:$A$5001,0),COLUMN(A809))","v":{"$error":"#N/A"}},null,{"$f":"INDEX(设备类型!$B$2:$B$5001,MATCH(表格模板!C809,设备类型!$A$2:$A$5001,0),COLUMN(A809))","v":{"$error":"#N/A"}}]
[null,{"$f":"INDEX(建筑!$B$2:$B$5001,MATCH(表格模板!A810,建筑!$A$2:$A$5001,0),COLUMN(A810))","v":{"$error":"#N/A"}},null,{"$f":"INDEX(设备类型!$B$2:$B$5001,MATCH(表格模板!C810,设备类型!$A$2:$A$5001,0),COLUMN(A810))","v":{"$error":"#N/A"}}]
[null,{"$f":"INDEX(建筑!$B$2:$B$5001,MATCH(表格模板!A811,建筑!$A$2:$A$5001,0),COLUMN(A811))","v":{"$error":"#N/A"}},null,{"$f":"INDEX(设备类型!$B$2:$B$5001,MATCH(表格模板!C811,设备类型!$A$2:$A$5001,0),COLUMN(A811))","v":{"$error":"#N/A"}}]
[null,{"$f":"INDEX(建筑!$B$2:$B$5001,MATCH(表格模板!A812,建筑!$A$2:$A$5001,0),COLUMN(A812))","v":{"$error":"#N/A"}},null,{"$f":"INDEX(设备类型!$B$2:$B$5001,MATCH(表格模板!C812,设备类型!$A$2:$A$5001,0),COLUMN(A812))","v":{"$error":"#N/A"}}]
[null,{"$f":"INDEX(建筑!$B$2:$B$5001,MATCH(表格模板!A813,建筑!$A$2:$A$5001,0),COLUMN(A813))","v":{"$error":"#N/A"}},null,{"$f":"INDEX(设备类型!$B$2:$B$5001,MATCH(表格模板!C813,设备类型!$A$2:$A$5001,0),COLUMN(A813))","v":{"$error":"#N/A"}}]
[null,{"$f":"INDEX(建筑!$B$2:$B$5001,MATCH(表格模板!A814,建筑!$A$2:$A$5001,0),COLUMN(A814))","v":{"$error":"#N/A"}},null,{"$f":"INDEX(设备类型!$B$2:$B$5001,MATCH(表格模板!C814,设备类型!$A$2:$A$5001,0),COLUMN(A814))","v":{"$error":"#N/A"}}]
[null,{"$f":"INDEX(建筑!$B$2:$B$5001,MATCH(表格模板!A815,建筑!$A$2:$A$5001,0),COLUMN(A815))","v":{"$error":"#N/A"}},null,{"$f":"INDEX(设备类型!$B$2:$B$5001,MATCH(表格模板!C815,设备类型!$A$2:$A$5001,0),COLUMN(A815))","v":{"$error":"#N/A"}}]
[null,{"$f":"INDEX(建筑!$B$2:$B$5001,MATCH(表格模板!A816,建筑!$A$2:$A$5001,0),COLUMN(A816))","v":{"$error":"#N/A"}},null,{"$f":"INDEX(设备类型!$B$2:$B$5001,MATCH(表格模板!C816,设备类型!$A$2:$A$5001,0),COLUMN(A816))","v":{"$error":"#N/A"}}]
[null,{"$f":"INDEX(建筑!$B$2:$B$5001,MATCH(表格模板!A817,建筑!$A$2:$A$5001,0),COLUMN(A817))","v":{"$error":"#N/A"}},null,{"$f":"INDEX(设备类型!$B$2:$B$5001,MATCH(表格模板!C817,设备类型!$A$2:$A$5001,0),COLUMN(A817))","v":{"$error":"#N/A"}}]
[null,{"$f":"INDEX(建筑!$B$2:$B$5001,MATCH(表格模板!A818,建筑!$A$2:$A$5001,0),COLUMN(A818))","v":{"$error":"#N/A"}},null,{"$f":"INDEX(设备类型!$B$2:$B$5001,MATCH(表格模板!C818,设备类型!$A$2:$A$5001,0),COLUMN(A818))","v":{"$error":"#N/A"}}]
[null,{"$f":"INDEX(建筑!$B$2:$B$5001,MATCH(表格模板!A819,建筑!$A$2:$A$5001,0),COLUMN(A819))","v":{"$error":"#N/A"}},null,{"$f":"INDEX(设备类型!$B$2:$B$5001,MATCH(表格模板!C819,设备类型!$A$2:$A$5001,0),COLUMN(A819))","v":{"$error":"#N/A"}}]
[null,{"$f":"INDEX(建筑!$B$2:$B$5001,MATCH(表格模板!A820,建筑!$A$2:$A$5001,0),COLUMN(A820))","v":{"$error":"#N/A"}},null,{"$f":"INDEX(设备类型!$B$2:$B$5001,MATCH(表格模板!C820,设备类型!$A$2:$A$5001,0),COLUMN(A820))","v":{"$error":"#N/A"}}]
[null,{"$f":"INDEX(建筑!$B$2:$B$5001,MATCH(表格模板!A821,建筑!$A$2:$A$5001,0),COLUMN(A821))","v":{"$error":"#N/A"}},null,{"$f":"INDEX(设备类型!$B$2:$B$5001,MATCH(表格模板!C821,设备类型!$A$2:$A$5001,0),COLUMN(A821))","v":{"$error":"#N/A"}}]
[null,{"$f":"INDEX(建筑!$B$2:$B$5001,MATCH(表格模板!A822,建筑!$A$2:$A$5001,0),COLUMN(A822))","v":{"$error":"#N/A"}},null,{"$f":"INDEX(设备类型!$B$2:$B$5001,MATCH(表格模板!C822,设备类型!$A$2:$A$5001,0),COLUMN(A822))","v":{"$error":"#N/A"}}]
[null,{"$f":"INDEX(建筑!$B$2:$B$5001,MATCH(表格模板!A823,建筑!$A$2:$A$5001,0),COLUMN(A823))","v":{"$error":"#N/A"}},null,{"$f":"INDEX(设备类型!$B$2:$B$5001,MATCH(表格模板!C823,设备类型!$A$2:$A$5001,0),COLUMN(A823))","v":{"$error":"#N/A"}}]
[null,{"$f":"INDEX(建筑!$B$2:$B$5001,MATCH(表格模板!A824,建筑!$A$2:$A$5001,0),COLUMN(A824))","v":{"$error":"#N/A"}},null,{"$f":"INDEX(设备类型!$B$2:$B$5001,MATCH(表格模板!C824,设备类型!$A$2:$A$5001,0),COLUMN(A824))","v":{"$error":"#N/A"}}]
[null,{"$f":"INDEX(建筑!$B$2:$B$5001,MATCH(表格模板!A825,建筑!$A$2:$A$5001,0),COLUMN(A825))","v":{"$error":"#N/A"}},null,{"$f":"INDEX(设备类型!$B$2:$B$5001,MATCH(表格模板!C825,设备类型!$A$2:$A$5001,0),COLUMN(A825))","v":{"$error":"#N/A"}}]
[null,{"$f":"INDEX(建筑!$B$2:$B$5001,MATCH(表格模板!A826,建筑!$A$2:$A$5001,0),COLUMN(A826))","v":{"$error":"#N/A"}},null,{"$f":"INDEX(设备类型!$B$2:$B$5001,MATCH(表格模板!C826,设备类型!$A$2:$A$5001,0),COLUMN(A826))","v":{"$error":"#N/A"}}]
[null,{"$f":"INDEX(建筑!$B$2:$B$5001,MATCH(表格模板!A827,建筑!$A$2:$A$5001,0),COLUMN(A827))","v":{"$error":"#N/A"}},null,{"$f":"INDEX(设备类型!$B$2:$B$5001,MATCH(表格模板!C827,设备类型!$A$2:$A$5001,0),COLUMN(A827))","v":{"$error":"#N/A"}}]
[null,{"$f":"INDEX(建筑!$B$2:$B$5001,MATCH(表格模板!A828,建筑!$A$2:$A$5001,0),COLUMN(A828))","v":{"$error":"#N/A"}},null,{"$f":"INDEX(设备类型!$B$2:$B$5001,MATCH(表格模板!C828,设备类型!$A$2:$A$5001,0),COLUMN(A828))","v":{"$error":"#N/A"}}]
[null,{"$f":"INDEX(建筑!$B$2:$B$5001,MATCH(表格模板!A829,建筑!$A$2:$A$5001,0),COLUMN(A829))","v":{"$error":"#N/A"}},null,{"$f":"INDEX(设备类型!$B$2:$B$5001,MATCH(表格模板!C829,设备类型!$A$2:$A$5001,0),COLUMN(A829))","v":{"$error":"#N/A"}}]
[null,{"$f":"INDEX(建筑!$B$2:$B$5001,MATCH(表格模板!A830,建筑!$A$2:$A$5001,0),COLUMN(A830))","v":{"$error":"#N/A"}},null,{"$f":"INDEX(设备类型!$B$2:$B$5001,MATCH(表格模板!C830,设备类型!$A$2:$A$5001,0),COLUMN(A830))","v":{"$error":"#N/A"}}]
[null,{"$f":"INDEX(建筑!$B$2:$B$5001,MATCH(表格模板!A831,建筑!$A$2:$A$5001,0),COLUMN(A831))","v":{"$error":"#N/A"}},null,{"$f":"INDEX(设备类型!$B$2:$B$5001,MATCH(表格模板!C831,设备类型!$A$2:$A$5001,0),COLUMN(A831))","v":{"$error":"#N/A"}}]
[null,{"$f":"INDEX(建筑!$B$2:$B$5001,MATCH(表格模板!A832,建筑!$A$2:$A$5001,0),COLUMN(A832))","v":{"$error":"#N/A"}},null,{"$f":"INDEX(设备类型!$B$2:$B$5001,MATCH(表格模板!C832,设备类型!$A$2:$A$5001,0),COLUMN(A832))","v":{"$error":"#N/A"}}]
[null,{"$f":"INDEX(建筑!$B$2:$B$5001,MATCH(表格模板!A833,建筑!$A$2:$A$5001,0),COLUMN(A833))","v":{"$error":"#N/A"}},null,{"$f":"INDEX(设备类型!$B$2:$B$5001,MATCH(表格模板!C833,设备类型!$A$2:$A$5001,0),COLUMN(A833))","v":{"$error":"#N/A"}}]
[null,{"$f":"INDEX(建筑!$B$2:$B$5001,MATCH(表格模板!A834,建筑!$A$2:$A$5001,0),COLUMN(A834))","v":{"$error":"#N/A"}},null,{"$f":"INDEX(设备类型!$B$2:$B$5001,MATCH(表格模板!C834,设备类型!$A$2:$A$5001,0),COLUMN(A834))","v":{"$error":"#N/A"}}]
[null,{"$f":"INDEX(建筑!$B$2:$B$5001,MATCH(表格模板!A835,建筑!$A$2:$A$5001,0),COLUMN(A835))","v":{"$error":"#N/A"}},null,{"$f":"INDEX(设备类型!$B$2:$B$5001,MATCH(表格模板!C835,设备类型!$A$2:$A$5001,0),COLUMN(A835))","v":{"$error":"#N/A"}}]
[null,{"$f":"INDEX(建筑!$B$2:$B$5001,MATCH(表格模板!A836,建筑!$A$2:$A$5001,0),COLUMN(A836))","v":{"$error":"#N/A"}},null,{"$f":"INDEX(设备类型!$B$2:$B$5001,MATCH(表格模板!C836,设备类型!$A$2:$A$5001,0),COLUMN(A836))","v":{"$error":"#N/A"}}]
[null,{"$f":"INDEX(建筑!$B$2:$B$5001,MATCH(表格模板!A837,建筑!$A$2:$A$5001,0),COLUMN(A837))","v":{"$error":"#N/A"}},null,{"$f":"INDEX(设备类型!$B$2:$B$5001,MATCH(表格模板!C837,设备类型!$A$2:$A$5001,0),COLUMN(A837))","v":{"$error":"#N/A"}}]
[null,{"$f":"INDEX(建筑!$B$2:$B$5001,MATCH(表格模板!A838,建筑!$A$2:$A$5001,0),COLUMN(A838))","v":{"$error":"#N/A"}},null,{"$f":"INDEX(设备类型!$B$2:$B$5001,MATCH(表格模板!C838,设备类型!$A$2:$A$5001,0),COLUMN(A838))","v":{"$error":"#N/A"}}]
[null,{"$f":"INDEX(建筑!$B$2:$B$5001,MATCH(表格模板!A839,建筑!$A$2:$A$5001,0),COLUMN(A839))","v":{"$error":"#N/A"}},null,{"$f":"INDEX(设备类型!$B$2:$B$5001,MATCH(表格模板!C839,设备类型!$A$2:$A$5001,0),COLUMN(A839))","v":{"$error":"#N/A"}}]
[null,{"$f":"INDEX(建筑!$B$2:$B$5001,MATCH(表格模板!A840,建筑!$A$2:$A$5001,0),COLUMN(A840))","v":{"$error":"#N/A"}},null,{"$f":"INDEX(设备类型!$B$2:$B$5001,MATCH(表格模板!C840,设备类型!$A$2:$A$5001,0),COLUMN(A840))","v":{"$error":"#N/A"}}]
[null,{"$f":"INDEX(建筑!$B$2:$B$5001,MATCH(表格模板!A841,建筑!$A$2:$A$5001,0),COLUMN(A841))","v":{"$error":"#N/A"}},null,{"$f":"INDEX(设备类型!$B$2:$B$5001,MATCH(表格模板!C841,设备类型!$A$2:$A$5001,0),COLUMN(A841))","v":{"$error":"#N/A"}}]
[null,{"$f":"INDEX(建筑!$B$2:$B$5001,MATCH(表格模板!A842,建筑!$A$2:$A$5001,0),COLUMN(A842))","v":{"$error":"#N/A"}},null,{"$f":"INDEX(设备类型!$B$2:$B$5001,MATCH(表格模板!C842,设备类型!$A$2:$A$5001,0),COLUMN(A842))","v":{"$error":"#N/A"}}]
[null,{"$f":"INDEX(建筑!$B$2:$B$5001,MATCH(表格模板!A843,建筑!$A$2:$A$5001,0),COLUMN(A843))","v":{"$error":"#N/A"}},null,{"$f":"INDEX(设备类型!$B$2:$B$5001,MATCH(表格模板!C843,设备类型!$A$2:$A$5001,0),COLUMN(A843))","v":{"$error":"#N/A"}}]
[null,{"$f":"INDEX(建筑!$B$2:$B$5001,MATCH(表格模板!A844,建筑!$A$2:$A$5001,0),COLUMN(A844))","v":{"$error":"#N/A"}},null,{"$f":"INDEX(设备类型!$B$2:$B$5001,MATCH(表格模板!C844,设备类型!$A$2:$A$5001,0),COLUMN(A844))","v":{"$error":"#N/A"}}]
[null,{"$f":"INDEX(建筑!$B$2:$B$5001,MATCH(表格模板!A845,建筑!$A$2:$A$5001,0),COLUMN(A845))","v":{"$error":"#N/A"}},null,{"$f":"INDEX(设备类型!$B$2:$B$5001,MATCH(表格模板!C845,设备类型!$A$2:$A$5001,0),COLUMN(A845))","v":{"$error":"#N/A"}}]
[null,{"$f":"INDEX(建筑!$B$2:$B$5001,MATCH(表格模板!A846,建筑!$A$2:$A$5001,0),COLUMN(A846))","v":{"$error":"#N/A"}},null,{"$f":"INDEX(设备类型!$B$2:$B$5001,MATCH(表格模板!C846,设备类型!$A$2:$A$5001,0),COLUMN(A846))","v":{"$error":"#N/A"}}]
[null,{"$f":"INDEX(建筑!$B$2:$B$5001,MATCH(表格模板!A847,建筑!$A$2:$A$5001,0),COLUMN(A847))","v":{"$error":"#N/A"}},null,{"$f":"INDEX(设备类型!$B$2:$B$5001,MATCH(表格模板!C847,设备类型!$A$2:$A$5001,0),COLUMN(A847))","v":{"$error":"#N/A"}}]
[null,{"$f":"INDEX(建筑!$B$2:$B$5001,MATCH(表格模板!A848,建筑!$A$2:$A$5001,0),COLUMN(A848))","v":{"$error":"#N/A"}},null,{"$f":"INDEX(设备类型!$B$2:$B$5001,MATCH(表格模板!C848,设备类型!$A$2:$A$5001,0),COLUMN(A848))","v":{"$error":"#N/A"}}]
[null,{"$f":"INDEX(建筑!$B$2:$B$5001,MATCH(表格模板!A849,建筑!$A$2:$A$5001,0),COLUMN(A849))","v":{"$error":"#N/A"}},null,{"$f":"INDEX(设备类型!$B$2:$B$5001,MATCH(表格模板!C849,设备类型!$A$2:$A$5001,0),COLUMN(A849))","v":{"$error":"#N/A"}}]
[null,{"$f":"INDEX(建筑!$B$2:$B$5001,MATCH(表格模板!A850,建筑!$A$2:$A$5001,0),COLUMN(A850))","v":{"$error":"#N/A"}},null,{"$f":"INDEX(设备类型!$B$2:$B$5001,MATCH(表格模板!C850,设备类型!$A$2:$A$5001,0),COLUMN(A850))","v":{"$error":"#N/A"}}]
[null,{"$f":"INDEX(建筑!$B$2:$B$5001,MATCH(表格模板!A851,建筑!$A$2:$A$5001,0),COLUMN(A851))","v":{"$error":"#N/A"}},null,{"$f":"INDEX(设备类型!$B$2:$B$5001,MATCH(表格模板!C851,设备类型!$A$2:$A$5001,0),COLUMN(A851))","v":{"$error":"#N/A"}}]
[null,{"$f":"INDEX(建筑!$B$2:$B$5001,MATCH(表格模板!A852,建筑!$A$2:$A$5001,0),COLUMN(A852))","v":{"$error":"#N/A"}},null,{"$f":"INDEX(设备类型!$B$2:$B$5001,MATCH(表格模板!C852,设备类型!$A$2:$A$5001,0),COLUMN(A852))","v":{"$error":"#N/A"}}]
[null,{"$f":"INDEX(建筑!$B$2:$B$5001,MATCH(表格模板!A853,建筑!$A$2:$A$5001,0),COLUMN(A853))","v":{"$error":"#N/A"}},null,{"$f":"INDEX(设备类型!$B$2:$B$5001,MATCH(表格模板!C853,设备类型!$A$2:$A$5001,0),COLUMN(A853))","v":{"$error":"#N/A"}}]
[null,{"$f":"INDEX(建筑!$B$2:$B$5001,MATCH(表格模板!A854,建筑!$A$2:$A$5001,0),COLUMN(A854))","v":{"$error":"#N/A"}},null,{"$f":"INDEX(设备类型!$B$2:$B$5001,MATCH(表格模板!C854,设备类型!$A$2:$A$5001,0),COLUMN(A854))","v":{"$error":"#N/A"}}]
[null,{"$f":"INDEX(建筑!$B$2:$B$5001,MATCH(表格模板!A855,建筑!$A$2:$A$5001,0),COLUMN(A855))","v":{"$error":"#N/A"}},null,{"$f":"INDEX(设备类型!$B$2:$B$5001,MATCH(表格模板!C855,设备类型!$A$2:$A$5001,0),COLUMN(A855))","v":{"$error":"#N/A"}}]
[null,{"$f":"INDEX(建筑!$B$2:$B$5001,MATCH(表格模板!A856,建筑!$A$2:$A$5001,0),COLUMN(A856))","v":{"$error":"#N/A"}},null,{"$f":"INDEX(设备类型!$B$2:$B$5001,MATCH(表格模板!C856,设备类型!$A$2:$A$5001,0),COLUMN(A856))","v":{"$error":"#N/A"}}]
[null,{"$f":"INDEX(建筑!$B$2:$B$5001,MATCH(表格模板!A857,建筑!$A$2:$A$5001,0),COLUMN(A857))","v":{"$error":"#N/A"}},null,{"$f":"INDEX(设备类型!$B$2:$B$5001,MATCH(表格模板!C857,设备类型!$A$2:$A$5001,0),COLUMN(A857))","v":{"$error":"#N/A"}}]
[null,{"$f":"INDEX(建筑!$B$2:$B$5001,MATCH(表格模板!A858,建筑!$A$2:$A$5001,0),COLUMN(A858))","v":{"$error":"#N/A"}},null,{"$f":"INDEX(设备类型!$B$2:$B$5001,MATCH(表格模板!C858,设备类型!$A$2:$A$5001,0),COLUMN(A858))","v":{"$error":"#N/A"}}]
[null,{"$f":"INDEX(建筑!$B$2:$B$5001,MATCH(表格模板!A859,建筑!$A$2:$A$5001,0),COLUMN(A859))","v":{"$error":"#N/A"}},null,{"$f":"INDEX(设备类型!$B$2:$B$5001,MATCH(表格模板!C859,设备类型!$A$2:$A$5001,0),COLUMN(A859))","v":{"$error":"#N/A"}}]
[null,{"$f":"INDEX(建筑!$B$2:$B$5001,MATCH(表格模板!A860,建筑!$A$2:$A$5001,0),COLUMN(A860))","v":{"$error":"#N/A"}},null,{"$f":"INDEX(设备类型!$B$2:$B$5001,MATCH(表格模板!C860,设备类型!$A$2:$A$5001,0),COLUMN(A860))","v":{"$error":"#N/A"}}]
[null,{"$f":"INDEX(建筑!$B$2:$B$5001,MATCH(表格模板!A861,建筑!$A$2:$A$5001,0),COLUMN(A861))","v":{"$error":"#N/A"}},null,{"$f":"INDEX(设备类型!$B$2:$B$5001,MATCH(表格模板!C861,设备类型!$A$2:$A$5001,0),COLUMN(A861))","v":{"$error":"#N/A"}}]
[null,{"$f":"INDEX(建筑!$B$2:$B$5001,MATCH(表格模板!A862,建筑!$A$2:$A$5001,0),COLUMN(A862))","v":{"$error":"#N/A"}},null,{"$f":"INDEX(设备类型!$B$2:$B$5001,MATCH(表格模板!C862,设备类型!$A$2:$A$5001,0),COLUMN(A862))","v":{"$error":"#N/A"}}]
[null,{"$f":"INDEX(建筑!$B$2:$B$5001,MATCH(表格模板!A863,建筑!$A$2:$A$5001,0),COLUMN(A863))","v":{"$error":"#N/A"}},null,{"$f":"INDEX(设备类型!$B$2:$B$5001,MATCH(表格模板!C863,设备类型!$A$2:$A$5001,0),COLUMN(A863))","v":{"$error":"#N/A"}}]
[null,{"$f":"INDEX(建筑!$B$2:$B$5001,MATCH(表格模板!A864,建筑!$A$2:$A$5001,0),COLUMN(A864))","v":{"$error":"#N/A"}},null,{"$f":"INDEX(设备类型!$B$2:$B$5001,MATCH(表格模板!C864,设备类型!$A$2:$A$5001,0),COLUMN(A864))","v":{"$error":"#N/A"}}]
[null,{"$f":"INDEX(建筑!$B$2:$B$5001,MATCH(表格模板!A865,建筑!$A$2:$A$5001,0),COLUMN(A865))","v":{"$error":"#N/A"}},null,{"$f":"INDEX(设备类型!$B$2:$B$5001,MATCH(表格模板!C865,设备类型!$A$2:$A$5001,0),COLUMN(A865))","v":{"$error":"#N/A"}}]
[null,{"$f":"INDEX(建筑!$B$2:$B$5001,MATCH(表格模板!A866,建筑!$A$2:$A$5001,0),COLUMN(A866))","v":{"$error":"#N/A"}},null,{"$f":"INDEX(设备类型!$B$2:$B$5001,MATCH(表格模板!C866,设备类型!$A$2:$A$5001,0),COLUMN(A866))","v":{"$error":"#N/A"}}]
[null,{"$f":"INDEX(建筑!$B$2:$B$5001,MATCH(表格模板!A867,建筑!$A$2:$A$5001,0),COLUMN(A867))","v":{"$error":"#N/A"}},null,{"$f":"INDEX(设备类型!$B$2:$B$5001,MATCH(表格模板!C867,设备类型!$A$2:$A$5001,0),COLUMN(A867))","v":{"$error":"#N/A"}}]
[null,{"$f":"INDEX(建筑!$B$2:$B$5001,MATCH(表格模板!A868,建筑!$A$2:$A$5001,0),COLUMN(A868))","v":{"$error":"#N/A"}},null,{"$f":"INDEX(设备类型!$B$2:$B$5001,MATCH(表格模板!C868,设备类型!$A$2:$A$5001,0),COLUMN(A868))","v":{"$error":"#N/A"}}]
[null,{"$f":"INDEX(建筑!$B$2:$B$5001,MATCH(表格模板!A869,建筑!$A$2:$A$5001,0),COLUMN(A869))","v":{"$error":"#N/A"}},null,{"$f":"INDEX(设备类型!$B$2:$B$5001,MATCH(表格模板!C869,设备类型!$A$2:$A$5001,0),COLUMN(A869))","v":{"$error":"#N/A"}}]
[null,{"$f":"INDEX(建筑!$B$2:$B$5001,MATCH(表格模板!A870,建筑!$A$2:$A$5001,0),COLUMN(A870))","v":{"$error":"#N/A"}},null,{"$f":"INDEX(设备类型!$B$2:$B$5001,MATCH(表格模板!C870,设备类型!$A$2:$A$5001,0),COLUMN(A870))","v":{"$error":"#N/A"}}]
[null,{"$f":"INDEX(建筑!$B$2:$B$5001,MATCH(表格模板!A871,建筑!$A$2:$A$5001,0),COLUMN(A871))","v":{"$error":"#N/A"}},null,{"$f":"INDEX(设备类型!$B$2:$B$5001,MATCH(表格模板!C871,设备类型!$A$2:$A$5001,0),COLUMN(A871))","v":{"$error":"#N/A"}}]
[null,{"$f":"INDEX(建筑!$B$2:$B$5001,MATCH(表格模板!A872,建筑!$A$2:$A$5001,0),COLUMN(A872))","v":{"$error":"#N/A"}},null,{"$f":"INDEX(设备类型!$B$2:$B$5001,MATCH(表格模板!C872,设备类型!$A$2:$A$5001,0),COLUMN(A872))","v":{"$error":"#N/A"}}]
[null,{"$f":"INDEX(建筑!$B$2:$B$5001,MATCH(表格模板!A873,建筑!$A$2:$A$5001,0),COLUMN(A873))","v":{"$error":"#N/A"}},null,{"$f":"INDEX(设备类型!$B$2:$B$5001,MATCH(表格模板!C873,设备类型!$A$2:$A$5001,0),COLUMN(A873))","v":{"$error":"#N/A"}}]
[null,{"$f":"INDEX(建筑!$B$2:$B$5001,MATCH(表格模板!A874,建筑!$A$2:$A$5001,0),COLUMN(A874))","v":{"$error":"#N/A"}},null,{"$f":"INDEX(设备类型!$B$2:$B$5001,MATCH(表格模板!C874,设备类型!$A$2:$A$5001,0),COLUMN(A874))","v":{"$error":"#N/A"}}]
[null,{"$f":"INDEX(建筑!$B$2:$B$5001,MATCH(表格模板!A875,建筑!$A$2:$A$5001,0),COLUMN(A875))","v":{"$error":"#N/A"}},null,{"$f":"INDEX(设备类型!$B$2:$B$5001,MATCH(表格模板!C875,设备类型!$A$2:$A$5001,0),COLUMN(A875))","v":{"$error":"#N/A"}}]
[null,{"$f":"INDEX(建筑!$B$2:$B$5001,MATCH(表格模板!A876,建筑!$A$2:$A$5001,0),COLUMN(A876))","v":{"$error":"#N/A"}},null,{"$f":"INDEX(设备类型!$B$2:$B$5001,MATCH(表格模板!C876,设备类型!$A$2:$A$5001,0),COLUMN(A876))","v":{"$error":"#N/A"}}]
[null,{"$f":"INDEX(建筑!$B$2:$B$5001,MATCH(表格模板!A877,建筑!$A$2:$A$5001,0),COLUMN(A877))","v":{"$error":"#N/A"}},null,{"$f":"INDEX(设备类型!$B$2:$B$5001,MATCH(表格模板!C877,设备类型!$A$2:$A$5001,0),COLUMN(A877))","v":{"$error":"#N/A"}}]
[null,{"$f":"INDEX(建筑!$B$2:$B$5001,MATCH(表格模板!A878,建筑!$A$2:$A$5001,0),COLUMN(A878))","v":{"$error":"#N/A"}},null,{"$f":"INDEX(设备类型!$B$2:$B$5001,MATCH(表格模板!C878,设备类型!$A$2:$A$5001,0),COLUMN(A878))","v":{"$error":"#N/A"}}]
[null,{"$f":"INDEX(建筑!$B$2:$B$5001,MATCH(表格模板!A879,建筑!$A$2:$A$5001,0),COLUMN(A879))","v":{"$error":"#N/A"}},null,{"$f":"INDEX(设备类型!$B$2:$B$5001,MATCH(表格模板!C879,设备类型!$A$2:$A$5001,0),COLUMN(A879))","v":{"$error":"#N/A"}}]
[null,{"$f":"INDEX(建筑!$B$2:$B$5001,MATCH(表格模板!A880,建筑!$A$2:$A$5001,0),COLUMN(A880))","v":{"$error":"#N/A"}},null,{"$f":"INDEX(设备类型!$B$2:$B$5001,MATCH(表格模板!C880,设备类型!$A$2:$A$5001,0),COLUMN(A880))","v":{"$error":"#N/A"}}]
[null,{"$f":"INDEX(建筑!$B$2:$B$5001,MATCH(表格模板!A881,建筑!$A$2:$A$5001,0),COLUMN(A881))","v":{"$error":"#N/A"}},null,{"$f":"INDEX(设备类型!$B$2:$B$5001,MATCH(表格模板!C881,设备类型!$A$2:$A$5001,0),COLUMN(A881))","v":{"$error":"#N/A"}}]
[null,{"$f":"INDEX(建筑!$B$2:$B$5001,MATCH(表格模板!A882,建筑!$A$2:$A$5001,0),COLUMN(A882))","v":{"$error":"#N/A"}},null,{"$f":"INDEX(设备类型!$B$2:$B$5001,MATCH(表格模板!C882,设备类型!$A$2:$A$5001,0),COLUMN(A882))","v":{"$error":"#N/A"}}]
[null,{"$f":"INDEX(建筑!$B$2:$B$5001,MATCH(表格模板!A883,建筑!$A$2:$A$5001,0),COLUMN(A883))","v":{"$error":"#N/A"}},null,{"$f":"INDEX(设备类型!$B$2:$B$5001,MATCH(表格模板!C883,设备类型!$A$2:$A$5001,0),COLUMN(A883))","v":{"$error":"#N/A"}}]
[null,{"$f":"INDEX(建筑!$B$2:$B$5001,MATCH(表格模板!A884,建筑!$A$2:$A$5001,0),COLUMN(A884))","v":{"$error":"#N/A"}},null,{"$f":"INDEX(设备类型!$B$2:$B$5001,MATCH(表格模板!C884,设备类型!$A$2:$A$5001,0),COLUMN(A884))","v":{"$error":"#N/A"}}]
[null,{"$f":"INDEX(建筑!$B$2:$B$5001,MATCH(表格模板!A885,建筑!$A$2:$A$5001,0),COLUMN(A885))","v":{"$error":"#N/A"}},null,{"$f":"INDEX(设备类型!$B$2:$B$5001,MATCH(表格模板!C885,设备类型!$A$2:$A$5001,0),COLUMN(A885))","v":{"$error":"#N/A"}}]
[null,{"$f":"INDEX(建筑!$B$2:$B$5001,MATCH(表格模板!A886,建筑!$A$2:$A$5001,0),COLUMN(A886))","v":{"$error":"#N/A"}},null,{"$f":"INDEX(设备类型!$B$2:$B$5001,MATCH(表格模板!C886,设备类型!$A$2:$A$5001,0),COLUMN(A886))","v":{"$error":"#N/A"}}]
[null,{"$f":"INDEX(建筑!$B$2:$B$5001,MATCH(表格模板!A887,建筑!$A$2:$A$5001,0),COLUMN(A887))","v":{"$error":"#N/A"}},null,{"$f":"INDEX(设备类型!$B$2:$B$5001,MATCH(表格模板!C887,设备类型!$A$2:$A$5001,0),COLUMN(A887))","v":{"$error":"#N/A"}}]
[null,{"$f":"INDEX(建筑!$B$2:$B$5001,MATCH(表格模板!A888,建筑!$A$2:$A$5001,0),COLUMN(A888))","v":{"$error":"#N/A"}},null,{"$f":"INDEX(设备类型!$B$2:$B$5001,MATCH(表格模板!C888,设备类型!$A$2:$A$5001,0),COLUMN(A888))","v":{"$error":"#N/A"}}]
[null,{"$f":"INDEX(建筑!$B$2:$B$5001,MATCH(表格模板!A889,建筑!$A$2:$A$5001,0),COLUMN(A889))","v":{"$error":"#N/A"}},null,{"$f":"INDEX(设备类型!$B$2:$B$5001,MATCH(表格模板!C889,设备类型!$A$2:$A$5001,0),COLUMN(A889))","v":{"$error":"#N/A"}}]
[null,{"$f":"INDEX(建筑!$B$2:$B$5001,MATCH(表格模板!A890,建筑!$A$2:$A$5001,0),COLUMN(A890))","v":{"$error":"#N/A"}},null,{"$f":"INDEX(设备类型!$B$2:$B$5001,MATCH(表格模板!C890,设备类型!$A$2:$A$5001,0),COLUMN(A890))","v":{"$error":"#N/A"}}]
[null,{"$f":"INDEX(建筑!$B$2:$B$5001,MATCH(表格模板!A891,建筑!$A$2:$A$5001,0),COLUMN(A891))","v":{"$error":"#N/A"}},null,{"$f":"INDEX(设备类型!$B$2:$B$5001,MATCH(表格模板!C891,设备类型!$A$2:$A$5001,0),COLUMN(A891))","v":{"$error":"#N/A"}}]
[null,{"$f":"INDEX(建筑!$B$2:$B$5001,MATCH(表格模板!A892,建筑!$A$2:$A$5001,0),COLUMN(A892))","v":{"$error":"#N/A"}},null,{"$f":"INDEX(设备类型!$B$2:$B$5001,MATCH(表格模板!C892,设备类型!$A$2:$A$5001,0),COLUMN(A892))","v":{"$error":"#N/A"}}]
[null,{"$f":"INDEX(建筑!$B$2:$B$5001,MATCH(表格模板!A893,建筑!$A$2:$A$5001,0),COLUMN(A893))","v":{"$error":"#N/A"}},null,{"$f":"INDEX(设备类型!$B$2:$B$5001,MATCH(表格模板!C893,设备类型!$A$2:$A$5001,0),COLUMN(A893))","v":{"$error":"#N/A"}}]
[null,{"$f":"INDEX(建筑!$B$2:$B$5001,MATCH(表格模板!A894,建筑!$A$2:$A$5001,0),COLUMN(A894))","v":{"$error":"#N/A"}},null,{"$f":"INDEX(设备类型!$B$2:$B$5001,MATCH(表格模板!C894,设备类型!$A$2:$A$5001,0),COLUMN(A894))","v":{"$error":"#N/A"}}]
[null,{"$f":"INDEX(建筑!$B$2:$B$5001,MATCH(表格模板!A895,建筑!$A$2:$A$5001,0),COLUMN(A895))","v":{"$error":"#N/A"}},null,{"$f":"INDEX(设备类型!$B$2:$B$5001,MATCH(表格模板!C895,设备类型!$A$2:$A$5001,0),COLUMN(A895))","v":{"$error":"#N/A"}}]
[null,{"$f":"INDEX(建筑!$B$2:$B$5001,MATCH(表格模板!A896,建筑!$A$2:$A$5001,0),COLUMN(A896))","v":{"$error":"#N/A"}},null,{"$f":"INDEX(设备类型!$B$2:$B$5001,MATCH(表格模板!C896,设备类型!$A$2:$A$5001,0),COLUMN(A896))","v":{"$error":"#N/A"}}]
[null,{"$f":"INDEX(建筑!$B$2:$B$5001,MATCH(表格模板!A897,建筑!$A$2:$A$5001,0),COLUMN(A897))","v":{"$error":"#N/A"}},null,{"$f":"INDEX(设备类型!$B$2:$B$5001,MATCH(表格模板!C897,设备类型!$A$2:$A$5001,0),COLUMN(A897))","v":{"$error":"#N/A"}}]
[null,{"$f":"INDEX(建筑!$B$2:$B$5001,MATCH(表格模板!A898,建筑!$A$2:$A$5001,0),COLUMN(A898))","v":{"$error":"#N/A"}},null,{"$f":"INDEX(设备类型!$B$2:$B$5001,MATCH(表格模板!C898,设备类型!$A$2:$A$5001,0),COLUMN(A898))","v":{"$error":"#N/A"}}]
[null,{"$f":"INDEX(建筑!$B$2:$B$5001,MATCH(表格模板!A899,建筑!$A$2:$A$5001,0),COLUMN(A899))","v":{"$error":"#N/A"}},null,{"$f":"INDEX(设备类型!$B$2:$B$5001,MATCH(表格模板!C899,设备类型!$A$2:$A$5001,0),COLUMN(A899))","v":{"$error":"#N/A"}}]
[null,{"$f":"INDEX(建筑!$B$2:$B$5001,MATCH(表格模板!A900,建筑!$A$2:$A$5001,0),COLUMN(A900))","v":{"$error":"#N/A"}},null,{"$f":"INDEX(设备类型!$B$2:$B$5001,MATCH(表格模板!C900,设备类型!$A$2:$A$5001,0),COLUMN(A900))","v":{"$error":"#N/A"}}]
[null,{"$f":"INDEX(建筑!$B$2:$B$5001,MATCH(表格模板!A901,建筑!$A$2:$A$5001,0),COLUMN(A901))","v":{"$error":"#N/A"}},null,{"$f":"INDEX(设备类型!$B$2:$B$5001,MATCH(表格模板!C901,设备类型!$A$2:$A$5001,0),COLUMN(A901))","v":{"$error":"#N/A"}}]
[null,{"$f":"INDEX(建筑!$B$2:$B$5001,MATCH(表格模板!A902,建筑!$A$2:$A$5001,0),COLUMN(A902))","v":{"$error":"#N/A"}},null,{"$f":"INDEX(设备类型!$B$2:$B$5001,MATCH(表格模板!C902,设备类型!$A$2:$A$5001,0),COLUMN(A902))","v":{"$error":"#N/A"}}]
[null,{"$f":"INDEX(建筑!$B$2:$B$5001,MATCH(表格模板!A903,建筑!$A$2:$A$5001,0),COLUMN(A903))","v":{"$error":"#N/A"}},null,{"$f":"INDEX(设备类型!$B$2:$B$5001,MATCH(表格模板!C903,设备类型!$A$2:$A$5001,0),COLUMN(A903))","v":{"$error":"#N/A"}}]
[null,{"$f":"INDEX(建筑!$B$2:$B$5001,MATCH(表格模板!A904,建筑!$A$2:$A$5001,0),COLUMN(A904))","v":{"$error":"#N/A"}},null,{"$f":"INDEX(设备类型!$B$2:$B$5001,MATCH(表格模板!C904,设备类型!$A$2:$A$5001,0),COLUMN(A904))","v":{"$error":"#N/A"}}]
[null,{"$f":"INDEX(建筑!$B$2:$B$5001,MATCH(表格模板!A905,建筑!$A$2:$A$5001,0),COLUMN(A905))","v":{"$error":"#N/A"}},null,{"$f":"INDEX(设备类型!$B$2:$B$5001,MATCH(表格模板!C905,设备类型!$A$2:$A$5001,0),COLUMN(A905))","v":{"$error":"#N/A"}}]
[null,{"$f":"INDEX(建筑!$B$2:$B$5001,MATCH(表格模板!A906,建筑!$A$2:$A$5001,0),COLUMN(A906))","v":{"$error":"#N/A"}},null,{"$f":"INDEX(设备类型!$B$2:$B$5001,MATCH(表格模板!C906,设备类型!$A$2:$A$5001,0),COLUMN(A906))","v":{"$error":"#N/A"}}]
[null,{"$f":"INDEX(建筑!$B$2:$B$5001,MATCH(表格模板!A907,建筑!$A$2:$A$5001,0),COLUMN(A907))","v":{"$error":"#N/A"}},null,{"$f":"INDEX(设备类型!$B$2:$B$5001,MATCH(表格模板!C907,设备类型!$A$2:$A$5001,0),COLUMN(A907))","v":{"$error":"#N/A"}}]
[null,{"$f":"INDEX(建筑!$B$2:$B$5001,MATCH(表格模板!A908,建筑!$A$2:$A$5001,0),COLUMN(A908))","v":{"$error":"#N/A"}},null,{"$f":"INDEX(设备类型!$B$2:$B$5001,MATCH(表格模板!C908,设备类型!$A$2:$A$5001,0),COLUMN(A908))","v":{"$error":"#N/A"}}]
[null,{"$f":"INDEX(建筑!$B$2:$B$5001,MATCH(表格模板!A909,建筑!$A$2:$A$5001,0),COLUMN(A909))","v":{"$error":"#N/A"}},null,{"$f":"INDEX(设备类型!$B$2:$B$5001,MATCH(表格模板!C909,设备类型!$A$2:$A$5001,0),COLUMN(A909))","v":{"$error":"#N/A"}}]
[null,{"$f":"INDEX(建筑!$B$2:$B$5001,MATCH(表格模板!A910,建筑!$A$2:$A$5001,0),COLUMN(A910))","v":{"$error":"#N/A"}},null,{"$f":"INDEX(设备类型!$B$2:$B$5001,MATCH(表格模板!C910,设备类型!$A$2:$A$5001,0),COLUMN(A910))","v":{"$error":"#N/A"}}]
[null,{"$f":"INDEX(建筑!$B$2:$B$5001,MATCH(表格模板!A911,建筑!$A$2:$A$5001,0),COLUMN(A911))","v":{"$error":"#N/A"}},null,{"$f":"INDEX(设备类型!$B$2:$B$5001,MATCH(表格模板!C911,设备类型!$A$2:$A$5001,0),COLUMN(A911))","v":{"$error":"#N/A"}}]
[null,{"$f":"INDEX(建筑!$B$2:$B$5001,MATCH(表格模板!A912,建筑!$A$2:$A$5001,0),COLUMN(A912))","v":{"$error":"#N/A"}},null,{"$f":"INDEX(设备类型!$B$2:$B$5001,MATCH(表格模板!C912,设备类型!$A$2:$A$5001,0),COLUMN(A912))","v":{"$error":"#N/A"}}]
[null,{"$f":"INDEX(建筑!$B$2:$B$5001,MATCH(表格模板!A913,建筑!$A$2:$A$5001,0),COLUMN(A913))","v":{"$error":"#N/A"}},null,{"$f":"INDEX(设备类型!$B$2:$B$5001,MATCH(表格模板!C913,设备类型!$A$2:$A$5001,0),COLUMN(A913))","v":{"$error":"#N/A"}}]
[null,{"$f":"INDEX(建筑!$B$2:$B$5001,MATCH(表格模板!A914,建筑!$A$2:$A$5001,0),COLUMN(A914))","v":{"$error":"#N/A"}},null,{"$f":"INDEX(设备类型!$B$2:$B$5001,MATCH(表格模板!C914,设备类型!$A$2:$A$5001,0),COLUMN(A914))","v":{"$error":"#N/A"}}]
[null,{"$f":"INDEX(建筑!$B$2:$B$5001,MATCH(表格模板!A915,建筑!$A$2:$A$5001,0),COLUMN(A915))","v":{"$error":"#N/A"}},null,{"$f":"INDEX(设备类型!$B$2:$B$5001,MATCH(表格模板!C915,设备类型!$A$2:$A$5001,0),COLUMN(A915))","v":{"$error":"#N/A"}}]
[null,{"$f":"INDEX(建筑!$B$2:$B$5001,MATCH(表格模板!A916,建筑!$A$2:$A$5001,0),COLUMN(A916))","v":{"$error":"#N/A"}},null,{"$f":"INDEX(设备类型!$B$2:$B$5001,MATCH(表格模板!C916,设备类型!$A$2:$A$5001,0),COLUMN(A916))","v":{"$error":"#N/A"}}]
[null,{"$f":"INDEX(建筑!$B$2:$B$5001,MATCH(表格模板!A917,建筑!$A$2:$A$5001,0),COLUMN(A917))","v":{"$error":"#N/A"}},null,{"$f":"INDEX(设备类型!$B$2:$B$5001,MATCH(表格模板!C917,设备类型!$A$2:$A$5001,0),COLUMN(A917))","v":{"$error":"#N/A"}}]
[null,{"$f":"INDEX(建筑!$B$2:$B$5001,MATCH(表格模板!A918,建筑!$A$2:$A$5001,0),COLUMN(A918))","v":{"$error":"#N/A"}},null,{"$f":"INDEX(设备类型!$B$2:$B$5001,MATCH(表格模板!C918,设备类型!$A$2:$A$5001,0),COLUMN(A918))","v":{"$error":"#N/A"}}]
[null,{"$f":"INDEX(建筑!$B$2:$B$5001,MATCH(表格模板!A919,建筑!$A$2:$A$5001,0),COLUMN(A919))","v":{"$error":"#N/A"}},null,{"$f":"INDEX(设备类型!$B$2:$B$5001,MATCH(表格模板!C919,设备类型!$A$2:$A$5001,0),COLUMN(A919))","v":{"$error":"#N/A"}}]
[null,{"$f":"INDEX(建筑!$B$2:$B$5001,MATCH(表格模板!A920,建筑!$A$2:$A$5001,0),COLUMN(A920))","v":{"$error":"#N/A"}},null,{"$f":"INDEX(设备类型!$B$2:$B$5001,MATCH(表格模板!C920,设备类型!$A$2:$A$5001,0),COLUMN(A920))","v":{"$error":"#N/A"}}]
[null,{"$f":"INDEX(建筑!$B$2:$B$5001,MATCH(表格模板!A921,建筑!$A$2:$A$5001,0),COLUMN(A921))","v":{"$error":"#N/A"}},null,{"$f":"INDEX(设备类型!$B$2:$B$5001,MATCH(表格模板!C921,设备类型!$A$2:$A$5001,0),COLUMN(A921))","v":{"$error":"#N/A"}}]
[null,{"$f":"INDEX(建筑!$B$2:$B$5001,MATCH(表格模板!A922,建筑!$A$2:$A$5001,0),COLUMN(A922))","v":{"$error":"#N/A"}},null,{"$f":"INDEX(设备类型!$B$2:$B$5001,MATCH(表格模板!C922,设备类型!$A$2:$A$5001,0),COLUMN(A922))","v":{"$error":"#N/A"}}]
[null,{"$f":"INDEX(建筑!$B$2:$B$5001,MATCH(表格模板!A923,建筑!$A$2:$A$5001,0),COLUMN(A923))","v":{"$error":"#N/A"}},null,{"$f":"INDEX(设备类型!$B$2:$B$5001,MATCH(表格模板!C923,设备类型!$A$2:$A$5001,0),COLUMN(A923))","v":{"$error":"#N/A"}}]
[null,{"$f":"INDEX(建筑!$B$2:$B$5001,MATCH(表格模板!A924,建筑!$A$2:$A$5001,0),COLUMN(A924))","v":{"$error":"#N/A"}},null,{"$f":"INDEX(设备类型!$B$2:$B$5001,MATCH(表格模板!C924,设备类型!$A$2:$A$5001,0),COLUMN(A924))","v":{"$error":"#N/A"}}]
[null,{"$f":"INDEX(建筑!$B$2:$B$5001,MATCH(表格模板!A925,建筑!$A$2:$A$5001,0),COLUMN(A925))","v":{"$error":"#N/A"}},null,{"$f":"INDEX(设备类型!$B$2:$B$5001,MATCH(表格模板!C925,设备类型!$A$2:$A$5001,0),COLUMN(A925))","v":{"$error":"#N/A"}}]
[null,{"$f":"INDEX(建筑!$B$2:$B$5001,MATCH(表格模板!A926,建筑!$A$2:$A$5001,0),COLUMN(A926))","v":{"$error":"#N/A"}},null,{"$f":"INDEX(设备类型!$B$2:$B$5001,MATCH(表格模板!C926,设备类型!$A$2:$A$5001,0),COLUMN(A926))","v":{"$error":"#N/A"}}]
[null,{"$f":"INDEX(建筑!$B$2:$B$5001,MATCH(表格模板!A927,建筑!$A$2:$A$5001,0),COLUMN(A927))","v":{"$error":"#N/A"}},null,{"$f":"INDEX(设备类型!$B$2:$B$5001,MATCH(表格模板!C927,设备类型!$A$2:$A$5001,0),COLUMN(A927))","v":{"$error":"#N/A"}}]
[null,{"$f":"INDEX(建筑!$B$2:$B$5001,MATCH(表格模板!A928,建筑!$A$2:$A$5001,0),COLUMN(A928))","v":{"$error":"#N/A"}},null,{"$f":"INDEX(设备类型!$B$2:$B$5001,MATCH(表格模板!C928,设备类型!$A$2:$A$5001,0),COLUMN(A928))","v":{"$error":"#N/A"}}]
[null,{"$f":"INDEX(建筑!$B$2:$B$5001,MATCH(表格模板!A929,建筑!$A$2:$A$5001,0),COLUMN(A929))","v":{"$error":"#N/A"}},null,{"$f":"INDEX(设备类型!$B$2:$B$5001,MATCH(表格模板!C929,设备类型!$A$2:$A$5001,0),COLUMN(A929))","v":{"$error":"#N/A"}}]
[null,{"$f":"INDEX(建筑!$B$2:$B$5001,MATCH(表格模板!A930,建筑!$A$2:$A$5001,0),COLUMN(A930))","v":{"$error":"#N/A"}},null,{"$f":"INDEX(设备类型!$B$2:$B$5001,MATCH(表格模板!C930,设备类型!$A$2:$A$5001,0),COLUMN(A930))","v":{"$error":"#N/A"}}]
[null,{"$f":"INDEX(建筑!$B$2:$B$5001,MATCH(表格模板!A931,建筑!$A$2:$A$5001,0),COLUMN(A931))","v":{"$error":"#N/A"}},null,{"$f":"INDEX(设备类型!$B$2:$B$5001,MATCH(表格模板!C931,设备类型!$A$2:$A$5001,0),COLUMN(A931))","v":{"$error":"#N/A"}}]
[null,{"$f":"INDEX(建筑!$B$2:$B$5001,MATCH(表格模板!A932,建筑!$A$2:$A$5001,0),COLUMN(A932))","v":{"$error":"#N/A"}},null,{"$f":"INDEX(设备类型!$B$2:$B$5001,MATCH(表格模板!C932,设备类型!$A$2:$A$5001,0),COLUMN(A932))","v":{"$error":"#N/A"}}]
[null,{"$f":"INDEX(建筑!$B$2:$B$5001,MATCH(表格模板!A933,建筑!$A$2:$A$5001,0),COLUMN(A933))","v":{"$error":"#N/A"}},null,{"$f":"INDEX(设备类型!$B$2:$B$5001,MATCH(表格模板!C933,设备类型!$A$2:$A$5001,0),COLUMN(A933))","v":{"$error":"#N/A"}}]
[null,{"$f":"INDEX(建筑!$B$2:$B$5001,MATCH(表格模板!A934,建筑!$A$2:$A$5001,0),COLUMN(A934))","v":{"$error":"#N/A"}},null,{"$f":"INDEX(设备类型!$B$2:$B$5001,MATCH(表格模板!C934,设备类型!$A$2:$A$5001,0),COLUMN(A934))","v":{"$error":"#N/A"}}]
[null,{"$f":"INDEX(建筑!$B$2:$B$5001,MATCH(表格模板!A935,建筑!$A$2:$A$5001,0),COLUMN(A935))","v":{"$error":"#N/A"}},null,{"$f":"INDEX(设备类型!$B$2:$B$5001,MATCH(表格模板!C935,设备类型!$A$2:$A$5001,0),COLUMN(A935))","v":{"$error":"#N/A"}}]
[null,{"$f":"INDEX(建筑!$B$2:$B$5001,MATCH(表格模板!A936,建筑!$A$2:$A$5001,0),COLUMN(A936))","v":{"$error":"#N/A"}},null,{"$f":"INDEX(设备类型!$B$2:$B$5001,MATCH(表格模板!C936,设备类型!$A$2:$A$5001,0),COLUMN(A936))","v":{"$error":"#N/A"}}]
[null,{"$f":"INDEX(建筑!$B$2:$B$5001,MATCH(表格模板!A937,建筑!$A$2:$A$5001,0),COLUMN(A937))","v":{"$error":"#N/A"}},null,{"$f":"INDEX(设备类型!$B$2:$B$5001,MATCH(表格模板!C937,设备类型!$A$2:$A$5001,0),COLUMN(A937))","v":{"$error":"#N/A"}}]
[null,{"$f":"INDEX(建筑!$B$2:$B$5001,MATCH(表格模板!A938,建筑!$A$2:$A$5001,0),COLUMN(A938))","v":{"$error":"#N/A"}},null,{"$f":"INDEX(设备类型!$B$2:$B$5001,MATCH(表格模板!C938,设备类型!$A$2:$A$5001,0),COLUMN(A938))","v":{"$error":"#N/A"}}]
[null,{"$f":"INDEX(建筑!$B$2:$B$5001,MATCH(表格模板!A939,建筑!$A$2:$A$5001,0),COLUMN(A939))","v":{"$error":"#N/A"}},null,{"$f":"INDEX(设备类型!$B$2:$B$5001,MATCH(表格模板!C939,设备类型!$A$2:$A$5001,0),COLUMN(A939))","v":{"$error":"#N/A"}}]
[null,{"$f":"INDEX(建筑!$B$2:$B$5001,MATCH(表格模板!A940,建筑!$A$2:$A$5001,0),COLUMN(A940))","v":{"$error":"#N/A"}},null,{"$f":"INDEX(设备类型!$B$2:$B$5001,MATCH(表格模板!C940,设备类型!$A$2:$A$5001,0),COLUMN(A940))","v":{"$error":"#N/A"}}]
[null,{"$f":"INDEX(建筑!$B$2:$B$5001,MATCH(表格模板!A941,建筑!$A$2:$A$5001,0),COLUMN(A941))","v":{"$error":"#N/A"}},null,{"$f":"INDEX(设备类型!$B$2:$B$5001,MATCH(表格模板!C941,设备类型!$A$2:$A$5001,0),COLUMN(A941))","v":{"$error":"#N/A"}}]
[null,{"$f":"INDEX(建筑!$B$2:$B$5001,MATCH(表格模板!A942,建筑!$A$2:$A$5001,0),COLUMN(A942))","v":{"$error":"#N/A"}},null,{"$f":"INDEX(设备类型!$B$2:$B$5001,MATCH(表格模板!C942,设备类型!$A$2:$A$5001,0),COLUMN(A942))","v":{"$error":"#N/A"}}]
[null,{"$f":"INDEX(建筑!$B$2:$B$5001,MATCH(表格模板!A943,建筑!$A$2:$A$5001,0),COLUMN(A943))","v":{"$error":"#N/A"}},null,{"$f":"INDEX(设备类型!$B$2:$B$5001,MATCH(表格模板!C943,设备类型!$A$2:$A$5001,0),COLUMN(A943))","v":{"$error":"#N/A"}}]
[null,{"$f":"INDEX(建筑!$B$2:$B$5001,MATCH(表格模板!A944,建筑!$A$2:$A$5001,0),COLUMN(A944))","v":{"$error":"#N/A"}},null,{"$f":"INDEX(设备类型!$B$2:$B$5001,MATCH(表格模板!C944,设备类型!$A$2:$A$5001,0),COLUMN(A944))","v":{"$error":"#N/A"}}]
[null,{"$f":"INDEX(建筑!$B$2:$B$5001,MATCH(表格模板!A945,建筑!$A$2:$A$5001,0),COLUMN(A945))","v":{"$error":"#N/A"}},null,{"$f":"INDEX(设备类型!$B$2:$B$5001,MATCH(表格模板!C945,设备类型!$A$2:$A$5001,0),COLUMN(A945))","v":{"$error":"#N/A"}}]
[null,{"$f":"INDEX(建筑!$B$2:$B$5001,MATCH(表格模板!A946,建筑!$A$2:$A$5001,0),COLUMN(A946))","v":{"$error":"#N/A"}},null,{"$f":"INDEX(设备类型!$B$2:$B$5001,MATCH(表格模板!C946,设备类型!$A$2:$A$5001,0),COLUMN(A946))","v":{"$error":"#N/A"}}]
[null,{"$f":"INDEX(建筑!$B$2:$B$5001,MATCH(表格模板!A947,建筑!$A$2:$A$5001,0),COLUMN(A947))","v":{"$error":"#N/A"}},null,{"$f":"INDEX(设备类型!$B$2:$B$5001,MATCH(表格模板!C947,设备类型!$A$2:$A$5001,0),COLUMN(A947))","v":{"$error":"#N/A"}}]
[null,{"$f":"INDEX(建筑!$B$2:$B$5001,MATCH(表格模板!A948,建筑!$A$2:$A$5001,0),COLUMN(A948))","v":{"$error":"#N/A"}},null,{"$f":"INDEX(设备类型!$B$2:$B$5001,MATCH(表格模板!C948,设备类型!$A$2:$A$5001,0),COLUMN(A948))","v":{"$error":"#N/A"}}]
[null,{"$f":"INDEX(建筑!$B$2:$B$5001,MATCH(表格模板!A949,建筑!$A$2:$A$5001,0),COLUMN(A949))","v":{"$error":"#N/A"}},null,{"$f":"INDEX(设备类型!$B$2:$B$5001,MATCH(表格模板!C949,设备类型!$A$2:$A$5001,0),COLUMN(A949))","v":{"$error":"#N/A"}}]
[null,{"$f":"INDEX(建筑!$B$2:$B$5001,MATCH(表格模板!A950,建筑!$A$2:$A$5001,0),COLUMN(A950))","v":{"$error":"#N/A"}},null,{"$f":"INDEX(设备类型!$B$2:$B$5001,MATCH(表格模板!C950,设备类型!$A$2:$A$5001,0),COLUMN(A950))","v":{"$error":"#N/A"}}]
[null,{"$f":"INDEX(建筑!$B$2:$B$5001,MATCH(表格模板!A951,建筑!$A$2:$A$5001,0),COLUMN(A951))","v":{"$error":"#N/A"}},null,{"$f":"INDEX(设备类型!$B$2:$B$5001,MATCH(表格模板!C951,设备类型!$A$2:$A$5001,0),COLUMN(A951))","v":{"$error":"#N/A"}}]
[null,{"$f":"INDEX(建筑!$B$2:$B$5001,MATCH(表格模板!A952,建筑!$A$2:$A$5001,0),COLUMN(A952))","v":{"$error":"#N/A"}},null,{"$f":"INDEX(设备类型!$B$2:$B$5001,MATCH(表格模板!C952,设备类型!$A$2:$A$5001,0),COLUMN(A952))","v":{"$error":"#N/A"}}]
[null,{"$f":"INDEX(建筑!$B$2:$B$5001,MATCH(表格模板!A953,建筑!$A$2:$A$5001,0),COLUMN(A953))","v":{"$error":"#N/A"}},null,{"$f":"INDEX(设备类型!$B$2:$B$5001,MATCH(表格模板!C953,设备类型!$A$2:$A$5001,0),COLUMN(A953))","v":{"$error":"#N/A"}}]
[null,{"$f":"INDEX(建筑!$B$2:$B$5001,MATCH(表格模板!A954,建筑!$A$2:$A$5001,0),COLUMN(A954))","v":{"$error":"#N/A"}},null,{"$f":"INDEX(设备类型!$B$2:$B$5001,MATCH(表格模板!C954,设备类型!$A$2:$A$5001,0),COLUMN(A954))","v":{"$error":"#N/A"}}]
[null,{"$f":"INDEX(建筑!$B$2:$B$5001,MATCH(表格模板!A955,建筑!$A$2:$A$5001,0),COLUMN(A955))","v":{"$error":"#N/A"}},null,{"$f":"INDEX(设备类型!$B$2:$B$5001,MATCH(表格模板!C955,设备类型!$A$2:$A$5001,0),COLUMN(A955))","v":{"$error":"#N/A"}}]
[null,{"$f":"INDEX(建筑!$B$2:$B$5001,MATCH(表格模板!A956,建筑!$A$2:$A$5001,0),COLUMN(A956))","v":{"$error":"#N/A"}},null,{"$f":"INDEX(设备类型!$B$2:$B$5001,MATCH(表格模板!C956,设备类型!$A$2:$A$5001,0),COLUMN(A956))","v":{"$error":"#N/A"}}]
[null,{"$f":"INDEX(建筑!$B$2:$B$5001,MATCH(表格模板!A957,建筑!$A$2:$A$5001,0),COLUMN(A957))","v":{"$error":"#N/A"}},null,{"$f":"INDEX(设备类型!$B$2:$B$5001,MATCH(表格模板!C957,设备类型!$A$2:$A$5001,0),COLUMN(A957))","v":{"$error":"#N/A"}}]
[null,{"$f":"INDEX(建筑!$B$2:$B$5001,MATCH(表格模板!A958,建筑!$A$2:$A$5001,0),COLUMN(A958))","v":{"$error":"#N/A"}},null,{"$f":"INDEX(设备类型!$B$2:$B$5001,MATCH(表格模板!C958,设备类型!$A$2:$A$5001,0),COLUMN(A958))","v":{"$error":"#N/A"}}]
[null,{"$f":"INDEX(建筑!$B$2:$B$5001,MATCH(表格模板!A959,建筑!$A$2:$A$5001,0),COLUMN(A959))","v":{"$error":"#N/A"}},null,{"$f":"INDEX(设备类型!$B$2:$B$5001,MATCH(表格模板!C959,设备类型!$A$2:$A$5001,0),COLUMN(A959))","v":{"$error":"#N/A"}}]
[null,{"$f":"INDEX(建筑!$B$2:$B$5001,MATCH(表格模板!A960,建筑!$A$2:$A$5001,0),COLUMN(A960))","v":{"$error":"#N/A"}},null,{"$f":"INDEX(设备类型!$B$2:$B$5001,MATCH(表格模板!C960,设备类型!$A$2:$A$5001,0),COLUMN(A960))","v":{"$error":"#N/A"}}]
[null,{"$f":"INDEX(建筑!$B$2:$B$5001,MATCH(表格模板!A961,建筑!$A$2:$A$5001,0),COLUMN(A961))","v":{"$error":"#N/A"}},null,{"$f":"INDEX(设备类型!$B$2:$B$5001,MATCH(表格模板!C961,设备类型!$A$2:$A$5001,0),COLUMN(A961))","v":{"$error":"#N/A"}}]
[null,{"$f":"INDEX(建筑!$B$2:$B$5001,MATCH(表格模板!A962,建筑!$A$2:$A$5001,0),COLUMN(A962))","v":{"$error":"#N/A"}},null,{"$f":"INDEX(设备类型!$B$2:$B$5001,MATCH(表格模板!C962,设备类型!$A$2:$A$5001,0),COLUMN(A962))","v":{"$error":"#N/A"}}]
[null,{"$f":"INDEX(建筑!$B$2:$B$5001,MATCH(表格模板!A963,建筑!$A$2:$A$5001,0),COLUMN(A963))","v":{"$error":"#N/A"}},null,{"$f":"INDEX(设备类型!$B$2:$B$5001,MATCH(表格模板!C963,设备类型!$A$2:$A$5001,0),COLUMN(A963))","v":{"$error":"#N/A"}}]
[null,{"$f":"INDEX(建筑!$B$2:$B$5001,MATCH(表格模板!A964,建筑!$A$2:$A$5001,0),COLUMN(A964))","v":{"$error":"#N/A"}},null,{"$f":"INDEX(设备类型!$B$2:$B$5001,MATCH(表格模板!C964,设备类型!$A$2:$A$5001,0),COLUMN(A964))","v":{"$error":"#N/A"}}]
[null,{"$f":"INDEX(建筑!$B$2:$B$5001,MATCH(表格模板!A965,建筑!$A$2:$A$5001,0),COLUMN(A965))","v":{"$error":"#N/A"}},null,{"$f":"INDEX(设备类型!$B$2:$B$5001,MATCH(表格模板!C965,设备类型!$A$2:$A$5001,0),COLUMN(A965))","v":{"$error":"#N/A"}}]
[null,{"$f":"INDEX(建筑!$B$2:$B$5001,MATCH(表格模板!A966,建筑!$A$2:$A$5001,0),COLUMN(A966))","v":{"$error":"#N/A"}},null,{"$f":"INDEX(设备类型!$B$2:$B$5001,MATCH(表格模板!C966,设备类型!$A$2:$A$5001,0),COLUMN(A966))","v":{"$error":"#N/A"}}]
[null,{"$f":"INDEX(建筑!$B$2:$B$5001,MATCH(表格模板!A967,建筑!$A$2:$A$5001,0),COLUMN(A967))","v":{"$error":"#N/A"}},null,{"$f":"INDEX(设备类型!$B$2:$B$5001,MATCH(表格模板!C967,设备类型!$A$2:$A$5001,0),COLUMN(A967))","v":{"$error":"#N/A"}}]
[null,{"$f":"INDEX(建筑!$B$2:$B$5001,MATCH(表格模板!A968,建筑!$A$2:$A$5001,0),COLUMN(A968))","v":{"$error":"#N/A"}},null,{"$f":"INDEX(设备类型!$B$2:$B$5001,MATCH(表格模板!C968,设备类型!$A$2:$A$5001,0),COLUMN(A968))","v":{"$error":"#N/A"}}]
[null,{"$f":"INDEX(建筑!$B$2:$B$5001,MATCH(表格模板!A969,建筑!$A$2:$A$5001,0),COLUMN(A969))","v":{"$error":"#N/A"}},null,{"$f":"INDEX(设备类型!$B$2:$B$5001,MATCH(表格模板!C969,设备类型!$A$2:$A$5001,0),COLUMN(A969))","v":{"$error":"#N/A"}}]
[null,{"$f":"INDEX(建筑!$B$2:$B$5001,MATCH(表格模板!A970,建筑!$A$2:$A$5001,0),COLUMN(A970))","v":{"$error":"#N/A"}},null,{"$f":"INDEX(设备类型!$B$2:$B$5001,MATCH(表格模板!C970,设备类型!$A$2:$A$5001,0),COLUMN(A970))","v":{"$error":"#N/A"}}]
[null,{"$f":"INDEX(建筑!$B$2:$B$5001,MATCH(表格模板!A971,建筑!$A$2:$A$5001,0),COLUMN(A971))","v":{"$error":"#N/A"}},null,{"$f":"INDEX(设备类型!$B$2:$B$5001,MATCH(表格模板!C971,设备类型!$A$2:$A$5001,0),COLUMN(A971))","v":{"$error":"#N/A"}}]
[null,{"$f":"INDEX(建筑!$B$2:$B$5001,MATCH(表格模板!A972,建筑!$A$2:$A$5001,0),COLUMN(A972))","v":{"$error":"#N/A"}},null,{"$f":"INDEX(设备类型!$B$2:$B$5001,MATCH(表格模板!C972,设备类型!$A$2:$A$5001,0),COLUMN(A972))","v":{"$error":"#N/A"}}]
[null,{"$f":"INDEX(建筑!$B$2:$B$5001,MATCH(表格模板!A973,建筑!$A$2:$A$5001,0),COLUMN(A973))","v":{"$error":"#N/A"}},null,{"$f":"INDEX(设备类型!$B$2:$B$5001,MATCH(表格模板!C973,设备类型!$A$2:$A$5001,0),COLUMN(A973))","v":{"$error":"#N/A"}}]
[null,{"$f":"INDEX(建筑!$B$2:$B$5001,MATCH(表格模板!A974,建筑!$A$2:$A$5001,0),COLUMN(A974))","v":{"$error":"#N/A"}},null,{"$f":"INDEX(设备类型!$B$2:$B$5001,MATCH(表格模板!C974,设备类型!$A$2:$A$5001,0),COLUMN(A974))","v":{"$error":"#N/A"}}]
[null,{"$f":"INDEX(建筑!$B$2:$B$5001,MATCH(表格模板!A975,建筑!$A$2:$A$5001,0),COLUMN(A975))","v":{"$error":"#N/A"}},null,{"$f":"INDEX(设备类型!$B$2:$B$5001,MATCH(表格模板!C975,设备类型!$A$2:$A$5001,0),COLUMN(A975))","v":{"$error":"#N/A"}}]
[null,{"$f":"INDEX(建筑!$B$2:$B$5001,MATCH(表格模板!A976,建筑!$A$2:$A$5001,0),COLUMN(A976))","v":{"$error":"#N/A"}},null,{"$f":"INDEX(设备类型!$B$2:$B$5001,MATCH(表格模板!C976,设备类型!$A$2:$A$5001,0),COLUMN(A976))","v":{"$error":"#N/A"}}]
[null,{"$f":"INDEX(建筑!$B$2:$B$5001,MATCH(表格模板!A977,建筑!$A$2:$A$5001,0),COLUMN(A977))","v":{"$error":"#N/A"}},null,{"$f":"INDEX(设备类型!$B$2:$B$5001,MATCH(表格模板!C977,设备类型!$A$2:$A$5001,0),COLUMN(A977))","v":{"$error":"#N/A"}}]
[null,{"$f":"INDEX(建筑!$B$2:$B$5001,MATCH(表格模板!A978,建筑!$A$2:$A$5001,0),COLUMN(A978))","v":{"$error":"#N/A"}},null,{"$f":"INDEX(设备类型!$B$2:$B$5001,MATCH(表格模板!C978,设备类型!$A$2:$A$5001,0),COLUMN(A978))","v":{"$error":"#N/A"}}]
[null,{"$f":"INDEX(建筑!$B$2:$B$5001,MATCH(表格模板!A979,建筑!$A$2:$A$5001,0),COLUMN(A979))","v":{"$error":"#N/A"}},null,{"$f":"INDEX(设备类型!$B$2:$B$5001,MATCH(表格模板!C979,设备类型!$A$2:$A$5001,0),COLUMN(A979))","v":{"$error":"#N/A"}}]
[null,{"$f":"INDEX(建筑!$B$2:$B$5001,MATCH(表格模板!A980,建筑!$A$2:$A$5001,0),COLUMN(A980))","v":{"$error":"#N/A"}},null,{"$f":"INDEX(设备类型!$B$2:$B$5001,MATCH(表格模板!C980,设备类型!$A$2:$A$5001,0),COLUMN(A980))","v":{"$error":"#N/A"}}]
[null,{"$f":"INDEX(建筑!$B$2:$B$5001,MATCH(表格模板!A981,建筑!$A$2:$A$5001,0),COLUMN(A981))","v":{"$error":"#N/A"}},null,{"$f":"INDEX(设备类型!$B$2:$B$5001,MATCH(表格模板!C981,设备类型!$A$2:$A$5001,0),COLUMN(A981))","v":{"$error":"#N/A"}}]
[null,{"$f":"INDEX(建筑!$B$2:$B$5001,MATCH(表格模板!A982,建筑!$A$2:$A$5001,0),COLUMN(A982))","v":{"$error":"#N/A"}},null,{"$f":"INDEX(设备类型!$B$2:$B$5001,MATCH(表格模板!C982,设备类型!$A$2:$A$5001,0),COLUMN(A982))","v":{"$error":"#N/A"}}]
[null,{"$f":"INDEX(建筑!$B$2:$B$5001,MATCH(表格模板!A983,建筑!$A$2:$A$5001,0),COLUMN(A983))","v":{"$error":"#N/A"}},null,{"$f":"INDEX(设备类型!$B$2:$B$5001,MATCH(表格模板!C983,设备类型!$A$2:$A$5001,0),COLUMN(A983))","v":{"$error":"#N/A"}}]
[null,{"$f":"INDEX(建筑!$B$2:$B$5001,MATCH(表格模板!A984,建筑!$A$2:$A$5001,0),COLUMN(A984))","v":{"$error":"#N/A"}},null,{"$f":"INDEX(设备类型!$B$2:$B$5001,MATCH(表格模板!C984,设备类型!$A$2:$A$5001,0),COLUMN(A984))","v":{"$error":"#N/A"}}]
[null,{"$f":"INDEX(建筑!$B$2:$B$5001,MATCH(表格模板!A985,建筑!$A$2:$A$5001,0),COLUMN(A985))","v":{"$error":"#N/A"}},null,{"$f":"INDEX(设备类型!$B$2:$B$5001,MATCH(表格模板!C985,设备类型!$A$2:$A$5001,0),COLUMN(A985))","v":{"$error":"#N/A"}}]
[null,{"$f":"INDEX(建筑!$B$2:$B$5001,MATCH(表格模板!A986,建筑!$A$2:$A$5001,0),COLUMN(A986))","v":{"$error":"#N/A"}},null,{"$f":"INDEX(设备类型!$B$2:$B$5001,MATCH(表格模板!C986,设备类型!$A$2:$A$5001,0),COLUMN(A986))","v":{"$error":"#N/A"}}]
[null,{"$f":"INDEX(建筑!$B$2:$B$5001,MATCH(表格模板!A987,建筑!$A$2:$A$5001,0),COLUMN(A987))","v":{"$error":"#N/A"}},null,{"$f":"INDEX(设备类型!$B$2:$B$5001,MATCH(表格模板!C987,设备类型!$A$2:$A$5001,0),COLUMN(A987))","v":{"$error":"#N/A"}}]
[null,{"$f":"INDEX(建筑!$B$2:$B$5001,MATCH(表格模板!A988,建筑!$A$2:$A$5001,0),COLUMN(A988))","v":{"$error":"#N/A"}},null,{"$f":"INDEX(设备类型!$B$2:$B$5001,MATCH(表格模板!C988,设备类型!$A$2:$A$5001,0),COLUMN(A988))","v":{"$error":"#N/A"}}]
[null,{"$f":"INDEX(建筑!$B$2:$B$5001,MATCH(表格模板!A989,建筑!$A$2:$A$5001,0),COLUMN(A989))","v":{"$error":"#N/A"}},null,{"$f":"INDEX(设备类型!$B$2:$B$5001,MATCH(表格模板!C989,设备类型!$A$2:$A$5001,0),COLUMN(A989))","v":{"$error":"#N/A"}}]
[null,{"$f":"INDEX(建筑!$B$2:$B$5001,MATCH(表格模板!A990,建筑!$A$2:$A$5001,0),COLUMN(A990))","v":{"$error":"#N/A"}},null,{"$f":"INDEX(设备类型!$B$2:$B$5001,MATCH(表格模板!C990,设备类型!$A$2:$A$5001,0),COLUMN(A990))","v":{"$error":"#N/A"}}]
[null,{"$f":"INDEX(建筑!$B$2:$B$5001,MATCH(表格模板!A991,建筑!$A$2:$A$5001,0),COLUMN(A991))","v":{"$error":"#N/A"}},null,{"$f":"INDEX(设备类型!$B$2:$B$5001,MATCH(表格模板!C991,设备类型!$A$2:$A$5001,0),COLUMN(A991))","v":{"$error":"#N/A"}}]
[null,{"$f":"INDEX(建筑!$B$2:$B$5001,MATCH(表格模板!A992,建筑!$A$2:$A$5001,0),COLUMN(A992))","v":{"$error":"#N/A"}},null,{"$f":"INDEX(设备类型!$B$2:$B$5001,MATCH(表格模板!C992,设备类型!$A$2:$A$5001,0),COLUMN(A992))","v":{"$error":"#N/A"}}]
[null,{"$f":"INDEX(建筑!$B$2:$B$5001,MATCH(表格模板!A993,建筑!$A$2:$A$5001,0),COLUMN(A993))","v":{"$error":"#N/A"}},null,{"$f":"INDEX(设备类型!$B$2:$B$5001,MATCH(表格模板!C993,设备类型!$A$2:$A$5001,0),COLUMN(A993))","v":{"$error":"#N/A"}}]
[null,{"$f":"INDEX(建筑!$B$2:$B$5001,MATCH(表格模板!A994,建筑!$A$2:$A$5001,0),COLUMN(A994))","v":{"$error":"#N/A"}},null,{"$f":"INDEX(设备类型!$B$2:$B$5001,MATCH(表格模板!C994,设备类型!$A$2:$A$5001,0),COLUMN(A994))","v":{"$error":"#N/A"}}]
[null,{"$f":"INDEX(建筑!$B$2:$B$5001,MATCH(表格模板!A995,建筑!$A$2:$A$5001,0),COLUMN(A995))","v":{"$error":"#N/A"}},null,{"$f":"INDEX(设备类型!$B$2:$B$5001,MATCH(表格模板!C995,设备类型!$A$2:$A$5001,0),COLUMN(A995))","v":{"$error":"#N/A"}}]
[null,{"$f":"INDEX(建筑!$B$2:$B$5001,MATCH(表格模板!A996,建筑!$A$2:$A$5001,0),COLUMN(A996))","v":{"$error":"#N/A"}},null,{"$f":"INDEX(设备类型!$B$2:$B$5001,MATCH(表格模板!C996,设备类型!$A$2:$A$5001,0),COLUMN(A996))","v":{"$error":"#N/A"}}]
[null,{"$f":"INDEX(建筑!$B$2:$B$5001,MATCH(表格模板!A997,建筑!$A$2:$A$5001,0),COLUMN(A997))","v":{"$error":"#N/A"}},null,{"$f":"INDEX(设备类型!$B$2:$B$5001,MATCH(表格模板!C997,设备类型!$A$2:$A$5001,0),COLUMN(A997))","v":{"$error":"#N/A"}}]
[null,{"$f":"INDEX(建筑!$B$2:$B$5001,MATCH(表格模板!A998,建筑!$A$2:$A$5001,0),COLUMN(A998))","v":{"$error":"#N/A"}},null,{"$f":"INDEX(设备类型!$B$2:$B$5001,MATCH(表格模板!C998,设备类型!$A$2:$A$5001,0),COLUMN(A998))","v":{"$error":"#N/A"}}]
[null,{"$f":"INDEX(建筑!$B$2:$B$5001,MATCH(表格模板!A999,建筑!$A$2:$A$5001,0),COLUMN(A999))","v":{"$error":"#N/A"}},null,{"$f":"INDEX(设备类型!$B$2:$B$5001,MATCH(表格模板!C999,设备类型!$A$2:$A$5001,0),COLUMN(A999))","v":{"$error":"#N/A"}}]
[null,{"$f":"INDEX(建筑!$B$2:$B$5001,MATCH(表格模板!A1000,建筑!$A$2:$A$5001,0),COLUMN(A1000))","v":{"$error":"#N/A"}},null,{"$f":"INDEX(设备类型!$B$2:$B$5001,MATCH(表格模板!C1000,设备类型!$A$2:$A$5001,0),COLUMN(A1000))","v":{"$error":"#N/A"}}]
[null,{"$f":"INDEX(建筑!$B$2:$B$5001,MATCH(表格模板!A1001,建筑!$A$2:$A$5001,0),COLUMN(A1001))","v":{"$error":"#N/A"}},null,{"$f":"INDEX(设备类型!$B$2:$B$5001,MATCH(表格模板!C1001,设备类型!$A$2:$A$5001,0),COLUMN(A1001))","v":{"$error":"#N/A"}}]
[null,{"$f":"INDEX(建筑!$B$2:$B$5001,MATCH(表格模板!A1002,建筑!$A$2:$A$5001,0),COLUMN(A1002))","v":{"$error":"#N/A"}},null,{"$f":"INDEX(设备类型!$B$2:$B$5001,MATCH(表格模板!C1002,设备类型!$A$2:$A$5001,0),COLUMN(A1002))","v":{"$error":"#N/A"}}]
[null,{"$f":"INDEX(建筑!$B$2:$B$5001,MATCH(表格模板!A1003,建筑!$A$2:$A$5001,0),COLUMN(A1003))","v":{"$error":"#N/A"}},null,{"$f":"INDEX(设备类型!$B$2:$B$5001,MATCH(表格模板!C1003,设备类型!$A$2:$A$5001,0),COLUMN(A1003))","v":{"$error":"#N/A"}}]
[null,{"$f":"INDEX(建筑!$B$2:$B$5001,MATCH(表格模板!A1004,建筑!$A$2:$A$5001,0),COLUMN(A1004))","v":{"$error":"#N/A"}},null,{"$f":"INDEX(设备类型!$B$2:$B$5001,MATCH(表格模板!C1004,设备类型!$A$2:$A$5001,0),COLUMN(A1004))","v":{"$error":"#N/A"}}]
[null,{"$f":"INDEX(建筑!$B$2:$B$5001,MATCH(表格模板!A1005,建筑!$A$2:$A$5001,0),COLUMN(A1005))","v":{"$error":"#N/A"}},null,{"$f":"INDEX(设备类型!$B$2:$B$5001,MATCH(表格模板!C1005,设备类型!$A$2:$A$5001,0),COLUMN(A1005))","v":{"$error":"#N/A"}}]
[null,{"$f":"INDEX(建筑!$B$2:$B$5001,MATCH(表格模板!A1006,建筑!$A$2:$A$5001,0),COLUMN(A1006))","v":{"$error":"#N/A"}},null,{"$f":"INDEX(设备类型!$B$2:$B$5001,MATCH(表格模板!C1006,设备类型!$A$2:$A$5001,0),COLUMN(A1006))","v":{"$error":"#N/A"}}]
[null,{"$f":"INDEX(建筑!$B$2:$B$5001,MATCH(表格模板!A1007,建筑!$A$2:$A$5001,0),COLUMN(A1007))","v":{"$error":"#N/A"}},null,{"$f":"INDEX(设备类型!$B$2:$B$5001,MATCH(表格模板!C1007,设备类型!$A$2:$A$5001,0),COLUMN(A1007))","v":{"$error":"#N/A"}}]
[null,{"$f":"INDEX(建筑!$B$2:$B$5001,MATCH(表格模板!A1008,建筑!$A$2:$A$5001,0),COLUMN(A1008))","v":{"$error":"#N/A"}},null,{"$f":"INDEX(设备类型!$B$2:$B$5001,MATCH(表格模板!C1008,设备类型!$A$2:$A$5001,0),COLUMN(A1008))","v":{"$error":"#N/A"}}]
[null,{"$f":"INDEX(建筑!$B$2:$B$5001,MATCH(表格模板!A1009,建筑!$A$2:$A$5001,0),COLUMN(A1009))","v":{"$error":"#N/A"}},null,{"$f":"INDEX(设备类型!$B$2:$B$5001,MATCH(表格模板!C1009,设备类型!$A$2:$A$5001,0),COLUMN(A1009))","v":{"$error":"#N/A"}}]
[null,{"$f":"INDEX(建筑!$B$2:$B$5001,MATCH(表格模板!A1010,建筑!$A$2:$A$5001,0),COLUMN(A1010))","v":{"$error":"#N/A"}},null,{"$f":"INDEX(设备类型!$B$2:$B$5001,MATCH(表格模板!C1010,设备类型!$A$2:$A$5001,0),COLUMN(A1010))","v":{"$error":"#N/A"}}]
[null,{"$f":"INDEX(建筑!$B$2:$B$5001,MATCH(表格模板!A1011,建筑!$A$2:$A$5001,0),COLUMN(A1011))","v":{"$error":"#N/A"}},null,{"$f":"INDEX(设备类型!$B$2:$B$5001,MATCH(表格模板!C1011,设备类型!$A$2:$A$5001,0),COLUMN(A1011))","v":{"$error":"#N/A"}}]
[null,{"$f":"INDEX(建筑!$B$2:$B$5001,MATCH(表格模板!A1012,建筑!$A$2:$A$5001,0),COLUMN(A1012))","v":{"$error":"#N/A"}},null,{"$f":"INDEX(设备类型!$B$2:$B$5001,MATCH(表格模板!C1012,设备类型!$A$2:$A$5001,0),COLUMN(A1012))","v":{"$error":"#N/A"}}]
[null,{"$f":"INDEX(建筑!$B$2:$B$5001,MATCH(表格模板!A1013,建筑!$A$2:$A$5001,0),COLUMN(A1013))","v":{"$error":"#N/A"}},null,{"$f":"INDEX(设备类型!$B$2:$B$5001,MATCH(表格模板!C1013,设备类型!$A$2:$A$5001,0),COLUMN(A1013))","v":{"$error":"#N/A"}}]
[null,{"$f":"INDEX(建筑!$B$2:$B$5001,MATCH(表格模板!A1014,建筑!$A$2:$A$5001,0),COLUMN(A1014))","v":{"$error":"#N/A"}},null,{"$f":"INDEX(设备类型!$B$2:$B$5001,MATCH(表格模板!C1014,设备类型!$A$2:$A$5001,0),COLUMN(A1014))","v":{"$error":"#N/A"}}]
[null,{"$f":"INDEX(建筑!$B$2:$B$5001,MATCH(表格模板!A1015,建筑!$A$2:$A$5001,0),COLUMN(A1015))","v":{"$error":"#N/A"}},null,{"$f":"INDEX(设备类型!$B$2:$B$5001,MATCH(表格模板!C1015,设备类型!$A$2:$A$5001,0),COLUMN(A1015))","v":{"$error":"#N/A"}}]
[null,{"$f":"INDEX(建筑!$B$2:$B$5001,MATCH(表格模板!A1016,建筑!$A$2:$A$5001,0),COLUMN(A1016))","v":{"$error":"#N/A"}},null,{"$f":"INDEX(设备类型!$B$2:$B$5001,MATCH(表格模板!C1016,设备类型!$A$2:$A$5001,0),COLUMN(A1016))","v":{"$error":"#N/A"}}]
[null,{"$f":"INDEX(建筑!$B$2:$B$5001,MATCH(表格模板!A1017,建筑!$A$2:$A$5001,0),COLUMN(A1017))","v":{"$error":"#N/A"}},null,{"$f":"INDEX(设备类型!$B$2:$B$5001,MATCH(表格模板!C1017,设备类型!$A$2:$A$5001,0),COLUMN(A1017))","v":{"$error":"#N/A"}}]
[null,{"$f":"INDEX(建筑!$B$2:$B$5001,MATCH(表格模板!A1018,建筑!$A$2:$A$5001,0),COLUMN(A1018))","v":{"$error":"#N/A"}},null,{"$f":"INDEX(设备类型!$B$2:$B$5001,MATCH(表格模板!C1018,设备类型!$A$2:$A$5001,0),COLUMN(A1018))","v":{"$error":"#N/A"}}]
[null,{"$f":"INDEX(建筑!$B$2:$B$5001,MATCH(表格模板!A1019,建筑!$A$2:$A$5001,0),COLUMN(A1019))","v":{"$error":"#N/A"}},null,{"$f":"INDEX(设备类型!$B$2:$B$5001,MATCH(表格模板!C1019,设备类型!$A$2:$A$5001,0),COLUMN(A1019))","v":{"$error":"#N/A"}}]
[null,{"$f":"INDEX(建筑!$B$2:$B$5001,MATCH(表格模板!A1020,建筑!$A$2:$A$5001,0),COLUMN(A1020))","v":{"$error":"#N/A"}},null,{"$f":"INDEX(设备类型!$B$2:$B$5001,MATCH(表格模板!C1020,设备类型!$A$2:$A$5001,0),COLUMN(A1020))","v":{"$error":"#N/A"}}]
[null,{"$f":"INDEX(建筑!$B$2:$B$5001,MATCH(表格模板!A1021,建筑!$A$2:$A$5001,0),COLUMN(A1021))","v":{"$error":"#N/A"}},null,{"$f":"INDEX(设备类型!$B$2:$B$5001,MATCH(表格模板!C1021,设备类型!$A$2:$A$5001,0),COLUMN(A1021))","v":{"$error":"#N/A"}}]
[null,{"$f":"INDEX(建筑!$B$2:$B$5001,MATCH(表格模板!A1022,建筑!$A$2:$A$5001,0),COLUMN(A1022))","v":{"$error":"#N/A"}},null,{"$f":"INDEX(设备类型!$B$2:$B$5001,MATCH(表格模板!C1022,设备类型!$A$2:$A$5001,0),COLUMN(A1022))","v":{"$error":"#N/A"}}]
[null,{"$f":"INDEX(建筑!$B$2:$B$5001,MATCH(表格模板!A1023,建筑!$A$2:$A$5001,0),COLUMN(A1023))","v":{"$error":"#N/A"}},null,{"$f":"INDEX(设备类型!$B$2:$B$5001,MATCH(表格模板!C1023,设备类型!$A$2:$A$5001,0),COLUMN(A1023))","v":{"$error":"#N/A"}}]
[null,{"$f":"INDEX(建筑!$B$2:$B$5001,MATCH(表格模板!A1024,建筑!$A$2:$A$5001,0),COLUMN(A1024))","v":{"$error":"#N/A"}},null,{"$f":"INDEX(设备类型!$B$2:$B$5001,MATCH(表格模板!C1024,设备类型!$A$2:$A$5001,0),COLUMN(A1024))","v":{"$error":"#N/A"}}]
[null,{"$f":"INDEX(建筑!$B$2:$B$5001,MATCH(表格模板!A1025,建筑!$A$2:$A$5001,0),COLUMN(A1025))","v":{"$error":"#N/A"}},null,{"$f":"INDEX(设备类型!$B$2:$B$5001,MATCH(表格模板!C1025,设备类型!$A$2:$A$5001,0),COLUMN(A1025))","v":{"$error":"#N/A"}}]
[null,{"$f":"INDEX(建筑!$B$2:$B$5001,MATCH(表格模板!A1026,建筑!$A$2:$A$5001,0),COLUMN(A1026))","v":{"$error":"#N/A"}},null,{"$f":"INDEX(设备类型!$B$2:$B$5001,MATCH(表格模板!C1026,设备类型!$A$2:$A$5001,0),COLUMN(A1026))","v":{"$error":"#N/A"}}]
[null,{"$f":"INDEX(建筑!$B$2:$B$5001,MATCH(表格模板!A1027,建筑!$A$2:$A$5001,0),COLUMN(A1027))","v":{"$error":"#N/A"}},null,{"$f":"INDEX(设备类型!$B$2:$B$5001,MATCH(表格模板!C1027,设备类型!$A$2:$A$5001,0),COLUMN(A1027))","v":{"$error":"#N/A"}}]
[null,{"$f":"INDEX(建筑!$B$2:$B$5001,MATCH(表格模板!A1028,建筑!$A$2:$A$5001,0),COLUMN(A1028))","v":{"$error":"#N/A"}},null,{"$f":"INDEX(设备类型!$B$2:$B$5001,MATCH(表格模板!C1028,设备类型!$A$2:$A$5001,0),COLUMN(A1028))","v":{"$error":"#N/A"}}]
[null,{"$f":"INDEX(建筑!$B$2:$B$5001,MATCH(表格模板!A1029,建筑!$A$2:$A$5001,0),COLUMN(A1029))","v":{"$error":"#N/A"}},null,{"$f":"INDEX(设备类型!$B$2:$B$5001,MATCH(表格模板!C1029,设备类型!$A$2:$A$5001,0),COLUMN(A1029))","v":{"$error":"#N/A"}}]
[null,{"$f":"INDEX(建筑!$B$2:$B$5001,MATCH(表格模板!A1030,建筑!$A$2:$A$5001,0),COLUMN(A1030))","v":{"$error":"#N/A"}},null,{"$f":"INDEX(设备类型!$B$2:$B$5001,MATCH(表格模板!C1030,设备类型!$A$2:$A$5001,0),COLUMN(A1030))","v":{"$error":"#N/A"}}]
[null,{"$f":"INDEX(建筑!$B$2:$B$5001,MATCH(表格模板!A1031,建筑!$A$2:$A$5001,0),COLUMN(A1031))","v":{"$error":"#N/A"}},null,{"$f":"INDEX(设备类型!$B$2:$B$5001,MATCH(表格模板!C1031,设备类型!$A$2:$A$5001,0),COLUMN(A1031))","v":{"$error":"#N/A"}}]
[null,{"$f":"INDEX(建筑!$B$2:$B$5001,MATCH(表格模板!A1032,建筑!$A$2:$A$5001,0),COLUMN(A1032))","v":{"$error":"#N/A"}},null,{"$f":"INDEX(设备类型!$B$2:$B$5001,MATCH(表格模板!C1032,设备类型!$A$2:$A$5001,0),COLUMN(A1032))","v":{"$error":"#N/A"}}]
[null,{"$f":"INDEX(建筑!$B$2:$B$5001,MATCH(表格模板!A1033,建筑!$A$2:$A$5001,0),COLUMN(A1033))","v":{"$error":"#N/A"}},null,{"$f":"INDEX(设备类型!$B$2:$B$5001,MATCH(表格模板!C1033,设备类型!$A$2:$A$5001,0),COLUMN(A1033))","v":{"$error":"#N/A"}}]
[null,{"$f":"INDEX(建筑!$B$2:$B$5001,MATCH(表格模板!A1034,建筑!$A$2:$A$5001,0),COLUMN(A1034))","v":{"$error":"#N/A"}},null,{"$f":"INDEX(设备类型!$B$2:$B$5001,MATCH(表格模板!C1034,设备类型!$A$2:$A$5001,0),COLUMN(A1034))","v":{"$error":"#N/A"}}]
[null,{"$f":"INDEX(建筑!$B$2:$B$5001,MATCH(表格模板!A1035,建筑!$A$2:$A$5001,0),COLUMN(A1035))","v":{"$error":"#N/A"}},null,{"$f":"INDEX(设备类型!$B$2:$B$5001,MATCH(表格模板!C1035,设备类型!$A$2:$A$5001,0),COLUMN(A1035))","v":{"$error":"#N/A"}}]
[null,{"$f":"INDEX(建筑!$B$2:$B$5001,MATCH(表格模板!A1036,建筑!$A$2:$A$5001,0),COLUMN(A1036))","v":{"$error":"#N/A"}},null,{"$f":"INDEX(设备类型!$B$2:$B$5001,MATCH(表格模板!C1036,设备类型!$A$2:$A$5001,0),COLUMN(A1036))","v":{"$error":"#N/A"}}]
[null,{"$f":"INDEX(建筑!$B$2:$B$5001,MATCH(表格模板!A1037,建筑!$A$2:$A$5001,0),COLUMN(A1037))","v":{"$error":"#N/A"}},null,{"$f":"INDEX(设备类型!$B$2:$B$5001,MATCH(表格模板!C1037,设备类型!$A$2:$A$5001,0),COLUMN(A1037))","v":{"$error":"#N/A"}}]
[null,{"$f":"INDEX(建筑!$B$2:$B$5001,MATCH(表格模板!A1038,建筑!$A$2:$A$5001,0),COLUMN(A1038))","v":{"$error":"#N/A"}},null,{"$f":"INDEX(设备类型!$B$2:$B$5001,MATCH(表格模板!C1038,设备类型!$A$2:$A$5001,0),COLUMN(A1038))","v":{"$error":"#N/A"}}]
[null,{"$f":"INDEX(建筑!$B$2:$B$5001,MATCH(表格模板!A1039,建筑!$A$2:$A$5001,0),COLUMN(A1039))","v":{"$error":"#N/A"}},null,{"$f":"INDEX(设备类型!$B$2:$B$5001,MATCH(表格模板!C1039,设备类型!$A$2:$A$5001,0),COLUMN(A1039))","v":{"$error":"#N/A"}}]
[null,{"$f":"INDEX(建筑!$B$2:$B$5001,MATCH(表格模板!A1040,建筑!$A$2:$A$5001,0),COLUMN(A1040))","v":{"$error":"#N/A"}},null,{"$f":"INDEX(设备类型!$B$2:$B$5001,MATCH(表格模板!C1040,设备类型!$A$2:$A$5001,0),COLUMN(A1040))","v":{"$error":"#N/A"}}]
[null,{"$f":"INDEX(建筑!$B$2:$B$5001,MATCH(表格模板!A1041,建筑!$A$2:$A$5001,0),COLUMN(A1041))","v":{"$error":"#N/A"}},null,{"$f":"INDEX(设备类型!$B$2:$B$5001,MATCH(表格模板!C1041,设备类型!$A$2:$A$5001,0),COLUMN(A1041))","v":{"$error":"#N/A"}}]
[null,{"$f":"INDEX(建筑!$B$2:$B$5001,MATCH(表格模板!A1042,建筑!$A$2:$A$5001,0),COLUMN(A1042))","v":{"$error":"#N/A"}},null,{"$f":"INDEX(设备类型!$B$2:$B$5001,MATCH(表格模板!C1042,设备类型!$A$2:$A$5001,0),COLUMN(A1042))","v":{"$error":"#N/A"}}]
[null,{"$f":"INDEX(建筑!$B$2:$B$5001,MATCH(表格模板!A1043,建筑!$A$2:$A$5001,0),COLUMN(A1043))","v":{"$error":"#N/A"}},null,{"$f":"INDEX(设备类型!$B$2:$B$5001,MATCH(表格模板!C1043,设备类型!$A$2:$A$5001,0),COLUMN(A1043))","v":{"$error":"#N/A"}}]
[null,{"$f":"INDEX(建筑!$B$2:$B$5001,MATCH(表格模板!A1044,建筑!$A$2:$A$5001,0),COLUMN(A1044))","v":{"$error":"#N/A"}},null,{"$f":"INDEX(设备类型!$B$2:$B$5001,MATCH(表格模板!C1044,设备类型!$A$2:$A$5001,0),COLUMN(A1044))","v":{"$error":"#N/A"}}]
[null,{"$f":"INDEX(建筑!$B$2:$B$5001,MATCH(表格模板!A1045,建筑!$A$2:$A$5001,0),COLUMN(A1045))","v":{"$error":"#N/A"}},null,{"$f":"INDEX(设备类型!$B$2:$B$5001,MATCH(表格模板!C1045,设备类型!$A$2:$A$5001,0),COLUMN(A1045))","v":{"$error":"#N/A"}}]
[null,{"$f":"INDEX(建筑!$B$2:$B$5001,MATCH(表格模板!A1046,建筑!$A$2:$A$5001,0),COLUMN(A1046))","v":{"$error":"#N/A"}},null,{"$f":"INDEX(设备类型!$B$2:$B$5001,MATCH(表格模板!C1046,设备类型!$A$2:$A$5001,0),COLUMN(A1046))","v":{"$error":"#N/A"}}]
[null,{"$f":"INDEX(建筑!$B$2:$B$5001,MATCH(表格模板!A1047,建筑!$A$2:$A$5001,0),COLUMN(A1047))","v":{"$error":"#N/A"}},null,{"$f":"INDEX(设备类型!$B$2:$B$5001,MATCH(表格模板!C1047,设备类型!$A$2:$A$5001,0),COLUMN(A1047))","v":{"$error":"#N/A"}}]
[null,{"$f":"INDEX(建筑!$B$2:$B$5001,MATCH(表格模板!A1048,建筑!$A$2:$A$5001,0),COLUMN(A1048))","v":{"$error":"#N/A"}},null,{"$f":"INDEX(设备类型!$B$2:$B$5001,MATCH(表格模板!C1048,设备类型!$A$2:$A$5001,0),COLUMN(A1048))","v":{"$error":"#N/A"}}]
[null,{"$f":"INDEX(建筑!$B$2:$B$5001,MATCH(表格模板!A1049,建筑!$A$2:$A$5001,0),COLUMN(A1049))","v":{"$error":"#N/A"}},null,{"$f":"INDEX(设备类型!$B$2:$B$5001,MATCH(表格模板!C1049,设备类型!$A$2:$A$5001,0),COLUMN(A1049))","v":{"$error":"#N/A"}}]
[null,{"$f":"INDEX(建筑!$B$2:$B$5001,MATCH(表格模板!A1050,建筑!$A$2:$A$5001,0),COLUMN(A1050))","v":{"$error":"#N/A"}},null,{"$f":"INDEX(设备类型!$B$2:$B$5001,MATCH(表格模板!C1050,设备类型!$A$2:$A$5001,0),COLUMN(A1050))","v":{"$error":"#N/A"}}]
[null,{"$f":"INDEX(建筑!$B$2:$B$5001,MATCH(表格模板!A1051,建筑!$A$2:$A$5001,0),COLUMN(A1051))","v":{"$error":"#N/A"}},null,{"$f":"INDEX(设备类型!$B$2:$B$5001,MATCH(表格模板!C1051,设备类型!$A$2:$A$5001,0),COLUMN(A1051))","v":{"$error":"#N/A"}}]
[null,{"$f":"INDEX(建筑!$B$2:$B$5001,MATCH(表格模板!A1052,建筑!$A$2:$A$5001,0),COLUMN(A1052))","v":{"$error":"#N/A"}},null,{"$f":"INDEX(设备类型!$B$2:$B$5001,MATCH(表格模板!C1052,设备类型!$A$2:$A$5001,0),COLUMN(A1052))","v":{"$error":"#N/A"}}]
[null,{"$f":"INDEX(建筑!$B$2:$B$5001,MATCH(表格模板!A1053,建筑!$A$2:$A$5001,0),COLUMN(A1053))","v":{"$error":"#N/A"}},null,{"$f":"INDEX(设备类型!$B$2:$B$5001,MATCH(表格模板!C1053,设备类型!$A$2:$A$5001,0),COLUMN(A1053))","v":{"$error":"#N/A"}}]
[null,{"$f":"INDEX(建筑!$B$2:$B$5001,MATCH(表格模板!A1054,建筑!$A$2:$A$5001,0),COLUMN(A1054))","v":{"$error":"#N/A"}},null,{"$f":"INDEX(设备类型!$B$2:$B$5001,MATCH(表格模板!C1054,设备类型!$A$2:$A$5001,0),COLUMN(A1054))","v":{"$error":"#N/A"}}]
[null,{"$f":"INDEX(建筑!$B$2:$B$5001,MATCH(表格模板!A1055,建筑!$A$2:$A$5001,0),COLUMN(A1055))","v":{"$error":"#N/A"}},null,{"$f":"INDEX(设备类型!$B$2:$B$5001,MATCH(表格模板!C1055,设备类型!$A$2:$A$5001,0),COLUMN(A1055))","v":{"$error":"#N/A"}}]
[null,{"$f":"INDEX(建筑!$B$2:$B$5001,MATCH(表格模板!A1056,建筑!$A$2:$A$5001,0),COLUMN(A1056))","v":{"$error":"#N/A"}},null,{"$f":"INDEX(设备类型!$B$2:$B$5001,MATCH(表格模板!C1056,设备类型!$A$2:$A$5001,0),COLUMN(A1056))","v":{"$error":"#N/A"}}]
[null,{"$f":"INDEX(建筑!$B$2:$B$5001,MATCH(表格模板!A1057,建筑!$A$2:$A$5001,0),COLUMN(A1057))","v":{"$error":"#N/A"}},null,{"$f":"INDEX(设备类型!$B$2:$B$5001,MATCH(表格模板!C1057,设备类型!$A$2:$A$5001,0),COLUMN(A1057))","v":{"$error":"#N/A"}}]
[null,{"$f":"INDEX(建筑!$B$2:$B$5001,MATCH(表格模板!A1058,建筑!$A$2:$A$5001,0),COLUMN(A1058))","v":{"$error":"#N/A"}},null,{"$f":"INDEX(设备类型!$B$2:$B$5001,MATCH(表格模板!C1058,设备类型!$A$2:$A$5001,0),COLUMN(A1058))","v":{"$error":"#N/A"}}]
[null,{"$f":"INDEX(建筑!$B$2:$B$5001,MATCH(表格模板!A1059,建筑!$A$2:$A$5001,0),COLUMN(A1059))","v":{"$error":"#N/A"}},null,{"$f":"INDEX(设备类型!$B$2:$B$5001,MATCH(表格模板!C1059,设备类型!$A$2:$A$5001,0),COLUMN(A1059))","v":{"$error":"#N/A"}}]
[null,{"$f":"INDEX(建筑!$B$2:$B$5001,MATCH(表格模板!A1060,建筑!$A$2:$A$5001,0),COLUMN(A1060))","v":{"$error":"#N/A"}},null,{"$f":"INDEX(设备类型!$B$2:$B$5001,MATCH(表格模板!C1060,设备类型!$A$2:$A$5001,0),COLUMN(A1060))","v":{"$error":"#N/A"}}]
[null,{"$f":"INDEX(建筑!$B$2:$B$5001,MATCH(表格模板!A1061,建筑!$A$2:$A$5001,0),COLUMN(A1061))","v":{"$error":"#N/A"}},null,{"$f":"INDEX(设备类型!$B$2:$B$5001,MATCH(表格模板!C1061,设备类型!$A$2:$A$5001,0),COLUMN(A1061))","v":{"$error":"#N/A"}}]
[null,{"$f":"INDEX(建筑!$B$2:$B$5001,MATCH(表格模板!A1062,建筑!$A$2:$A$5001,0),COLUMN(A1062))","v":{"$error":"#N/A"}},null,{"$f":"INDEX(设备类型!$B$2:$B$5001,MATCH(表格模板!C1062,设备类型!$A$2:$A$5001,0),COLUMN(A1062))","v":{"$error":"#N/A"}}]
[null,{"$f":"INDEX(建筑!$B$2:$B$5001,MATCH(表格模板!A1063,建筑!$A$2:$A$5001,0),COLUMN(A1063))","v":{"$error":"#N/A"}},null,{"$f":"INDEX(设备类型!$B$2:$B$5001,MATCH(表格模板!C1063,设备类型!$A$2:$A$5001,0),COLUMN(A1063))","v":{"$error":"#N/A"}}]
[null,{"$f":"INDEX(建筑!$B$2:$B$5001,MATCH(表格模板!A1064,建筑!$A$2:$A$5001,0),COLUMN(A1064))","v":{"$error":"#N/A"}},null,{"$f":"INDEX(设备类型!$B$2:$B$5001,MATCH(表格模板!C1064,设备类型!$A$2:$A$5001,0),COLUMN(A1064))","v":{"$error":"#N/A"}}]
[null,{"$f":"INDEX(建筑!$B$2:$B$5001,MATCH(表格模板!A1065,建筑!$A$2:$A$5001,0),COLUMN(A1065))","v":{"$error":"#N/A"}},null,{"$f":"INDEX(设备类型!$B$2:$B$5001,MATCH(表格模板!C1065,设备类型!$A$2:$A$5001,0),COLUMN(A1065))","v":{"$error":"#N/A"}}]
[null,{"$f":"INDEX(建筑!$B$2:$B$5001,MATCH(表格模板!A1066,建筑!$A$2:$A$5001,0),COLUMN(A1066))","v":{"$error":"#N/A"}},null,{"$f":"INDEX(设备类型!$B$2:$B$5001,MATCH(表格模板!C1066,设备类型!$A$2:$A$5001,0),COLUMN(A1066))","v":{"$error":"#N/A"}}]
[null,{"$f":"INDEX(建筑!$B$2:$B$5001,MATCH(表格模板!A1067,建筑!$A$2:$A$5001,0),COLUMN(A1067))","v":{"$error":"#N/A"}},null,{"$f":"INDEX(设备类型!$B$2:$B$5001,MATCH(表格模板!C1067,设备类型!$A$2:$A$5001,0),COLUMN(A1067))","v":{"$error":"#N/A"}}]
[null,{"$f":"INDEX(建筑!$B$2:$B$5001,MATCH(表格模板!A1068,建筑!$A$2:$A$5001,0),COLUMN(A1068))","v":{"$error":"#N/A"}},null,{"$f":"INDEX(设备类型!$B$2:$B$5001,MATCH(表格模板!C1068,设备类型!$A$2:$A$5001,0),COLUMN(A1068))","v":{"$error":"#N/A"}}]
[null,{"$f":"INDEX(建筑!$B$2:$B$5001,MATCH(表格模板!A1069,建筑!$A$2:$A$5001,0),COLUMN(A1069))","v":{"$error":"#N/A"}},null,{"$f":"INDEX(设备类型!$B$2:$B$5001,MATCH(表格模板!C1069,设备类型!$A$2:$A$5001,0),COLUMN(A1069))","v":{"$error":"#N/A"}}]
[null,{"$f":"INDEX(建筑!$B$2:$B$5001,MATCH(表格模板!A1070,建筑!$A$2:$A$5001,0),COLUMN(A1070))","v":{"$error":"#N/A"}},null,{"$f":"INDEX(设备类型!$B$2:$B$5001,MATCH(表格模板!C1070,设备类型!$A$2:$A$5001,0),COLUMN(A1070))","v":{"$error":"#N/A"}}]
[null,{"$f":"INDEX(建筑!$B$2:$B$5001,MATCH(表格模板!A1071,建筑!$A$2:$A$5001,0),COLUMN(A1071))","v":{"$error":"#N/A"}},null,{"$f":"INDEX(设备类型!$B$2:$B$5001,MATCH(表格模板!C1071,设备类型!$A$2:$A$5001,0),COLUMN(A1071))","v":{"$error":"#N/A"}}]
[null,{"$f":"INDEX(建筑!$B$2:$B$5001,MATCH(表格模板!A1072,建筑!$A$2:$A$5001,0),COLUMN(A1072))","v":{"$error":"#N/A"}},null,{"$f":"INDEX(设备类型!$B$2:$B$5001,MATCH(表格模板!C1072,设备类型!$A$2:$A$5001,0),COLUMN(A1072))","v":{"$error":"#N/A"}}]
[null,{"$f":"INDEX(建筑!$B$2:$B$5001,MATCH(表格模板!A1073,建筑!$A$2:$A$5001,0),COLUMN(A1073))","v":{"$error":"#N/A"}},null,{"$f":"INDEX(设备类型!$B$2:$B$5001,MATCH(表格模板!C1073,设备类型!$A$2:$A$5001,0),COLUMN(A1073))","v":{"$error":"#N/A"}}]
[null,{"$f":"INDEX(建筑!$B$2:$B$5001,MATCH(表格模板!A1074,建筑!$A$2:$A$5001,0),COLUMN(A1074))","v":{"$error":"#N/A"}},null,{"$f":"INDEX(设备类型!$B$2:$B$5001,MATCH(表格模板!C1074,设备类型!$A$2:$A$5001,0),COLUMN(A1074))","v":{"$error":"#N/A"}}]
[null,{"$f":"INDEX(建筑!$B$2:$B$5001,MATCH(表格模板!A1075,建筑!$A$2:$A$5001,0),COLUMN(A1075))","v":{"$error":"#N/A"}},null,{"$f":"INDEX(设备类型!$B$2:$B$5001,MATCH(表格模板!C1075,设备类型!$A$2:$A$5001,0),COLUMN(A1075))","v":{"$error":"#N/A"}}]
[null,{"$f":"INDEX(建筑!$B$2:$B$5001,MATCH(表格模板!A1076,建筑!$A$2:$A$5001,0),COLUMN(A1076))","v":{"$error":"#N/A"}},null,{"$f":"INDEX(设备类型!$B$2:$B$5001,MATCH(表格模板!C1076,设备类型!$A$2:$A$5001,0),COLUMN(A1076))","v":{"$error":"#N/A"}}]
[null,{"$f":"INDEX(建筑!$B$2:$B$5001,MATCH(表格模板!A1077,建筑!$A$2:$A$5001,0),COLUMN(A1077))","v":{"$error":"#N/A"}},null,{"$f":"INDEX(设备类型!$B$2:$B$5001,MATCH(表格模板!C1077,设备类型!$A$2:$A$5001,0),COLUMN(A1077))","v":{"$error":"#N/A"}}]
[null,{"$f":"INDEX(建筑!$B$2:$B$5001,MATCH(表格模板!A1078,建筑!$A$2:$A$5001,0),COLUMN(A1078))","v":{"$error":"#N/A"}},null,{"$f":"INDEX(设备类型!$B$2:$B$5001,MATCH(表格模板!C1078,设备类型!$A$2:$A$5001,0),COLUMN(A1078))","v":{"$error":"#N/A"}}]
[null,{"$f":"INDEX(建筑!$B$2:$B$5001,MATCH(表格模板!A1079,建筑!$A$2:$A$5001,0),COLUMN(A1079))","v":{"$error":"#N/A"}},null,{"$f":"INDEX(设备类型!$B$2:$B$5001,MATCH(表格模板!C1079,设备类型!$A$2:$A$5001,0),COLUMN(A1079))","v":{"$error":"#N/A"}}]
[null,{"$f":"INDEX(建筑!$B$2:$B$5001,MATCH(表格模板!A1080,建筑!$A$2:$A$5001,0),COLUMN(A1080))","v":{"$error":"#N/A"}},null,{"$f":"INDEX(设备类型!$B$2:$B$5001,MATCH(表格模板!C1080,设备类型!$A$2:$A$5001,0),COLUMN(A1080))","v":{"$error":"#N/A"}}]
[null,{"$f":"INDEX(建筑!$B$2:$B$5001,MATCH(表格模板!A1081,建筑!$A$2:$A$5001,0),COLUMN(A1081))","v":{"$error":"#N/A"}},null,{"$f":"INDEX(设备类型!$B$2:$B$5001,MATCH(表格模板!C1081,设备类型!$A$2:$A$5001,0),COLUMN(A1081))","v":{"$error":"#N/A"}}]
[null,{"$f":"INDEX(建筑!$B$2:$B$5001,MATCH(表格模板!A1082,建筑!$A$2:$A$5001,0),COLUMN(A1082))","v":{"$error":"#N/A"}},null,{"$f":"INDEX(设备类型!$B$2:$B$5001,MATCH(表格模板!C1082,设备类型!$A$2:$A$5001,0),COLUMN(A1082))","v":{"$error":"#N/A"}}]
[null,{"$f":"INDEX(建筑!$B$2:$B$5001,MATCH(表格模板!A1083,建筑!$A$2:$A$5001,0),COLUMN(A1083))","v":{"$error":"#N/A"}},null,{"$f":"INDEX(设备类型!$B$2:$B$5001,MATCH(表格模板!C1083,设备类型!$A$2:$A$5001,0),COLUMN(A1083))","v":{"$error":"#N/A"}}]
[null,{"$f":"INDEX(建筑!$B$2:$B$5001,MATCH(表格模板!A1084,建筑!$A$2:$A$5001,0),COLUMN(A1084))","v":{"$error":"#N/A"}},null,{"$f":"INDEX(设备类型!$B$2:$B$5001,MATCH(表格模板!C1084,设备类型!$A$2:$A$5001,0),COLUMN(A1084))","v":{"$error":"#N/A"}}]
[null,{"$f":"INDEX(建筑!$B$2:$B$5001,MATCH(表格模板!A1085,建筑!$A$2:$A$5001,0),COLUMN(A1085))","v":{"$error":"#N/A"}},null,{"$f":"INDEX(设备类型!$B$2:$B$5001,MATCH(表格模板!C1085,设备类型!$A$2:$A$5001,0),COLUMN(A1085))","v":{"$error":"#N/A"}}]
[null,{"$f":"INDEX(建筑!$B$2:$B$5001,MATCH(表格模板!A1086,建筑!$A$2:$A$5001,0),COLUMN(A1086))","v":{"$error":"#N/A"}},null,{"$f":"INDEX(设备类型!$B$2:$B$5001,MATCH(表格模板!C1086,设备类型!$A$2:$A$5001,0),COLUMN(A1086))","v":{"$error":"#N/A"}}]
[null,{"$f":"INDEX(建筑!$B$2:$B$5001,MATCH(表格模板!A1087,建筑!$A$2:$A$5001,0),COLUMN(A1087))","v":{"$error":"#N/A"}},null,{"$f":"INDEX(设备类型!$B$2:$B$5001,MATCH(表格模板!C1087,设备类型!$A$2:$A$5001,0),COLUMN(A1087))","v":{"$error":"#N/A"}}]
[null,{"$f":"INDEX(建筑!$B$2:$B$5001,MATCH(表格模板!A1088,建筑!$A$2:$A$5001,0),COLUMN(A1088))","v":{"$error":"#N/A"}},null,{"$f":"INDEX(设备类型!$B$2:$B$5001,MATCH(表格模板!C1088,设备类型!$A$2:$A$5001,0),COLUMN(A1088))","v":{"$error":"#N/A"}}]
[null,{"$f":"INDEX(建筑!$B$2:$B$5001,MATCH(表格模板!A1089,建筑!$A$2:$A$5001,0),COLUMN(A1089))","v":{"$error":"#N/A"}},null,{"$f":"INDEX(设备类型!$B$2:$B$5001,MATCH(表格模板!C1089,设备类型!$A$2:$A$5001,0),COLUMN(A1089))","v":{"$error":"#N/A"}}]
[null,{"$f":"INDEX(建筑!$B$2:$B$5001,MATCH(表格模板!A1090,建筑!$A$2:$A$5001,0),COLUMN(A1090))","v":{"$error":"#N/A"}},null,{"$f":"INDEX(设备类型!$B$2:$B$5001,MATCH(表格模板!C1090,设备类型!$A$2:$A$5001,0),COLUMN(A1090))","v":{"$error":"#N/A"}}]
[null,{"$f":"INDEX(建筑!$B$2:$B$5001,MATCH(表格模板!A1091,建筑!$A$2:$A$5001,0),COLUMN(A1091))","v":{"$error":"#N/A"}},null,{"$f":"INDEX(设备类型!$B$2:$B$5001,MATCH(表格模板!C1091,设备类型!$A$2:$A$5001,0),COLUMN(A1091))","v":{"$error":"#N/A"}}]
[null,{"$f":"INDEX(建筑!$B$2:$B$5001,MATCH(表格模板!A1092,建筑!$A$2:$A$5001,0),COLUMN(A1092))","v":{"$error":"#N/A"}},null,{"$f":"INDEX(设备类型!$B$2:$B$5001,MATCH(表格模板!C1092,设备类型!$A$2:$A$5001,0),COLUMN(A1092))","v":{"$error":"#N/A"}}]
[null,{"$f":"INDEX(建筑!$B$2:$B$5001,MATCH(表格模板!A1093,建筑!$A$2:$A$5001,0),COLUMN(A1093))","v":{"$error":"#N/A"}},null,{"$f":"INDEX(设备类型!$B$2:$B$5001,MATCH(表格模板!C1093,设备类型!$A$2:$A$5001,0),COLUMN(A1093))","v":{"$error":"#N/A"}}]
[null,{"$f":"INDEX(建筑!$B$2:$B$5001,MATCH(表格模板!A1094,建筑!$A$2:$A$5001,0),COLUMN(A1094))","v":{"$error":"#N/A"}},null,{"$f":"INDEX(设备类型!$B$2:$B$5001,MATCH(表格模板!C1094,设备类型!$A$2:$A$5001,0),COLUMN(A1094))","v":{"$error":"#N/A"}}]
[null,{"$f":"INDEX(建筑!$B$2:$B$5001,MATCH(表格模板!A1095,建筑!$A$2:$A$5001,0),COLUMN(A1095))","v":{"$error":"#N/A"}},null,{"$f":"INDEX(设备类型!$B$2:$B$5001,MATCH(表格模板!C1095,设备类型!$A$2:$A$5001,0),COLUMN(A1095))","v":{"$error":"#N/A"}}]
[null,{"$f":"INDEX(建筑!$B$2:$B$5001,MATCH(表格模板!A1096,建筑!$A$2:$A$5001,0),COLUMN(A1096))","v":{"$error":"#N/A"}},null,{"$f":"INDEX(设备类型!$B$2:$B$5001,MATCH(表格模板!C1096,设备类型!$A$2:$A$5001,0),COLUMN(A1096))","v":{"$error":"#N/A"}}]
[null,{"$f":"INDEX(建筑!$B$2:$B$5001,MATCH(表格模板!A1097,建筑!$A$2:$A$5001,0),COLUMN(A1097))","v":{"$error":"#N/A"}},null,{"$f":"INDEX(设备类型!$B$2:$B$5001,MATCH(表格模板!C1097,设备类型!$A$2:$A$5001,0),COLUMN(A1097))","v":{"$error":"#N/A"}}]
[null,{"$f":"INDEX(建筑!$B$2:$B$5001,MATCH(表格模板!A1098,建筑!$A$2:$A$5001,0),COLUMN(A1098))","v":{"$error":"#N/A"}},null,{"$f":"INDEX(设备类型!$B$2:$B$5001,MATCH(表格模板!C1098,设备类型!$A$2:$A$5001,0),COLUMN(A1098))","v":{"$error":"#N/A"}}]
[null,{"$f":"INDEX(建筑!$B$2:$B$5001,MATCH(表格模板!A1099,建筑!$A$2:$A$5001,0),COLUMN(A1099))","v":{"$error":"#N/A"}},null,{"$f":"INDEX(设备类型!$B$2:$B$5001,MATCH(表格模板!C1099,设备类型!$A$2:$A$5001,0),COLUMN(A1099))","v":{"$error":"#N/A"}}]
[null,{"$f":"INDEX(建筑!$B$2:$B$5001,MATCH(表格模板!A1100,建筑!$A$2:$A$5001,0),COLUMN(A1100))","v":{"$error":"#N/A"}},null,{"$f":"INDEX(设备类型!$B$2:$B$5001,MATCH(表格模板!C1100,设备类型!$A$2:$A$5001,0),COLUMN(A1100))","v":{"$error":"#N/A"}}]
[null,{"$f":"INDEX(建筑!$B$2:$B$5001,MATCH(表格模板!A1101,建筑!$A$2:$A$5001,0),COLUMN(A1101))","v":{"$error":"#N/A"}},null,{"$f":"INDEX(设备类型!$B$2:$B$5001,MATCH(表格模板!C1101,设备类型!$A$2:$A$5001,0),COLUMN(A1101))","v":{"$error":"#N/A"}}]
[null,{"$f":"INDEX(建筑!$B$2:$B$5001,MATCH(表格模板!A1102,建筑!$A$2:$A$5001,0),COLUMN(A1102))","v":{"$error":"#N/A"}},null,{"$f":"INDEX(设备类型!$B$2:$B$5001,MATCH(表格模板!C1102,设备类型!$A$2:$A$5001,0),COLUMN(A1102))","v":{"$error":"#N/A"}}]
[null,{"$f":"INDEX(建筑!$B$2:$B$5001,MATCH(表格模板!A1103,建筑!$A$2:$A$5001,0),COLUMN(A1103))","v":{"$error":"#N/A"}},null,{"$f":"INDEX(设备类型!$B$2:$B$5001,MATCH(表格模板!C1103,设备类型!$A$2:$A$5001,0),COLUMN(A1103))","v":{"$error":"#N/A"}}]
[null,{"$f":"INDEX(建筑!$B$2:$B$5001,MATCH(表格模板!A1104,建筑!$A$2:$A$5001,0),COLUMN(A1104))","v":{"$error":"#N/A"}},null,{"$f":"INDEX(设备类型!$B$2:$B$5001,MATCH(表格模板!C1104,设备类型!$A$2:$A$5001,0),COLUMN(A1104))","v":{"$error":"#N/A"}}]
[null,{"$f":"INDEX(建筑!$B$2:$B$5001,MATCH(表格模板!A1105,建筑!$A$2:$A$5001,0),COLUMN(A1105))","v":{"$error":"#N/A"}},null,{"$f":"INDEX(设备类型!$B$2:$B$5001,MATCH(表格模板!C1105,设备类型!$A$2:$A$5001,0),COLUMN(A1105))","v":{"$error":"#N/A"}}]
[null,{"$f":"INDEX(建筑!$B$2:$B$5001,MATCH(表格模板!A1106,建筑!$A$2:$A$5001,0),COLUMN(A1106))","v":{"$error":"#N/A"}},null,{"$f":"INDEX(设备类型!$B$2:$B$5001,MATCH(表格模板!C1106,设备类型!$A$2:$A$5001,0),COLUMN(A1106))","v":{"$error":"#N/A"}}]
[null,{"$f":"INDEX(建筑!$B$2:$B$5001,MATCH(表格模板!A1107,建筑!$A$2:$A$5001,0),COLUMN(A1107))","v":{"$error":"#N/A"}},null,{"$f":"INDEX(设备类型!$B$2:$B$5001,MATCH(表格模板!C1107,设备类型!$A$2:$A$5001,0),COLUMN(A1107))","v":{"$error":"#N/A"}}]
[null,{"$f":"INDEX(建筑!$B$2:$B$5001,MATCH(表格模板!A1108,建筑!$A$2:$A$5001,0),COLUMN(A1108))","v":{"$error":"#N/A"}},null,{"$f":"INDEX(设备类型!$B$2:$B$5001,MATCH(表格模板!C1108,设备类型!$A$2:$A$5001,0),COLUMN(A1108))","v":{"$error":"#N/A"}}]
[null,{"$f":"INDEX(建筑!$B$2:$B$5001,MATCH(表格模板!A1109,建筑!$A$2:$A$5001,0),COLUMN(A1109))","v":{"$error":"#N/A"}},null,{"$f":"INDEX(设备类型!$B$2:$B$5001,MATCH(表格模板!C1109,设备类型!$A$2:$A$5001,0),COLUMN(A1109))","v":{"$error":"#N/A"}}]
[null,{"$f":"INDEX(建筑!$B$2:$B$5001,MATCH(表格模板!A1110,建筑!$A$2:$A$5001,0),COLUMN(A1110))","v":{"$error":"#N/A"}},null,{"$f":"INDEX(设备类型!$B$2:$B$5001,MATCH(表格模板!C1110,设备类型!$A$2:$A$5001,0),COLUMN(A1110))","v":{"$error":"#N/A"}}]
[null,{"$f":"INDEX(建筑!$B$2:$B$5001,MATCH(表格模板!A1111,建筑!$A$2:$A$5001,0),COLUMN(A1111))","v":{"$error":"#N/A"}},null,{"$f":"INDEX(设备类型!$B$2:$B$5001,MATCH(表格模板!C1111,设备类型!$A$2:$A$5001,0),COLUMN(A1111))","v":{"$error":"#N/A"}}]
[null,{"$f":"INDEX(建筑!$B$2:$B$5001,MATCH(表格模板!A1112,建筑!$A$2:$A$5001,0),COLUMN(A1112))","v":{"$error":"#N/A"}},null,{"$f":"INDEX(设备类型!$B$2:$B$5001,MATCH(表格模板!C1112,设备类型!$A$2:$A$5001,0),COLUMN(A1112))","v":{"$error":"#N/A"}}]
[null,{"$f":"INDEX(建筑!$B$2:$B$5001,MATCH(表格模板!A1113,建筑!$A$2:$A$5001,0),COLUMN(A1113))","v":{"$error":"#N/A"}},null,{"$f":"INDEX(设备类型!$B$2:$B$5001,MATCH(表格模板!C1113,设备类型!$A$2:$A$5001,0),COLUMN(A1113))","v":{"$error":"#N/A"}}]
[null,{"$f":"INDEX(建筑!$B$2:$B$5001,MATCH(表格模板!A1114,建筑!$A$2:$A$5001,0),COLUMN(A1114))","v":{"$error":"#N/A"}},null,{"$f":"INDEX(设备类型!$B$2:$B$5001,MATCH(表格模板!C1114,设备类型!$A$2:$A$5001,0),COLUMN(A1114))","v":{"$error":"#N/A"}}]
[null,{"$f":"INDEX(建筑!$B$2:$B$5001,MATCH(表格模板!A1115,建筑!$A$2:$A$5001,0),COLUMN(A1115))","v":{"$error":"#N/A"}},null,{"$f":"INDEX(设备类型!$B$2:$B$5001,MATCH(表格模板!C1115,设备类型!$A$2:$A$5001,0),COLUMN(A1115))","v":{"$error":"#N/A"}}]
[null,{"$f":"INDEX(建筑!$B$2:$B$5001,MATCH(表格模板!A1116,建筑!$A$2:$A$5001,0),COLUMN(A1116))","v":{"$error":"#N/A"}},null,{"$f":"INDEX(设备类型!$B$2:$B$5001,MATCH(表格模板!C1116,设备类型!$A$2:$A$5001,0),COLUMN(A1116))","v":{"$error":"#N/A"}}]
[null,{"$f":"INDEX(建筑!$B$2:$B$5001,MATCH(表格模板!A1117,建筑!$A$2:$A$5001,0),COLUMN(A1117))","v":{"$error":"#N/A"}},null,{"$f":"INDEX(设备类型!$B$2:$B$5001,MATCH(表格模板!C1117,设备类型!$A$2:$A$5001,0),COLUMN(A1117))","v":{"$error":"#N/A"}}]
[null,{"$f":"INDEX(建筑!$B$2:$B$5001,MATCH(表格模板!A1118,建筑!$A$2:$A$5001,0),COLUMN(A1118))","v":{"$error":"#N/A"}},null,{"$f":"INDEX(设备类型!$B$2:$B$5001,MATCH(表格模板!C1118,设备类型!$A$2:$A$5001,0),COLUMN(A1118))","v":{"$error":"#N/A"}}]
[null,{"$f":"INDEX(建筑!$B$2:$B$5001,MATCH(表格模板!A1119,建筑!$A$2:$A$5001,0),COLUMN(A1119))","v":{"$error":"#N/A"}},null,{"$f":"INDEX(设备类型!$B$2:$B$5001,MATCH(表格模板!C1119,设备类型!$A$2:$A$5001,0),COLUMN(A1119))","v":{"$error":"#N/A"}}]
[null,{"$f":"INDEX(建筑!$B$2:$B$5001,MATCH(表格模板!A1120,建筑!$A$2:$A$5001,0),COLUMN(A1120))","v":{"$error":"#N/A"}},null,{"$f":"INDEX(设备类型!$B$2:$B$5001,MATCH(表格模板!C1120,设备类型!$A$2:$A$5001,0),COLUMN(A1120))","v":{"$error":"#N/A"}}]
[null,{"$f":"INDEX(建筑!$B$2:$B$5001,MATCH(表格模板!A1121,建筑!$A$2:$A$5001,0),COLUMN(A1121))","v":{"$error":"#N/A"}},null,{"$f":"INDEX(设备类型!$B$2:$B$5001,MATCH(表格模板!C1121,设备类型!$A$2:$A$5001,0),COLUMN(A1121))","v":{"$error":"#N/A"}}]
[null,{"$f":"INDEX(建筑!$B$2:$B$5001,MATCH(表格模板!A1122,建筑!$A$2:$A$5001,0),COLUMN(A1122))","v":{"$error":"#N/A"}},null,{"$f":"INDEX(设备类型!$B$2:$B$5001,MATCH(表格模板!C1122,设备类型!$A$2:$A$5001,0),COLUMN(A1122))","v":{"$error":"#N/A"}}]
[null,{"$f":"INDEX(建筑!$B$2:$B$5001,MATCH(表格模板!A1123,建筑!$A$2:$A$5001,0),COLUMN(A1123))","v":{"$error":"#N/A"}},null,{"$f":"INDEX(设备类型!$B$2:$B$5001,MATCH(表格模板!C1123,设备类型!$A$2:$A$5001,0),COLUMN(A1123))","v":{"$error":"#N/A"}}]
[null,{"$f":"INDEX(建筑!$B$2:$B$5001,MATCH(表格模板!A1124,建筑!$A$2:$A$5001,0),COLUMN(A1124))","v":{"$error":"#N/A"}},null,{"$f":"INDEX(设备类型!$B$2:$B$5001,MATCH(表格模板!C1124,设备类型!$A$2:$A$5001,0),COLUMN(A1124))","v":{"$error":"#N/A"}}]
[null,{"$f":"INDEX(建筑!$B$2:$B$5001,MATCH(表格模板!A1125,建筑!$A$2:$A$5001,0),COLUMN(A1125))","v":{"$error":"#N/A"}},null,{"$f":"INDEX(设备类型!$B$2:$B$5001,MATCH(表格模板!C1125,设备类型!$A$2:$A$5001,0),COLUMN(A1125))","v":{"$error":"#N/A"}}]
[null,{"$f":"INDEX(建筑!$B$2:$B$5001,MATCH(表格模板!A1126,建筑!$A$2:$A$5001,0),COLUMN(A1126))","v":{"$error":"#N/A"}},null,{"$f":"INDEX(设备类型!$B$2:$B$5001,MATCH(表格模板!C1126,设备类型!$A$2:$A$5001,0),COLUMN(A1126))","v":{"$error":"#N/A"}}]
[null,{"$f":"INDEX(建筑!$B$2:$B$5001,MATCH(表格模板!A1127,建筑!$A$2:$A$5001,0),COLUMN(A1127))","v":{"$error":"#N/A"}},null,{"$f":"INDEX(设备类型!$B$2:$B$5001,MATCH(表格模板!C1127,设备类型!$A$2:$A$5001,0),COLUMN(A1127))","v":{"$error":"#N/A"}}]
[null,{"$f":"INDEX(建筑!$B$2:$B$5001,MATCH(表格模板!A1128,建筑!$A$2:$A$5001,0),COLUMN(A1128))","v":{"$error":"#N/A"}},null,{"$f":"INDEX(设备类型!$B$2:$B$5001,MATCH(表格模板!C1128,设备类型!$A$2:$A$5001,0),COLUMN(A1128))","v":{"$error":"#N/A"}}]
[null,{"$f":"INDEX(建筑!$B$2:$B$5001,MATCH(表格模板!A1129,建筑!$A$2:$A$5001,0),COLUMN(A1129))","v":{"$error":"#N/A"}},null,{"$f":"INDEX(设备类型!$B$2:$B$5001,MATCH(表格模板!C1129,设备类型!$A$2:$A$5001,0),COLUMN(A1129))","v":{"$error":"#N/A"}}]
[null,{"$f":"INDEX(建筑!$B$2:$B$5001,MATCH(表格模板!A1130,建筑!$A$2:$A$5001,0),COLUMN(A1130))","v":{"$error":"#N/A"}},null,{"$f":"INDEX(设备类型!$B$2:$B$5001,MATCH(表格模板!C1130,设备类型!$A$2:$A$5001,0),COLUMN(A1130))","v":{"$error":"#N/A"}}]
[null,{"$f":"INDEX(建筑!$B$2:$B$5001,MATCH(表格模板!A1131,建筑!$A$2:$A$5001,0),COLUMN(A1131))","v":{"$error":"#N/A"}},null,{"$f":"INDEX(设备类型!$B$2:$B$5001,MATCH(表格模板!C1131,设备类型!$A$2:$A$5001,0),COLUMN(A1131))","v":{"$error":"#N/A"}}]
[null,{"$f":"INDEX(建筑!$B$2:$B$5001,MATCH(表格模板!A1132,建筑!$A$2:$A$5001,0),COLUMN(A1132))","v":{"$error":"#N/A"}},null,{"$f":"INDEX(设备类型!$B$2:$B$5001,MATCH(表格模板!C1132,设备类型!$A$2:$A$5001,0),COLUMN(A1132))","v":{"$error":"#N/A"}}]
[null,{"$f":"INDEX(建筑!$B$2:$B$5001,MATCH(表格模板!A1133,建筑!$A$2:$A$5001,0),COLUMN(A1133))","v":{"$error":"#N/A"}},null,{"$f":"INDEX(设备类型!$B$2:$B$5001,MATCH(表格模板!C1133,设备类型!$A$2:$A$5001,0),COLUMN(A1133))","v":{"$error":"#N/A"}}]
[null,{"$f":"INDEX(建筑!$B$2:$B$5001,MATCH(表格模板!A1134,建筑!$A$2:$A$5001,0),COLUMN(A1134))","v":{"$error":"#N/A"}},null,{"$f":"INDEX(设备类型!$B$2:$B$5001,MATCH(表格模板!C1134,设备类型!$A$2:$A$5001,0),COLUMN(A1134))","v":{"$error":"#N/A"}}]
[null,{"$f":"INDEX(建筑!$B$2:$B$5001,MATCH(表格模板!A1135,建筑!$A$2:$A$5001,0),COLUMN(A1135))","v":{"$error":"#N/A"}},null,{"$f":"INDEX(设备类型!$B$2:$B$5001,MATCH(表格模板!C1135,设备类型!$A$2:$A$5001,0),COLUMN(A1135))","v":{"$error":"#N/A"}}]
[null,{"$f":"INDEX(建筑!$B$2:$B$5001,MATCH(表格模板!A1136,建筑!$A$2:$A$5001,0),COLUMN(A1136))","v":{"$error":"#N/A"}},null,{"$f":"INDEX(设备类型!$B$2:$B$5001,MATCH(表格模板!C1136,设备类型!$A$2:$A$5001,0),COLUMN(A1136))","v":{"$error":"#N/A"}}]
[null,{"$f":"INDEX(建筑!$B$2:$B$5001,MATCH(表格模板!A1137,建筑!$A$2:$A$5001,0),COLUMN(A1137))","v":{"$error":"#N/A"}},null,{"$f":"INDEX(设备类型!$B$2:$B$5001,MATCH(表格模板!C1137,设备类型!$A$2:$A$5001,0),COLUMN(A1137))","v":{"$error":"#N/A"}}]
[null,{"$f":"INDEX(建筑!$B$2:$B$5001,MATCH(表格模板!A1138,建筑!$A$2:$A$5001,0),COLUMN(A1138))","v":{"$error":"#N/A"}},null,{"$f":"INDEX(设备类型!$B$2:$B$5001,MATCH(表格模板!C1138,设备类型!$A$2:$A$5001,0),COLUMN(A1138))","v":{"$error":"#N/A"}}]
[null,{"$f":"INDEX(建筑!$B$2:$B$5001,MATCH(表格模板!A1139,建筑!$A$2:$A$5001,0),COLUMN(A1139))","v":{"$error":"#N/A"}},null,{"$f":"INDEX(设备类型!$B$2:$B$5001,MATCH(表格模板!C1139,设备类型!$A$2:$A$5001,0),COLUMN(A1139))","v":{"$error":"#N/A"}}]
[null,{"$f":"INDEX(建筑!$B$2:$B$5001,MATCH(表格模板!A1140,建筑!$A$2:$A$5001,0),COLUMN(A1140))","v":{"$error":"#N/A"}},null,{"$f":"INDEX(设备类型!$B$2:$B$5001,MATCH(表格模板!C1140,设备类型!$A$2:$A$5001,0),COLUMN(A1140))","v":{"$error":"#N/A"}}]
[null,{"$f":"INDEX(建筑!$B$2:$B$5001,MATCH(表格模板!A1141,建筑!$A$2:$A$5001,0),COLUMN(A1141))","v":{"$error":"#N/A"}},null,{"$f":"INDEX(设备类型!$B$2:$B$5001,MATCH(表格模板!C1141,设备类型!$A$2:$A$5001,0),COLUMN(A1141))","v":{"$error":"#N/A"}}]
[null,{"$f":"INDEX(建筑!$B$2:$B$5001,MATCH(表格模板!A1142,建筑!$A$2:$A$5001,0),COLUMN(A1142))","v":{"$error":"#N/A"}},null,{"$f":"INDEX(设备类型!$B$2:$B$5001,MATCH(表格模板!C1142,设备类型!$A$2:$A$5001,0),COLUMN(A1142))","v":{"$error":"#N/A"}}]
[null,{"$f":"INDEX(建筑!$B$2:$B$5001,MATCH(表格模板!A1143,建筑!$A$2:$A$5001,0),COLUMN(A1143))","v":{"$error":"#N/A"}},null,{"$f":"INDEX(设备类型!$B$2:$B$5001,MATCH(表格模板!C1143,设备类型!$A$2:$A$5001,0),COLUMN(A1143))","v":{"$error":"#N/A"}}]
[null,{"$f":"INDEX(建筑!$B$2:$B$5001,MATCH(表格模板!A1144,建筑!$A$2:$A$5001,0),COLUMN(A1144))","v":{"$error":"#N/A"}},null,{"$f":"INDEX(设备类型!$B$2:$B$5001,MATCH(表格模板!C1144,设备类型!$A$2:$A$5001,0),COLUMN(A1144))","v":{"$error":"#N/A"}}]
[null,{"$f":"INDEX(建筑!$B$2:$B$5001,MATCH(表格模板!A1145,建筑!$A$2:$A$5001,0),COLUMN(A1145))","v":{"$error":"#N/A"}},null,{"$f":"INDEX(设备类型!$B$2:$B$5001,MATCH(表格模板!C1145,设备类型!$A$2:$A$5001,0),COLUMN(A1145))","v":{"$error":"#N/A"}}]
[null,{"$f":"INDEX(建筑!$B$2:$B$5001,MATCH(表格模板!A1146,建筑!$A$2:$A$5001,0),COLUMN(A1146))","v":{"$error":"#N/A"}},null,{"$f":"INDEX(设备类型!$B$2:$B$5001,MATCH(表格模板!C1146,设备类型!$A$2:$A$5001,0),COLUMN(A1146))","v":{"$error":"#N/A"}}]
[null,{"$f":"INDEX(建筑!$B$2:$B$5001,MATCH(表格模板!A1147,建筑!$A$2:$A$5001,0),COLUMN(A1147))","v":{"$error":"#N/A"}},null,{"$f":"INDEX(设备类型!$B$2:$B$5001,MATCH(表格模板!C1147,设备类型!$A$2:$A$5001,0),COLUMN(A1147))","v":{"$error":"#N/A"}}]
[null,{"$f":"INDEX(建筑!$B$2:$B$5001,MATCH(表格模板!A1148,建筑!$A$2:$A$5001,0),COLUMN(A1148))","v":{"$error":"#N/A"}},null,{"$f":"INDEX(设备类型!$B$2:$B$5001,MATCH(表格模板!C1148,设备类型!$A$2:$A$5001,0),COLUMN(A1148))","v":{"$error":"#N/A"}}]
[null,{"$f":"INDEX(建筑!$B$2:$B$5001,MATCH(表格模板!A1149,建筑!$A$2:$A$5001,0),COLUMN(A1149))","v":{"$error":"#N/A"}},null,{"$f":"INDEX(设备类型!$B$2:$B$5001,MATCH(表格模板!C1149,设备类型!$A$2:$A$5001,0),COLUMN(A1149))","v":{"$error":"#N/A"}}]
[null,{"$f":"INDEX(建筑!$B$2:$B$5001,MATCH(表格模板!A1150,建筑!$A$2:$A$5001,0),COLUMN(A1150))","v":{"$error":"#N/A"}},null,{"$f":"INDEX(设备类型!$B$2:$B$5001,MATCH(表格模板!C1150,设备类型!$A$2:$A$5001,0),COLUMN(A1150))","v":{"$error":"#N/A"}}]
[null,{"$f":"INDEX(建筑!$B$2:$B$5001,MATCH(表格模板!A1151,建筑!$A$2:$A$5001,0),COLUMN(A1151))","v":{"$error":"#N/A"}},null,{"$f":"INDEX(设备类型!$B$2:$B$5001,MATCH(表格模板!C1151,设备类型!$A$2:$A$5001,0),COLUMN(A1151))","v":{"$error":"#N/A"}}]
[null,{"$f":"INDEX(建筑!$B$2:$B$5001,MATCH(表格模板!A1152,建筑!$A$2:$A$5001,0),COLUMN(A1152))","v":{"$error":"#N/A"}},null,{"$f":"INDEX(设备类型!$B$2:$B$5001,MATCH(表格模板!C1152,设备类型!$A$2:$A$5001,0),COLUMN(A1152))","v":{"$error":"#N/A"}}]
[null,{"$f":"INDEX(建筑!$B$2:$B$5001,MATCH(表格模板!A1153,建筑!$A$2:$A$5001,0),COLUMN(A1153))","v":{"$error":"#N/A"}},null,{"$f":"INDEX(设备类型!$B$2:$B$5001,MATCH(表格模板!C1153,设备类型!$A$2:$A$5001,0),COLUMN(A1153))","v":{"$error":"#N/A"}}]
[null,{"$f":"INDEX(建筑!$B$2:$B$5001,MATCH(表格模板!A1154,建筑!$A$2:$A$5001,0),COLUMN(A1154))","v":{"$error":"#N/A"}},null,{"$f":"INDEX(设备类型!$B$2:$B$5001,MATCH(表格模板!C1154,设备类型!$A$2:$A$5001,0),COLUMN(A1154))","v":{"$error":"#N/A"}}]
[null,{"$f":"INDEX(建筑!$B$2:$B$5001,MATCH(表格模板!A1155,建筑!$A$2:$A$5001,0),COLUMN(A1155))","v":{"$error":"#N/A"}},null,{"$f":"INDEX(设备类型!$B$2:$B$5001,MATCH(表格模板!C1155,设备类型!$A$2:$A$5001,0),COLUMN(A1155))","v":{"$error":"#N/A"}}]
[null,{"$f":"INDEX(建筑!$B$2:$B$5001,MATCH(表格模板!A1156,建筑!$A$2:$A$5001,0),COLUMN(A1156))","v":{"$error":"#N/A"}},null,{"$f":"INDEX(设备类型!$B$2:$B$5001,MATCH(表格模板!C1156,设备类型!$A$2:$A$5001,0),COLUMN(A1156))","v":{"$error":"#N/A"}}]
[null,{"$f":"INDEX(建筑!$B$2:$B$5001,MATCH(表格模板!A1157,建筑!$A$2:$A$5001,0),COLUMN(A1157))","v":{"$error":"#N/A"}},null,{"$f":"INDEX(设备类型!$B$2:$B$5001,MATCH(表格模板!C1157,设备类型!$A$2:$A$5001,0),COLUMN(A1157))","v":{"$error":"#N/A"}}]
[null,{"$f":"INDEX(建筑!$B$2:$B$5001,MATCH(表格模板!A1158,建筑!$A$2:$A$5001,0),COLUMN(A1158))","v":{"$error":"#N/A"}},null,{"$f":"INDEX(设备类型!$B$2:$B$5001,MATCH(表格模板!C1158,设备类型!$A$2:$A$5001,0),COLUMN(A1158))","v":{"$error":"#N/A"}}]
[null,{"$f":"INDEX(建筑!$B$2:$B$5001,MATCH(表格模板!A1159,建筑!$A$2:$A$5001,0),COLUMN(A1159))","v":{"$error":"#N/A"}},null,{"$f":"INDEX(设备类型!$B$2:$B$5001,MATCH(表格模板!C1159,设备类型!$A$2:$A$5001,0),COLUMN(A1159))","v":{"$error":"#N/A"}}]
[null,{"$f":"INDEX(建筑!$B$2:$B$5001,MATCH(表格模板!A1160,建筑!$A$2:$A$5001,0),COLUMN(A1160))","v":{"$error":"#N/A"}},null,{"$f":"INDEX(设备类型!$B$2:$B$5001,MATCH(表格模板!C1160,设备类型!$A$2:$A$5001,0),COLUMN(A1160))","v":{"$error":"#N/A"}}]
[null,{"$f":"INDEX(建筑!$B$2:$B$5001,MATCH(表格模板!A1161,建筑!$A$2:$A$5001,0),COLUMN(A1161))","v":{"$error":"#N/A"}},null,{"$f":"INDEX(设备类型!$B$2:$B$5001,MATCH(表格模板!C1161,设备类型!$A$2:$A$5001,0),COLUMN(A1161))","v":{"$error":"#N/A"}}]
[null,{"$f":"INDEX(建筑!$B$2:$B$5001,MATCH(表格模板!A1162,建筑!$A$2:$A$5001,0),COLUMN(A1162))","v":{"$error":"#N/A"}},null,{"$f":"INDEX(设备类型!$B$2:$B$5001,MATCH(表格模板!C1162,设备类型!$A$2:$A$5001,0),COLUMN(A1162))","v":{"$error":"#N/A"}}]
[null,{"$f":"INDEX(建筑!$B$2:$B$5001,MATCH(表格模板!A1163,建筑!$A$2:$A$5001,0),COLUMN(A1163))","v":{"$error":"#N/A"}},null,{"$f":"INDEX(设备类型!$B$2:$B$5001,MATCH(表格模板!C1163,设备类型!$A$2:$A$5001,0),COLUMN(A1163))","v":{"$error":"#N/A"}}]
[null,{"$f":"INDEX(建筑!$B$2:$B$5001,MATCH(表格模板!A1164,建筑!$A$2:$A$5001,0),COLUMN(A1164))","v":{"$error":"#N/A"}},null,{"$f":"INDEX(设备类型!$B$2:$B$5001,MATCH(表格模板!C1164,设备类型!$A$2:$A$5001,0),COLUMN(A1164))","v":{"$error":"#N/A"}}]
[null,{"$f":"INDEX(建筑!$B$2:$B$5001,MATCH(表格模板!A1165,建筑!$A$2:$A$5001,0),COLUMN(A1165))","v":{"$error":"#N/A"}},null,{"$f":"INDEX(设备类型!$B$2:$B$5001,MATCH(表格模板!C1165,设备类型!$A$2:$A$5001,0),COLUMN(A1165))","v":{"$error":"#N/A"}}]
[null,{"$f":"INDEX(建筑!$B$2:$B$5001,MATCH(表格模板!A1166,建筑!$A$2:$A$5001,0),COLUMN(A1166))","v":{"$error":"#N/A"}},null,{"$f":"INDEX(设备类型!$B$2:$B$5001,MATCH(表格模板!C1166,设备类型!$A$2:$A$5001,0),COLUMN(A1166))","v":{"$error":"#N/A"}}]
[null,{"$f":"INDEX(建筑!$B$2:$B$5001,MATCH(表格模板!A1167,建筑!$A$2:$A$5001,0),COLUMN(A1167))","v":{"$error":"#N/A"}},null,{"$f":"INDEX(设备类型!$B$2:$B$5001,MATCH(表格模板!C1167,设备类型!$A$2:$A$5001,0),COLUMN(A1167))","v":{"$error":"#N/A"}}]
[null,{"$f":"INDEX(建筑!$B$2:$B$5001,MATCH(表格模板!A1168,建筑!$A$2:$A$5001,0),COLUMN(A1168))","v":{"$error":"#N/A"}},null,{"$f":"INDEX(设备类型!$B$2:$B$5001,MATCH(表格模板!C1168,设备类型!$A$2:$A$5001,0),COLUMN(A1168))","v":{"$error":"#N/A"}}]
[null,{"$f":"INDEX(建筑!$B$2:$B$5001,MATCH(表格模板!A1169,建筑!$A$2:$A$5001,0),COLUMN(A1169))","v":{"$error":"#N/A"}},null,{"$f":"INDEX(设备类型!$B$2:$B$5001,MATCH(表格模板!C1169,设备类型!$A$2:$A$5001,0),COLUMN(A1169))","v":{"$error":"#N/A"}}]
[null,{"$f":"INDEX(建筑!$B$2:$B$5001,MATCH(表格模板!A1170,建筑!$A$2:$A$5001,0),COLUMN(A1170))","v":{"$error":"#N/A"}},null,{"$f":"INDEX(设备类型!$B$2:$B$5001,MATCH(表格模板!C1170,设备类型!$A$2:$A$5001,0),COLUMN(A1170))","v":{"$error":"#N/A"}}]
[null,{"$f":"INDEX(建筑!$B$2:$B$5001,MATCH(表格模板!A1171,建筑!$A$2:$A$5001,0),COLUMN(A1171))","v":{"$error":"#N/A"}},null,{"$f":"INDEX(设备类型!$B$2:$B$5001,MATCH(表格模板!C1171,设备类型!$A$2:$A$5001,0),COLUMN(A1171))","v":{"$error":"#N/A"}}]
[null,{"$f":"INDEX(建筑!$B$2:$B$5001,MATCH(表格模板!A1172,建筑!$A$2:$A$5001,0),COLUMN(A1172))","v":{"$error":"#N/A"}},null,{"$f":"INDEX(设备类型!$B$2:$B$5001,MATCH(表格模板!C1172,设备类型!$A$2:$A$5001,0),COLUMN(A1172))","v":{"$error":"#N/A"}}]
[null,{"$f":"INDEX(建筑!$B$2:$B$5001,MATCH(表格模板!A1173,建筑!$A$2:$A$5001,0),COLUMN(A1173))","v":{"$error":"#N/A"}},null,{"$f":"INDEX(设备类型!$B$2:$B$5001,MATCH(表格模板!C1173,设备类型!$A$2:$A$5001,0),COLUMN(A1173))","v":{"$error":"#N/A"}}]
[null,{"$f":"INDEX(建筑!$B$2:$B$5001,MATCH(表格模板!A1174,建筑!$A$2:$A$5001,0),COLUMN(A1174))","v":{"$error":"#N/A"}},null,{"$f":"INDEX(设备类型!$B$2:$B$5001,MATCH(表格模板!C1174,设备类型!$A$2:$A$5001,0),COLUMN(A1174))","v":{"$error":"#N/A"}}]
[null,{"$f":"INDEX(建筑!$B$2:$B$5001,MATCH(表格模板!A1175,建筑!$A$2:$A$5001,0),COLUMN(A1175))","v":{"$error":"#N/A"}},null,{"$f":"INDEX(设备类型!$B$2:$B$5001,MATCH(表格模板!C1175,设备类型!$A$2:$A$5001,0),COLUMN(A1175))","v":{"$error":"#N/A"}}]
[null,{"$f":"INDEX(建筑!$B$2:$B$5001,MATCH(表格模板!A1176,建筑!$A$2:$A$5001,0),COLUMN(A1176))","v":{"$error":"#N/A"}},null,{"$f":"INDEX(设备类型!$B$2:$B$5001,MATCH(表格模板!C1176,设备类型!$A$2:$A$5001,0),COLUMN(A1176))","v":{"$error":"#N/A"}}]
[null,{"$f":"INDEX(建筑!$B$2:$B$5001,MATCH(表格模板!A1177,建筑!$A$2:$A$5001,0),COLUMN(A1177))","v":{"$error":"#N/A"}},null,{"$f":"INDEX(设备类型!$B$2:$B$5001,MATCH(表格模板!C1177,设备类型!$A$2:$A$5001,0),COLUMN(A1177))","v":{"$error":"#N/A"}}]
[null,{"$f":"INDEX(建筑!$B$2:$B$5001,MATCH(表格模板!A1178,建筑!$A$2:$A$5001,0),COLUMN(A1178))","v":{"$error":"#N/A"}},null,{"$f":"INDEX(设备类型!$B$2:$B$5001,MATCH(表格模板!C1178,设备类型!$A$2:$A$5001,0),COLUMN(A1178))","v":{"$error":"#N/A"}}]
[null,{"$f":"INDEX(建筑!$B$2:$B$5001,MATCH(表格模板!A1179,建筑!$A$2:$A$5001,0),COLUMN(A1179))","v":{"$error":"#N/A"}},null,{"$f":"INDEX(设备类型!$B$2:$B$5001,MATCH(表格模板!C1179,设备类型!$A$2:$A$5001,0),COLUMN(A1179))","v":{"$error":"#N/A"}}]
[null,{"$f":"INDEX(建筑!$B$2:$B$5001,MATCH(表格模板!A1180,建筑!$A$2:$A$5001,0),COLUMN(A1180))","v":{"$error":"#N/A"}},null,{"$f":"INDEX(设备类型!$B$2:$B$5001,MATCH(表格模板!C1180,设备类型!$A$2:$A$5001,0),COLUMN(A1180))","v":{"$error":"#N/A"}}]
[null,{"$f":"INDEX(建筑!$B$2:$B$5001,MATCH(表格模板!A1181,建筑!$A$2:$A$5001,0),COLUMN(A1181))","v":{"$error":"#N/A"}},null,{"$f":"INDEX(设备类型!$B$2:$B$5001,MATCH(表格模板!C1181,设备类型!$A$2:$A$5001,0),COLUMN(A1181))","v":{"$error":"#N/A"}}]
[null,{"$f":"INDEX(建筑!$B$2:$B$5001,MATCH(表格模板!A1182,建筑!$A$2:$A$5001,0),COLUMN(A1182))","v":{"$error":"#N/A"}},null,{"$f":"INDEX(设备类型!$B$2:$B$5001,MATCH(表格模板!C1182,设备类型!$A$2:$A$5001,0),COLUMN(A1182))","v":{"$error":"#N/A"}}]
[null,{"$f":"INDEX(建筑!$B$2:$B$5001,MATCH(表格模板!A1183,建筑!$A$2:$A$5001,0),COLUMN(A1183))","v":{"$error":"#N/A"}},null,{"$f":"INDEX(设备类型!$B$2:$B$5001,MATCH(表格模板!C1183,设备类型!$A$2:$A$5001,0),COLUMN(A1183))","v":{"$error":"#N/A"}}]
[null,{"$f":"INDEX(建筑!$B$2:$B$5001,MATCH(表格模板!A1184,建筑!$A$2:$A$5001,0),COLUMN(A1184))","v":{"$error":"#N/A"}},null,{"$f":"INDEX(设备类型!$B$2:$B$5001,MATCH(表格模板!C1184,设备类型!$A$2:$A$5001,0),COLUMN(A1184))","v":{"$error":"#N/A"}}]
[null,{"$f":"INDEX(建筑!$B$2:$B$5001,MATCH(表格模板!A1185,建筑!$A$2:$A$5001,0),COLUMN(A1185))","v":{"$error":"#N/A"}},null,{"$f":"INDEX(设备类型!$B$2:$B$5001,MATCH(表格模板!C1185,设备类型!$A$2:$A$5001,0),COLUMN(A1185))","v":{"$error":"#N/A"}}]
[null,{"$f":"INDEX(建筑!$B$2:$B$5001,MATCH(表格模板!A1186,建筑!$A$2:$A$5001,0),COLUMN(A1186))","v":{"$error":"#N/A"}},null,{"$f":"INDEX(设备类型!$B$2:$B$5001,MATCH(表格模板!C1186,设备类型!$A$2:$A$5001,0),COLUMN(A1186))","v":{"$error":"#N/A"}}]
[null,{"$f":"INDEX(建筑!$B$2:$B$5001,MATCH(表格模板!A1187,建筑!$A$2:$A$5001,0),COLUMN(A1187))","v":{"$error":"#N/A"}},null,{"$f":"INDEX(设备类型!$B$2:$B$5001,MATCH(表格模板!C1187,设备类型!$A$2:$A$5001,0),COLUMN(A1187))","v":{"$error":"#N/A"}}]
[null,{"$f":"INDEX(建筑!$B$2:$B$5001,MATCH(表格模板!A1188,建筑!$A$2:$A$5001,0),COLUMN(A1188))","v":{"$error":"#N/A"}},null,{"$f":"INDEX(设备类型!$B$2:$B$5001,MATCH(表格模板!C1188,设备类型!$A$2:$A$5001,0),COLUMN(A1188))","v":{"$error":"#N/A"}}]
[null,{"$f":"INDEX(建筑!$B$2:$B$5001,MATCH(表格模板!A1189,建筑!$A$2:$A$5001,0),COLUMN(A1189))","v":{"$error":"#N/A"}},null,{"$f":"INDEX(设备类型!$B$2:$B$5001,MATCH(表格模板!C1189,设备类型!$A$2:$A$5001,0),COLUMN(A1189))","v":{"$error":"#N/A"}}]
[null,{"$f":"INDEX(建筑!$B$2:$B$5001,MATCH(表格模板!A1190,建筑!$A$2:$A$5001,0),COLUMN(A1190))","v":{"$error":"#N/A"}},null,{"$f":"INDEX(设备类型!$B$2:$B$5001,MATCH(表格模板!C1190,设备类型!$A$2:$A$5001,0),COLUMN(A1190))","v":{"$error":"#N/A"}}]
[null,{"$f":"INDEX(建筑!$B$2:$B$5001,MATCH(表格模板!A1191,建筑!$A$2:$A$5001,0),COLUMN(A1191))","v":{"$error":"#N/A"}},null,{"$f":"INDEX(设备类型!$B$2:$B$5001,MATCH(表格模板!C1191,设备类型!$A$2:$A$5001,0),COLUMN(A1191))","v":{"$error":"#N/A"}}]
[null,{"$f":"INDEX(建筑!$B$2:$B$5001,MATCH(表格模板!A1192,建筑!$A$2:$A$5001,0),COLUMN(A1192))","v":{"$error":"#N/A"}},null,{"$f":"INDEX(设备类型!$B$2:$B$5001,MATCH(表格模板!C1192,设备类型!$A$2:$A$5001,0),COLUMN(A1192))","v":{"$error":"#N/A"}}]
[null,{"$f":"INDEX(建筑!$B$2:$B$5001,MATCH(表格模板!A1193,建筑!$A$2:$A$5001,0),COLUMN(A1193))","v":{"$error":"#N/A"}},null,{"$f":"INDEX(设备类型!$B$2:$B$5001,MATCH(表格模板!C1193,设备类型!$A$2:$A$5001,0),COLUMN(A1193))","v":{"$error":"#N/A"}}]
[null,{"$f":"INDEX(建筑!$B$2:$B$5001,MATCH(表格模板!A1194,建筑!$A$2:$A$5001,0),COLUMN(A1194))","v":{"$error":"#N/A"}},null,{"$f":"INDEX(设备类型!$B$2:$B$5001,MATCH(表格模板!C1194,设备类型!$A$2:$A$5001,0),COLUMN(A1194))","v":{"$error":"#N/A"}}]
[null,{"$f":"INDEX(建筑!$B$2:$B$5001,MATCH(表格模板!A1195,建筑!$A$2:$A$5001,0),COLUMN(A1195))","v":{"$error":"#N/A"}},null,{"$f":"INDEX(设备类型!$B$2:$B$5001,MATCH(表格模板!C1195,设备类型!$A$2:$A$5001,0),COLUMN(A1195))","v":{"$error":"#N/A"}}]
[null,{"$f":"INDEX(建筑!$B$2:$B$5001,MATCH(表格模板!A1196,建筑!$A$2:$A$5001,0),COLUMN(A1196))","v":{"$error":"#N/A"}},null,{"$f":"INDEX(设备类型!$B$2:$B$5001,MATCH(表格模板!C1196,设备类型!$A$2:$A$5001,0),COLUMN(A1196))","v":{"$error":"#N/A"}}]
[null,{"$f":"INDEX(建筑!$B$2:$B$5001,MATCH(表格模板!A1197,建筑!$A$2:$A$5001,0),COLUMN(A1197))","v":{"$error":"#N/A"}},null,{"$f":"INDEX(设备类型!$B$2:$B$5001,MATCH(表格模板!C1197,设备类型!$A$2:$A$5001,0),COLUMN(A1197))","v":{"$error":"#N/A"}}]
[null,{"$f":"INDEX(建筑!$B$2:$B$5001,MATCH(表格模板!A1198,建筑!$A$2:$A$5001,0),COLUMN(A1198))","v":{"$error":"#N/A"}},null,{"$f":"INDEX(设备类型!$B$2:$B$5001,MATCH(表格模板!C1198,设备类型!$A$2:$A$5001,0),COLUMN(A1198))","v":{"$error":"#N/A"}}]
[null,{"$f":"INDEX(建筑!$B$2:$B$5001,MATCH(表格模板!A1199,建筑!$A$2:$A$5001,0),COLUMN(A1199))","v":{"$error":"#N/A"}},null,{"$f":"INDEX(设备类型!$B$2:$B$5001,MATCH(表格模板!C1199,设备类型!$A$2:$A$5001,0),COLUMN(A1199))","v":{"$error":"#N/A"}}]
[null,{"$f":"INDEX(建筑!$B$2:$B$5001,MATCH(表格模板!A1200,建筑!$A$2:$A$5001,0),COLUMN(A1200))","v":{"$error":"#N/A"}},null,{"$f":"INDEX(设备类型!$B$2:$B$5001,MATCH(表格模板!C1200,设备类型!$A$2:$A$5001,0),COLUMN(A1200))","v":{"$error":"#N/A"}}]
[null,{"$f":"INDEX(建筑!$B$2:$B$5001,MATCH(表格模板!A1201,建筑!$A$2:$A$5001,0),COLUMN(A1201))","v":{"$error":"#N/A"}},null,{"$f":"INDEX(设备类型!$B$2:$B$5001,MATCH(表格模板!C1201,设备类型!$A$2:$A$5001,0),COLUMN(A1201))","v":{"$error":"#N/A"}}]
[null,{"$f":"INDEX(建筑!$B$2:$B$5001,MATCH(表格模板!A1202,建筑!$A$2:$A$5001,0),COLUMN(A1202))","v":{"$error":"#N/A"}},null,{"$f":"INDEX(设备类型!$B$2:$B$5001,MATCH(表格模板!C1202,设备类型!$A$2:$A$5001,0),COLUMN(A1202))","v":{"$error":"#N/A"}}]
[null,{"$f":"INDEX(建筑!$B$2:$B$5001,MATCH(表格模板!A1203,建筑!$A$2:$A$5001,0),COLUMN(A1203))","v":{"$error":"#N/A"}},null,{"$f":"INDEX(设备类型!$B$2:$B$5001,MATCH(表格模板!C1203,设备类型!$A$2:$A$5001,0),COLUMN(A1203))","v":{"$error":"#N/A"}}]
[null,{"$f":"INDEX(建筑!$B$2:$B$5001,MATCH(表格模板!A1204,建筑!$A$2:$A$5001,0),COLUMN(A1204))","v":{"$error":"#N/A"}},null,{"$f":"INDEX(设备类型!$B$2:$B$5001,MATCH(表格模板!C1204,设备类型!$A$2:$A$5001,0),COLUMN(A1204))","v":{"$error":"#N/A"}}]
[null,{"$f":"INDEX(建筑!$B$2:$B$5001,MATCH(表格模板!A1205,建筑!$A$2:$A$5001,0),COLUMN(A1205))","v":{"$error":"#N/A"}},null,{"$f":"INDEX(设备类型!$B$2:$B$5001,MATCH(表格模板!C1205,设备类型!$A$2:$A$5001,0),COLUMN(A1205))","v":{"$error":"#N/A"}}]
[null,{"$f":"INDEX(建筑!$B$2:$B$5001,MATCH(表格模板!A1206,建筑!$A$2:$A$5001,0),COLUMN(A1206))","v":{"$error":"#N/A"}},null,{"$f":"INDEX(设备类型!$B$2:$B$5001,MATCH(表格模板!C1206,设备类型!$A$2:$A$5001,0),COLUMN(A1206))","v":{"$error":"#N/A"}}]
[null,{"$f":"INDEX(建筑!$B$2:$B$5001,MATCH(表格模板!A1207,建筑!$A$2:$A$5001,0),COLUMN(A1207))","v":{"$error":"#N/A"}},null,{"$f":"INDEX(设备类型!$B$2:$B$5001,MATCH(表格模板!C1207,设备类型!$A$2:$A$5001,0),COLUMN(A1207))","v":{"$error":"#N/A"}}]
[null,{"$f":"INDEX(建筑!$B$2:$B$5001,MATCH(表格模板!A1208,建筑!$A$2:$A$5001,0),COLUMN(A1208))","v":{"$error":"#N/A"}},null,{"$f":"INDEX(设备类型!$B$2:$B$5001,MATCH(表格模板!C1208,设备类型!$A$2:$A$5001,0),COLUMN(A1208))","v":{"$error":"#N/A"}}]
[null,{"$f":"INDEX(建筑!$B$2:$B$5001,MATCH(表格模板!A1209,建筑!$A$2:$A$5001,0),COLUMN(A1209))","v":{"$error":"#N/A"}},null,{"$f":"INDEX(设备类型!$B$2:$B$5001,MATCH(表格模板!C1209,设备类型!$A$2:$A$5001,0),COLUMN(A1209))","v":{"$error":"#N/A"}}]
[null,{"$f":"INDEX(建筑!$B$2:$B$5001,MATCH(表格模板!A1210,建筑!$A$2:$A$5001,0),COLUMN(A1210))","v":{"$error":"#N/A"}},null,{"$f":"INDEX(设备类型!$B$2:$B$5001,MATCH(表格模板!C1210,设备类型!$A$2:$A$5001,0),COLUMN(A1210))","v":{"$error":"#N/A"}}]
[null,{"$f":"INDEX(建筑!$B$2:$B$5001,MATCH(表格模板!A1211,建筑!$A$2:$A$5001,0),COLUMN(A1211))","v":{"$error":"#N/A"}},null,{"$f":"INDEX(设备类型!$B$2:$B$5001,MATCH(表格模板!C1211,设备类型!$A$2:$A$5001,0),COLUMN(A1211))","v":{"$error":"#N/A"}}]
[null,{"$f":"INDEX(建筑!$B$2:$B$5001,MATCH(表格模板!A1212,建筑!$A$2:$A$5001,0),COLUMN(A1212))","v":{"$error":"#N/A"}},null,{"$f":"INDEX(设备类型!$B$2:$B$5001,MATCH(表格模板!C1212,设备类型!$A$2:$A$5001,0),COLUMN(A1212))","v":{"$error":"#N/A"}}]
[null,{"$f":"INDEX(建筑!$B$2:$B$5001,MATCH(表格模板!A1213,建筑!$A$2:$A$5001,0),COLUMN(A1213))","v":{"$error":"#N/A"}},null,{"$f":"INDEX(设备类型!$B$2:$B$5001,MATCH(表格模板!C1213,设备类型!$A$2:$A$5001,0),COLUMN(A1213))","v":{"$error":"#N/A"}}]
[null,{"$f":"INDEX(建筑!$B$2:$B$5001,MATCH(表格模板!A1214,建筑!$A$2:$A$5001,0),COLUMN(A1214))","v":{"$error":"#N/A"}},null,{"$f":"INDEX(设备类型!$B$2:$B$5001,MATCH(表格模板!C1214,设备类型!$A$2:$A$5001,0),COLUMN(A1214))","v":{"$error":"#N/A"}}]
[null,{"$f":"INDEX(建筑!$B$2:$B$5001,MATCH(表格模板!A1215,建筑!$A$2:$A$5001,0),COLUMN(A1215))","v":{"$error":"#N/A"}},null,{"$f":"INDEX(设备类型!$B$2:$B$5001,MATCH(表格模板!C1215,设备类型!$A$2:$A$5001,0),COLUMN(A1215))","v":{"$error":"#N/A"}}]
[null,{"$f":"INDEX(建筑!$B$2:$B$5001,MATCH(表格模板!A1216,建筑!$A$2:$A$5001,0),COLUMN(A1216))","v":{"$error":"#N/A"}},null,{"$f":"INDEX(设备类型!$B$2:$B$5001,MATCH(表格模板!C1216,设备类型!$A$2:$A$5001,0),COLUMN(A1216))","v":{"$error":"#N/A"}}]
[null,{"$f":"INDEX(建筑!$B$2:$B$5001,MATCH(表格模板!A1217,建筑!$A$2:$A$5001,0),COLUMN(A1217))","v":{"$error":"#N/A"}},null,{"$f":"INDEX(设备类型!$B$2:$B$5001,MATCH(表格模板!C1217,设备类型!$A$2:$A$5001,0),COLUMN(A1217))","v":{"$error":"#N/A"}}]
[null,{"$f":"INDEX(建筑!$B$2:$B$5001,MATCH(表格模板!A1218,建筑!$A$2:$A$5001,0),COLUMN(A1218))","v":{"$error":"#N/A"}},null,{"$f":"INDEX(设备类型!$B$2:$B$5001,MATCH(表格模板!C1218,设备类型!$A$2:$A$5001,0),COLUMN(A1218))","v":{"$error":"#N/A"}}]
[null,{"$f":"INDEX(建筑!$B$2:$B$5001,MATCH(表格模板!A1219,建筑!$A$2:$A$5001,0),COLUMN(A1219))","v":{"$error":"#N/A"}},null,{"$f":"INDEX(设备类型!$B$2:$B$5001,MATCH(表格模板!C1219,设备类型!$A$2:$A$5001,0),COLUMN(A1219))","v":{"$error":"#N/A"}}]
[null,{"$f":"INDEX(建筑!$B$2:$B$5001,MATCH(表格模板!A1220,建筑!$A$2:$A$5001,0),COLUMN(A1220))","v":{"$error":"#N/A"}},null,{"$f":"INDEX(设备类型!$B$2:$B$5001,MATCH(表格模板!C1220,设备类型!$A$2:$A$5001,0),COLUMN(A1220))","v":{"$error":"#N/A"}}]
[null,{"$f":"INDEX(建筑!$B$2:$B$5001,MATCH(表格模板!A1221,建筑!$A$2:$A$5001,0),COLUMN(A1221))","v":{"$error":"#N/A"}},null,{"$f":"INDEX(设备类型!$B$2:$B$5001,MATCH(表格模板!C1221,设备类型!$A$2:$A$5001,0),COLUMN(A1221))","v":{"$error":"#N/A"}}]
[null,{"$f":"INDEX(建筑!$B$2:$B$5001,MATCH(表格模板!A1222,建筑!$A$2:$A$5001,0),COLUMN(A1222))","v":{"$error":"#N/A"}},null,{"$f":"INDEX(设备类型!$B$2:$B$5001,MATCH(表格模板!C1222,设备类型!$A$2:$A$5001,0),COLUMN(A1222))","v":{"$error":"#N/A"}}]
[null,{"$f":"INDEX(建筑!$B$2:$B$5001,MATCH(表格模板!A1223,建筑!$A$2:$A$5001,0),COLUMN(A1223))","v":{"$error":"#N/A"}},null,{"$f":"INDEX(设备类型!$B$2:$B$5001,MATCH(表格模板!C1223,设备类型!$A$2:$A$5001,0),COLUMN(A1223))","v":{"$error":"#N/A"}}]
[null,{"$f":"INDEX(建筑!$B$2:$B$5001,MATCH(表格模板!A1224,建筑!$A$2:$A$5001,0),COLUMN(A1224))","v":{"$error":"#N/A"}},null,{"$f":"INDEX(设备类型!$B$2:$B$5001,MATCH(表格模板!C1224,设备类型!$A$2:$A$5001,0),COLUMN(A1224))","v":{"$error":"#N/A"}}]
[null,{"$f":"INDEX(建筑!$B$2:$B$5001,MATCH(表格模板!A1225,建筑!$A$2:$A$5001,0),COLUMN(A1225))","v":{"$error":"#N/A"}},null,{"$f":"INDEX(设备类型!$B$2:$B$5001,MATCH(表格模板!C1225,设备类型!$A$2:$A$5001,0),COLUMN(A1225))","v":{"$error":"#N/A"}}]
[null,{"$f":"INDEX(建筑!$B$2:$B$5001,MATCH(表格模板!A1226,建筑!$A$2:$A$5001,0),COLUMN(A1226))","v":{"$error":"#N/A"}},null,{"$f":"INDEX(设备类型!$B$2:$B$5001,MATCH(表格模板!C1226,设备类型!$A$2:$A$5001,0),COLUMN(A1226))","v":{"$error":"#N/A"}}]
[null,{"$f":"INDEX(建筑!$B$2:$B$5001,MATCH(表格模板!A1227,建筑!$A$2:$A$5001,0),COLUMN(A1227))","v":{"$error":"#N/A"}},null,{"$f":"INDEX(设备类型!$B$2:$B$5001,MATCH(表格模板!C1227,设备类型!$A$2:$A$5001,0),COLUMN(A1227))","v":{"$error":"#N/A"}}]
[null,{"$f":"INDEX(建筑!$B$2:$B$5001,MATCH(表格模板!A1228,建筑!$A$2:$A$5001,0),COLUMN(A1228))","v":{"$error":"#N/A"}},null,{"$f":"INDEX(设备类型!$B$2:$B$5001,MATCH(表格模板!C1228,设备类型!$A$2:$A$5001,0),COLUMN(A1228))","v":{"$error":"#N/A"}}]
[null,{"$f":"INDEX(建筑!$B$2:$B$5001,MATCH(表格模板!A1229,建筑!$A$2:$A$5001,0),COLUMN(A1229))","v":{"$error":"#N/A"}},null,{"$f":"INDEX(设备类型!$B$2:$B$5001,MATCH(表格模板!C1229,设备类型!$A$2:$A$5001,0),COLUMN(A1229))","v":{"$error":"#N/A"}}]
[null,{"$f":"INDEX(建筑!$B$2:$B$5001,MATCH(表格模板!A1230,建筑!$A$2:$A$5001,0),COLUMN(A1230))","v":{"$error":"#N/A"}},null,{"$f":"INDEX(设备类型!$B$2:$B$5001,MATCH(表格模板!C1230,设备类型!$A$2:$A$5001,0),COLUMN(A1230))","v":{"$error":"#N/A"}}]
[null,{"$f":"INDEX(建筑!$B$2:$B$5001,MATCH(表格模板!A1231,建筑!$A$2:$A$5001,0),COLUMN(A1231))","v":{"$error":"#N/A"}},null,{"$f":"INDEX(设备类型!$B$2:$B$5001,MATCH(表格模板!C1231,设备类型!$A$2:$A$5001,0),COLUMN(A1231))","v":{"$error":"#N/A"}}]
[null,{"$f":"INDEX(建筑!$B$2:$B$5001,MATCH(表格模板!A1232,建筑!$A$2:$A$5001,0),COLUMN(A1232))","v":{"$error":"#N/A"}},null,{"$f":"INDEX(设备类型!$B$2:$B$5001,MATCH(表格模板!C1232,设备类型!$A$2:$A$5001,0),COLUMN(A1232))","v":{"$error":"#N/A"}}]
[null,{"$f":"INDEX(建筑!$B$2:$B$5001,MATCH(表格模板!A1233,建筑!$A$2:$A$5001,0),COLUMN(A1233))","v":{"$error":"#N/A"}},null,{"$f":"INDEX(设备类型!$B$2:$B$5001,MATCH(表格模板!C1233,设备类型!$A$2:$A$5001,0),COLUMN(A1233))","v":{"$error":"#N/A"}}]
[null,{"$f":"INDEX(建筑!$B$2:$B$5001,MATCH(表格模板!A1234,建筑!$A$2:$A$5001,0),COLUMN(A1234))","v":{"$error":"#N/A"}},null,{"$f":"INDEX(设备类型!$B$2:$B$5001,MATCH(表格模板!C1234,设备类型!$A$2:$A$5001,0),COLUMN(A1234))","v":{"$error":"#N/A"}}]
[null,{"$f":"INDEX(建筑!$B$2:$B$5001,MATCH(表格模板!A1235,建筑!$A$2:$A$5001,0),COLUMN(A1235))","v":{"$error":"#N/A"}},null,{"$f":"INDEX(设备类型!$B$2:$B$5001,MATCH(表格模板!C1235,设备类型!$A$2:$A$5001,0),COLUMN(A1235))","v":{"$error":"#N/A"}}]
[null,{"$f":"INDEX(建筑!$B$2:$B$5001,MATCH(表格模板!A1236,建筑!$A$2:$A$5001,0),COLUMN(A1236))","v":{"$error":"#N/A"}},null,{"$f":"INDEX(设备类型!$B$2:$B$5001,MATCH(表格模板!C1236,设备类型!$A$2:$A$5001,0),COLUMN(A1236))","v":{"$error":"#N/A"}}]
[null,{"$f":"INDEX(建筑!$B$2:$B$5001,MATCH(表格模板!A1237,建筑!$A$2:$A$5001,0),COLUMN(A1237))","v":{"$error":"#N/A"}},null,{"$f":"INDEX(设备类型!$B$2:$B$5001,MATCH(表格模板!C1237,设备类型!$A$2:$A$5001,0),COLUMN(A1237))","v":{"$error":"#N/A"}}]
[null,{"$f":"INDEX(建筑!$B$2:$B$5001,MATCH(表格模板!A1238,建筑!$A$2:$A$5001,0),COLUMN(A1238))","v":{"$error":"#N/A"}},null,{"$f":"INDEX(设备类型!$B$2:$B$5001,MATCH(表格模板!C1238,设备类型!$A$2:$A$5001,0),COLUMN(A1238))","v":{"$error":"#N/A"}}]
[null,{"$f":"INDEX(建筑!$B$2:$B$5001,MATCH(表格模板!A1239,建筑!$A$2:$A$5001,0),COLUMN(A1239))","v":{"$error":"#N/A"}},null,{"$f":"INDEX(设备类型!$B$2:$B$5001,MATCH(表格模板!C1239,设备类型!$A$2:$A$5001,0),COLUMN(A1239))","v":{"$error":"#N/A"}}]
[null,{"$f":"INDEX(建筑!$B$2:$B$5001,MATCH(表格模板!A1240,建筑!$A$2:$A$5001,0),COLUMN(A1240))","v":{"$error":"#N/A"}},null,{"$f":"INDEX(设备类型!$B$2:$B$5001,MATCH(表格模板!C1240,设备类型!$A$2:$A$5001,0),COLUMN(A1240))","v":{"$error":"#N/A"}}]
[null,{"$f":"INDEX(建筑!$B$2:$B$5001,MATCH(表格模板!A1241,建筑!$A$2:$A$5001,0),COLUMN(A1241))","v":{"$error":"#N/A"}},null,{"$f":"INDEX(设备类型!$B$2:$B$5001,MATCH(表格模板!C1241,设备类型!$A$2:$A$5001,0),COLUMN(A1241))","v":{"$error":"#N/A"}}]
[null,{"$f":"INDEX(建筑!$B$2:$B$5001,MATCH(表格模板!A1242,建筑!$A$2:$A$5001,0),COLUMN(A1242))","v":{"$error":"#N/A"}},null,{"$f":"INDEX(设备类型!$B$2:$B$5001,MATCH(表格模板!C1242,设备类型!$A$2:$A$5001,0),COLUMN(A1242))","v":{"$error":"#N/A"}}]
[null,{"$f":"INDEX(建筑!$B$2:$B$5001,MATCH(表格模板!A1243,建筑!$A$2:$A$5001,0),COLUMN(A1243))","v":{"$error":"#N/A"}},null,{"$f":"INDEX(设备类型!$B$2:$B$5001,MATCH(表格模板!C1243,设备类型!$A$2:$A$5001,0),COLUMN(A1243))","v":{"$error":"#N/A"}}]
[null,{"$f":"INDEX(建筑!$B$2:$B$5001,MATCH(表格模板!A1244,建筑!$A$2:$A$5001,0),COLUMN(A1244))","v":{"$error":"#N/A"}},null,{"$f":"INDEX(设备类型!$B$2:$B$5001,MATCH(表格模板!C1244,设备类型!$A$2:$A$5001,0),COLUMN(A1244))","v":{"$error":"#N/A"}}]
[null,{"$f":"INDEX(建筑!$B$2:$B$5001,MATCH(表格模板!A1245,建筑!$A$2:$A$5001,0),COLUMN(A1245))","v":{"$error":"#N/A"}},null,{"$f":"INDEX(设备类型!$B$2:$B$5001,MATCH(表格模板!C1245,设备类型!$A$2:$A$5001,0),COLUMN(A1245))","v":{"$error":"#N/A"}}]
[null,{"$f":"INDEX(建筑!$B$2:$B$5001,MATCH(表格模板!A1246,建筑!$A$2:$A$5001,0),COLUMN(A1246))","v":{"$error":"#N/A"}},null,{"$f":"INDEX(设备类型!$B$2:$B$5001,MATCH(表格模板!C1246,设备类型!$A$2:$A$5001,0),COLUMN(A1246))","v":{"$error":"#N/A"}}]
[null,{"$f":"INDEX(建筑!$B$2:$B$5001,MATCH(表格模板!A1247,建筑!$A$2:$A$5001,0),COLUMN(A1247))","v":{"$error":"#N/A"}},null,{"$f":"INDEX(设备类型!$B$2:$B$5001,MATCH(表格模板!C1247,设备类型!$A$2:$A$5001,0),COLUMN(A1247))","v":{"$error":"#N/A"}}]
[null,{"$f":"INDEX(建筑!$B$2:$B$5001,MATCH(表格模板!A1248,建筑!$A$2:$A$5001,0),COLUMN(A1248))","v":{"$error":"#N/A"}},null,{"$f":"INDEX(设备类型!$B$2:$B$5001,MATCH(表格模板!C1248,设备类型!$A$2:$A$5001,0),COLUMN(A1248))","v":{"$error":"#N/A"}}]
[null,{"$f":"INDEX(建筑!$B$2:$B$5001,MATCH(表格模板!A1249,建筑!$A$2:$A$5001,0),COLUMN(A1249))","v":{"$error":"#N/A"}},null,{"$f":"INDEX(设备类型!$B$2:$B$5001,MATCH(表格模板!C1249,设备类型!$A$2:$A$5001,0),COLUMN(A1249))","v":{"$error":"#N/A"}}]
[null,{"$f":"INDEX(建筑!$B$2:$B$5001,MATCH(表格模板!A1250,建筑!$A$2:$A$5001,0),COLUMN(A1250))","v":{"$error":"#N/A"}},null,{"$f":"INDEX(设备类型!$B$2:$B$5001,MATCH(表格模板!C1250,设备类型!$A$2:$A$5001,0),COLUMN(A1250))","v":{"$error":"#N/A"}}]
[null,{"$f":"INDEX(建筑!$B$2:$B$5001,MATCH(表格模板!A1251,建筑!$A$2:$A$5001,0),COLUMN(A1251))","v":{"$error":"#N/A"}},null,{"$f":"INDEX(设备类型!$B$2:$B$5001,MATCH(表格模板!C1251,设备类型!$A$2:$A$5001,0),COLUMN(A1251))","v":{"$error":"#N/A"}}]
[null,{"$f":"INDEX(建筑!$B$2:$B$5001,MATCH(表格模板!A1252,建筑!$A$2:$A$5001,0),COLUMN(A1252))","v":{"$error":"#N/A"}},null,{"$f":"INDEX(设备类型!$B$2:$B$5001,MATCH(表格模板!C1252,设备类型!$A$2:$A$5001,0),COLUMN(A1252))","v":{"$error":"#N/A"}}]
[null,{"$f":"INDEX(建筑!$B$2:$B$5001,MATCH(表格模板!A1253,建筑!$A$2:$A$5001,0),COLUMN(A1253))","v":{"$error":"#N/A"}},null,{"$f":"INDEX(设备类型!$B$2:$B$5001,MATCH(表格模板!C1253,设备类型!$A$2:$A$5001,0),COLUMN(A1253))","v":{"$error":"#N/A"}}]
[null,{"$f":"INDEX(建筑!$B$2:$B$5001,MATCH(表格模板!A1254,建筑!$A$2:$A$5001,0),COLUMN(A1254))","v":{"$error":"#N/A"}},null,{"$f":"INDEX(设备类型!$B$2:$B$5001,MATCH(表格模板!C1254,设备类型!$A$2:$A$5001,0),COLUMN(A1254))","v":{"$error":"#N/A"}}]
[null,{"$f":"INDEX(建筑!$B$2:$B$5001,MATCH(表格模板!A1255,建筑!$A$2:$A$5001,0),COLUMN(A1255))","v":{"$error":"#N/A"}},null,{"$f":"INDEX(设备类型!$B$2:$B$5001,MATCH(表格模板!C1255,设备类型!$A$2:$A$5001,0),COLUMN(A1255))","v":{"$error":"#N/A"}}]
[null,{"$f":"INDEX(建筑!$B$2:$B$5001,MATCH(表格模板!A1256,建筑!$A$2:$A$5001,0),COLUMN(A1256))","v":{"$error":"#N/A"}},null,{"$f":"INDEX(设备类型!$B$2:$B$5001,MATCH(表格模板!C1256,设备类型!$A$2:$A$5001,0),COLUMN(A1256))","v":{"$error":"#N/A"}}]
[null,{"$f":"INDEX(建筑!$B$2:$B$5001,MATCH(表格模板!A1257,建筑!$A$2:$A$5001,0),COLUMN(A1257))","v":{"$error":"#N/A"}},null,{"$f":"INDEX(设备类型!$B$2:$B$5001,MATCH(表格模板!C1257,设备类型!$A$2:$A$5001,0),COLUMN(A1257))","v":{"$error":"#N/A"}}]
[null,{"$f":"INDEX(建筑!$B$2:$B$5001,MATCH(表格模板!A1258,建筑!$A$2:$A$5001,0),COLUMN(A1258))","v":{"$error":"#N/A"}},null,{"$f":"INDEX(设备类型!$B$2:$B$5001,MATCH(表格模板!C1258,设备类型!$A$2:$A$5001,0),COLUMN(A1258))","v":{"$error":"#N/A"}}]
[null,{"$f":"INDEX(建筑!$B$2:$B$5001,MATCH(表格模板!A1259,建筑!$A$2:$A$5001,0),COLUMN(A1259))","v":{"$error":"#N/A"}},null,{"$f":"INDEX(设备类型!$B$2:$B$5001,MATCH(表格模板!C1259,设备类型!$A$2:$A$5001,0),COLUMN(A1259))","v":{"$error":"#N/A"}}]
[null,{"$f":"INDEX(建筑!$B$2:$B$5001,MATCH(表格模板!A1260,建筑!$A$2:$A$5001,0),COLUMN(A1260))","v":{"$error":"#N/A"}},null,{"$f":"INDEX(设备类型!$B$2:$B$5001,MATCH(表格模板!C1260,设备类型!$A$2:$A$5001,0),COLUMN(A1260))","v":{"$error":"#N/A"}}]
[null,{"$f":"INDEX(建筑!$B$2:$B$5001,MATCH(表格模板!A1261,建筑!$A$2:$A$5001,0),COLUMN(A1261))","v":{"$error":"#N/A"}},null,{"$f":"INDEX(设备类型!$B$2:$B$5001,MATCH(表格模板!C1261,设备类型!$A$2:$A$5001,0),COLUMN(A1261))","v":{"$error":"#N/A"}}]
[null,{"$f":"INDEX(建筑!$B$2:$B$5001,MATCH(表格模板!A1262,建筑!$A$2:$A$5001,0),COLUMN(A1262))","v":{"$error":"#N/A"}},null,{"$f":"INDEX(设备类型!$B$2:$B$5001,MATCH(表格模板!C1262,设备类型!$A$2:$A$5001,0),COLUMN(A1262))","v":{"$error":"#N/A"}}]
[null,{"$f":"INDEX(建筑!$B$2:$B$5001,MATCH(表格模板!A1263,建筑!$A$2:$A$5001,0),COLUMN(A1263))","v":{"$error":"#N/A"}},null,{"$f":"INDEX(设备类型!$B$2:$B$5001,MATCH(表格模板!C1263,设备类型!$A$2:$A$5001,0),COLUMN(A1263))","v":{"$error":"#N/A"}}]
[null,{"$f":"INDEX(建筑!$B$2:$B$5001,MATCH(表格模板!A1264,建筑!$A$2:$A$5001,0),COLUMN(A1264))","v":{"$error":"#N/A"}},null,{"$f":"INDEX(设备类型!$B$2:$B$5001,MATCH(表格模板!C1264,设备类型!$A$2:$A$5001,0),COLUMN(A1264))","v":{"$error":"#N/A"}}]
[null,{"$f":"INDEX(建筑!$B$2:$B$5001,MATCH(表格模板!A1265,建筑!$A$2:$A$5001,0),COLUMN(A1265))","v":{"$error":"#N/A"}},null,{"$f":"INDEX(设备类型!$B$2:$B$5001,MATCH(表格模板!C1265,设备类型!$A$2:$A$5001,0),COLUMN(A1265))","v":{"$error":"#N/A"}}]
[null,{"$f":"INDEX(建筑!$B$2:$B$5001,MATCH(表格模板!A1266,建筑!$A$2:$A$5001,0),COLUMN(A1266))","v":{"$error":"#N/A"}},null,{"$f":"INDEX(设备类型!$B$2:$B$5001,MATCH(表格模板!C1266,设备类型!$A$2:$A$5001,0),COLUMN(A1266))","v":{"$error":"#N/A"}}]
[null,{"$f":"INDEX(建筑!$B$2:$B$5001,MATCH(表格模板!A1267,建筑!$A$2:$A$5001,0),COLUMN(A1267))","v":{"$error":"#N/A"}},null,{"$f":"INDEX(设备类型!$B$2:$B$5001,MATCH(表格模板!C1267,设备类型!$A$2:$A$5001,0),COLUMN(A1267))","v":{"$error":"#N/A"}}]
[null,{"$f":"INDEX(建筑!$B$2:$B$5001,MATCH(表格模板!A1268,建筑!$A$2:$A$5001,0),COLUMN(A1268))","v":{"$error":"#N/A"}},null,{"$f":"INDEX(设备类型!$B$2:$B$5001,MATCH(表格模板!C1268,设备类型!$A$2:$A$5001,0),COLUMN(A1268))","v":{"$error":"#N/A"}}]
[null,{"$f":"INDEX(建筑!$B$2:$B$5001,MATCH(表格模板!A1269,建筑!$A$2:$A$5001,0),COLUMN(A1269))","v":{"$error":"#N/A"}},null,{"$f":"INDEX(设备类型!$B$2:$B$5001,MATCH(表格模板!C1269,设备类型!$A$2:$A$5001,0),COLUMN(A1269))","v":{"$error":"#N/A"}}]
[null,{"$f":"INDEX(建筑!$B$2:$B$5001,MATCH(表格模板!A1270,建筑!$A$2:$A$5001,0),COLUMN(A1270))","v":{"$error":"#N/A"}},null,{"$f":"INDEX(设备类型!$B$2:$B$5001,MATCH(表格模板!C1270,设备类型!$A$2:$A$5001,0),COLUMN(A1270))","v":{"$error":"#N/A"}}]
[null,{"$f":"INDEX(建筑!$B$2:$B$5001,MATCH(表格模板!A1271,建筑!$A$2:$A$5001,0),COLUMN(A1271))","v":{"$error":"#N/A"}},null,{"$f":"INDEX(设备类型!$B$2:$B$5001,MATCH(表格模板!C1271,设备类型!$A$2:$A$5001,0),COLUMN(A1271))","v":{"$error":"#N/A"}}]
[null,{"$f":"INDEX(建筑!$B$2:$B$5001,MATCH(表格模板!A1272,建筑!$A$2:$A$5001,0),COLUMN(A1272))","v":{"$error":"#N/A"}},null,{"$f":"INDEX(设备类型!$B$2:$B$5001,MATCH(表格模板!C1272,设备类型!$A$2:$A$5001,0),COLUMN(A1272))","v":{"$error":"#N/A"}}]
[null,{"$f":"INDEX(建筑!$B$2:$B$5001,MATCH(表格模板!A1273,建筑!$A$2:$A$5001,0),COLUMN(A1273))","v":{"$error":"#N/A"}},null,{"$f":"INDEX(设备类型!$B$2:$B$5001,MATCH(表格模板!C1273,设备类型!$A$2:$A$5001,0),COLUMN(A1273))","v":{"$error":"#N/A"}}]
[null,{"$f":"INDEX(建筑!$B$2:$B$5001,MATCH(表格模板!A1274,建筑!$A$2:$A$5001,0),COLUMN(A1274))","v":{"$error":"#N/A"}},null,{"$f":"INDEX(设备类型!$B$2:$B$5001,MATCH(表格模板!C1274,设备类型!$A$2:$A$5001,0),COLUMN(A1274))","v":{"$error":"#N/A"}}]
[null,{"$f":"INDEX(建筑!$B$2:$B$5001,MATCH(表格模板!A1275,建筑!$A$2:$A$5001,0),COLUMN(A1275))","v":{"$error":"#N/A"}},null,{"$f":"INDEX(设备类型!$B$2:$B$5001,MATCH(表格模板!C1275,设备类型!$A$2:$A$5001,0),COLUMN(A1275))","v":{"$error":"#N/A"}}]
[null,{"$f":"INDEX(建筑!$B$2:$B$5001,MATCH(表格模板!A1276,建筑!$A$2:$A$5001,0),COLUMN(A1276))","v":{"$error":"#N/A"}},null,{"$f":"INDEX(设备类型!$B$2:$B$5001,MATCH(表格模板!C1276,设备类型!$A$2:$A$5001,0),COLUMN(A1276))","v":{"$error":"#N/A"}}]
[null,{"$f":"INDEX(建筑!$B$2:$B$5001,MATCH(表格模板!A1277,建筑!$A$2:$A$5001,0),COLUMN(A1277))","v":{"$error":"#N/A"}},null,{"$f":"INDEX(设备类型!$B$2:$B$5001,MATCH(表格模板!C1277,设备类型!$A$2:$A$5001,0),COLUMN(A1277))","v":{"$error":"#N/A"}}]
[null,{"$f":"INDEX(建筑!$B$2:$B$5001,MATCH(表格模板!A1278,建筑!$A$2:$A$5001,0),COLUMN(A1278))","v":{"$error":"#N/A"}},null,{"$f":"INDEX(设备类型!$B$2:$B$5001,MATCH(表格模板!C1278,设备类型!$A$2:$A$5001,0),COLUMN(A1278))","v":{"$error":"#N/A"}}]
[null,{"$f":"INDEX(建筑!$B$2:$B$5001,MATCH(表格模板!A1279,建筑!$A$2:$A$5001,0),COLUMN(A1279))","v":{"$error":"#N/A"}},null,{"$f":"INDEX(设备类型!$B$2:$B$5001,MATCH(表格模板!C1279,设备类型!$A$2:$A$5001,0),COLUMN(A1279))","v":{"$error":"#N/A"}}]
[null,{"$f":"INDEX(建筑!$B$2:$B$5001,MATCH(表格模板!A1280,建筑!$A$2:$A$5001,0),COLUMN(A1280))","v":{"$error":"#N/A"}},null,{"$f":"INDEX(设备类型!$B$2:$B$5001,MATCH(表格模板!C1280,设备类型!$A$2:$A$5001,0),COLUMN(A1280))","v":{"$error":"#N/A"}}]
[null,{"$f":"INDEX(建筑!$B$2:$B$5001,MATCH(表格模板!A1281,建筑!$A$2:$A$5001,0),COLUMN(A1281))","v":{"$error":"#N/A"}},null,{"$f":"INDEX(设备类型!$B$2:$B$5001,MATCH(表格模板!C1281,设备类型!$A$2:$A$5001,0),COLUMN(A1281))","v":{"$error":"#N/A"}}]
[null,{"$f":"INDEX(建筑!$B$2:$B$5001,MATCH(表格模板!A1282,建筑!$A$2:$A$5001,0),COLUMN(A1282))","v":{"$error":"#N/A"}},null,{"$f":"INDEX(设备类型!$B$2:$B$5001,MATCH(表格模板!C1282,设备类型!$A$2:$A$5001,0),COLUMN(A1282))","v":{"$error":"#N/A"}}]
[null,{"$f":"INDEX(建筑!$B$2:$B$5001,MATCH(表格模板!A1283,建筑!$A$2:$A$5001,0),COLUMN(A1283))","v":{"$error":"#N/A"}},null,{"$f":"INDEX(设备类型!$B$2:$B$5001,MATCH(表格模板!C1283,设备类型!$A$2:$A$5001,0),COLUMN(A1283))","v":{"$error":"#N/A"}}]
[null,{"$f":"INDEX(建筑!$B$2:$B$5001,MATCH(表格模板!A1284,建筑!$A$2:$A$5001,0),COLUMN(A1284))","v":{"$error":"#N/A"}},null,{"$f":"INDEX(设备类型!$B$2:$B$5001,MATCH(表格模板!C1284,设备类型!$A$2:$A$5001,0),COLUMN(A1284))","v":{"$error":"#N/A"}}]
[null,{"$f":"INDEX(建筑!$B$2:$B$5001,MATCH(表格模板!A1285,建筑!$A$2:$A$5001,0),COLUMN(A1285))","v":{"$error":"#N/A"}},null,{"$f":"INDEX(设备类型!$B$2:$B$5001,MATCH(表格模板!C1285,设备类型!$A$2:$A$5001,0),COLUMN(A1285))","v":{"$error":"#N/A"}}]
[null,{"$f":"INDEX(建筑!$B$2:$B$5001,MATCH(表格模板!A1286,建筑!$A$2:$A$5001,0),COLUMN(A1286))","v":{"$error":"#N/A"}},null,{"$f":"INDEX(设备类型!$B$2:$B$5001,MATCH(表格模板!C1286,设备类型!$A$2:$A$5001,0),COLUMN(A1286))","v":{"$error":"#N/A"}}]
[null,{"$f":"INDEX(建筑!$B$2:$B$5001,MATCH(表格模板!A1287,建筑!$A$2:$A$5001,0),COLUMN(A1287))","v":{"$error":"#N/A"}},null,{"$f":"INDEX(设备类型!$B$2:$B$5001,MATCH(表格模板!C1287,设备类型!$A$2:$A$5001,0),COLUMN(A1287))","v":{"$error":"#N/A"}}]
[null,{"$f":"INDEX(建筑!$B$2:$B$5001,MATCH(表格模板!A1288,建筑!$A$2:$A$5001,0),COLUMN(A1288))","v":{"$error":"#N/A"}},null,{"$f":"INDEX(设备类型!$B$2:$B$5001,MATCH(表格模板!C1288,设备类型!$A$2:$A$5001,0),COLUMN(A1288))","v":{"$error":"#N/A"}}]
[null,{"$f":"INDEX(建筑!$B$2:$B$5001,MATCH(表格模板!A1289,建筑!$A$2:$A$5001,0),COLUMN(A1289))","v":{"$error":"#N/A"}},null,{"$f":"INDEX(设备类型!$B$2:$B$5001,MATCH(表格模板!C1289,设备类型!$A$2:$A$5001,0),COLUMN(A1289))","v":{"$error":"#N/A"}}]
[null,{"$f":"INDEX(建筑!$B$2:$B$5001,MATCH(表格模板!A1290,建筑!$A$2:$A$5001,0),COLUMN(A1290))","v":{"$error":"#N/A"}},null,{"$f":"INDEX(设备类型!$B$2:$B$5001,MATCH(表格模板!C1290,设备类型!$A$2:$A$5001,0),COLUMN(A1290))","v":{"$error":"#N/A"}}]
[null,{"$f":"INDEX(建筑!$B$2:$B$5001,MATCH(表格模板!A1291,建筑!$A$2:$A$5001,0),COLUMN(A1291))","v":{"$error":"#N/A"}},null,{"$f":"INDEX(设备类型!$B$2:$B$5001,MATCH(表格模板!C1291,设备类型!$A$2:$A$5001,0),COLUMN(A1291))","v":{"$error":"#N/A"}}]
[null,{"$f":"INDEX(建筑!$B$2:$B$5001,MATCH(表格模板!A1292,建筑!$A$2:$A$5001,0),COLUMN(A1292))","v":{"$error":"#N/A"}},null,{"$f":"INDEX(设备类型!$B$2:$B$5001,MATCH(表格模板!C1292,设备类型!$A$2:$A$5001,0),COLUMN(A1292))","v":{"$error":"#N/A"}}]
[null,{"$f":"INDEX(建筑!$B$2:$B$5001,MATCH(表格模板!A1293,建筑!$A$2:$A$5001,0),COLUMN(A1293))","v":{"$error":"#N/A"}},null,{"$f":"INDEX(设备类型!$B$2:$B$5001,MATCH(表格模板!C1293,设备类型!$A$2:$A$5001,0),COLUMN(A1293))","v":{"$error":"#N/A"}}]
[null,{"$f":"INDEX(建筑!$B$2:$B$5001,MATCH(表格模板!A1294,建筑!$A$2:$A$5001,0),COLUMN(A1294))","v":{"$error":"#N/A"}},null,{"$f":"INDEX(设备类型!$B$2:$B$5001,MATCH(表格模板!C1294,设备类型!$A$2:$A$5001,0),COLUMN(A1294))","v":{"$error":"#N/A"}}]
[null,{"$f":"INDEX(建筑!$B$2:$B$5001,MATCH(表格模板!A1295,建筑!$A$2:$A$5001,0),COLUMN(A1295))","v":{"$error":"#N/A"}},null,{"$f":"INDEX(设备类型!$B$2:$B$5001,MATCH(表格模板!C1295,设备类型!$A$2:$A$5001,0),COLUMN(A1295))","v":{"$error":"#N/A"}}]
[null,{"$f":"INDEX(建筑!$B$2:$B$5001,MATCH(表格模板!A1296,建筑!$A$2:$A$5001,0),COLUMN(A1296))","v":{"$error":"#N/A"}},null,{"$f":"INDEX(设备类型!$B$2:$B$5001,MATCH(表格模板!C1296,设备类型!$A$2:$A$5001,0),COLUMN(A1296))","v":{"$error":"#N/A"}}]
[null,{"$f":"INDEX(建筑!$B$2:$B$5001,MATCH(表格模板!A1297,建筑!$A$2:$A$5001,0),COLUMN(A1297))","v":{"$error":"#N/A"}},null,{"$f":"INDEX(设备类型!$B$2:$B$5001,MATCH(表格模板!C1297,设备类型!$A$2:$A$5001,0),COLUMN(A1297))","v":{"$error":"#N/A"}}]
[null,{"$f":"INDEX(建筑!$B$2:$B$5001,MATCH(表格模板!A1298,建筑!$A$2:$A$5001,0),COLUMN(A1298))","v":{"$error":"#N/A"}},null,{"$f":"INDEX(设备类型!$B$2:$B$5001,MATCH(表格模板!C1298,设备类型!$A$2:$A$5001,0),COLUMN(A1298))","v":{"$error":"#N/A"}}]
[null,{"$f":"INDEX(建筑!$B$2:$B$5001,MATCH(表格模板!A1299,建筑!$A$2:$A$5001,0),COLUMN(A1299))","v":{"$error":"#N/A"}},null,{"$f":"INDEX(设备类型!$B$2:$B$5001,MATCH(表格模板!C1299,设备类型!$A$2:$A$5001,0),COLUMN(A1299))","v":{"$error":"#N/A"}}]
[null,{"$f":"INDEX(建筑!$B$2:$B$5001,MATCH(表格模板!A1300,建筑!$A$2:$A$5001,0),COLUMN(A1300))","v":{"$error":"#N/A"}},null,{"$f":"INDEX(设备类型!$B$2:$B$5001,MATCH(表格模板!C1300,设备类型!$A$2:$A$5001,0),COLUMN(A1300))","v":{"$error":"#N/A"}}]
[null,{"$f":"INDEX(建筑!$B$2:$B$5001,MATCH(表格模板!A1301,建筑!$A$2:$A$5001,0),COLUMN(A1301))","v":{"$error":"#N/A"}},null,{"$f":"INDEX(设备类型!$B$2:$B$5001,MATCH(表格模板!C1301,设备类型!$A$2:$A$5001,0),COLUMN(A1301))","v":{"$error":"#N/A"}}]
[null,{"$f":"INDEX(建筑!$B$2:$B$5001,MATCH(表格模板!A1302,建筑!$A$2:$A$5001,0),COLUMN(A1302))","v":{"$error":"#N/A"}},null,{"$f":"INDEX(设备类型!$B$2:$B$5001,MATCH(表格模板!C1302,设备类型!$A$2:$A$5001,0),COLUMN(A1302))","v":{"$error":"#N/A"}}]
[null,{"$f":"INDEX(建筑!$B$2:$B$5001,MATCH(表格模板!A1303,建筑!$A$2:$A$5001,0),COLUMN(A1303))","v":{"$error":"#N/A"}},null,{"$f":"INDEX(设备类型!$B$2:$B$5001,MATCH(表格模板!C1303,设备类型!$A$2:$A$5001,0),COLUMN(A1303))","v":{"$error":"#N/A"}}]
[null,{"$f":"INDEX(建筑!$B$2:$B$5001,MATCH(表格模板!A1304,建筑!$A$2:$A$5001,0),COLUMN(A1304))","v":{"$error":"#N/A"}},null,{"$f":"INDEX(设备类型!$B$2:$B$5001,MATCH(表格模板!C1304,设备类型!$A$2:$A$5001,0),COLUMN(A1304))","v":{"$error":"#N/A"}}]
[null,{"$f":"INDEX(建筑!$B$2:$B$5001,MATCH(表格模板!A1305,建筑!$A$2:$A$5001,0),COLUMN(A1305))","v":{"$error":"#N/A"}},null,{"$f":"INDEX(设备类型!$B$2:$B$5001,MATCH(表格模板!C1305,设备类型!$A$2:$A$5001,0),COLUMN(A1305))","v":{"$error":"#N/A"}}]
[null,{"$f":"INDEX(建筑!$B$2:$B$5001,MATCH(表格模板!A1306,建筑!$A$2:$A$5001,0),COLUMN(A1306))","v":{"$error":"#N/A"}},null,{"$f":"INDEX(设备类型!$B$2:$B$5001,MATCH(表格模板!C1306,设备类型!$A$2:$A$5001,0),COLUMN(A1306))","v":{"$error":"#N/A"}}]
[null,{"$f":"INDEX(建筑!$B$2:$B$5001,MATCH(表格模板!A1307,建筑!$A$2:$A$5001,0),COLUMN(A1307))","v":{"$error":"#N/A"}},null,{"$f":"INDEX(设备类型!$B$2:$B$5001,MATCH(表格模板!C1307,设备类型!$A$2:$A$5001,0),COLUMN(A1307))","v":{"$error":"#N/A"}}]
[null,{"$f":"INDEX(建筑!$B$2:$B$5001,MATCH(表格模板!A1308,建筑!$A$2:$A$5001,0),COLUMN(A1308))","v":{"$error":"#N/A"}},null,{"$f":"INDEX(设备类型!$B$2:$B$5001,MATCH(表格模板!C1308,设备类型!$A$2:$A$5001,0),COLUMN(A1308))","v":{"$error":"#N/A"}}]
[null,{"$f":"INDEX(建筑!$B$2:$B$5001,MATCH(表格模板!A1309,建筑!$A$2:$A$5001,0),COLUMN(A1309))","v":{"$error":"#N/A"}},null,{"$f":"INDEX(设备类型!$B$2:$B$5001,MATCH(表格模板!C1309,设备类型!$A$2:$A$5001,0),COLUMN(A1309))","v":{"$error":"#N/A"}}]
[null,{"$f":"INDEX(建筑!$B$2:$B$5001,MATCH(表格模板!A1310,建筑!$A$2:$A$5001,0),COLUMN(A1310))","v":{"$error":"#N/A"}},null,{"$f":"INDEX(设备类型!$B$2:$B$5001,MATCH(表格模板!C1310,设备类型!$A$2:$A$5001,0),COLUMN(A1310))","v":{"$error":"#N/A"}}]
[null,{"$f":"INDEX(建筑!$B$2:$B$5001,MATCH(表格模板!A1311,建筑!$A$2:$A$5001,0),COLUMN(A1311))","v":{"$error":"#N/A"}},null,{"$f":"INDEX(设备类型!$B$2:$B$5001,MATCH(表格模板!C1311,设备类型!$A$2:$A$5001,0),COLUMN(A1311))","v":{"$error":"#N/A"}}]
[null,{"$f":"INDEX(建筑!$B$2:$B$5001,MATCH(表格模板!A1312,建筑!$A$2:$A$5001,0),COLUMN(A1312))","v":{"$error":"#N/A"}},null,{"$f":"INDEX(设备类型!$B$2:$B$5001,MATCH(表格模板!C1312,设备类型!$A$2:$A$5001,0),COLUMN(A1312))","v":{"$error":"#N/A"}}]
[null,{"$f":"INDEX(建筑!$B$2:$B$5001,MATCH(表格模板!A1313,建筑!$A$2:$A$5001,0),COLUMN(A1313))","v":{"$error":"#N/A"}},null,{"$f":"INDEX(设备类型!$B$2:$B$5001,MATCH(表格模板!C1313,设备类型!$A$2:$A$5001,0),COLUMN(A1313))","v":{"$error":"#N/A"}}]
[null,{"$f":"INDEX(建筑!$B$2:$B$5001,MATCH(表格模板!A1314,建筑!$A$2:$A$5001,0),COLUMN(A1314))","v":{"$error":"#N/A"}},null,{"$f":"INDEX(设备类型!$B$2:$B$5001,MATCH(表格模板!C1314,设备类型!$A$2:$A$5001,0),COLUMN(A1314))","v":{"$error":"#N/A"}}]
[null,{"$f":"INDEX(建筑!$B$2:$B$5001,MATCH(表格模板!A1315,建筑!$A$2:$A$5001,0),COLUMN(A1315))","v":{"$error":"#N/A"}},null,{"$f":"INDEX(设备类型!$B$2:$B$5001,MATCH(表格模板!C1315,设备类型!$A$2:$A$5001,0),COLUMN(A1315))","v":{"$error":"#N/A"}}]
[null,{"$f":"INDEX(建筑!$B$2:$B$5001,MATCH(表格模板!A1316,建筑!$A$2:$A$5001,0),COLUMN(A1316))","v":{"$error":"#N/A"}},null,{"$f":"INDEX(设备类型!$B$2:$B$5001,MATCH(表格模板!C1316,设备类型!$A$2:$A$5001,0),COLUMN(A1316))","v":{"$error":"#N/A"}}]
[null,{"$f":"INDEX(建筑!$B$2:$B$5001,MATCH(表格模板!A1317,建筑!$A$2:$A$5001,0),COLUMN(A1317))","v":{"$error":"#N/A"}},null,{"$f":"INDEX(设备类型!$B$2:$B$5001,MATCH(表格模板!C1317,设备类型!$A$2:$A$5001,0),COLUMN(A1317))","v":{"$error":"#N/A"}}]
[null,{"$f":"INDEX(建筑!$B$2:$B$5001,MATCH(表格模板!A1318,建筑!$A$2:$A$5001,0),COLUMN(A1318))","v":{"$error":"#N/A"}},null,{"$f":"INDEX(设备类型!$B$2:$B$5001,MATCH(表格模板!C1318,设备类型!$A$2:$A$5001,0),COLUMN(A1318))","v":{"$error":"#N/A"}}]
[null,{"$f":"INDEX(建筑!$B$2:$B$5001,MATCH(表格模板!A1319,建筑!$A$2:$A$5001,0),COLUMN(A1319))","v":{"$error":"#N/A"}},null,{"$f":"INDEX(设备类型!$B$2:$B$5001,MATCH(表格模板!C1319,设备类型!$A$2:$A$5001,0),COLUMN(A1319))","v":{"$error":"#N/A"}}]
[null,{"$f":"INDEX(建筑!$B$2:$B$5001,MATCH(表格模板!A1320,建筑!$A$2:$A$5001,0),COLUMN(A1320))","v":{"$error":"#N/A"}},null,{"$f":"INDEX(设备类型!$B$2:$B$5001,MATCH(表格模板!C1320,设备类型!$A$2:$A$5001,0),COLUMN(A1320))","v":{"$error":"#N/A"}}]
[null,{"$f":"INDEX(建筑!$B$2:$B$5001,MATCH(表格模板!A1321,建筑!$A$2:$A$5001,0),COLUMN(A1321))","v":{"$error":"#N/A"}},null,{"$f":"INDEX(设备类型!$B$2:$B$5001,MATCH(表格模板!C1321,设备类型!$A$2:$A$5001,0),COLUMN(A1321))","v":{"$error":"#N/A"}}]
[null,{"$f":"INDEX(建筑!$B$2:$B$5001,MATCH(表格模板!A1322,建筑!$A$2:$A$5001,0),COLUMN(A1322))","v":{"$error":"#N/A"}},null,{"$f":"INDEX(设备类型!$B$2:$B$5001,MATCH(表格模板!C1322,设备类型!$A$2:$A$5001,0),COLUMN(A1322))","v":{"$error":"#N/A"}}]
[null,{"$f":"INDEX(建筑!$B$2:$B$5001,MATCH(表格模板!A1323,建筑!$A$2:$A$5001,0),COLUMN(A1323))","v":{"$error":"#N/A"}},null,{"$f":"INDEX(设备类型!$B$2:$B$5001,MATCH(表格模板!C1323,设备类型!$A$2:$A$5001,0),COLUMN(A1323))","v":{"$error":"#N/A"}}]
[null,{"$f":"INDEX(建筑!$B$2:$B$5001,MATCH(表格模板!A1324,建筑!$A$2:$A$5001,0),COLUMN(A1324))","v":{"$error":"#N/A"}},null,{"$f":"INDEX(设备类型!$B$2:$B$5001,MATCH(表格模板!C1324,设备类型!$A$2:$A$5001,0),COLUMN(A1324))","v":{"$error":"#N/A"}}]
[null,{"$f":"INDEX(建筑!$B$2:$B$5001,MATCH(表格模板!A1325,建筑!$A$2:$A$5001,0),COLUMN(A1325))","v":{"$error":"#N/A"}},null,{"$f":"INDEX(设备类型!$B$2:$B$5001,MATCH(表格模板!C1325,设备类型!$A$2:$A$5001,0),COLUMN(A1325))","v":{"$error":"#N/A"}}]
[null,{"$f":"INDEX(建筑!$B$2:$B$5001,MATCH(表格模板!A1326,建筑!$A$2:$A$5001,0),COLUMN(A1326))","v":{"$error":"#N/A"}},null,{"$f":"INDEX(设备类型!$B$2:$B$5001,MATCH(表格模板!C1326,设备类型!$A$2:$A$5001,0),COLUMN(A1326))","v":{"$error":"#N/A"}}]
[null,{"$f":"INDEX(建筑!$B$2:$B$5001,MATCH(表格模板!A1327,建筑!$A$2:$A$5001,0),COLUMN(A1327))","v":{"$error":"#N/A"}},null,{"$f":"INDEX(设备类型!$B$2:$B$5001,MATCH(表格模板!C1327,设备类型!$A$2:$A$5001,0),COLUMN(A1327))","v":{"$error":"#N/A"}}]
[null,{"$f":"INDEX(建筑!$B$2:$B$5001,MATCH(表格模板!A1328,建筑!$A$2:$A$5001,0),COLUMN(A1328))","v":{"$error":"#N/A"}},null,{"$f":"INDEX(设备类型!$B$2:$B$5001,MATCH(表格模板!C1328,设备类型!$A$2:$A$5001,0),COLUMN(A1328))","v":{"$error":"#N/A"}}]
[null,{"$f":"INDEX(建筑!$B$2:$B$5001,MATCH(表格模板!A1329,建筑!$A$2:$A$5001,0),COLUMN(A1329))","v":{"$error":"#N/A"}},null,{"$f":"INDEX(设备类型!$B$2:$B$5001,MATCH(表格模板!C1329,设备类型!$A$2:$A$5001,0),COLUMN(A1329))","v":{"$error":"#N/A"}}]
[null,{"$f":"INDEX(建筑!$B$2:$B$5001,MATCH(表格模板!A1330,建筑!$A$2:$A$5001,0),COLUMN(A1330))","v":{"$error":"#N/A"}},null,{"$f":"INDEX(设备类型!$B$2:$B$5001,MATCH(表格模板!C1330,设备类型!$A$2:$A$5001,0),COLUMN(A1330))","v":{"$error":"#N/A"}}]
[null,{"$f":"INDEX(建筑!$B$2:$B$5001,MATCH(表格模板!A1331,建筑!$A$2:$A$5001,0),COLUMN(A1331))","v":{"$error":"#N/A"}},null,{"$f":"INDEX(设备类型!$B$2:$B$5001,MATCH(表格模板!C1331,设备类型!$A$2:$A$5001,0),COLUMN(A1331))","v":{"$error":"#N/A"}}]
[null,{"$f":"INDEX(建筑!$B$2:$B$5001,MATCH(表格模板!A1332,建筑!$A$2:$A$5001,0),COLUMN(A1332))","v":{"$error":"#N/A"}},null,{"$f":"INDEX(设备类型!$B$2:$B$5001,MATCH(表格模板!C1332,设备类型!$A$2:$A$5001,0),COLUMN(A1332))","v":{"$error":"#N/A"}}]
[null,{"$f":"INDEX(建筑!$B$2:$B$5001,MATCH(表格模板!A1333,建筑!$A$2:$A$5001,0),COLUMN(A1333))","v":{"$error":"#N/A"}},null,{"$f":"INDEX(设备类型!$B$2:$B$5001,MATCH(表格模板!C1333,设备类型!$A$2:$A$5001,0),COLUMN(A1333))","v":{"$error":"#N/A"}}]
[null,{"$f":"INDEX(建筑!$B$2:$B$5001,MATCH(表格模板!A1334,建筑!$A$2:$A$5001,0),COLUMN(A1334))","v":{"$error":"#N/A"}},null,{"$f":"INDEX(设备类型!$B$2:$B$5001,MATCH(表格模板!C1334,设备类型!$A$2:$A$5001,0),COLUMN(A1334))","v":{"$error":"#N/A"}}]
[null,{"$f":"INDEX(建筑!$B$2:$B$5001,MATCH(表格模板!A1335,建筑!$A$2:$A$5001,0),COLUMN(A1335))","v":{"$error":"#N/A"}},null,{"$f":"INDEX(设备类型!$B$2:$B$5001,MATCH(表格模板!C1335,设备类型!$A$2:$A$5001,0),COLUMN(A1335))","v":{"$error":"#N/A"}}]
[null,{"$f":"INDEX(建筑!$B$2:$B$5001,MATCH(表格模板!A1336,建筑!$A$2:$A$5001,0),COLUMN(A1336))","v":{"$error":"#N/A"}},null,{"$f":"INDEX(设备类型!$B$2:$B$5001,MATCH(表格模板!C1336,设备类型!$A$2:$A$5001,0),COLUMN(A1336))","v":{"$error":"#N/A"}}]
[null,{"$f":"INDEX(建筑!$B$2:$B$5001,MATCH(表格模板!A1337,建筑!$A$2:$A$5001,0),COLUMN(A1337))","v":{"$error":"#N/A"}},null,{"$f":"INDEX(设备类型!$B$2:$B$5001,MATCH(表格模板!C1337,设备类型!$A$2:$A$5001,0),COLUMN(A1337))","v":{"$error":"#N/A"}}]
[null,{"$f":"INDEX(建筑!$B$2:$B$5001,MATCH(表格模板!A1338,建筑!$A$2:$A$5001,0),COLUMN(A1338))","v":{"$error":"#N/A"}},null,{"$f":"INDEX(设备类型!$B$2:$B$5001,MATCH(表格模板!C1338,设备类型!$A$2:$A$5001,0),COLUMN(A1338))","v":{"$error":"#N/A"}}]
[null,{"$f":"INDEX(建筑!$B$2:$B$5001,MATCH(表格模板!A1339,建筑!$A$2:$A$5001,0),COLUMN(A1339))","v":{"$error":"#N/A"}},null,{"$f":"INDEX(设备类型!$B$2:$B$5001,MATCH(表格模板!C1339,设备类型!$A$2:$A$5001,0),COLUMN(A1339))","v":{"$error":"#N/A"}}]
[null,{"$f":"INDEX(建筑!$B$2:$B$5001,MATCH(表格模板!A1340,建筑!$A$2:$A$5001,0),COLUMN(A1340))","v":{"$error":"#N/A"}},null,{"$f":"INDEX(设备类型!$B$2:$B$5001,MATCH(表格模板!C1340,设备类型!$A$2:$A$5001,0),COLUMN(A1340))","v":{"$error":"#N/A"}}]
[null,{"$f":"INDEX(建筑!$B$2:$B$5001,MATCH(表格模板!A1341,建筑!$A$2:$A$5001,0),COLUMN(A1341))","v":{"$error":"#N/A"}},null,{"$f":"INDEX(设备类型!$B$2:$B$5001,MATCH(表格模板!C1341,设备类型!$A$2:$A$5001,0),COLUMN(A1341))","v":{"$error":"#N/A"}}]
[null,{"$f":"INDEX(建筑!$B$2:$B$5001,MATCH(表格模板!A1342,建筑!$A$2:$A$5001,0),COLUMN(A1342))","v":{"$error":"#N/A"}},null,{"$f":"INDEX(设备类型!$B$2:$B$5001,MATCH(表格模板!C1342,设备类型!$A$2:$A$5001,0),COLUMN(A1342))","v":{"$error":"#N/A"}}]
[null,{"$f":"INDEX(建筑!$B$2:$B$5001,MATCH(表格模板!A1343,建筑!$A$2:$A$5001,0),COLUMN(A1343))","v":{"$error":"#N/A"}},null,{"$f":"INDEX(设备类型!$B$2:$B$5001,MATCH(表格模板!C1343,设备类型!$A$2:$A$5001,0),COLUMN(A1343))","v":{"$error":"#N/A"}}]
[null,{"$f":"INDEX(建筑!$B$2:$B$5001,MATCH(表格模板!A1344,建筑!$A$2:$A$5001,0),COLUMN(A1344))","v":{"$error":"#N/A"}},null,{"$f":"INDEX(设备类型!$B$2:$B$5001,MATCH(表格模板!C1344,设备类型!$A$2:$A$5001,0),COLUMN(A1344))","v":{"$error":"#N/A"}}]
[null,{"$f":"INDEX(建筑!$B$2:$B$5001,MATCH(表格模板!A1345,建筑!$A$2:$A$5001,0),COLUMN(A1345))","v":{"$error":"#N/A"}},null,{"$f":"INDEX(设备类型!$B$2:$B$5001,MATCH(表格模板!C1345,设备类型!$A$2:$A$5001,0),COLUMN(A1345))","v":{"$error":"#N/A"}}]
[null,{"$f":"INDEX(建筑!$B$2:$B$5001,MATCH(表格模板!A1346,建筑!$A$2:$A$5001,0),COLUMN(A1346))","v":{"$error":"#N/A"}},null,{"$f":"INDEX(设备类型!$B$2:$B$5001,MATCH(表格模板!C1346,设备类型!$A$2:$A$5001,0),COLUMN(A1346))","v":{"$error":"#N/A"}}]
[null,{"$f":"INDEX(建筑!$B$2:$B$5001,MATCH(表格模板!A1347,建筑!$A$2:$A$5001,0),COLUMN(A1347))","v":{"$error":"#N/A"}},null,{"$f":"INDEX(设备类型!$B$2:$B$5001,MATCH(表格模板!C1347,设备类型!$A$2:$A$5001,0),COLUMN(A1347))","v":{"$error":"#N/A"}}]
[null,{"$f":"INDEX(建筑!$B$2:$B$5001,MATCH(表格模板!A1348,建筑!$A$2:$A$5001,0),COLUMN(A1348))","v":{"$error":"#N/A"}},null,{"$f":"INDEX(设备类型!$B$2:$B$5001,MATCH(表格模板!C1348,设备类型!$A$2:$A$5001,0),COLUMN(A1348))","v":{"$error":"#N/A"}}]
[null,{"$f":"INDEX(建筑!$B$2:$B$5001,MATCH(表格模板!A1349,建筑!$A$2:$A$5001,0),COLUMN(A1349))","v":{"$error":"#N/A"}},null,{"$f":"INDEX(设备类型!$B$2:$B$5001,MATCH(表格模板!C1349,设备类型!$A$2:$A$5001,0),COLUMN(A1349))","v":{"$error":"#N/A"}}]
[null,{"$f":"INDEX(建筑!$B$2:$B$5001,MATCH(表格模板!A1350,建筑!$A$2:$A$5001,0),COLUMN(A1350))","v":{"$error":"#N/A"}},null,{"$f":"INDEX(设备类型!$B$2:$B$5001,MATCH(表格模板!C1350,设备类型!$A$2:$A$5001,0),COLUMN(A1350))","v":{"$error":"#N/A"}}]
[null,{"$f":"INDEX(建筑!$B$2:$B$5001,MATCH(表格模板!A1351,建筑!$A$2:$A$5001,0),COLUMN(A1351))","v":{"$error":"#N/A"}},null,{"$f":"INDEX(设备类型!$B$2:$B$5001,MATCH(表格模板!C1351,设备类型!$A$2:$A$5001,0),COLUMN(A1351))","v":{"$error":"#N/A"}}]
[null,{"$f":"INDEX(建筑!$B$2:$B$5001,MATCH(表格模板!A1352,建筑!$A$2:$A$5001,0),COLUMN(A1352))","v":{"$error":"#N/A"}},null,{"$f":"INDEX(设备类型!$B$2:$B$5001,MATCH(表格模板!C1352,设备类型!$A$2:$A$5001,0),COLUMN(A1352))","v":{"$error":"#N/A"}}]
[null,{"$f":"INDEX(建筑!$B$2:$B$5001,MATCH(表格模板!A1353,建筑!$A$2:$A$5001,0),COLUMN(A1353))","v":{"$error":"#N/A"}},null,{"$f":"INDEX(设备类型!$B$2:$B$5001,MATCH(表格模板!C1353,设备类型!$A$2:$A$5001,0),COLUMN(A1353))","v":{"$error":"#N/A"}}]
[null,{"$f":"INDEX(建筑!$B$2:$B$5001,MATCH(表格模板!A1354,建筑!$A$2:$A$5001,0),COLUMN(A1354))","v":{"$error":"#N/A"}},null,{"$f":"INDEX(设备类型!$B$2:$B$5001,MATCH(表格模板!C1354,设备类型!$A$2:$A$5001,0),COLUMN(A1354))","v":{"$error":"#N/A"}}]
[null,{"$f":"INDEX(建筑!$B$2:$B$5001,MATCH(表格模板!A1355,建筑!$A$2:$A$5001,0),COLUMN(A1355))","v":{"$error":"#N/A"}},null,{"$f":"INDEX(设备类型!$B$2:$B$5001,MATCH(表格模板!C1355,设备类型!$A$2:$A$5001,0),COLUMN(A1355))","v":{"$error":"#N/A"}}]
[null,{"$f":"INDEX(建筑!$B$2:$B$5001,MATCH(表格模板!A1356,建筑!$A$2:$A$5001,0),COLUMN(A1356))","v":{"$error":"#N/A"}},null,{"$f":"INDEX(设备类型!$B$2:$B$5001,MATCH(表格模板!C1356,设备类型!$A$2:$A$5001,0),COLUMN(A1356))","v":{"$error":"#N/A"}}]
[null,{"$f":"INDEX(建筑!$B$2:$B$5001,MATCH(表格模板!A1357,建筑!$A$2:$A$5001,0),COLUMN(A1357))","v":{"$error":"#N/A"}},null,{"$f":"INDEX(设备类型!$B$2:$B$5001,MATCH(表格模板!C1357,设备类型!$A$2:$A$5001,0),COLUMN(A1357))","v":{"$error":"#N/A"}}]
[null,{"$f":"INDEX(建筑!$B$2:$B$5001,MATCH(表格模板!A1358,建筑!$A$2:$A$5001,0),COLUMN(A1358))","v":{"$error":"#N/A"}},null,{"$f":"INDEX(设备类型!$B$2:$B$5001,MATCH(表格模板!C1358,设备类型!$A$2:$A$5001,0),COLUMN(A1358))","v":{"$error":"#N/A"}}]
[null,{"$f":"INDEX(建筑!$B$2:$B$5001,MATCH(表格模板!A1359,建筑!$A$2:$A$5001,0),COLUMN(A1359))","v":{"$error":"#N/A"}},null,{"$f":"INDEX(设备类型!$B$2:$B$5001,MATCH(表格模板!C1359,设备类型!$A$2:$A$5001,0),COLUMN(A1359))","v":{"$error":"#N/A"}}]
[null,{"$f":"INDEX(建筑!$B$2:$B$5001,MATCH(表格模板!A1360,建筑!$A$2:$A$5001,0),COLUMN(A1360))","v":{"$error":"#N/A"}},null,{"$f":"INDEX(设备类型!$B$2:$B$5001,MATCH(表格模板!C1360,设备类型!$A$2:$A$5001,0),COLUMN(A1360))","v":{"$error":"#N/A"}}]
[null,{"$f":"INDEX(建筑!$B$2:$B$5001,MATCH(表格模板!A1361,建筑!$A$2:$A$5001,0),COLUMN(A1361))","v":{"$error":"#N/A"}},null,{"$f":"INDEX(设备类型!$B$2:$B$5001,MATCH(表格模板!C1361,设备类型!$A$2:$A$5001,0),COLUMN(A1361))","v":{"$error":"#N/A"}}]
[null,{"$f":"INDEX(建筑!$B$2:$B$5001,MATCH(表格模板!A1362,建筑!$A$2:$A$5001,0),COLUMN(A1362))","v":{"$error":"#N/A"}},null,{"$f":"INDEX(设备类型!$B$2:$B$5001,MATCH(表格模板!C1362,设备类型!$A$2:$A$5001,0),COLUMN(A1362))","v":{"$error":"#N/A"}}]
[null,{"$f":"INDEX(建筑!$B$2:$B$5001,MATCH(表格模板!A1363,建筑!$A$2:$A$5001,0),COLUMN(A1363))","v":{"$error":"#N/A"}},null,{"$f":"INDEX(设备类型!$B$2:$B$5001,MATCH(表格模板!C1363,设备类型!$A$2:$A$5001,0),COLUMN(A1363))","v":{"$error":"#N/A"}}]
[null,{"$f":"INDEX(建筑!$B$2:$B$5001,MATCH(表格模板!A1364,建筑!$A$2:$A$5001,0),COLUMN(A1364))","v":{"$error":"#N/A"}},null,{"$f":"INDEX(设备类型!$B$2:$B$5001,MATCH(表格模板!C1364,设备类型!$A$2:$A$5001,0),COLUMN(A1364))","v":{"$error":"#N/A"}}]
[null,{"$f":"INDEX(建筑!$B$2:$B$5001,MATCH(表格模板!A1365,建筑!$A$2:$A$5001,0),COLUMN(A1365))","v":{"$error":"#N/A"}},null,{"$f":"INDEX(设备类型!$B$2:$B$5001,MATCH(表格模板!C1365,设备类型!$A$2:$A$5001,0),COLUMN(A1365))","v":{"$error":"#N/A"}}]
[null,{"$f":"INDEX(建筑!$B$2:$B$5001,MATCH(表格模板!A1366,建筑!$A$2:$A$5001,0),COLUMN(A1366))","v":{"$error":"#N/A"}},null,{"$f":"INDEX(设备类型!$B$2:$B$5001,MATCH(表格模板!C1366,设备类型!$A$2:$A$5001,0),COLUMN(A1366))","v":{"$error":"#N/A"}}]
[null,{"$f":"INDEX(建筑!$B$2:$B$5001,MATCH(表格模板!A1367,建筑!$A$2:$A$5001,0),COLUMN(A1367))","v":{"$error":"#N/A"}},null,{"$f":"INDEX(设备类型!$B$2:$B$5001,MATCH(表格模板!C1367,设备类型!$A$2:$A$5001,0),COLUMN(A1367))","v":{"$error":"#N/A"}}]
[null,{"$f":"INDEX(建筑!$B$2:$B$5001,MATCH(表格模板!A1368,建筑!$A$2:$A$5001,0),COLUMN(A1368))","v":{"$error":"#N/A"}},null,{"$f":"INDEX(设备类型!$B$2:$B$5001,MATCH(表格模板!C1368,设备类型!$A$2:$A$5001,0),COLUMN(A1368))","v":{"$error":"#N/A"}}]
[null,{"$f":"INDEX(建筑!$B$2:$B$5001,MATCH(表格模板!A1369,建筑!$A$2:$A$5001,0),COLUMN(A1369))","v":{"$error":"#N/A"}},null,{"$f":"INDEX(设备类型!$B$2:$B$5001,MATCH(表格模板!C1369,设备类型!$A$2:$A$5001,0),COLUMN(A1369))","v":{"$error":"#N/A"}}]
[null,{"$f":"INDEX(建筑!$B$2:$B$5001,MATCH(表格模板!A1370,建筑!$A$2:$A$5001,0),COLUMN(A1370))","v":{"$error":"#N/A"}},null,{"$f":"INDEX(设备类型!$B$2:$B$5001,MATCH(表格模板!C1370,设备类型!$A$2:$A$5001,0),COLUMN(A1370))","v":{"$error":"#N/A"}}]
[null,{"$f":"INDEX(建筑!$B$2:$B$5001,MATCH(表格模板!A1371,建筑!$A$2:$A$5001,0),COLUMN(A1371))","v":{"$error":"#N/A"}},null,{"$f":"INDEX(设备类型!$B$2:$B$5001,MATCH(表格模板!C1371,设备类型!$A$2:$A$5001,0),COLUMN(A1371))","v":{"$error":"#N/A"}}]
[null,{"$f":"INDEX(建筑!$B$2:$B$5001,MATCH(表格模板!A1372,建筑!$A$2:$A$5001,0),COLUMN(A1372))","v":{"$error":"#N/A"}},null,{"$f":"INDEX(设备类型!$B$2:$B$5001,MATCH(表格模板!C1372,设备类型!$A$2:$A$5001,0),COLUMN(A1372))","v":{"$error":"#N/A"}}]
[null,{"$f":"INDEX(建筑!$B$2:$B$5001,MATCH(表格模板!A1373,建筑!$A$2:$A$5001,0),COLUMN(A1373))","v":{"$error":"#N/A"}},null,{"$f":"INDEX(设备类型!$B$2:$B$5001,MATCH(表格模板!C1373,设备类型!$A$2:$A$5001,0),COLUMN(A1373))","v":{"$error":"#N/A"}}]
[null,{"$f":"INDEX(建筑!$B$2:$B$5001,MATCH(表格模板!A1374,建筑!$A$2:$A$5001,0),COLUMN(A1374))","v":{"$error":"#N/A"}},null,{"$f":"INDEX(设备类型!$B$2:$B$5001,MATCH(表格模板!C1374,设备类型!$A$2:$A$5001,0),COLUMN(A1374))","v":{"$error":"#N/A"}}]
[null,{"$f":"INDEX(建筑!$B$2:$B$5001,MATCH(表格模板!A1375,建筑!$A$2:$A$5001,0),COLUMN(A1375))","v":{"$error":"#N/A"}},null,{"$f":"INDEX(设备类型!$B$2:$B$5001,MATCH(表格模板!C1375,设备类型!$A$2:$A$5001,0),COLUMN(A1375))","v":{"$error":"#N/A"}}]
[null,{"$f":"INDEX(建筑!$B$2:$B$5001,MATCH(表格模板!A1376,建筑!$A$2:$A$5001,0),COLUMN(A1376))","v":{"$error":"#N/A"}},null,{"$f":"INDEX(设备类型!$B$2:$B$5001,MATCH(表格模板!C1376,设备类型!$A$2:$A$5001,0),COLUMN(A1376))","v":{"$error":"#N/A"}}]
[null,{"$f":"INDEX(建筑!$B$2:$B$5001,MATCH(表格模板!A1377,建筑!$A$2:$A$5001,0),COLUMN(A1377))","v":{"$error":"#N/A"}},null,{"$f":"INDEX(设备类型!$B$2:$B$5001,MATCH(表格模板!C1377,设备类型!$A$2:$A$5001,0),COLUMN(A1377))","v":{"$error":"#N/A"}}]
[null,{"$f":"INDEX(建筑!$B$2:$B$5001,MATCH(表格模板!A1378,建筑!$A$2:$A$5001,0),COLUMN(A1378))","v":{"$error":"#N/A"}},null,{"$f":"INDEX(设备类型!$B$2:$B$5001,MATCH(表格模板!C1378,设备类型!$A$2:$A$5001,0),COLUMN(A1378))","v":{"$error":"#N/A"}}]
[null,{"$f":"INDEX(建筑!$B$2:$B$5001,MATCH(表格模板!A1379,建筑!$A$2:$A$5001,0),COLUMN(A1379))","v":{"$error":"#N/A"}},null,{"$f":"INDEX(设备类型!$B$2:$B$5001,MATCH(表格模板!C1379,设备类型!$A$2:$A$5001,0),COLUMN(A1379))","v":{"$error":"#N/A"}}]
[null,{"$f":"INDEX(建筑!$B$2:$B$5001,MATCH(表格模板!A1380,建筑!$A$2:$A$5001,0),COLUMN(A1380))","v":{"$error":"#N/A"}},null,{"$f":"INDEX(设备类型!$B$2:$B$5001,MATCH(表格模板!C1380,设备类型!$A$2:$A$5001,0),COLUMN(A1380))","v":{"$error":"#N/A"}}]
[null,{"$f":"INDEX(建筑!$B$2:$B$5001,MATCH(表格模板!A1381,建筑!$A$2:$A$5001,0),COLUMN(A1381))","v":{"$error":"#N/A"}},null,{"$f":"INDEX(设备类型!$B$2:$B$5001,MATCH(表格模板!C1381,设备类型!$A$2:$A$5001,0),COLUMN(A1381))","v":{"$error":"#N/A"}}]
[null,{"$f":"INDEX(建筑!$B$2:$B$5001,MATCH(表格模板!A1382,建筑!$A$2:$A$5001,0),COLUMN(A1382))","v":{"$error":"#N/A"}},null,{"$f":"INDEX(设备类型!$B$2:$B$5001,MATCH(表格模板!C1382,设备类型!$A$2:$A$5001,0),COLUMN(A1382))","v":{"$error":"#N/A"}}]
[null,{"$f":"INDEX(建筑!$B$2:$B$5001,MATCH(表格模板!A1383,建筑!$A$2:$A$5001,0),COLUMN(A1383))","v":{"$error":"#N/A"}},null,{"$f":"INDEX(设备类型!$B$2:$B$5001,MATCH(表格模板!C1383,设备类型!$A$2:$A$5001,0),COLUMN(A1383))","v":{"$error":"#N/A"}}]
[null,{"$f":"INDEX(建筑!$B$2:$B$5001,MATCH(表格模板!A1384,建筑!$A$2:$A$5001,0),COLUMN(A1384))","v":{"$error":"#N/A"}},null,{"$f":"INDEX(设备类型!$B$2:$B$5001,MATCH(表格模板!C1384,设备类型!$A$2:$A$5001,0),COLUMN(A1384))","v":{"$error":"#N/A"}}]
[null,{"$f":"INDEX(建筑!$B$2:$B$5001,MATCH(表格模板!A1385,建筑!$A$2:$A$5001,0),COLUMN(A1385))","v":{"$error":"#N/A"}},null,{"$f":"INDEX(设备类型!$B$2:$B$5001,MATCH(表格模板!C1385,设备类型!$A$2:$A$5001,0),COLUMN(A1385))","v":{"$error":"#N/A"}}]
[null,{"$f":"INDEX(建筑!$B$2:$B$5001,MATCH(表格模板!A1386,建筑!$A$2:$A$5001,0),COLUMN(A1386))","v":{"$error":"#N/A"}},null,{"$f":"INDEX(设备类型!$B$2:$B$5001,MATCH(表格模板!C1386,设备类型!$A$2:$A$5001,0),COLUMN(A1386))","v":{"$error":"#N/A"}}]
[null,{"$f":"INDEX(建筑!$B$2:$B$5001,MATCH(表格模板!A1387,建筑!$A$2:$A$5001,0),COLUMN(A1387))","v":{"$error":"#N/A"}},null,{"$f":"INDEX(设备类型!$B$2:$B$5001,MATCH(表格模板!C1387,设备类型!$A$2:$A$5001,0),COLUMN(A1387))","v":{"$error":"#N/A"}}]
[null,{"$f":"INDEX(建筑!$B$2:$B$5001,MATCH(表格模板!A1388,建筑!$A$2:$A$5001,0),COLUMN(A1388))","v":{"$error":"#N/A"}},null,{"$f":"INDEX(设备类型!$B$2:$B$5001,MATCH(表格模板!C1388,设备类型!$A$2:$A$5001,0),COLUMN(A1388))","v":{"$error":"#N/A"}}]
[null,{"$f":"INDEX(建筑!$B$2:$B$5001,MATCH(表格模板!A1389,建筑!$A$2:$A$5001,0),COLUMN(A1389))","v":{"$error":"#N/A"}},null,{"$f":"INDEX(设备类型!$B$2:$B$5001,MATCH(表格模板!C1389,设备类型!$A$2:$A$5001,0),COLUMN(A1389))","v":{"$error":"#N/A"}}]
[null,{"$f":"INDEX(建筑!$B$2:$B$5001,MATCH(表格模板!A1390,建筑!$A$2:$A$5001,0),COLUMN(A1390))","v":{"$error":"#N/A"}},null,{"$f":"INDEX(设备类型!$B$2:$B$5001,MATCH(表格模板!C1390,设备类型!$A$2:$A$5001,0),COLUMN(A1390))","v":{"$error":"#N/A"}}]
[null,{"$f":"INDEX(建筑!$B$2:$B$5001,MATCH(表格模板!A1391,建筑!$A$2:$A$5001,0),COLUMN(A1391))","v":{"$error":"#N/A"}},null,{"$f":"INDEX(设备类型!$B$2:$B$5001,MATCH(表格模板!C1391,设备类型!$A$2:$A$5001,0),COLUMN(A1391))","v":{"$error":"#N/A"}}]
[null,{"$f":"INDEX(建筑!$B$2:$B$5001,MATCH(表格模板!A1392,建筑!$A$2:$A$5001,0),COLUMN(A1392))","v":{"$error":"#N/A"}},null,{"$f":"INDEX(设备类型!$B$2:$B$5001,MATCH(表格模板!C1392,设备类型!$A$2:$A$5001,0),COLUMN(A1392))","v":{"$error":"#N/A"}}]
[null,{"$f":"INDEX(建筑!$B$2:$B$5001,MATCH(表格模板!A1393,建筑!$A$2:$A$5001,0),COLUMN(A1393))","v":{"$error":"#N/A"}},null,{"$f":"INDEX(设备类型!$B$2:$B$5001,MATCH(表格模板!C1393,设备类型!$A$2:$A$5001,0),COLUMN(A1393))","v":{"$error":"#N/A"}}]
[null,{"$f":"INDEX(建筑!$B$2:$B$5001,MATCH(表格模板!A1394,建筑!$A$2:$A$5001,0),COLUMN(A1394))","v":{"$error":"#N/A"}},null,{"$f":"INDEX(设备类型!$B$2:$B$5001,MATCH(表格模板!C1394,设备类型!$A$2:$A$5001,0),COLUMN(A1394))","v":{"$error":"#N/A"}}]
[null,{"$f":"INDEX(建筑!$B$2:$B$5001,MATCH(表格模板!A1395,建筑!$A$2:$A$5001,0),COLUMN(A1395))","v":{"$error":"#N/A"}},null,{"$f":"INDEX(设备类型!$B$2:$B$5001,MATCH(表格模板!C1395,设备类型!$A$2:$A$5001,0),COLUMN(A1395))","v":{"$error":"#N/A"}}]
[null,{"$f":"INDEX(建筑!$B$2:$B$5001,MATCH(表格模板!A1396,建筑!$A$2:$A$5001,0),COLUMN(A1396))","v":{"$error":"#N/A"}},null,{"$f":"INDEX(设备类型!$B$2:$B$5001,MATCH(表格模板!C1396,设备类型!$A$2:$A$5001,0),COLUMN(A1396))","v":{"$error":"#N/A"}}]
[null,{"$f":"INDEX(建筑!$B$2:$B$5001,MATCH(表格模板!A1397,建筑!$A$2:$A$5001,0),COLUMN(A1397))","v":{"$error":"#N/A"}},null,{"$f":"INDEX(设备类型!$B$2:$B$5001,MATCH(表格模板!C1397,设备类型!$A$2:$A$5001,0),COLUMN(A1397))","v":{"$error":"#N/A"}}]
[null,{"$f":"INDEX(建筑!$B$2:$B$5001,MATCH(表格模板!A1398,建筑!$A$2:$A$5001,0),COLUMN(A1398))","v":{"$error":"#N/A"}},null,{"$f":"INDEX(设备类型!$B$2:$B$5001,MATCH(表格模板!C1398,设备类型!$A$2:$A$5001,0),COLUMN(A1398))","v":{"$error":"#N/A"}}]
[null,{"$f":"INDEX(建筑!$B$2:$B$5001,MATCH(表格模板!A1399,建筑!$A$2:$A$5001,0),COLUMN(A1399))","v":{"$error":"#N/A"}},null,{"$f":"INDEX(设备类型!$B$2:$B$5001,MATCH(表格模板!C1399,设备类型!$A$2:$A$5001,0),COLUMN(A1399))","v":{"$error":"#N/A"}}]
[null,{"$f":"INDEX(建筑!$B$2:$B$5001,MATCH(表格模板!A1400,建筑!$A$2:$A$5001,0),COLUMN(A1400))","v":{"$error":"#N/A"}},null,{"$f":"INDEX(设备类型!$B$2:$B$5001,MATCH(表格模板!C1400,设备类型!$A$2:$A$5001,0),COLUMN(A1400))","v":{"$error":"#N/A"}}]
[null,{"$f":"INDEX(建筑!$B$2:$B$5001,MATCH(表格模板!A1401,建筑!$A$2:$A$5001,0),COLUMN(A1401))","v":{"$error":"#N/A"}},null,{"$f":"INDEX(设备类型!$B$2:$B$5001,MATCH(表格模板!C1401,设备类型!$A$2:$A$5001,0),COLUMN(A1401))","v":{"$error":"#N/A"}}]
[null,{"$f":"INDEX(建筑!$B$2:$B$5001,MATCH(表格模板!A1402,建筑!$A$2:$A$5001,0),COLUMN(A1402))","v":{"$error":"#N/A"}},null,{"$f":"INDEX(设备类型!$B$2:$B$5001,MATCH(表格模板!C1402,设备类型!$A$2:$A$5001,0),COLUMN(A1402))","v":{"$error":"#N/A"}}]
[null,{"$f":"INDEX(建筑!$B$2:$B$5001,MATCH(表格模板!A1403,建筑!$A$2:$A$5001,0),COLUMN(A1403))","v":{"$error":"#N/A"}},null,{"$f":"INDEX(设备类型!$B$2:$B$5001,MATCH(表格模板!C1403,设备类型!$A$2:$A$5001,0),COLUMN(A1403))","v":{"$error":"#N/A"}}]
[null,{"$f":"INDEX(建筑!$B$2:$B$5001,MATCH(表格模板!A1404,建筑!$A$2:$A$5001,0),COLUMN(A1404))","v":{"$error":"#N/A"}},null,{"$f":"INDEX(设备类型!$B$2:$B$5001,MATCH(表格模板!C1404,设备类型!$A$2:$A$5001,0),COLUMN(A1404))","v":{"$error":"#N/A"}}]
[null,{"$f":"INDEX(建筑!$B$2:$B$5001,MATCH(表格模板!A1405,建筑!$A$2:$A$5001,0),COLUMN(A1405))","v":{"$error":"#N/A"}},null,{"$f":"INDEX(设备类型!$B$2:$B$5001,MATCH(表格模板!C1405,设备类型!$A$2:$A$5001,0),COLUMN(A1405))","v":{"$error":"#N/A"}}]
[null,{"$f":"INDEX(建筑!$B$2:$B$5001,MATCH(表格模板!A1406,建筑!$A$2:$A$5001,0),COLUMN(A1406))","v":{"$error":"#N/A"}},null,{"$f":"INDEX(设备类型!$B$2:$B$5001,MATCH(表格模板!C1406,设备类型!$A$2:$A$5001,0),COLUMN(A1406))","v":{"$error":"#N/A"}}]
[null,{"$f":"INDEX(建筑!$B$2:$B$5001,MATCH(表格模板!A1407,建筑!$A$2:$A$5001,0),COLUMN(A1407))","v":{"$error":"#N/A"}},null,{"$f":"INDEX(设备类型!$B$2:$B$5001,MATCH(表格模板!C1407,设备类型!$A$2:$A$5001,0),COLUMN(A1407))","v":{"$error":"#N/A"}}]
[null,{"$f":"INDEX(建筑!$B$2:$B$5001,MATCH(表格模板!A1408,建筑!$A$2:$A$5001,0),COLUMN(A1408))","v":{"$error":"#N/A"}},null,{"$f":"INDEX(设备类型!$B$2:$B$5001,MATCH(表格模板!C1408,设备类型!$A$2:$A$5001,0),COLUMN(A1408))","v":{"$error":"#N/A"}}]
[null,{"$f":"INDEX(建筑!$B$2:$B$5001,MATCH(表格模板!A1409,建筑!$A$2:$A$5001,0),COLUMN(A1409))","v":{"$error":"#N/A"}},null,{"$f":"INDEX(设备类型!$B$2:$B$5001,MATCH(表格模板!C1409,设备类型!$A$2:$A$5001,0),COLUMN(A1409))","v":{"$error":"#N/A"}}]
[null,{"$f":"INDEX(建筑!$B$2:$B$5001,MATCH(表格模板!A1410,建筑!$A$2:$A$5001,0),COLUMN(A1410))","v":{"$error":"#N/A"}},null,{"$f":"INDEX(设备类型!$B$2:$B$5001,MATCH(表格模板!C1410,设备类型!$A$2:$A$5001,0),COLUMN(A1410))","v":{"$error":"#N/A"}}]
[null,{"$f":"INDEX(建筑!$B$2:$B$5001,MATCH(表格模板!A1411,建筑!$A$2:$A$5001,0),COLUMN(A1411))","v":{"$error":"#N/A"}},null,{"$f":"INDEX(设备类型!$B$2:$B$5001,MATCH(表格模板!C1411,设备类型!$A$2:$A$5001,0),COLUMN(A1411))","v":{"$error":"#N/A"}}]
[null,{"$f":"INDEX(建筑!$B$2:$B$5001,MATCH(表格模板!A1412,建筑!$A$2:$A$5001,0),COLUMN(A1412))","v":{"$error":"#N/A"}},null,{"$f":"INDEX(设备类型!$B$2:$B$5001,MATCH(表格模板!C1412,设备类型!$A$2:$A$5001,0),COLUMN(A1412))","v":{"$error":"#N/A"}}]
[null,{"$f":"INDEX(建筑!$B$2:$B$5001,MATCH(表格模板!A1413,建筑!$A$2:$A$5001,0),COLUMN(A1413))","v":{"$error":"#N/A"}},null,{"$f":"INDEX(设备类型!$B$2:$B$5001,MATCH(表格模板!C1413,设备类型!$A$2:$A$5001,0),COLUMN(A1413))","v":{"$error":"#N/A"}}]
[null,{"$f":"INDEX(建筑!$B$2:$B$5001,MATCH(表格模板!A1414,建筑!$A$2:$A$5001,0),COLUMN(A1414))","v":{"$error":"#N/A"}},null,{"$f":"INDEX(设备类型!$B$2:$B$5001,MATCH(表格模板!C1414,设备类型!$A$2:$A$5001,0),COLUMN(A1414))","v":{"$error":"#N/A"}}]
[null,{"$f":"INDEX(建筑!$B$2:$B$5001,MATCH(表格模板!A1415,建筑!$A$2:$A$5001,0),COLUMN(A1415))","v":{"$error":"#N/A"}},null,{"$f":"INDEX(设备类型!$B$2:$B$5001,MATCH(表格模板!C1415,设备类型!$A$2:$A$5001,0),COLUMN(A1415))","v":{"$error":"#N/A"}}]
[null,{"$f":"INDEX(建筑!$B$2:$B$5001,MATCH(表格模板!A1416,建筑!$A$2:$A$5001,0),COLUMN(A1416))","v":{"$error":"#N/A"}},null,{"$f":"INDEX(设备类型!$B$2:$B$5001,MATCH(表格模板!C1416,设备类型!$A$2:$A$5001,0),COLUMN(A1416))","v":{"$error":"#N/A"}}]
[null,{"$f":"INDEX(建筑!$B$2:$B$5001,MATCH(表格模板!A1417,建筑!$A$2:$A$5001,0),COLUMN(A1417))","v":{"$error":"#N/A"}},null,{"$f":"INDEX(设备类型!$B$2:$B$5001,MATCH(表格模板!C1417,设备类型!$A$2:$A$5001,0),COLUMN(A1417))","v":{"$error":"#N/A"}}]
[null,{"$f":"INDEX(建筑!$B$2:$B$5001,MATCH(表格模板!A1418,建筑!$A$2:$A$5001,0),COLUMN(A1418))","v":{"$error":"#N/A"}},null,{"$f":"INDEX(设备类型!$B$2:$B$5001,MATCH(表格模板!C1418,设备类型!$A$2:$A$5001,0),COLUMN(A1418))","v":{"$error":"#N/A"}}]
[null,{"$f":"INDEX(建筑!$B$2:$B$5001,MATCH(表格模板!A1419,建筑!$A$2:$A$5001,0),COLUMN(A1419))","v":{"$error":"#N/A"}},null,{"$f":"INDEX(设备类型!$B$2:$B$5001,MATCH(表格模板!C1419,设备类型!$A$2:$A$5001,0),COLUMN(A1419))","v":{"$error":"#N/A"}}]
[null,{"$f":"INDEX(建筑!$B$2:$B$5001,MATCH(表格模板!A1420,建筑!$A$2:$A$5001,0),COLUMN(A1420))","v":{"$error":"#N/A"}},null,{"$f":"INDEX(设备类型!$B$2:$B$5001,MATCH(表格模板!C1420,设备类型!$A$2:$A$5001,0),COLUMN(A1420))","v":{"$error":"#N/A"}}]
[null,{"$f":"INDEX(建筑!$B$2:$B$5001,MATCH(表格模板!A1421,建筑!$A$2:$A$5001,0),COLUMN(A1421))","v":{"$error":"#N/A"}},null,{"$f":"INDEX(设备类型!$B$2:$B$5001,MATCH(表格模板!C1421,设备类型!$A$2:$A$5001,0),COLUMN(A1421))","v":{"$error":"#N/A"}}]
[null,{"$f":"INDEX(建筑!$B$2:$B$5001,MATCH(表格模板!A1422,建筑!$A$2:$A$5001,0),COLUMN(A1422))","v":{"$error":"#N/A"}},null,{"$f":"INDEX(设备类型!$B$2:$B$5001,MATCH(表格模板!C1422,设备类型!$A$2:$A$5001,0),COLUMN(A1422))","v":{"$error":"#N/A"}}]
[null,{"$f":"INDEX(建筑!$B$2:$B$5001,MATCH(表格模板!A1423,建筑!$A$2:$A$5001,0),COLUMN(A1423))","v":{"$error":"#N/A"}},null,{"$f":"INDEX(设备类型!$B$2:$B$5001,MATCH(表格模板!C1423,设备类型!$A$2:$A$5001,0),COLUMN(A1423))","v":{"$error":"#N/A"}}]
[null,{"$f":"INDEX(建筑!$B$2:$B$5001,MATCH(表格模板!A1424,建筑!$A$2:$A$5001,0),COLUMN(A1424))","v":{"$error":"#N/A"}},null,{"$f":"INDEX(设备类型!$B$2:$B$5001,MATCH(表格模板!C1424,设备类型!$A$2:$A$5001,0),COLUMN(A1424))","v":{"$error":"#N/A"}}]
[null,{"$f":"INDEX(建筑!$B$2:$B$5001,MATCH(表格模板!A1425,建筑!$A$2:$A$5001,0),COLUMN(A1425))","v":{"$error":"#N/A"}},null,{"$f":"INDEX(设备类型!$B$2:$B$5001,MATCH(表格模板!C1425,设备类型!$A$2:$A$5001,0),COLUMN(A1425))","v":{"$error":"#N/A"}}]
[null,{"$f":"INDEX(建筑!$B$2:$B$5001,MATCH(表格模板!A1426,建筑!$A$2:$A$5001,0),COLUMN(A1426))","v":{"$error":"#N/A"}},null,{"$f":"INDEX(设备类型!$B$2:$B$5001,MATCH(表格模板!C1426,设备类型!$A$2:$A$5001,0),COLUMN(A1426))","v":{"$error":"#N/A"}}]
[null,{"$f":"INDEX(建筑!$B$2:$B$5001,MATCH(表格模板!A1427,建筑!$A$2:$A$5001,0),COLUMN(A1427))","v":{"$error":"#N/A"}},null,{"$f":"INDEX(设备类型!$B$2:$B$5001,MATCH(表格模板!C1427,设备类型!$A$2:$A$5001,0),COLUMN(A1427))","v":{"$error":"#N/A"}}]
[null,{"$f":"INDEX(建筑!$B$2:$B$5001,MATCH(表格模板!A1428,建筑!$A$2:$A$5001,0),COLUMN(A1428))","v":{"$error":"#N/A"}},null,{"$f":"INDEX(设备类型!$B$2:$B$5001,MATCH(表格模板!C1428,设备类型!$A$2:$A$5001,0),COLUMN(A1428))","v":{"$error":"#N/A"}}]
[null,{"$f":"INDEX(建筑!$B$2:$B$5001,MATCH(表格模板!A1429,建筑!$A$2:$A$5001,0),COLUMN(A1429))","v":{"$error":"#N/A"}},null,{"$f":"INDEX(设备类型!$B$2:$B$5001,MATCH(表格模板!C1429,设备类型!$A$2:$A$5001,0),COLUMN(A1429))","v":{"$error":"#N/A"}}]
[null,{"$f":"INDEX(建筑!$B$2:$B$5001,MATCH(表格模板!A1430,建筑!$A$2:$A$5001,0),COLUMN(A1430))","v":{"$error":"#N/A"}},null,{"$f":"INDEX(设备类型!$B$2:$B$5001,MATCH(表格模板!C1430,设备类型!$A$2:$A$5001,0),COLUMN(A1430))","v":{"$error":"#N/A"}}]
[null,{"$f":"INDEX(建筑!$B$2:$B$5001,MATCH(表格模板!A1431,建筑!$A$2:$A$5001,0),COLUMN(A1431))","v":{"$error":"#N/A"}},null,{"$f":"INDEX(设备类型!$B$2:$B$5001,MATCH(表格模板!C1431,设备类型!$A$2:$A$5001,0),COLUMN(A1431))","v":{"$error":"#N/A"}}]
[null,{"$f":"INDEX(建筑!$B$2:$B$5001,MATCH(表格模板!A1432,建筑!$A$2:$A$5001,0),COLUMN(A1432))","v":{"$error":"#N/A"}},null,{"$f":"INDEX(设备类型!$B$2:$B$5001,MATCH(表格模板!C1432,设备类型!$A$2:$A$5001,0),COLUMN(A1432))","v":{"$error":"#N/A"}}]
[null,{"$f":"INDEX(建筑!$B$2:$B$5001,MATCH(表格模板!A1433,建筑!$A$2:$A$5001,0),COLUMN(A1433))","v":{"$error":"#N/A"}},null,{"$f":"INDEX(设备类型!$B$2:$B$5001,MATCH(表格模板!C1433,设备类型!$A$2:$A$5001,0),COLUMN(A1433))","v":{"$error":"#N/A"}}]
[null,{"$f":"INDEX(建筑!$B$2:$B$5001,MATCH(表格模板!A1434,建筑!$A$2:$A$5001,0),COLUMN(A1434))","v":{"$error":"#N/A"}},null,{"$f":"INDEX(设备类型!$B$2:$B$5001,MATCH(表格模板!C1434,设备类型!$A$2:$A$5001,0),COLUMN(A1434))","v":{"$error":"#N/A"}}]
[null,{"$f":"INDEX(建筑!$B$2:$B$5001,MATCH(表格模板!A1435,建筑!$A$2:$A$5001,0),COLUMN(A1435))","v":{"$error":"#N/A"}},null,{"$f":"INDEX(设备类型!$B$2:$B$5001,MATCH(表格模板!C1435,设备类型!$A$2:$A$5001,0),COLUMN(A1435))","v":{"$error":"#N/A"}}]
[null,{"$f":"INDEX(建筑!$B$2:$B$5001,MATCH(表格模板!A1436,建筑!$A$2:$A$5001,0),COLUMN(A1436))","v":{"$error":"#N/A"}},null,{"$f":"INDEX(设备类型!$B$2:$B$5001,MATCH(表格模板!C1436,设备类型!$A$2:$A$5001,0),COLUMN(A1436))","v":{"$error":"#N/A"}}]
[null,{"$f":"INDEX(建筑!$B$2:$B$5001,MATCH(表格模板!A1437,建筑!$A$2:$A$5001,0),COLUMN(A1437))","v":{"$error":"#N/A"}},null,{"$f":"INDEX(设备类型!$B$2:$B$5001,MATCH(表格模板!C1437,设备类型!$A$2:$A$5001,0),COLUMN(A1437))","v":{"$error":"#N/A"}}]
[null,{"$f":"INDEX(建筑!$B$2:$B$5001,MATCH(表格模板!A1438,建筑!$A$2:$A$5001,0),COLUMN(A1438))","v":{"$error":"#N/A"}},null,{"$f":"INDEX(设备类型!$B$2:$B$5001,MATCH(表格模板!C1438,设备类型!$A$2:$A$5001,0),COLUMN(A1438))","v":{"$error":"#N/A"}}]
[null,{"$f":"INDEX(建筑!$B$2:$B$5001,MATCH(表格模板!A1439,建筑!$A$2:$A$5001,0),COLUMN(A1439))","v":{"$error":"#N/A"}},null,{"$f":"INDEX(设备类型!$B$2:$B$5001,MATCH(表格模板!C1439,设备类型!$A$2:$A$5001,0),COLUMN(A1439))","v":{"$error":"#N/A"}}]
[null,{"$f":"INDEX(建筑!$B$2:$B$5001,MATCH(表格模板!A1440,建筑!$A$2:$A$5001,0),COLUMN(A1440))","v":{"$error":"#N/A"}},null,{"$f":"INDEX(设备类型!$B$2:$B$5001,MATCH(表格模板!C1440,设备类型!$A$2:$A$5001,0),COLUMN(A1440))","v":{"$error":"#N/A"}}]
[null,{"$f":"INDEX(建筑!$B$2:$B$5001,MATCH(表格模板!A1441,建筑!$A$2:$A$5001,0),COLUMN(A1441))","v":{"$error":"#N/A"}},null,{"$f":"INDEX(设备类型!$B$2:$B$5001,MATCH(表格模板!C1441,设备类型!$A$2:$A$5001,0),COLUMN(A1441))","v":{"$error":"#N/A"}}]
[null,{"$f":"INDEX(建筑!$B$2:$B$5001,MATCH(表格模板!A1442,建筑!$A$2:$A$5001,0),COLUMN(A1442))","v":{"$error":"#N/A"}},null,{"$f":"INDEX(设备类型!$B$2:$B$5001,MATCH(表格模板!C1442,设备类型!$A$2:$A$5001,0),COLUMN(A1442))","v":{"$error":"#N/A"}}]
[null,{"$f":"INDEX(建筑!$B$2:$B$5001,MATCH(表格模板!A1443,建筑!$A$2:$A$5001,0),COLUMN(A1443))","v":{"$error":"#N/A"}},null,{"$f":"INDEX(设备类型!$B$2:$B$5001,MATCH(表格模板!C1443,设备类型!$A$2:$A$5001,0),COLUMN(A1443))","v":{"$error":"#N/A"}}]
[null,{"$f":"INDEX(建筑!$B$2:$B$5001,MATCH(表格模板!A1444,建筑!$A$2:$A$5001,0),COLUMN(A1444))","v":{"$error":"#N/A"}},null,{"$f":"INDEX(设备类型!$B$2:$B$5001,MATCH(表格模板!C1444,设备类型!$A$2:$A$5001,0),COLUMN(A1444))","v":{"$error":"#N/A"}}]
[null,{"$f":"INDEX(建筑!$B$2:$B$5001,MATCH(表格模板!A1445,建筑!$A$2:$A$5001,0),COLUMN(A1445))","v":{"$error":"#N/A"}},null,{"$f":"INDEX(设备类型!$B$2:$B$5001,MATCH(表格模板!C1445,设备类型!$A$2:$A$5001,0),COLUMN(A1445))","v":{"$error":"#N/A"}}]
[null,{"$f":"INDEX(建筑!$B$2:$B$5001,MATCH(表格模板!A1446,建筑!$A$2:$A$5001,0),COLUMN(A1446))","v":{"$error":"#N/A"}},null,{"$f":"INDEX(设备类型!$B$2:$B$5001,MATCH(表格模板!C1446,设备类型!$A$2:$A$5001,0),COLUMN(A1446))","v":{"$error":"#N/A"}}]
[null,{"$f":"INDEX(建筑!$B$2:$B$5001,MATCH(表格模板!A1447,建筑!$A$2:$A$5001,0),COLUMN(A1447))","v":{"$error":"#N/A"}},null,{"$f":"INDEX(设备类型!$B$2:$B$5001,MATCH(表格模板!C1447,设备类型!$A$2:$A$5001,0),COLUMN(A1447))","v":{"$error":"#N/A"}}]
[null,{"$f":"INDEX(建筑!$B$2:$B$5001,MATCH(表格模板!A1448,建筑!$A$2:$A$5001,0),COLUMN(A1448))","v":{"$error":"#N/A"}},null,{"$f":"INDEX(设备类型!$B$2:$B$5001,MATCH(表格模板!C1448,设备类型!$A$2:$A$5001,0),COLUMN(A1448))","v":{"$error":"#N/A"}}]
[null,{"$f":"INDEX(建筑!$B$2:$B$5001,MATCH(表格模板!A1449,建筑!$A$2:$A$5001,0),COLUMN(A1449))","v":{"$error":"#N/A"}},null,{"$f":"INDEX(设备类型!$B$2:$B$5001,MATCH(表格模板!C1449,设备类型!$A$2:$A$5001,0),COLUMN(A1449))","v":{"$error":"#N/A"}}]
[null,{"$f":"INDEX(建筑!$B$2:$B$5001,MATCH(表格模板!A1450,建筑!$A$2:$A$5001,0),COLUMN(A1450))","v":{"$error":"#N/A"}},null,{"$f":"INDEX(设备类型!$B$2:$B$5001,MATCH(表格模板!C1450,设备类型!$A$2:$A$5001,0),COLUMN(A1450))","v":{"$error":"#N/A"}}]
[null,{"$f":"INDEX(建筑!$B$2:$B$5001,MATCH(表格模板!A1451,建筑!$A$2:$A$5001,0),COLUMN(A1451))","v":{"$error":"#N/A"}},null,{"$f":"INDEX(设备类型!$B$2:$B$5001,MATCH(表格模板!C1451,设备类型!$A$2:$A$5001,0),COLUMN(A1451))","v":{"$error":"#N/A"}}]
[null,{"$f":"INDEX(建筑!$B$2:$B$5001,MATCH(表格模板!A1452,建筑!$A$2:$A$5001,0),COLUMN(A1452))","v":{"$error":"#N/A"}},null,{"$f":"INDEX(设备类型!$B$2:$B$5001,MATCH(表格模板!C1452,设备类型!$A$2:$A$5001,0),COLUMN(A1452))","v":{"$error":"#N/A"}}]
[null,{"$f":"INDEX(建筑!$B$2:$B$5001,MATCH(表格模板!A1453,建筑!$A$2:$A$5001,0),COLUMN(A1453))","v":{"$error":"#N/A"}},null,{"$f":"INDEX(设备类型!$B$2:$B$5001,MATCH(表格模板!C1453,设备类型!$A$2:$A$5001,0),COLUMN(A1453))","v":{"$error":"#N/A"}}]
[null,{"$f":"INDEX(建筑!$B$2:$B$5001,MATCH(表格模板!A1454,建筑!$A$2:$A$5001,0),COLUMN(A1454))","v":{"$error":"#N/A"}},null,{"$f":"INDEX(设备类型!$B$2:$B$5001,MATCH(表格模板!C1454,设备类型!$A$2:$A$5001,0),COLUMN(A1454))","v":{"$error":"#N/A"}}]
[null,{"$f":"INDEX(建筑!$B$2:$B$5001,MATCH(表格模板!A1455,建筑!$A$2:$A$5001,0),COLUMN(A1455))","v":{"$error":"#N/A"}},null,{"$f":"INDEX(设备类型!$B$2:$B$5001,MATCH(表格模板!C1455,设备类型!$A$2:$A$5001,0),COLUMN(A1455))","v":{"$error":"#N/A"}}]
[null,{"$f":"INDEX(建筑!$B$2:$B$5001,MATCH(表格模板!A1456,建筑!$A$2:$A$5001,0),COLUMN(A1456))","v":{"$error":"#N/A"}},null,{"$f":"INDEX(设备类型!$B$2:$B$5001,MATCH(表格模板!C1456,设备类型!$A$2:$A$5001,0),COLUMN(A1456))","v":{"$error":"#N/A"}}]
[null,{"$f":"INDEX(建筑!$B$2:$B$5001,MATCH(表格模板!A1457,建筑!$A$2:$A$5001,0),COLUMN(A1457))","v":{"$error":"#N/A"}},null,{"$f":"INDEX(设备类型!$B$2:$B$5001,MATCH(表格模板!C1457,设备类型!$A$2:$A$5001,0),COLUMN(A1457))","v":{"$error":"#N/A"}}]
[null,{"$f":"INDEX(建筑!$B$2:$B$5001,MATCH(表格模板!A1458,建筑!$A$2:$A$5001,0),COLUMN(A1458))","v":{"$error":"#N/A"}},null,{"$f":"INDEX(设备类型!$B$2:$B$5001,MATCH(表格模板!C1458,设备类型!$A$2:$A$5001,0),COLUMN(A1458))","v":{"$error":"#N/A"}}]
[null,{"$f":"INDEX(建筑!$B$2:$B$5001,MATCH(表格模板!A1459,建筑!$A$2:$A$5001,0),COLUMN(A1459))","v":{"$error":"#N/A"}},null,{"$f":"INDEX(设备类型!$B$2:$B$5001,MATCH(表格模板!C1459,设备类型!$A$2:$A$5001,0),COLUMN(A1459))","v":{"$error":"#N/A"}}]
[null,{"$f":"INDEX(建筑!$B$2:$B$5001,MATCH(表格模板!A1460,建筑!$A$2:$A$5001,0),COLUMN(A1460))","v":{"$error":"#N/A"}},null,{"$f":"INDEX(设备类型!$B$2:$B$5001,MATCH(表格模板!C1460,设备类型!$A$2:$A$5001,0),COLUMN(A1460))","v":{"$error":"#N/A"}}]
[null,{"$f":"INDEX(建筑!$B$2:$B$5001,MATCH(表格模板!A1461,建筑!$A$2:$A$5001,0),COLUMN(A1461))","v":{"$error":"#N/A"}},null,{"$f":"INDEX(设备类型!$B$2:$B$5001,MATCH(表格模板!C1461,设备类型!$A$2:$A$5001,0),COLUMN(A1461))","v":{"$error":"#N/A"}}]
[null,{"$f":"INDEX(建筑!$B$2:$B$5001,MATCH(表格模板!A1462,建筑!$A$2:$A$5001,0),COLUMN(A1462))","v":{"$error":"#N/A"}},null,{"$f":"INDEX(设备类型!$B$2:$B$5001,MATCH(表格模板!C1462,设备类型!$A$2:$A$5001,0),COLUMN(A1462))","v":{"$error":"#N/A"}}]
[null,{"$f":"INDEX(建筑!$B$2:$B$5001,MATCH(表格模板!A1463,建筑!$A$2:$A$5001,0),COLUMN(A1463))","v":{"$error":"#N/A"}},null,{"$f":"INDEX(设备类型!$B$2:$B$5001,MATCH(表格模板!C1463,设备类型!$A$2:$A$5001,0),COLUMN(A1463))","v":{"$error":"#N/A"}}]
[null,{"$f":"INDEX(建筑!$B$2:$B$5001,MATCH(表格模板!A1464,建筑!$A$2:$A$5001,0),COLUMN(A1464))","v":{"$error":"#N/A"}},null,{"$f":"INDEX(设备类型!$B$2:$B$5001,MATCH(表格模板!C1464,设备类型!$A$2:$A$5001,0),COLUMN(A1464))","v":{"$error":"#N/A"}}]
[null,{"$f":"INDEX(建筑!$B$2:$B$5001,MATCH(表格模板!A1465,建筑!$A$2:$A$5001,0),COLUMN(A1465))","v":{"$error":"#N/A"}},null,{"$f":"INDEX(设备类型!$B$2:$B$5001,MATCH(表格模板!C1465,设备类型!$A$2:$A$5001,0),COLUMN(A1465))","v":{"$error":"#N/A"}}]
[null,{"$f":"INDEX(建筑!$B$2:$B$5001,MATCH(表格模板!A1466,建筑!$A$2:$A$5001,0),COLUMN(A1466))","v":{"$error":"#N/A"}},null,{"$f":"INDEX(设备类型!$B$2:$B$5001,MATCH(表格模板!C1466,设备类型!$A$2:$A$5001,0),COLUMN(A1466))","v":{"$error":"#N/A"}}]
[null,{"$f":"INDEX(建筑!$B$2:$B$5001,MATCH(表格模板!A1467,建筑!$A$2:$A$5001,0),COLUMN(A1467))","v":{"$error":"#N/A"}},null,{"$f":"INDEX(设备类型!$B$2:$B$5001,MATCH(表格模板!C1467,设备类型!$A$2:$A$5001,0),COLUMN(A1467))","v":{"$error":"#N/A"}}]
[null,{"$f":"INDEX(建筑!$B$2:$B$5001,MATCH(表格模板!A1468,建筑!$A$2:$A$5001,0),COLUMN(A1468))","v":{"$error":"#N/A"}},null,{"$f":"INDEX(设备类型!$B$2:$B$5001,MATCH(表格模板!C1468,设备类型!$A$2:$A$5001,0),COLUMN(A1468))","v":{"$error":"#N/A"}}]
[null,{"$f":"INDEX(建筑!$B$2:$B$5001,MATCH(表格模板!A1469,建筑!$A$2:$A$5001,0),COLUMN(A1469))","v":{"$error":"#N/A"}},null,{"$f":"INDEX(设备类型!$B$2:$B$5001,MATCH(表格模板!C1469,设备类型!$A$2:$A$5001,0),COLUMN(A1469))","v":{"$error":"#N/A"}}]
[null,{"$f":"INDEX(建筑!$B$2:$B$5001,MATCH(表格模板!A1470,建筑!$A$2:$A$5001,0),COLUMN(A1470))","v":{"$error":"#N/A"}},null,{"$f":"INDEX(设备类型!$B$2:$B$5001,MATCH(表格模板!C1470,设备类型!$A$2:$A$5001,0),COLUMN(A1470))","v":{"$error":"#N/A"}}]
[null,{"$f":"INDEX(建筑!$B$2:$B$5001,MATCH(表格模板!A1471,建筑!$A$2:$A$5001,0),COLUMN(A1471))","v":{"$error":"#N/A"}},null,{"$f":"INDEX(设备类型!$B$2:$B$5001,MATCH(表格模板!C1471,设备类型!$A$2:$A$5001,0),COLUMN(A1471))","v":{"$error":"#N/A"}}]
[null,{"$f":"INDEX(建筑!$B$2:$B$5001,MATCH(表格模板!A1472,建筑!$A$2:$A$5001,0),COLUMN(A1472))","v":{"$error":"#N/A"}},null,{"$f":"INDEX(设备类型!$B$2:$B$5001,MATCH(表格模板!C1472,设备类型!$A$2:$A$5001,0),COLUMN(A1472))","v":{"$error":"#N/A"}}]
[null,{"$f":"INDEX(建筑!$B$2:$B$5001,MATCH(表格模板!A1473,建筑!$A$2:$A$5001,0),COLUMN(A1473))","v":{"$error":"#N/A"}},null,{"$f":"INDEX(设备类型!$B$2:$B$5001,MATCH(表格模板!C1473,设备类型!$A$2:$A$5001,0),COLUMN(A1473))","v":{"$error":"#N/A"}}]
[null,{"$f":"INDEX(建筑!$B$2:$B$5001,MATCH(表格模板!A1474,建筑!$A$2:$A$5001,0),COLUMN(A1474))","v":{"$error":"#N/A"}},null,{"$f":"INDEX(设备类型!$B$2:$B$5001,MATCH(表格模板!C1474,设备类型!$A$2:$A$5001,0),COLUMN(A1474))","v":{"$error":"#N/A"}}]
[null,{"$f":"INDEX(建筑!$B$2:$B$5001,MATCH(表格模板!A1475,建筑!$A$2:$A$5001,0),COLUMN(A1475))","v":{"$error":"#N/A"}},null,{"$f":"INDEX(设备类型!$B$2:$B$5001,MATCH(表格模板!C1475,设备类型!$A$2:$A$5001,0),COLUMN(A1475))","v":{"$error":"#N/A"}}]
[null,{"$f":"INDEX(建筑!$B$2:$B$5001,MATCH(表格模板!A1476,建筑!$A$2:$A$5001,0),COLUMN(A1476))","v":{"$error":"#N/A"}},null,{"$f":"INDEX(设备类型!$B$2:$B$5001,MATCH(表格模板!C1476,设备类型!$A$2:$A$5001,0),COLUMN(A1476))","v":{"$error":"#N/A"}}]
[null,{"$f":"INDEX(建筑!$B$2:$B$5001,MATCH(表格模板!A1477,建筑!$A$2:$A$5001,0),COLUMN(A1477))","v":{"$error":"#N/A"}},null,{"$f":"INDEX(设备类型!$B$2:$B$5001,MATCH(表格模板!C1477,设备类型!$A$2:$A$5001,0),COLUMN(A1477))","v":{"$error":"#N/A"}}]
[null,{"$f":"INDEX(建筑!$B$2:$B$5001,MATCH(表格模板!A1478,建筑!$A$2:$A$5001,0),COLUMN(A1478))","v":{"$error":"#N/A"}},null,{"$f":"INDEX(设备类型!$B$2:$B$5001,MATCH(表格模板!C1478,设备类型!$A$2:$A$5001,0),COLUMN(A1478))","v":{"$error":"#N/A"}}]
[null,{"$f":"INDEX(建筑!$B$2:$B$5001,MATCH(表格模板!A1479,建筑!$A$2:$A$5001,0),COLUMN(A1479))","v":{"$error":"#N/A"}},null,{"$f":"INDEX(设备类型!$B$2:$B$5001,MATCH(表格模板!C1479,设备类型!$A$2:$A$5001,0),COLUMN(A1479))","v":{"$error":"#N/A"}}]
[null,{"$f":"INDEX(建筑!$B$2:$B$5001,MATCH(表格模板!A1480,建筑!$A$2:$A$5001,0),COLUMN(A1480))","v":{"$error":"#N/A"}},null,{"$f":"INDEX(设备类型!$B$2:$B$5001,MATCH(表格模板!C1480,设备类型!$A$2:$A$5001,0),COLUMN(A1480))","v":{"$error":"#N/A"}}]
[null,{"$f":"INDEX(建筑!$B$2:$B$5001,MATCH(表格模板!A1481,建筑!$A$2:$A$5001,0),COLUMN(A1481))","v":{"$error":"#N/A"}},null,{"$f":"INDEX(设备类型!$B$2:$B$5001,MATCH(表格模板!C1481,设备类型!$A$2:$A$5001,0),COLUMN(A1481))","v":{"$error":"#N/A"}}]
[null,{"$f":"INDEX(建筑!$B$2:$B$5001,MATCH(表格模板!A1482,建筑!$A$2:$A$5001,0),COLUMN(A1482))","v":{"$error":"#N/A"}},null,{"$f":"INDEX(设备类型!$B$2:$B$5001,MATCH(表格模板!C1482,设备类型!$A$2:$A$5001,0),COLUMN(A1482))","v":{"$error":"#N/A"}}]
[null,{"$f":"INDEX(建筑!$B$2:$B$5001,MATCH(表格模板!A1483,建筑!$A$2:$A$5001,0),COLUMN(A1483))","v":{"$error":"#N/A"}},null,{"$f":"INDEX(设备类型!$B$2:$B$5001,MATCH(表格模板!C1483,设备类型!$A$2:$A$5001,0),COLUMN(A1483))","v":{"$error":"#N/A"}}]
[null,{"$f":"INDEX(建筑!$B$2:$B$5001,MATCH(表格模板!A1484,建筑!$A$2:$A$5001,0),COLUMN(A1484))","v":{"$error":"#N/A"}},null,{"$f":"INDEX(设备类型!$B$2:$B$5001,MATCH(表格模板!C1484,设备类型!$A$2:$A$5001,0),COLUMN(A1484))","v":{"$error":"#N/A"}}]
[null,{"$f":"INDEX(建筑!$B$2:$B$5001,MATCH(表格模板!A1485,建筑!$A$2:$A$5001,0),COLUMN(A1485))","v":{"$error":"#N/A"}},null,{"$f":"INDEX(设备类型!$B$2:$B$5001,MATCH(表格模板!C1485,设备类型!$A$2:$A$5001,0),COLUMN(A1485))","v":{"$error":"#N/A"}}]
[null,{"$f":"INDEX(建筑!$B$2:$B$5001,MATCH(表格模板!A1486,建筑!$A$2:$A$5001,0),COLUMN(A1486))","v":{"$error":"#N/A"}},null,{"$f":"INDEX(设备类型!$B$2:$B$5001,MATCH(表格模板!C1486,设备类型!$A$2:$A$5001,0),COLUMN(A1486))","v":{"$error":"#N/A"}}]
[null,{"$f":"INDEX(建筑!$B$2:$B$5001,MATCH(表格模板!A1487,建筑!$A$2:$A$5001,0),COLUMN(A1487))","v":{"$error":"#N/A"}},null,{"$f":"INDEX(设备类型!$B$2:$B$5001,MATCH(表格模板!C1487,设备类型!$A$2:$A$5001,0),COLUMN(A1487))","v":{"$error":"#N/A"}}]
[null,{"$f":"INDEX(建筑!$B$2:$B$5001,MATCH(表格模板!A1488,建筑!$A$2:$A$5001,0),COLUMN(A1488))","v":{"$error":"#N/A"}},null,{"$f":"INDEX(设备类型!$B$2:$B$5001,MATCH(表格模板!C1488,设备类型!$A$2:$A$5001,0),COLUMN(A1488))","v":{"$error":"#N/A"}}]
[null,{"$f":"INDEX(建筑!$B$2:$B$5001,MATCH(表格模板!A1489,建筑!$A$2:$A$5001,0),COLUMN(A1489))","v":{"$error":"#N/A"}},null,{"$f":"INDEX(设备类型!$B$2:$B$5001,MATCH(表格模板!C1489,设备类型!$A$2:$A$5001,0),COLUMN(A1489))","v":{"$error":"#N/A"}}]
[null,{"$f":"INDEX(建筑!$B$2:$B$5001,MATCH(表格模板!A1490,建筑!$A$2:$A$5001,0),COLUMN(A1490))","v":{"$error":"#N/A"}},null,{"$f":"INDEX(设备类型!$B$2:$B$5001,MATCH(表格模板!C1490,设备类型!$A$2:$A$5001,0),COLUMN(A1490))","v":{"$error":"#N/A"}}]
[null,{"$f":"INDEX(建筑!$B$2:$B$5001,MATCH(表格模板!A1491,建筑!$A$2:$A$5001,0),COLUMN(A1491))","v":{"$error":"#N/A"}},null,{"$f":"INDEX(设备类型!$B$2:$B$5001,MATCH(表格模板!C1491,设备类型!$A$2:$A$5001,0),COLUMN(A1491))","v":{"$error":"#N/A"}}]
[null,{"$f":"INDEX(建筑!$B$2:$B$5001,MATCH(表格模板!A1492,建筑!$A$2:$A$5001,0),COLUMN(A1492))","v":{"$error":"#N/A"}},null,{"$f":"INDEX(设备类型!$B$2:$B$5001,MATCH(表格模板!C1492,设备类型!$A$2:$A$5001,0),COLUMN(A1492))","v":{"$error":"#N/A"}}]
[null,{"$f":"INDEX(建筑!$B$2:$B$5001,MATCH(表格模板!A1493,建筑!$A$2:$A$5001,0),COLUMN(A1493))","v":{"$error":"#N/A"}},null,{"$f":"INDEX(设备类型!$B$2:$B$5001,MATCH(表格模板!C1493,设备类型!$A$2:$A$5001,0),COLUMN(A1493))","v":{"$error":"#N/A"}}]
[null,{"$f":"INDEX(建筑!$B$2:$B$5001,MATCH(表格模板!A1494,建筑!$A$2:$A$5001,0),COLUMN(A1494))","v":{"$error":"#N/A"}},null,{"$f":"INDEX(设备类型!$B$2:$B$5001,MATCH(表格模板!C1494,设备类型!$A$2:$A$5001,0),COLUMN(A1494))","v":{"$error":"#N/A"}}]
[null,{"$f":"INDEX(建筑!$B$2:$B$5001,MATCH(表格模板!A1495,建筑!$A$2:$A$5001,0),COLUMN(A1495))","v":{"$error":"#N/A"}},null,{"$f":"INDEX(设备类型!$B$2:$B$5001,MATCH(表格模板!C1495,设备类型!$A$2:$A$5001,0),COLUMN(A1495))","v":{"$error":"#N/A"}}]
[null,{"$f":"INDEX(建筑!$B$2:$B$5001,MATCH(表格模板!A1496,建筑!$A$2:$A$5001,0),COLUMN(A1496))","v":{"$error":"#N/A"}},null,{"$f":"INDEX(设备类型!$B$2:$B$5001,MATCH(表格模板!C1496,设备类型!$A$2:$A$5001,0),COLUMN(A1496))","v":{"$error":"#N/A"}}]
[null,{"$f":"INDEX(建筑!$B$2:$B$5001,MATCH(表格模板!A1497,建筑!$A$2:$A$5001,0),COLUMN(A1497))","v":{"$error":"#N/A"}},null,{"$f":"INDEX(设备类型!$B$2:$B$5001,MATCH(表格模板!C1497,设备类型!$A$2:$A$5001,0),COLUMN(A1497))","v":{"$error":"#N/A"}}]
[null,{"$f":"INDEX(建筑!$B$2:$B$5001,MATCH(表格模板!A1498,建筑!$A$2:$A$5001,0),COLUMN(A1498))","v":{"$error":"#N/A"}},null,{"$f":"INDEX(设备类型!$B$2:$B$5001,MATCH(表格模板!C1498,设备类型!$A$2:$A$5001,0),COLUMN(A1498))","v":{"$error":"#N/A"}}]
[null,{"$f":"INDEX(建筑!$B$2:$B$5001,MATCH(表格模板!A1499,建筑!$A$2:$A$5001,0),COLUMN(A1499))","v":{"$error":"#N/A"}},null,{"$f":"INDEX(设备类型!$B$2:$B$5001,MATCH(表格模板!C1499,设备类型!$A$2:$A$5001,0),COLUMN(A1499))","v":{"$error":"#N/A"}}]
[null,{"$f":"INDEX(建筑!$B$2:$B$5001,MATCH(表格模板!A1500,建筑!$A$2:$A$5001,0),COLUMN(A1500))","v":{"$error":"#N/A"}},null,{"$f":"INDEX(设备类型!$B$2:$B$5001,MATCH(表格模板!C1500,设备类型!$A$2:$A$5001,0),COLUMN(A1500))","v":{"$error":"#N/A"}}]
[null,{"$f":"INDEX(建筑!$B$2:$B$5001,MATCH(表格模板!A1501,建筑!$A$2:$A$5001,0),COLUMN(A1501))","v":{"$error":"#N/A"}},null,{"$f":"INDEX(设备类型!$B$2:$B$5001,MATCH(表格模板!C1501,设备类型!$A$2:$A$5001,0),COLUMN(A1501))","v":{"$error":"#N/A"}}]
[null,{"$f":"INDEX(建筑!$B$2:$B$5001,MATCH(表格模板!A1502,建筑!$A$2:$A$5001,0),COLUMN(A1502))","v":{"$error":"#N/A"}},null,{"$f":"INDEX(设备类型!$B$2:$B$5001,MATCH(表格模板!C1502,设备类型!$A$2:$A$5001,0),COLUMN(A1502))","v":{"$error":"#N/A"}}]
[null,{"$f":"INDEX(建筑!$B$2:$B$5001,MATCH(表格模板!A1503,建筑!$A$2:$A$5001,0),COLUMN(A1503))","v":{"$error":"#N/A"}},null,{"$f":"INDEX(设备类型!$B$2:$B$5001,MATCH(表格模板!C1503,设备类型!$A$2:$A$5001,0),COLUMN(A1503))","v":{"$error":"#N/A"}}]
[null,{"$f":"INDEX(建筑!$B$2:$B$5001,MATCH(表格模板!A1504,建筑!$A$2:$A$5001,0),COLUMN(A1504))","v":{"$error":"#N/A"}},null,{"$f":"INDEX(设备类型!$B$2:$B$5001,MATCH(表格模板!C1504,设备类型!$A$2:$A$5001,0),COLUMN(A1504))","v":{"$error":"#N/A"}}]
[null,{"$f":"INDEX(建筑!$B$2:$B$5001,MATCH(表格模板!A1505,建筑!$A$2:$A$5001,0),COLUMN(A1505))","v":{"$error":"#N/A"}},null,{"$f":"INDEX(设备类型!$B$2:$B$5001,MATCH(表格模板!C1505,设备类型!$A$2:$A$5001,0),COLUMN(A1505))","v":{"$error":"#N/A"}}]
[null,{"$f":"INDEX(建筑!$B$2:$B$5001,MATCH(表格模板!A1506,建筑!$A$2:$A$5001,0),COLUMN(A1506))","v":{"$error":"#N/A"}},null,{"$f":"INDEX(设备类型!$B$2:$B$5001,MATCH(表格模板!C1506,设备类型!$A$2:$A$5001,0),COLUMN(A1506))","v":{"$error":"#N/A"}}]
[null,{"$f":"INDEX(建筑!$B$2:$B$5001,MATCH(表格模板!A1507,建筑!$A$2:$A$5001,0),COLUMN(A1507))","v":{"$error":"#N/A"}},null,{"$f":"INDEX(设备类型!$B$2:$B$5001,MATCH(表格模板!C1507,设备类型!$A$2:$A$5001,0),COLUMN(A1507))","v":{"$error":"#N/A"}}]
[null,{"$f":"INDEX(建筑!$B$2:$B$5001,MATCH(表格模板!A1508,建筑!$A$2:$A$5001,0),COLUMN(A1508))","v":{"$error":"#N/A"}},null,{"$f":"INDEX(设备类型!$B$2:$B$5001,MATCH(表格模板!C1508,设备类型!$A$2:$A$5001,0),COLUMN(A1508))","v":{"$error":"#N/A"}}]
[null,{"$f":"INDEX(建筑!$B$2:$B$5001,MATCH(表格模板!A1509,建筑!$A$2:$A$5001,0),COLUMN(A1509))","v":{"$error":"#N/A"}},null,{"$f":"INDEX(设备类型!$B$2:$B$5001,MATCH(表格模板!C1509,设备类型!$A$2:$A$5001,0),COLUMN(A1509))","v":{"$error":"#N/A"}}]
[null,{"$f":"INDEX(建筑!$B$2:$B$5001,MATCH(表格模板!A1510,建筑!$A$2:$A$5001,0),COLUMN(A1510))","v":{"$error":"#N/A"}},null,{"$f":"INDEX(设备类型!$B$2:$B$5001,MATCH(表格模板!C1510,设备类型!$A$2:$A$5001,0),COLUMN(A1510))","v":{"$error":"#N/A"}}]
[null,{"$f":"INDEX(建筑!$B$2:$B$5001,MATCH(表格模板!A1511,建筑!$A$2:$A$5001,0),COLUMN(A1511))","v":{"$error":"#N/A"}},null,{"$f":"INDEX(设备类型!$B$2:$B$5001,MATCH(表格模板!C1511,设备类型!$A$2:$A$5001,0),COLUMN(A1511))","v":{"$error":"#N/A"}}]
[null,{"$f":"INDEX(建筑!$B$2:$B$5001,MATCH(表格模板!A1512,建筑!$A$2:$A$5001,0),COLUMN(A1512))","v":{"$error":"#N/A"}},null,{"$f":"INDEX(设备类型!$B$2:$B$5001,MATCH(表格模板!C1512,设备类型!$A$2:$A$5001,0),COLUMN(A1512))","v":{"$error":"#N/A"}}]
[null,{"$f":"INDEX(建筑!$B$2:$B$5001,MATCH(表格模板!A1513,建筑!$A$2:$A$5001,0),COLUMN(A1513))","v":{"$error":"#N/A"}},null,{"$f":"INDEX(设备类型!$B$2:$B$5001,MATCH(表格模板!C1513,设备类型!$A$2:$A$5001,0),COLUMN(A1513))","v":{"$error":"#N/A"}}]
[null,{"$f":"INDEX(建筑!$B$2:$B$5001,MATCH(表格模板!A1514,建筑!$A$2:$A$5001,0),COLUMN(A1514))","v":{"$error":"#N/A"}},null,{"$f":"INDEX(设备类型!$B$2:$B$5001,MATCH(表格模板!C1514,设备类型!$A$2:$A$5001,0),COLUMN(A1514))","v":{"$error":"#N/A"}}]
[null,{"$f":"INDEX(建筑!$B$2:$B$5001,MATCH(表格模板!A1515,建筑!$A$2:$A$5001,0),COLUMN(A1515))","v":{"$error":"#N/A"}},null,{"$f":"INDEX(设备类型!$B$2:$B$5001,MATCH(表格模板!C1515,设备类型!$A$2:$A$5001,0),COLUMN(A1515))","v":{"$error":"#N/A"}}]
[null,{"$f":"INDEX(建筑!$B$2:$B$5001,MATCH(表格模板!A1516,建筑!$A$2:$A$5001,0),COLUMN(A1516))","v":{"$error":"#N/A"}},null,{"$f":"INDEX(设备类型!$B$2:$B$5001,MATCH(表格模板!C1516,设备类型!$A$2:$A$5001,0),COLUMN(A1516))","v":{"$error":"#N/A"}}]
[null,{"$f":"INDEX(建筑!$B$2:$B$5001,MATCH(表格模板!A1517,建筑!$A$2:$A$5001,0),COLUMN(A1517))","v":{"$error":"#N/A"}},null,{"$f":"INDEX(设备类型!$B$2:$B$5001,MATCH(表格模板!C1517,设备类型!$A$2:$A$5001,0),COLUMN(A1517))","v":{"$error":"#N/A"}}]
[null,{"$f":"INDEX(建筑!$B$2:$B$5001,MATCH(表格模板!A1518,建筑!$A$2:$A$5001,0),COLUMN(A1518))","v":{"$error":"#N/A"}},null,{"$f":"INDEX(设备类型!$B$2:$B$5001,MATCH(表格模板!C1518,设备类型!$A$2:$A$5001,0),COLUMN(A1518))","v":{"$error":"#N/A"}}]
[null,{"$f":"INDEX(建筑!$B$2:$B$5001,MATCH(表格模板!A1519,建筑!$A$2:$A$5001,0),COLUMN(A1519))","v":{"$error":"#N/A"}},null,{"$f":"INDEX(设备类型!$B$2:$B$5001,MATCH(表格模板!C1519,设备类型!$A$2:$A$5001,0),COLUMN(A1519))","v":{"$error":"#N/A"}}]
[null,{"$f":"INDEX(建筑!$B$2:$B$5001,MATCH(表格模板!A1520,建筑!$A$2:$A$5001,0),COLUMN(A1520))","v":{"$error":"#N/A"}},null,{"$f":"INDEX(设备类型!$B$2:$B$5001,MATCH(表格模板!C1520,设备类型!$A$2:$A$5001,0),COLUMN(A1520))","v":{"$error":"#N/A"}}]
[null,{"$f":"INDEX(建筑!$B$2:$B$5001,MATCH(表格模板!A1521,建筑!$A$2:$A$5001,0),COLUMN(A1521))","v":{"$error":"#N/A"}},null,{"$f":"INDEX(设备类型!$B$2:$B$5001,MATCH(表格模板!C1521,设备类型!$A$2:$A$5001,0),COLUMN(A1521))","v":{"$error":"#N/A"}}]
[null,{"$f":"INDEX(建筑!$B$2:$B$5001,MATCH(表格模板!A1522,建筑!$A$2:$A$5001,0),COLUMN(A1522))","v":{"$error":"#N/A"}},null,{"$f":"INDEX(设备类型!$B$2:$B$5001,MATCH(表格模板!C1522,设备类型!$A$2:$A$5001,0),COLUMN(A1522))","v":{"$error":"#N/A"}}]
[null,{"$f":"INDEX(建筑!$B$2:$B$5001,MATCH(表格模板!A1523,建筑!$A$2:$A$5001,0),COLUMN(A1523))","v":{"$error":"#N/A"}},null,{"$f":"INDEX(设备类型!$B$2:$B$5001,MATCH(表格模板!C1523,设备类型!$A$2:$A$5001,0),COLUMN(A1523))","v":{"$error":"#N/A"}}]
[null,{"$f":"INDEX(建筑!$B$2:$B$5001,MATCH(表格模板!A1524,建筑!$A$2:$A$5001,0),COLUMN(A1524))","v":{"$error":"#N/A"}},null,{"$f":"INDEX(设备类型!$B$2:$B$5001,MATCH(表格模板!C1524,设备类型!$A$2:$A$5001,0),COLUMN(A1524))","v":{"$error":"#N/A"}}]
[null,{"$f":"INDEX(建筑!$B$2:$B$5001,MATCH(表格模板!A1525,建筑!$A$2:$A$5001,0),COLUMN(A1525))","v":{"$error":"#N/A"}},null,{"$f":"INDEX(设备类型!$B$2:$B$5001,MATCH(表格模板!C1525,设备类型!$A$2:$A$5001,0),COLUMN(A1525))","v":{"$error":"#N/A"}}]
[null,{"$f":"INDEX(建筑!$B$2:$B$5001,MATCH(表格模板!A1526,建筑!$A$2:$A$5001,0),COLUMN(A1526))","v":{"$error":"#N/A"}},null,{"$f":"INDEX(设备类型!$B$2:$B$5001,MATCH(表格模板!C1526,设备类型!$A$2:$A$5001,0),COLUMN(A1526))","v":{"$error":"#N/A"}}]
[null,{"$f":"INDEX(建筑!$B$2:$B$5001,MATCH(表格模板!A1527,建筑!$A$2:$A$5001,0),COLUMN(A1527))","v":{"$error":"#N/A"}},null,{"$f":"INDEX(设备类型!$B$2:$B$5001,MATCH(表格模板!C1527,设备类型!$A$2:$A$5001,0),COLUMN(A1527))","v":{"$error":"#N/A"}}]
[null,{"$f":"INDEX(建筑!$B$2:$B$5001,MATCH(表格模板!A1528,建筑!$A$2:$A$5001,0),COLUMN(A1528))","v":{"$error":"#N/A"}},null,{"$f":"INDEX(设备类型!$B$2:$B$5001,MATCH(表格模板!C1528,设备类型!$A$2:$A$5001,0),COLUMN(A1528))","v":{"$error":"#N/A"}}]
[null,{"$f":"INDEX(建筑!$B$2:$B$5001,MATCH(表格模板!A1529,建筑!$A$2:$A$5001,0),COLUMN(A1529))","v":{"$error":"#N/A"}},null,{"$f":"INDEX(设备类型!$B$2:$B$5001,MATCH(表格模板!C1529,设备类型!$A$2:$A$5001,0),COLUMN(A1529))","v":{"$error":"#N/A"}}]
[null,{"$f":"INDEX(建筑!$B$2:$B$5001,MATCH(表格模板!A1530,建筑!$A$2:$A$5001,0),COLUMN(A1530))","v":{"$error":"#N/A"}},null,{"$f":"INDEX(设备类型!$B$2:$B$5001,MATCH(表格模板!C1530,设备类型!$A$2:$A$5001,0),COLUMN(A1530))","v":{"$error":"#N/A"}}]
[null,{"$f":"INDEX(建筑!$B$2:$B$5001,MATCH(表格模板!A1531,建筑!$A$2:$A$5001,0),COLUMN(A1531))","v":{"$error":"#N/A"}},null,{"$f":"INDEX(设备类型!$B$2:$B$5001,MATCH(表格模板!C1531,设备类型!$A$2:$A$5001,0),COLUMN(A1531))","v":{"$error":"#N/A"}}]
[null,{"$f":"INDEX(建筑!$B$2:$B$5001,MATCH(表格模板!A1532,建筑!$A$2:$A$5001,0),COLUMN(A1532))","v":{"$error":"#N/A"}},null,{"$f":"INDEX(设备类型!$B$2:$B$5001,MATCH(表格模板!C1532,设备类型!$A$2:$A$5001,0),COLUMN(A1532))","v":{"$error":"#N/A"}}]
[null,{"$f":"INDEX(建筑!$B$2:$B$5001,MATCH(表格模板!A1533,建筑!$A$2:$A$5001,0),COLUMN(A1533))","v":{"$error":"#N/A"}},null,{"$f":"INDEX(设备类型!$B$2:$B$5001,MATCH(表格模板!C1533,设备类型!$A$2:$A$5001,0),COLUMN(A1533))","v":{"$error":"#N/A"}}]
[null,{"$f":"INDEX(建筑!$B$2:$B$5001,MATCH(表格模板!A1534,建筑!$A$2:$A$5001,0),COLUMN(A1534))","v":{"$error":"#N/A"}},null,{"$f":"INDEX(设备类型!$B$2:$B$5001,MATCH(表格模板!C1534,设备类型!$A$2:$A$5001,0),COLUMN(A1534))","v":{"$error":"#N/A"}}]
[null,{"$f":"INDEX(建筑!$B$2:$B$5001,MATCH(表格模板!A1535,建筑!$A$2:$A$5001,0),COLUMN(A1535))","v":{"$error":"#N/A"}},null,{"$f":"INDEX(设备类型!$B$2:$B$5001,MATCH(表格模板!C1535,设备类型!$A$2:$A$5001,0),COLUMN(A1535))","v":{"$error":"#N/A"}}]
[null,{"$f":"INDEX(建筑!$B$2:$B$5001,MATCH(表格模板!A1536,建筑!$A$2:$A$5001,0),COLUMN(A1536))","v":{"$error":"#N/A"}},null,{"$f":"INDEX(设备类型!$B$2:$B$5001,MATCH(表格模板!C1536,设备类型!$A$2:$A$5001,0),COLUMN(A1536))","v":{"$error":"#N/A"}}]
[null,{"$f":"INDEX(建筑!$B$2:$B$5001,MATCH(表格模板!A1537,建筑!$A$2:$A$5001,0),COLUMN(A1537))","v":{"$error":"#N/A"}},null,{"$f":"INDEX(设备类型!$B$2:$B$5001,MATCH(表格模板!C1537,设备类型!$A$2:$A$5001,0),COLUMN(A1537))","v":{"$error":"#N/A"}}]
[null,{"$f":"INDEX(建筑!$B$2:$B$5001,MATCH(表格模板!A1538,建筑!$A$2:$A$5001,0),COLUMN(A1538))","v":{"$error":"#N/A"}},null,{"$f":"INDEX(设备类型!$B$2:$B$5001,MATCH(表格模板!C1538,设备类型!$A$2:$A$5001,0),COLUMN(A1538))","v":{"$error":"#N/A"}}]
[null,{"$f":"INDEX(建筑!$B$2:$B$5001,MATCH(表格模板!A1539,建筑!$A$2:$A$5001,0),COLUMN(A1539))","v":{"$error":"#N/A"}},null,{"$f":"INDEX(设备类型!$B$2:$B$5001,MATCH(表格模板!C1539,设备类型!$A$2:$A$5001,0),COLUMN(A1539))","v":{"$error":"#N/A"}}]
[null,{"$f":"INDEX(建筑!$B$2:$B$5001,MATCH(表格模板!A1540,建筑!$A$2:$A$5001,0),COLUMN(A1540))","v":{"$error":"#N/A"}},null,{"$f":"INDEX(设备类型!$B$2:$B$5001,MATCH(表格模板!C1540,设备类型!$A$2:$A$5001,0),COLUMN(A1540))","v":{"$error":"#N/A"}}]
[null,{"$f":"INDEX(建筑!$B$2:$B$5001,MATCH(表格模板!A1541,建筑!$A$2:$A$5001,0),COLUMN(A1541))","v":{"$error":"#N/A"}},null,{"$f":"INDEX(设备类型!$B$2:$B$5001,MATCH(表格模板!C1541,设备类型!$A$2:$A$5001,0),COLUMN(A1541))","v":{"$error":"#N/A"}}]
[null,{"$f":"INDEX(建筑!$B$2:$B$5001,MATCH(表格模板!A1542,建筑!$A$2:$A$5001,0),COLUMN(A1542))","v":{"$error":"#N/A"}},null,{"$f":"INDEX(设备类型!$B$2:$B$5001,MATCH(表格模板!C1542,设备类型!$A$2:$A$5001,0),COLUMN(A1542))","v":{"$error":"#N/A"}}]
[null,{"$f":"INDEX(建筑!$B$2:$B$5001,MATCH(表格模板!A1543,建筑!$A$2:$A$5001,0),COLUMN(A1543))","v":{"$error":"#N/A"}},null,{"$f":"INDEX(设备类型!$B$2:$B$5001,MATCH(表格模板!C1543,设备类型!$A$2:$A$5001,0),COLUMN(A1543))","v":{"$error":"#N/A"}}]
[null,{"$f":"INDEX(建筑!$B$2:$B$5001,MATCH(表格模板!A1544,建筑!$A$2:$A$5001,0),COLUMN(A1544))","v":{"$error":"#N/A"}},null,{"$f":"INDEX(设备类型!$B$2:$B$5001,MATCH(表格模板!C1544,设备类型!$A$2:$A$5001,0),COLUMN(A1544))","v":{"$error":"#N/A"}}]
[null,{"$f":"INDEX(建筑!$B$2:$B$5001,MATCH(表格模板!A1545,建筑!$A$2:$A$5001,0),COLUMN(A1545))","v":{"$error":"#N/A"}},null,{"$f":"INDEX(设备类型!$B$2:$B$5001,MATCH(表格模板!C1545,设备类型!$A$2:$A$5001,0),COLUMN(A1545))","v":{"$error":"#N/A"}}]
[null,{"$f":"INDEX(建筑!$B$2:$B$5001,MATCH(表格模板!A1546,建筑!$A$2:$A$5001,0),COLUMN(A1546))","v":{"$error":"#N/A"}},null,{"$f":"INDEX(设备类型!$B$2:$B$5001,MATCH(表格模板!C1546,设备类型!$A$2:$A$5001,0),COLUMN(A1546))","v":{"$error":"#N/A"}}]
[null,{"$f":"INDEX(建筑!$B$2:$B$5001,MATCH(表格模板!A1547,建筑!$A$2:$A$5001,0),COLUMN(A1547))","v":{"$error":"#N/A"}},null,{"$f":"INDEX(设备类型!$B$2:$B$5001,MATCH(表格模板!C1547,设备类型!$A$2:$A$5001,0),COLUMN(A1547))","v":{"$error":"#N/A"}}]
[null,{"$f":"INDEX(建筑!$B$2:$B$5001,MATCH(表格模板!A1548,建筑!$A$2:$A$5001,0),COLUMN(A1548))","v":{"$error":"#N/A"}},null,{"$f":"INDEX(设备类型!$B$2:$B$5001,MATCH(表格模板!C1548,设备类型!$A$2:$A$5001,0),COLUMN(A1548))","v":{"$error":"#N/A"}}]
[null,{"$f":"INDEX(建筑!$B$2:$B$5001,MATCH(表格模板!A1549,建筑!$A$2:$A$5001,0),COLUMN(A1549))","v":{"$error":"#N/A"}},null,{"$f":"INDEX(设备类型!$B$2:$B$5001,MATCH(表格模板!C1549,设备类型!$A$2:$A$5001,0),COLUMN(A1549))","v":{"$error":"#N/A"}}]
[null,{"$f":"INDEX(建筑!$B$2:$B$5001,MATCH(表格模板!A1550,建筑!$A$2:$A$5001,0),COLUMN(A1550))","v":{"$error":"#N/A"}},null,{"$f":"INDEX(设备类型!$B$2:$B$5001,MATCH(表格模板!C1550,设备类型!$A$2:$A$5001,0),COLUMN(A1550))","v":{"$error":"#N/A"}}]
[null,{"$f":"INDEX(建筑!$B$2:$B$5001,MATCH(表格模板!A1551,建筑!$A$2:$A$5001,0),COLUMN(A1551))","v":{"$error":"#N/A"}},null,{"$f":"INDEX(设备类型!$B$2:$B$5001,MATCH(表格模板!C1551,设备类型!$A$2:$A$5001,0),COLUMN(A1551))","v":{"$error":"#N/A"}}]
[null,{"$f":"INDEX(建筑!$B$2:$B$5001,MATCH(表格模板!A1552,建筑!$A$2:$A$5001,0),COLUMN(A1552))","v":{"$error":"#N/A"}},null,{"$f":"INDEX(设备类型!$B$2:$B$5001,MATCH(表格模板!C1552,设备类型!$A$2:$A$5001,0),COLUMN(A1552))","v":{"$error":"#N/A"}}]
[null,{"$f":"INDEX(建筑!$B$2:$B$5001,MATCH(表格模板!A1553,建筑!$A$2:$A$5001,0),COLUMN(A1553))","v":{"$error":"#N/A"}},null,{"$f":"INDEX(设备类型!$B$2:$B$5001,MATCH(表格模板!C1553,设备类型!$A$2:$A$5001,0),COLUMN(A1553))","v":{"$error":"#N/A"}}]
[null,{"$f":"INDEX(建筑!$B$2:$B$5001,MATCH(表格模板!A1554,建筑!$A$2:$A$5001,0),COLUMN(A1554))","v":{"$error":"#N/A"}},null,{"$f":"INDEX(设备类型!$B$2:$B$5001,MATCH(表格模板!C1554,设备类型!$A$2:$A$5001,0),COLUMN(A1554))","v":{"$error":"#N/A"}}]
[null,{"$f":"INDEX(建筑!$B$2:$B$5001,MATCH(表格模板!A1555,建筑!$A$2:$A$5001,0),COLUMN(A1555))","v":{"$error":"#N/A"}},null,{"$f":"INDEX(设备类型!$B$2:$B$5001,MATCH(表格模板!C1555,设备类型!$A$2:$A$5001,0),COLUMN(A1555))","v":{"$error":"#N/A"}}]
[null,{"$f":"INDEX(建筑!$B$2:$B$5001,MATCH(表格模板!A1556,建筑!$A$2:$A$5001,0),COLUMN(A1556))","v":{"$error":"#N/A"}},null,{"$f":"INDEX(设备类型!$B$2:$B$5001,MATCH(表格模板!C1556,设备类型!$A$2:$A$5001,0),COLUMN(A1556))","v":{"$error":"#N/A"}}]
[null,{"$f":"INDEX(建筑!$B$2:$B$5001,MATCH(表格模板!A1557,建筑!$A$2:$A$5001,0),COLUMN(A1557))","v":{"$error":"#N/A"}},null,{"$f":"INDEX(设备类型!$B$2:$B$5001,MATCH(表格模板!C1557,设备类型!$A$2:$A$5001,0),COLUMN(A1557))","v":{"$error":"#N/A"}}]
[null,{"$f":"INDEX(建筑!$B$2:$B$5001,MATCH(表格模板!A1558,建筑!$A$2:$A$5001,0),COLUMN(A1558))","v":{"$error":"#N/A"}},null,{"$f":"INDEX(设备类型!$B$2:$B$5001,MATCH(表格模板!C1558,设备类型!$A$2:$A$5001,0),COLUMN(A1558))","v":{"$error":"#N/A"}}]
[null,{"$f":"INDEX(建筑!$B$2:$B$5001,MATCH(表格模板!A1559,建筑!$A$2:$A$5001,0),COLUMN(A1559))","v":{"$error":"#N/A"}},null,{"$f":"INDEX(设备类型!$B$2:$B$5001,MATCH(表格模板!C1559,设备类型!$A$2:$A$5001,0),COLUMN(A1559))","v":{"$error":"#N/A"}}]
[null,{"$f":"INDEX(建筑!$B$2:$B$5001,MATCH(表格模板!A1560,建筑!$A$2:$A$5001,0),COLUMN(A1560))","v":{"$error":"#N/A"}},null,{"$f":"INDEX(设备类型!$B$2:$B$5001,MATCH(表格模板!C1560,设备类型!$A$2:$A$5001,0),COLUMN(A1560))","v":{"$error":"#N/A"}}]
[null,{"$f":"INDEX(建筑!$B$2:$B$5001,MATCH(表格模板!A1561,建筑!$A$2:$A$5001,0),COLUMN(A1561))","v":{"$error":"#N/A"}},null,{"$f":"INDEX(设备类型!$B$2:$B$5001,MATCH(表格模板!C1561,设备类型!$A$2:$A$5001,0),COLUMN(A1561))","v":{"$error":"#N/A"}}]
[null,{"$f":"INDEX(建筑!$B$2:$B$5001,MATCH(表格模板!A1562,建筑!$A$2:$A$5001,0),COLUMN(A1562))","v":{"$error":"#N/A"}},null,{"$f":"INDEX(设备类型!$B$2:$B$5001,MATCH(表格模板!C1562,设备类型!$A$2:$A$5001,0),COLUMN(A1562))","v":{"$error":"#N/A"}}]
[null,{"$f":"INDEX(建筑!$B$2:$B$5001,MATCH(表格模板!A1563,建筑!$A$2:$A$5001,0),COLUMN(A1563))","v":{"$error":"#N/A"}},null,{"$f":"INDEX(设备类型!$B$2:$B$5001,MATCH(表格模板!C1563,设备类型!$A$2:$A$5001,0),COLUMN(A1563))","v":{"$error":"#N/A"}}]
[null,{"$f":"INDEX(建筑!$B$2:$B$5001,MATCH(表格模板!A1564,建筑!$A$2:$A$5001,0),COLUMN(A1564))","v":{"$error":"#N/A"}},null,{"$f":"INDEX(设备类型!$B$2:$B$5001,MATCH(表格模板!C1564,设备类型!$A$2:$A$5001,0),COLUMN(A1564))","v":{"$error":"#N/A"}}]
[null,{"$f":"INDEX(建筑!$B$2:$B$5001,MATCH(表格模板!A1565,建筑!$A$2:$A$5001,0),COLUMN(A1565))","v":{"$error":"#N/A"}},null,{"$f":"INDEX(设备类型!$B$2:$B$5001,MATCH(表格模板!C1565,设备类型!$A$2:$A$5001,0),COLUMN(A1565))","v":{"$error":"#N/A"}}]
[null,{"$f":"INDEX(建筑!$B$2:$B$5001,MATCH(表格模板!A1566,建筑!$A$2:$A$5001,0),COLUMN(A1566))","v":{"$error":"#N/A"}},null,{"$f":"INDEX(设备类型!$B$2:$B$5001,MATCH(表格模板!C1566,设备类型!$A$2:$A$5001,0),COLUMN(A1566))","v":{"$error":"#N/A"}}]
[null,{"$f":"INDEX(建筑!$B$2:$B$5001,MATCH(表格模板!A1567,建筑!$A$2:$A$5001,0),COLUMN(A1567))","v":{"$error":"#N/A"}},null,{"$f":"INDEX(设备类型!$B$2:$B$5001,MATCH(表格模板!C1567,设备类型!$A$2:$A$5001,0),COLUMN(A1567))","v":{"$error":"#N/A"}}]
[null,{"$f":"INDEX(建筑!$B$2:$B$5001,MATCH(表格模板!A1568,建筑!$A$2:$A$5001,0),COLUMN(A1568))","v":{"$error":"#N/A"}},null,{"$f":"INDEX(设备类型!$B$2:$B$5001,MATCH(表格模板!C1568,设备类型!$A$2:$A$5001,0),COLUMN(A1568))","v":{"$error":"#N/A"}}]
[null,{"$f":"INDEX(建筑!$B$2:$B$5001,MATCH(表格模板!A1569,建筑!$A$2:$A$5001,0),COLUMN(A1569))","v":{"$error":"#N/A"}},null,{"$f":"INDEX(设备类型!$B$2:$B$5001,MATCH(表格模板!C1569,设备类型!$A$2:$A$5001,0),COLUMN(A1569))","v":{"$error":"#N/A"}}]
[null,{"$f":"INDEX(建筑!$B$2:$B$5001,MATCH(表格模板!A1570,建筑!$A$2:$A$5001,0),COLUMN(A1570))","v":{"$error":"#N/A"}},null,{"$f":"INDEX(设备类型!$B$2:$B$5001,MATCH(表格模板!C1570,设备类型!$A$2:$A$5001,0),COLUMN(A1570))","v":{"$error":"#N/A"}}]
[null,{"$f":"INDEX(建筑!$B$2:$B$5001,MATCH(表格模板!A1571,建筑!$A$2:$A$5001,0),COLUMN(A1571))","v":{"$error":"#N/A"}},null,{"$f":"INDEX(设备类型!$B$2:$B$5001,MATCH(表格模板!C1571,设备类型!$A$2:$A$5001,0),COLUMN(A1571))","v":{"$error":"#N/A"}}]
[null,{"$f":"INDEX(建筑!$B$2:$B$5001,MATCH(表格模板!A1572,建筑!$A$2:$A$5001,0),COLUMN(A1572))","v":{"$error":"#N/A"}},null,{"$f":"INDEX(设备类型!$B$2:$B$5001,MATCH(表格模板!C1572,设备类型!$A$2:$A$5001,0),COLUMN(A1572))","v":{"$error":"#N/A"}}]
[null,{"$f":"INDEX(建筑!$B$2:$B$5001,MATCH(表格模板!A1573,建筑!$A$2:$A$5001,0),COLUMN(A1573))","v":{"$error":"#N/A"}},null,{"$f":"INDEX(设备类型!$B$2:$B$5001,MATCH(表格模板!C1573,设备类型!$A$2:$A$5001,0),COLUMN(A1573))","v":{"$error":"#N/A"}}]
[null,{"$f":"INDEX(建筑!$B$2:$B$5001,MATCH(表格模板!A1574,建筑!$A$2:$A$5001,0),COLUMN(A1574))","v":{"$error":"#N/A"}},null,{"$f":"INDEX(设备类型!$B$2:$B$5001,MATCH(表格模板!C1574,设备类型!$A$2:$A$5001,0),COLUMN(A1574))","v":{"$error":"#N/A"}}]
[null,{"$f":"INDEX(建筑!$B$2:$B$5001,MATCH(表格模板!A1575,建筑!$A$2:$A$5001,0),COLUMN(A1575))","v":{"$error":"#N/A"}},null,{"$f":"INDEX(设备类型!$B$2:$B$5001,MATCH(表格模板!C1575,设备类型!$A$2:$A$5001,0),COLUMN(A1575))","v":{"$error":"#N/A"}}]
[null,{"$f":"INDEX(建筑!$B$2:$B$5001,MATCH(表格模板!A1576,建筑!$A$2:$A$5001,0),COLUMN(A1576))","v":{"$error":"#N/A"}},null,{"$f":"INDEX(设备类型!$B$2:$B$5001,MATCH(表格模板!C1576,设备类型!$A$2:$A$5001,0),COLUMN(A1576))","v":{"$error":"#N/A"}}]
[null,{"$f":"INDEX(建筑!$B$2:$B$5001,MATCH(表格模板!A1577,建筑!$A$2:$A$5001,0),COLUMN(A1577))","v":{"$error":"#N/A"}},null,{"$f":"INDEX(设备类型!$B$2:$B$5001,MATCH(表格模板!C1577,设备类型!$A$2:$A$5001,0),COLUMN(A1577))","v":{"$error":"#N/A"}}]
[null,{"$f":"INDEX(建筑!$B$2:$B$5001,MATCH(表格模板!A1578,建筑!$A$2:$A$5001,0),COLUMN(A1578))","v":{"$error":"#N/A"}},null,{"$f":"INDEX(设备类型!$B$2:$B$5001,MATCH(表格模板!C1578,设备类型!$A$2:$A$5001,0),COLUMN(A1578))","v":{"$error":"#N/A"}}]
[null,{"$f":"INDEX(建筑!$B$2:$B$5001,MATCH(表格模板!A1579,建筑!$A$2:$A$5001,0),COLUMN(A1579))","v":{"$error":"#N/A"}},null,{"$f":"INDEX(设备类型!$B$2:$B$5001,MATCH(表格模板!C1579,设备类型!$A$2:$A$5001,0),COLUMN(A1579))","v":{"$error":"#N/A"}}]
[null,{"$f":"INDEX(建筑!$B$2:$B$5001,MATCH(表格模板!A1580,建筑!$A$2:$A$5001,0),COLUMN(A1580))","v":{"$error":"#N/A"}},null,{"$f":"INDEX(设备类型!$B$2:$B$5001,MATCH(表格模板!C1580,设备类型!$A$2:$A$5001,0),COLUMN(A1580))","v":{"$error":"#N/A"}}]
[null,{"$f":"INDEX(建筑!$B$2:$B$5001,MATCH(表格模板!A1581,建筑!$A$2:$A$5001,0),COLUMN(A1581))","v":{"$error":"#N/A"}},null,{"$f":"INDEX(设备类型!$B$2:$B$5001,MATCH(表格模板!C1581,设备类型!$A$2:$A$5001,0),COLUMN(A1581))","v":{"$error":"#N/A"}}]
[null,{"$f":"INDEX(建筑!$B$2:$B$5001,MATCH(表格模板!A1582,建筑!$A$2:$A$5001,0),COLUMN(A1582))","v":{"$error":"#N/A"}},null,{"$f":"INDEX(设备类型!$B$2:$B$5001,MATCH(表格模板!C1582,设备类型!$A$2:$A$5001,0),COLUMN(A1582))","v":{"$error":"#N/A"}}]
[null,{"$f":"INDEX(建筑!$B$2:$B$5001,MATCH(表格模板!A1583,建筑!$A$2:$A$5001,0),COLUMN(A1583))","v":{"$error":"#N/A"}},null,{"$f":"INDEX(设备类型!$B$2:$B$5001,MATCH(表格模板!C1583,设备类型!$A$2:$A$5001,0),COLUMN(A1583))","v":{"$error":"#N/A"}}]
[null,{"$f":"INDEX(建筑!$B$2:$B$5001,MATCH(表格模板!A1584,建筑!$A$2:$A$5001,0),COLUMN(A1584))","v":{"$error":"#N/A"}},null,{"$f":"INDEX(设备类型!$B$2:$B$5001,MATCH(表格模板!C1584,设备类型!$A$2:$A$5001,0),COLUMN(A1584))","v":{"$error":"#N/A"}}]
[null,{"$f":"INDEX(建筑!$B$2:$B$5001,MATCH(表格模板!A1585,建筑!$A$2:$A$5001,0),COLUMN(A1585))","v":{"$error":"#N/A"}},null,{"$f":"INDEX(设备类型!$B$2:$B$5001,MATCH(表格模板!C1585,设备类型!$A$2:$A$5001,0),COLUMN(A1585))","v":{"$error":"#N/A"}}]
[null,{"$f":"INDEX(建筑!$B$2:$B$5001,MATCH(表格模板!A1586,建筑!$A$2:$A$5001,0),COLUMN(A1586))","v":{"$error":"#N/A"}},null,{"$f":"INDEX(设备类型!$B$2:$B$5001,MATCH(表格模板!C1586,设备类型!$A$2:$A$5001,0),COLUMN(A1586))","v":{"$error":"#N/A"}}]
[null,{"$f":"INDEX(建筑!$B$2:$B$5001,MATCH(表格模板!A1587,建筑!$A$2:$A$5001,0),COLUMN(A1587))","v":{"$error":"#N/A"}},null,{"$f":"INDEX(设备类型!$B$2:$B$5001,MATCH(表格模板!C1587,设备类型!$A$2:$A$5001,0),COLUMN(A1587))","v":{"$error":"#N/A"}}]
[null,{"$f":"INDEX(建筑!$B$2:$B$5001,MATCH(表格模板!A1588,建筑!$A$2:$A$5001,0),COLUMN(A1588))","v":{"$error":"#N/A"}},null,{"$f":"INDEX(设备类型!$B$2:$B$5001,MATCH(表格模板!C1588,设备类型!$A$2:$A$5001,0),COLUMN(A1588))","v":{"$error":"#N/A"}}]
[null,{"$f":"INDEX(建筑!$B$2:$B$5001,MATCH(表格模板!A1589,建筑!$A$2:$A$5001,0),COLUMN(A1589))","v":{"$error":"#N/A"}},null,{"$f":"INDEX(设备类型!$B$2:$B$5001,MATCH(表格模板!C1589,设备类型!$A$2:$A$5001,0),COLUMN(A1589))","v":{"$error":"#N/A"}}]
[null,{"$f":"INDEX(建筑!$B$2:$B$5001,MATCH(表格模板!A1590,建筑!$A$2:$A$5001,0),COLUMN(A1590))","v":{"$error":"#N/A"}},null,{"$f":"INDEX(设备类型!$B$2:$B$5001,MATCH(表格模板!C1590,设备类型!$A$2:$A$5001,0),COLUMN(A1590))","v":{"$error":"#N/A"}}]
[null,{"$f":"INDEX(建筑!$B$2:$B$5001,MATCH(表格模板!A1591,建筑!$A$2:$A$5001,0),COLUMN(A1591))","v":{"$error":"#N/A"}},null,{"$f":"INDEX(设备类型!$B$2:$B$5001,MATCH(表格模板!C1591,设备类型!$A$2:$A$5001,0),COLUMN(A1591))","v":{"$error":"#N/A"}}]
[null,{"$f":"INDEX(建筑!$B$2:$B$5001,MATCH(表格模板!A1592,建筑!$A$2:$A$5001,0),COLUMN(A1592))","v":{"$error":"#N/A"}},null,{"$f":"INDEX(设备类型!$B$2:$B$5001,MATCH(表格模板!C1592,设备类型!$A$2:$A$5001,0),COLUMN(A1592))","v":{"$error":"#N/A"}}]
[null,{"$f":"INDEX(建筑!$B$2:$B$5001,MATCH(表格模板!A1593,建筑!$A$2:$A$5001,0),COLUMN(A1593))","v":{"$error":"#N/A"}},null,{"$f":"INDEX(设备类型!$B$2:$B$5001,MATCH(表格模板!C1593,设备类型!$A$2:$A$5001,0),COLUMN(A1593))","v":{"$error":"#N/A"}}]
[null,{"$f":"INDEX(建筑!$B$2:$B$5001,MATCH(表格模板!A1594,建筑!$A$2:$A$5001,0),COLUMN(A1594))","v":{"$error":"#N/A"}},null,{"$f":"INDEX(设备类型!$B$2:$B$5001,MATCH(表格模板!C1594,设备类型!$A$2:$A$5001,0),COLUMN(A1594))","v":{"$error":"#N/A"}}]
[null,{"$f":"INDEX(建筑!$B$2:$B$5001,MATCH(表格模板!A1595,建筑!$A$2:$A$5001,0),COLUMN(A1595))","v":{"$error":"#N/A"}},null,{"$f":"INDEX(设备类型!$B$2:$B$5001,MATCH(表格模板!C1595,设备类型!$A$2:$A$5001,0),COLUMN(A1595))","v":{"$error":"#N/A"}}]
[null,{"$f":"INDEX(建筑!$B$2:$B$5001,MATCH(表格模板!A1596,建筑!$A$2:$A$5001,0),COLUMN(A1596))","v":{"$error":"#N/A"}},null,{"$f":"INDEX(设备类型!$B$2:$B$5001,MATCH(表格模板!C1596,设备类型!$A$2:$A$5001,0),COLUMN(A1596))","v":{"$error":"#N/A"}}]
[null,{"$f":"INDEX(建筑!$B$2:$B$5001,MATCH(表格模板!A1597,建筑!$A$2:$A$5001,0),COLUMN(A1597))","v":{"$error":"#N/A"}},null,{"$f":"INDEX(设备类型!$B$2:$B$5001,MATCH(表格模板!C1597,设备类型!$A$2:$A$5001,0),COLUMN(A1597))","v":{"$error":"#N/A"}}]
[null,{"$f":"INDEX(建筑!$B$2:$B$5001,MATCH(表格模板!A1598,建筑!$A$2:$A$5001,0),COLUMN(A1598))","v":{"$error":"#N/A"}},null,{"$f":"INDEX(设备类型!$B$2:$B$5001,MATCH(表格模板!C1598,设备类型!$A$2:$A$5001,0),COLUMN(A1598))","v":{"$error":"#N/A"}}]
[null,{"$f":"INDEX(建筑!$B$2:$B$5001,MATCH(表格模板!A1599,建筑!$A$2:$A$5001,0),COLUMN(A1599))","v":{"$error":"#N/A"}},null,{"$f":"INDEX(设备类型!$B$2:$B$5001,MATCH(表格模板!C1599,设备类型!$A$2:$A$5001,0),COLUMN(A1599))","v":{"$error":"#N/A"}}]
[null,{"$f":"INDEX(建筑!$B$2:$B$5001,MATCH(表格模板!A1600,建筑!$A$2:$A$5001,0),COLUMN(A1600))","v":{"$error":"#N/A"}},null,{"$f":"INDEX(设备类型!$B$2:$B$5001,MATCH(表格模板!C1600,设备类型!$A$2:$A$5001,0),COLUMN(A1600))","v":{"$error":"#N/A"}}]
[null,{"$f":"INDEX(建筑!$B$2:$B$5001,MATCH(表格模板!A1601,建筑!$A$2:$A$5001,0),COLUMN(A1601))","v":{"$error":"#N/A"}},null,{"$f":"INDEX(设备类型!$B$2:$B$5001,MATCH(表格模板!C1601,设备类型!$A$2:$A$5001,0),COLUMN(A1601))","v":{"$error":"#N/A"}}]
[null,{"$f":"INDEX(建筑!$B$2:$B$5001,MATCH(表格模板!A1602,建筑!$A$2:$A$5001,0),COLUMN(A1602))","v":{"$error":"#N/A"}},null,{"$f":"INDEX(设备类型!$B$2:$B$5001,MATCH(表格模板!C1602,设备类型!$A$2:$A$5001,0),COLUMN(A1602))","v":{"$error":"#N/A"}}]
[null,{"$f":"INDEX(建筑!$B$2:$B$5001,MATCH(表格模板!A1603,建筑!$A$2:$A$5001,0),COLUMN(A1603))","v":{"$error":"#N/A"}},null,{"$f":"INDEX(设备类型!$B$2:$B$5001,MATCH(表格模板!C1603,设备类型!$A$2:$A$5001,0),COLUMN(A1603))","v":{"$error":"#N/A"}}]
[null,{"$f":"INDEX(建筑!$B$2:$B$5001,MATCH(表格模板!A1604,建筑!$A$2:$A$5001,0),COLUMN(A1604))","v":{"$error":"#N/A"}},null,{"$f":"INDEX(设备类型!$B$2:$B$5001,MATCH(表格模板!C1604,设备类型!$A$2:$A$5001,0),COLUMN(A1604))","v":{"$error":"#N/A"}}]
[null,{"$f":"INDEX(建筑!$B$2:$B$5001,MATCH(表格模板!A1605,建筑!$A$2:$A$5001,0),COLUMN(A1605))","v":{"$error":"#N/A"}},null,{"$f":"INDEX(设备类型!$B$2:$B$5001,MATCH(表格模板!C1605,设备类型!$A$2:$A$5001,0),COLUMN(A1605))","v":{"$error":"#N/A"}}]
[null,{"$f":"INDEX(建筑!$B$2:$B$5001,MATCH(表格模板!A1606,建筑!$A$2:$A$5001,0),COLUMN(A1606))","v":{"$error":"#N/A"}},null,{"$f":"INDEX(设备类型!$B$2:$B$5001,MATCH(表格模板!C1606,设备类型!$A$2:$A$5001,0),COLUMN(A1606))","v":{"$error":"#N/A"}}]
[null,{"$f":"INDEX(建筑!$B$2:$B$5001,MATCH(表格模板!A1607,建筑!$A$2:$A$5001,0),COLUMN(A1607))","v":{"$error":"#N/A"}},null,{"$f":"INDEX(设备类型!$B$2:$B$5001,MATCH(表格模板!C1607,设备类型!$A$2:$A$5001,0),COLUMN(A1607))","v":{"$error":"#N/A"}}]
[null,{"$f":"INDEX(建筑!$B$2:$B$5001,MATCH(表格模板!A1608,建筑!$A$2:$A$5001,0),COLUMN(A1608))","v":{"$error":"#N/A"}},null,{"$f":"INDEX(设备类型!$B$2:$B$5001,MATCH(表格模板!C1608,设备类型!$A$2:$A$5001,0),COLUMN(A1608))","v":{"$error":"#N/A"}}]
[null,{"$f":"INDEX(建筑!$B$2:$B$5001,MATCH(表格模板!A1609,建筑!$A$2:$A$5001,0),COLUMN(A1609))","v":{"$error":"#N/A"}},null,{"$f":"INDEX(设备类型!$B$2:$B$5001,MATCH(表格模板!C1609,设备类型!$A$2:$A$5001,0),COLUMN(A1609))","v":{"$error":"#N/A"}}]
[null,{"$f":"INDEX(建筑!$B$2:$B$5001,MATCH(表格模板!A1610,建筑!$A$2:$A$5001,0),COLUMN(A1610))","v":{"$error":"#N/A"}},null,{"$f":"INDEX(设备类型!$B$2:$B$5001,MATCH(表格模板!C1610,设备类型!$A$2:$A$5001,0),COLUMN(A1610))","v":{"$error":"#N/A"}}]
[null,{"$f":"INDEX(建筑!$B$2:$B$5001,MATCH(表格模板!A1611,建筑!$A$2:$A$5001,0),COLUMN(A1611))","v":{"$error":"#N/A"}},null,{"$f":"INDEX(设备类型!$B$2:$B$5001,MATCH(表格模板!C1611,设备类型!$A$2:$A$5001,0),COLUMN(A1611))","v":{"$error":"#N/A"}}]
[null,{"$f":"INDEX(建筑!$B$2:$B$5001,MATCH(表格模板!A1612,建筑!$A$2:$A$5001,0),COLUMN(A1612))","v":{"$error":"#N/A"}},null,{"$f":"INDEX(设备类型!$B$2:$B$5001,MATCH(表格模板!C1612,设备类型!$A$2:$A$5001,0),COLUMN(A1612))","v":{"$error":"#N/A"}}]
[null,{"$f":"INDEX(建筑!$B$2:$B$5001,MATCH(表格模板!A1613,建筑!$A$2:$A$5001,0),COLUMN(A1613))","v":{"$error":"#N/A"}},null,{"$f":"INDEX(设备类型!$B$2:$B$5001,MATCH(表格模板!C1613,设备类型!$A$2:$A$5001,0),COLUMN(A1613))","v":{"$error":"#N/A"}}]
[null,{"$f":"INDEX(建筑!$B$2:$B$5001,MATCH(表格模板!A1614,建筑!$A$2:$A$5001,0),COLUMN(A1614))","v":{"$error":"#N/A"}},null,{"$f":"INDEX(设备类型!$B$2:$B$5001,MATCH(表格模板!C1614,设备类型!$A$2:$A$5001,0),COLUMN(A1614))","v":{"$error":"#N/A"}}]
[null,{"$f":"INDEX(建筑!$B$2:$B$5001,MATCH(表格模板!A1615,建筑!$A$2:$A$5001,0),COLUMN(A1615))","v":{"$error":"#N/A"}},null,{"$f":"INDEX(设备类型!$B$2:$B$5001,MATCH(表格模板!C1615,设备类型!$A$2:$A$5001,0),COLUMN(A1615))","v":{"$error":"#N/A"}}]
[null,{"$f":"INDEX(建筑!$B$2:$B$5001,MATCH(表格模板!A1616,建筑!$A$2:$A$5001,0),COLUMN(A1616))","v":{"$error":"#N/A"}},null,{"$f":"INDEX(设备类型!$B$2:$B$5001,MATCH(表格模板!C1616,设备类型!$A$2:$A$5001,0),COLUMN(A1616))","v":{"$error":"#N/A"}}]
[null,{"$f":"INDEX(建筑!$B$2:$B$5001,MATCH(表格模板!A1617,建筑!$A$2:$A$5001,0),COLUMN(A1617))","v":{"$error":"#N/A"}},null,{"$f":"INDEX(设备类型!$B$2:$B$5001,MATCH(表格模板!C1617,设备类型!$A$2:$A$5001,0),COLUMN(A1617))","v":{"$error":"#N/A"}}]
[null,{"$f":"INDEX(建筑!$B$2:$B$5001,MATCH(表格模板!A1618,建筑!$A$2:$A$5001,0),COLUMN(A1618))","v":{"$error":"#N/A"}},null,{"$f":"INDEX(设备类型!$B$2:$B$5001,MATCH(表格模板!C1618,设备类型!$A$2:$A$5001,0),COLUMN(A1618))","v":{"$error":"#N/A"}}]
[null,{"$f":"INDEX(建筑!$B$2:$B$5001,MATCH(表格模板!A1619,建筑!$A$2:$A$5001,0),COLUMN(A1619))","v":{"$error":"#N/A"}},null,{"$f":"INDEX(设备类型!$B$2:$B$5001,MATCH(表格模板!C1619,设备类型!$A$2:$A$5001,0),COLUMN(A1619))","v":{"$error":"#N/A"}}]
[null,{"$f":"INDEX(建筑!$B$2:$B$5001,MATCH(表格模板!A1620,建筑!$A$2:$A$5001,0),COLUMN(A1620))","v":{"$error":"#N/A"}},null,{"$f":"INDEX(设备类型!$B$2:$B$5001,MATCH(表格模板!C1620,设备类型!$A$2:$A$5001,0),COLUMN(A1620))","v":{"$error":"#N/A"}}]
[null,{"$f":"INDEX(建筑!$B$2:$B$5001,MATCH(表格模板!A1621,建筑!$A$2:$A$5001,0),COLUMN(A1621))","v":{"$error":"#N/A"}},null,{"$f":"INDEX(设备类型!$B$2:$B$5001,MATCH(表格模板!C1621,设备类型!$A$2:$A$5001,0),COLUMN(A1621))","v":{"$error":"#N/A"}}]
[null,{"$f":"INDEX(建筑!$B$2:$B$5001,MATCH(表格模板!A1622,建筑!$A$2:$A$5001,0),COLUMN(A1622))","v":{"$error":"#N/A"}},null,{"$f":"INDEX(设备类型!$B$2:$B$5001,MATCH(表格模板!C1622,设备类型!$A$2:$A$5001,0),COLUMN(A1622))","v":{"$error":"#N/A"}}]
[null,{"$f":"INDEX(建筑!$B$2:$B$5001,MATCH(表格模板!A1623,建筑!$A$2:$A$5001,0),COLUMN(A1623))","v":{"$error":"#N/A"}},null,{"$f":"INDEX(设备类型!$B$2:$B$5001,MATCH(表格模板!C1623,设备类型!$A$2:$A$5001,0),COLUMN(A1623))","v":{"$error":"#N/A"}}]
[null,{"$f":"INDEX(建筑!$B$2:$B$5001,MATCH(表格模板!A1624,建筑!$A$2:$A$5001,0),COLUMN(A1624))","v":{"$error":"#N/A"}},null,{"$f":"INDEX(设备类型!$B$2:$B$5001,MATCH(表格模板!C1624,设备类型!$A$2:$A$5001,0),COLUMN(A1624))","v":{"$error":"#N/A"}}]
[null,{"$f":"INDEX(建筑!$B$2:$B$5001,MATCH(表格模板!A1625,建筑!$A$2:$A$5001,0),COLUMN(A1625))","v":{"$error":"#N/A"}},null,{"$f":"INDEX(设备类型!$B$2:$B$5001,MATCH(表格模板!C1625,设备类型!$A$2:$A$5001,0),COLUMN(A1625))","v":{"$error":"#N/A"}}]
[null,{"$f":"INDEX(建筑!$B$2:$B$5001,MATCH(表格模板!A1626,建筑!$A$2:$A$5001,0),COLUMN(A1626))","v":{"$error":"#N/A"}},null,{"$f":"INDEX(设备类型!$B$2:$B$5001,MATCH(表格模板!C1626,设备类型!$A$2:$A$5001,0),COLUMN(A1626))","v":{"$error":"#N/A"}}]
[null,{"$f":"INDEX(建筑!$B$2:$B$5001,MATCH(表格模板!A1627,建筑!$A$2:$A$5001,0),COLUMN(A1627))","v":{"$error":"#N/A"}},null,{"$f":"INDEX(设备类型!$B$2:$B$5001,MATCH(表格模板!C1627,设备类型!$A$2:$A$5001,0),COLUMN(A1627))","v":{"$error":"#N/A"}}]
[null,{"$f":"INDEX(建筑!$B$2:$B$5001,MATCH(表格模板!A1628,建筑!$A$2:$A$5001,0),COLUMN(A1628))","v":{"$error":"#N/A"}},null,{"$f":"INDEX(设备类型!$B$2:$B$5001,MATCH(表格模板!C1628,设备类型!$A$2:$A$5001,0),COLUMN(A1628))","v":{"$error":"#N/A"}}]
[null,{"$f":"INDEX(建筑!$B$2:$B$5001,MATCH(表格模板!A1629,建筑!$A$2:$A$5001,0),COLUMN(A1629))","v":{"$error":"#N/A"}},null,{"$f":"INDEX(设备类型!$B$2:$B$5001,MATCH(表格模板!C1629,设备类型!$A$2:$A$5001,0),COLUMN(A1629))","v":{"$error":"#N/A"}}]
[null,{"$f":"INDEX(建筑!$B$2:$B$5001,MATCH(表格模板!A1630,建筑!$A$2:$A$5001,0),COLUMN(A1630))","v":{"$error":"#N/A"}},null,{"$f":"INDEX(设备类型!$B$2:$B$5001,MATCH(表格模板!C1630,设备类型!$A$2:$A$5001,0),COLUMN(A1630))","v":{"$error":"#N/A"}}]
[null,{"$f":"INDEX(建筑!$B$2:$B$5001,MATCH(表格模板!A1631,建筑!$A$2:$A$5001,0),COLUMN(A1631))","v":{"$error":"#N/A"}},null,{"$f":"INDEX(设备类型!$B$2:$B$5001,MATCH(表格模板!C1631,设备类型!$A$2:$A$5001,0),COLUMN(A1631))","v":{"$error":"#N/A"}}]
[null,{"$f":"INDEX(建筑!$B$2:$B$5001,MATCH(表格模板!A1632,建筑!$A$2:$A$5001,0),COLUMN(A1632))","v":{"$error":"#N/A"}},null,{"$f":"INDEX(设备类型!$B$2:$B$5001,MATCH(表格模板!C1632,设备类型!$A$2:$A$5001,0),COLUMN(A1632))","v":{"$error":"#N/A"}}]
[null,{"$f":"INDEX(建筑!$B$2:$B$5001,MATCH(表格模板!A1633,建筑!$A$2:$A$5001,0),COLUMN(A1633))","v":{"$error":"#N/A"}},null,{"$f":"INDEX(设备类型!$B$2:$B$5001,MATCH(表格模板!C1633,设备类型!$A$2:$A$5001,0),COLUMN(A1633))","v":{"$error":"#N/A"}}]
[null,{"$f":"INDEX(建筑!$B$2:$B$5001,MATCH(表格模板!A1634,建筑!$A$2:$A$5001,0),COLUMN(A1634))","v":{"$error":"#N/A"}},null,{"$f":"INDEX(设备类型!$B$2:$B$5001,MATCH(表格模板!C1634,设备类型!$A$2:$A$5001,0),COLUMN(A1634))","v":{"$error":"#N/A"}}]
[null,{"$f":"INDEX(建筑!$B$2:$B$5001,MATCH(表格模板!A1635,建筑!$A$2:$A$5001,0),COLUMN(A1635))","v":{"$error":"#N/A"}},null,{"$f":"INDEX(设备类型!$B$2:$B$5001,MATCH(表格模板!C1635,设备类型!$A$2:$A$5001,0),COLUMN(A1635))","v":{"$error":"#N/A"}}]
[null,{"$f":"INDEX(建筑!$B$2:$B$5001,MATCH(表格模板!A1636,建筑!$A$2:$A$5001,0),COLUMN(A1636))","v":{"$error":"#N/A"}},null,{"$f":"INDEX(设备类型!$B$2:$B$5001,MATCH(表格模板!C1636,设备类型!$A$2:$A$5001,0),COLUMN(A1636))","v":{"$error":"#N/A"}}]
[null,{"$f":"INDEX(建筑!$B$2:$B$5001,MATCH(表格模板!A1637,建筑!$A$2:$A$5001,0),COLUMN(A1637))","v":{"$error":"#N/A"}},null,{"$f":"INDEX(设备类型!$B$2:$B$5001,MATCH(表格模板!C1637,设备类型!$A$2:$A$5001,0),COLUMN(A1637))","v":{"$error":"#N/A"}}]
[null,{"$f":"INDEX(建筑!$B$2:$B$5001,MATCH(表格模板!A1638,建筑!$A$2:$A$5001,0),COLUMN(A1638))","v":{"$error":"#N/A"}},null,{"$f":"INDEX(设备类型!$B$2:$B$5001,MATCH(表格模板!C1638,设备类型!$A$2:$A$5001,0),COLUMN(A1638))","v":{"$error":"#N/A"}}]
[null,{"$f":"INDEX(建筑!$B$2:$B$5001,MATCH(表格模板!A1639,建筑!$A$2:$A$5001,0),COLUMN(A1639))","v":{"$error":"#N/A"}},null,{"$f":"INDEX(设备类型!$B$2:$B$5001,MATCH(表格模板!C1639,设备类型!$A$2:$A$5001,0),COLUMN(A1639))","v":{"$error":"#N/A"}}]
[null,{"$f":"INDEX(建筑!$B$2:$B$5001,MATCH(表格模板!A1640,建筑!$A$2:$A$5001,0),COLUMN(A1640))","v":{"$error":"#N/A"}},null,{"$f":"INDEX(设备类型!$B$2:$B$5001,MATCH(表格模板!C1640,设备类型!$A$2:$A$5001,0),COLUMN(A1640))","v":{"$error":"#N/A"}}]
[null,{"$f":"INDEX(建筑!$B$2:$B$5001,MATCH(表格模板!A1641,建筑!$A$2:$A$5001,0),COLUMN(A1641))","v":{"$error":"#N/A"}},null,{"$f":"INDEX(设备类型!$B$2:$B$5001,MATCH(表格模板!C1641,设备类型!$A$2:$A$5001,0),COLUMN(A1641))","v":{"$error":"#N/A"}}]
[null,{"$f":"INDEX(建筑!$B$2:$B$5001,MATCH(表格模板!A1642,建筑!$A$2:$A$5001,0),COLUMN(A1642))","v":{"$error":"#N/A"}},null,{"$f":"INDEX(设备类型!$B$2:$B$5001,MATCH(表格模板!C1642,设备类型!$A$2:$A$5001,0),COLUMN(A1642))","v":{"$error":"#N/A"}}]
[null,{"$f":"INDEX(建筑!$B$2:$B$5001,MATCH(表格模板!A1643,建筑!$A$2:$A$5001,0),COLUMN(A1643))","v":{"$error":"#N/A"}},null,{"$f":"INDEX(设备类型!$B$2:$B$5001,MATCH(表格模板!C1643,设备类型!$A$2:$A$5001,0),COLUMN(A1643))","v":{"$error":"#N/A"}}]
[null,{"$f":"INDEX(建筑!$B$2:$B$5001,MATCH(表格模板!A1644,建筑!$A$2:$A$5001,0),COLUMN(A1644))","v":{"$error":"#N/A"}},null,{"$f":"INDEX(设备类型!$B$2:$B$5001,MATCH(表格模板!C1644,设备类型!$A$2:$A$5001,0),COLUMN(A1644))","v":{"$error":"#N/A"}}]
[null,{"$f":"INDEX(建筑!$B$2:$B$5001,MATCH(表格模板!A1645,建筑!$A$2:$A$5001,0),COLUMN(A1645))","v":{"$error":"#N/A"}},null,{"$f":"INDEX(设备类型!$B$2:$B$5001,MATCH(表格模板!C1645,设备类型!$A$2:$A$5001,0),COLUMN(A1645))","v":{"$error":"#N/A"}}]
[null,{"$f":"INDEX(建筑!$B$2:$B$5001,MATCH(表格模板!A1646,建筑!$A$2:$A$5001,0),COLUMN(A1646))","v":{"$error":"#N/A"}},null,{"$f":"INDEX(设备类型!$B$2:$B$5001,MATCH(表格模板!C1646,设备类型!$A$2:$A$5001,0),COLUMN(A1646))","v":{"$error":"#N/A"}}]
[null,{"$f":"INDEX(建筑!$B$2:$B$5001,MATCH(表格模板!A1647,建筑!$A$2:$A$5001,0),COLUMN(A1647))","v":{"$error":"#N/A"}},null,{"$f":"INDEX(设备类型!$B$2:$B$5001,MATCH(表格模板!C1647,设备类型!$A$2:$A$5001,0),COLUMN(A1647))","v":{"$error":"#N/A"}}]
[null,{"$f":"INDEX(建筑!$B$2:$B$5001,MATCH(表格模板!A1648,建筑!$A$2:$A$5001,0),COLUMN(A1648))","v":{"$error":"#N/A"}},null,{"$f":"INDEX(设备类型!$B$2:$B$5001,MATCH(表格模板!C1648,设备类型!$A$2:$A$5001,0),COLUMN(A1648))","v":{"$error":"#N/A"}}]
[null,{"$f":"INDEX(建筑!$B$2:$B$5001,MATCH(表格模板!A1649,建筑!$A$2:$A$5001,0),COLUMN(A1649))","v":{"$error":"#N/A"}},null,{"$f":"INDEX(设备类型!$B$2:$B$5001,MATCH(表格模板!C1649,设备类型!$A$2:$A$5001,0),COLUMN(A1649))","v":{"$error":"#N/A"}}]
[null,{"$f":"INDEX(建筑!$B$2:$B$5001,MATCH(表格模板!A1650,建筑!$A$2:$A$5001,0),COLUMN(A1650))","v":{"$error":"#N/A"}},null,{"$f":"INDEX(设备类型!$B$2:$B$5001,MATCH(表格模板!C1650,设备类型!$A$2:$A$5001,0),COLUMN(A1650))","v":{"$error":"#N/A"}}]
[null,{"$f":"INDEX(建筑!$B$2:$B$5001,MATCH(表格模板!A1651,建筑!$A$2:$A$5001,0),COLUMN(A1651))","v":{"$error":"#N/A"}},null,{"$f":"INDEX(设备类型!$B$2:$B$5001,MATCH(表格模板!C1651,设备类型!$A$2:$A$5001,0),COLUMN(A1651))","v":{"$error":"#N/A"}}]
[null,{"$f":"INDEX(建筑!$B$2:$B$5001,MATCH(表格模板!A1652,建筑!$A$2:$A$5001,0),COLUMN(A1652))","v":{"$error":"#N/A"}},null,{"$f":"INDEX(设备类型!$B$2:$B$5001,MATCH(表格模板!C1652,设备类型!$A$2:$A$5001,0),COLUMN(A1652))","v":{"$error":"#N/A"}}]
[null,{"$f":"INDEX(建筑!$B$2:$B$5001,MATCH(表格模板!A1653,建筑!$A$2:$A$5001,0),COLUMN(A1653))","v":{"$error":"#N/A"}},null,{"$f":"INDEX(设备类型!$B$2:$B$5001,MATCH(表格模板!C1653,设备类型!$A$2:$A$5001,0),COLUMN(A1653))","v":{"$error":"#N/A"}}]
[null,{"$f":"INDEX(建筑!$B$2:$B$5001,MATCH(表格模板!A1654,建筑!$A$2:$A$5001,0),COLUMN(A1654))","v":{"$error":"#N/A"}},null,{"$f":"INDEX(设备类型!$B$2:$B$5001,MATCH(表格模板!C1654,设备类型!$A$2:$A$5001,0),COLUMN(A1654))","v":{"$error":"#N/A"}}]
[null,{"$f":"INDEX(建筑!$B$2:$B$5001,MATCH(表格模板!A1655,建筑!$A$2:$A$5001,0),COLUMN(A1655))","v":{"$error":"#N/A"}},null,{"$f":"INDEX(设备类型!$B$2:$B$5001,MATCH(表格模板!C1655,设备类型!$A$2:$A$5001,0),COLUMN(A1655))","v":{"$error":"#N/A"}}]
[null,{"$f":"INDEX(建筑!$B$2:$B$5001,MATCH(表格模板!A1656,建筑!$A$2:$A$5001,0),COLUMN(A1656))","v":{"$error":"#N/A"}},null,{"$f":"INDEX(设备类型!$B$2:$B$5001,MATCH(表格模板!C1656,设备类型!$A$2:$A$5001,0),COLUMN(A1656))","v":{"$error":"#N/A"}}]
[null,{"$f":"INDEX(建筑!$B$2:$B$5001,MATCH(表格模板!A1657,建筑!$A$2:$A$5001,0),COLUMN(A1657))","v":{"$error":"#N/A"}},null,{"$f":"INDEX(设备类型!$B$2:$B$5001,MATCH(表格模板!C1657,设备类型!$A$2:$A$5001,0),COLUMN(A1657))","v":{"$error":"#N/A"}}]
[null,{"$f":"INDEX(建筑!$B$2:$B$5001,MATCH(表格模板!A1658,建筑!$A$2:$A$5001,0),COLUMN(A1658))","v":{"$error":"#N/A"}},null,{"$f":"INDEX(设备类型!$B$2:$B$5001,MATCH(表格模板!C1658,设备类型!$A$2:$A$5001,0),COLUMN(A1658))","v":{"$error":"#N/A"}}]
[null,{"$f":"INDEX(建筑!$B$2:$B$5001,MATCH(表格模板!A1659,建筑!$A$2:$A$5001,0),COLUMN(A1659))","v":{"$error":"#N/A"}},null,{"$f":"INDEX(设备类型!$B$2:$B$5001,MATCH(表格模板!C1659,设备类型!$A$2:$A$5001,0),COLUMN(A1659))","v":{"$error":"#N/A"}}]
[null,{"$f":"INDEX(建筑!$B$2:$B$5001,MATCH(表格模板!A1660,建筑!$A$2:$A$5001,0),COLUMN(A1660))","v":{"$error":"#N/A"}},null,{"$f":"INDEX(设备类型!$B$2:$B$5001,MATCH(表格模板!C1660,设备类型!$A$2:$A$5001,0),COLUMN(A1660))","v":{"$error":"#N/A"}}]
[null,{"$f":"INDEX(建筑!$B$2:$B$5001,MATCH(表格模板!A1661,建筑!$A$2:$A$5001,0),COLUMN(A1661))","v":{"$error":"#N/A"}},null,{"$f":"INDEX(设备类型!$B$2:$B$5001,MATCH(表格模板!C1661,设备类型!$A$2:$A$5001,0),COLUMN(A1661))","v":{"$error":"#N/A"}}]
[null,{"$f":"INDEX(建筑!$B$2:$B$5001,MATCH(表格模板!A1662,建筑!$A$2:$A$5001,0),COLUMN(A1662))","v":{"$error":"#N/A"}},null,{"$f":"INDEX(设备类型!$B$2:$B$5001,MATCH(表格模板!C1662,设备类型!$A$2:$A$5001,0),COLUMN(A1662))","v":{"$error":"#N/A"}}]
[null,{"$f":"INDEX(建筑!$B$2:$B$5001,MATCH(表格模板!A1663,建筑!$A$2:$A$5001,0),COLUMN(A1663))","v":{"$error":"#N/A"}},null,{"$f":"INDEX(设备类型!$B$2:$B$5001,MATCH(表格模板!C1663,设备类型!$A$2:$A$5001,0),COLUMN(A1663))","v":{"$error":"#N/A"}}]
[null,{"$f":"INDEX(建筑!$B$2:$B$5001,MATCH(表格模板!A1664,建筑!$A$2:$A$5001,0),COLUMN(A1664))","v":{"$error":"#N/A"}},null,{"$f":"INDEX(设备类型!$B$2:$B$5001,MATCH(表格模板!C1664,设备类型!$A$2:$A$5001,0),COLUMN(A1664))","v":{"$error":"#N/A"}}]
[null,{"$f":"INDEX(建筑!$B$2:$B$5001,MATCH(表格模板!A1665,建筑!$A$2:$A$5001,0),COLUMN(A1665))","v":{"$error":"#N/A"}},null,{"$f":"INDEX(设备类型!$B$2:$B$5001,MATCH(表格模板!C1665,设备类型!$A$2:$A$5001,0),COLUMN(A1665))","v":{"$error":"#N/A"}}]
[null,{"$f":"INDEX(建筑!$B$2:$B$5001,MATCH(表格模板!A1666,建筑!$A$2:$A$5001,0),COLUMN(A1666))","v":{"$error":"#N/A"}},null,{"$f":"INDEX(设备类型!$B$2:$B$5001,MATCH(表格模板!C1666,设备类型!$A$2:$A$5001,0),COLUMN(A1666))","v":{"$error":"#N/A"}}]
[null,{"$f":"INDEX(建筑!$B$2:$B$5001,MATCH(表格模板!A1667,建筑!$A$2:$A$5001,0),COLUMN(A1667))","v":{"$error":"#N/A"}},null,{"$f":"INDEX(设备类型!$B$2:$B$5001,MATCH(表格模板!C1667,设备类型!$A$2:$A$5001,0),COLUMN(A1667))","v":{"$error":"#N/A"}}]
[null,{"$f":"INDEX(建筑!$B$2:$B$5001,MATCH(表格模板!A1668,建筑!$A$2:$A$5001,0),COLUMN(A1668))","v":{"$error":"#N/A"}},null,{"$f":"INDEX(设备类型!$B$2:$B$5001,MATCH(表格模板!C1668,设备类型!$A$2:$A$5001,0),COLUMN(A1668))","v":{"$error":"#N/A"}}]
[null,{"$f":"INDEX(建筑!$B$2:$B$5001,MATCH(表格模板!A1669,建筑!$A$2:$A$5001,0),COLUMN(A1669))","v":{"$error":"#N/A"}},null,{"$f":"INDEX(设备类型!$B$2:$B$5001,MATCH(表格模板!C1669,设备类型!$A$2:$A$5001,0),COLUMN(A1669))","v":{"$error":"#N/A"}}]
[null,{"$f":"INDEX(建筑!$B$2:$B$5001,MATCH(表格模板!A1670,建筑!$A$2:$A$5001,0),COLUMN(A1670))","v":{"$error":"#N/A"}},null,{"$f":"INDEX(设备类型!$B$2:$B$5001,MATCH(表格模板!C1670,设备类型!$A$2:$A$5001,0),COLUMN(A1670))","v":{"$error":"#N/A"}}]
[null,{"$f":"INDEX(建筑!$B$2:$B$5001,MATCH(表格模板!A1671,建筑!$A$2:$A$5001,0),COLUMN(A1671))","v":{"$error":"#N/A"}},null,{"$f":"INDEX(设备类型!$B$2:$B$5001,MATCH(表格模板!C1671,设备类型!$A$2:$A$5001,0),COLUMN(A1671))","v":{"$error":"#N/A"}}]
[null,{"$f":"INDEX(建筑!$B$2:$B$5001,MATCH(表格模板!A1672,建筑!$A$2:$A$5001,0),COLUMN(A1672))","v":{"$error":"#N/A"}},null,{"$f":"INDEX(设备类型!$B$2:$B$5001,MATCH(表格模板!C1672,设备类型!$A$2:$A$5001,0),COLUMN(A1672))","v":{"$error":"#N/A"}}]
[null,{"$f":"INDEX(建筑!$B$2:$B$5001,MATCH(表格模板!A1673,建筑!$A$2:$A$5001,0),COLUMN(A1673))","v":{"$error":"#N/A"}},null,{"$f":"INDEX(设备类型!$B$2:$B$5001,MATCH(表格模板!C1673,设备类型!$A$2:$A$5001,0),COLUMN(A1673))","v":{"$error":"#N/A"}}]
[null,{"$f":"INDEX(建筑!$B$2:$B$5001,MATCH(表格模板!A1674,建筑!$A$2:$A$5001,0),COLUMN(A1674))","v":{"$error":"#N/A"}},null,{"$f":"INDEX(设备类型!$B$2:$B$5001,MATCH(表格模板!C1674,设备类型!$A$2:$A$5001,0),COLUMN(A1674))","v":{"$error":"#N/A"}}]
[null,{"$f":"INDEX(建筑!$B$2:$B$5001,MATCH(表格模板!A1675,建筑!$A$2:$A$5001,0),COLUMN(A1675))","v":{"$error":"#N/A"}},null,{"$f":"INDEX(设备类型!$B$2:$B$5001,MATCH(表格模板!C1675,设备类型!$A$2:$A$5001,0),COLUMN(A1675))","v":{"$error":"#N/A"}}]
[null,{"$f":"INDEX(建筑!$B$2:$B$5001,MATCH(表格模板!A1676,建筑!$A$2:$A$5001,0),COLUMN(A1676))","v":{"$error":"#N/A"}},null,{"$f":"INDEX(设备类型!$B$2:$B$5001,MATCH(表格模板!C1676,设备类型!$A$2:$A$5001,0),COLUMN(A1676))","v":{"$error":"#N/A"}}]
[null,{"$f":"INDEX(建筑!$B$2:$B$5001,MATCH(表格模板!A1677,建筑!$A$2:$A$5001,0),COLUMN(A1677))","v":{"$error":"#N/A"}},null,{"$f":"INDEX(设备类型!$B$2:$B$5001,MATCH(表格模板!C1677,设备类型!$A$2:$A$5001,0),COLUMN(A1677))","v":{"$error":"#N/A"}}]
[null,{"$f":"INDEX(建筑!$B$2:$B$5001,MATCH(表格模板!A1678,建筑!$A$2:$A$5001,0),COLUMN(A1678))","v":{"$error":"#N/A"}},null,{"$f":"INDEX(设备类型!$B$2:$B$5001,MATCH(表格模板!C1678,设备类型!$A$2:$A$5001,0),COLUMN(A1678))","v":{"$error":"#N/A"}}]
[null,{"$f":"INDEX(建筑!$B$2:$B$5001,MATCH(表格模板!A1679,建筑!$A$2:$A$5001,0),COLUMN(A1679))","v":{"$error":"#N/A"}},null,{"$f":"INDEX(设备类型!$B$2:$B$5001,MATCH(表格模板!C1679,设备类型!$A$2:$A$5001,0),COLUMN(A1679))","v":{"$error":"#N/A"}}]
[null,{"$f":"INDEX(建筑!$B$2:$B$5001,MATCH(表格模板!A1680,建筑!$A$2:$A$5001,0),COLUMN(A1680))","v":{"$error":"#N/A"}},null,{"$f":"INDEX(设备类型!$B$2:$B$5001,MATCH(表格模板!C1680,设备类型!$A$2:$A$5001,0),COLUMN(A1680))","v":{"$error":"#N/A"}}]
[null,{"$f":"INDEX(建筑!$B$2:$B$5001,MATCH(表格模板!A1681,建筑!$A$2:$A$5001,0),COLUMN(A1681))","v":{"$error":"#N/A"}},null,{"$f":"INDEX(设备类型!$B$2:$B$5001,MATCH(表格模板!C1681,设备类型!$A$2:$A$5001,0),COLUMN(A1681))","v":{"$error":"#N/A"}}]
[null,{"$f":"INDEX(建筑!$B$2:$B$5001,MATCH(表格模板!A1682,建筑!$A$2:$A$5001,0),COLUMN(A1682))","v":{"$error":"#N/A"}},null,{"$f":"INDEX(设备类型!$B$2:$B$5001,MATCH(表格模板!C1682,设备类型!$A$2:$A$5001,0),COLUMN(A1682))","v":{"$error":"#N/A"}}]
[null,{"$f":"INDEX(建筑!$B$2:$B$5001,MATCH(表格模板!A1683,建筑!$A$2:$A$5001,0),COLUMN(A1683))","v":{"$error":"#N/A"}},null,{"$f":"INDEX(设备类型!$B$2:$B$5001,MATCH(表格模板!C1683,设备类型!$A$2:$A$5001,0),COLUMN(A1683))","v":{"$error":"#N/A"}}]
[null,{"$f":"INDEX(建筑!$B$2:$B$5001,MATCH(表格模板!A1684,建筑!$A$2:$A$5001,0),COLUMN(A1684))","v":{"$error":"#N/A"}},null,{"$f":"INDEX(设备类型!$B$2:$B$5001,MATCH(表格模板!C1684,设备类型!$A$2:$A$5001,0),COLUMN(A1684))","v":{"$error":"#N/A"}}]
[null,{"$f":"INDEX(建筑!$B$2:$B$5001,MATCH(表格模板!A1685,建筑!$A$2:$A$5001,0),COLUMN(A1685))","v":{"$error":"#N/A"}},null,{"$f":"INDEX(设备类型!$B$2:$B$5001,MATCH(表格模板!C1685,设备类型!$A$2:$A$5001,0),COLUMN(A1685))","v":{"$error":"#N/A"}}]
[null,{"$f":"INDEX(建筑!$B$2:$B$5001,MATCH(表格模板!A1686,建筑!$A$2:$A$5001,0),COLUMN(A1686))","v":{"$error":"#N/A"}},null,{"$f":"INDEX(设备类型!$B$2:$B$5001,MATCH(表格模板!C1686,设备类型!$A$2:$A$5001,0),COLUMN(A1686))","v":{"$error":"#N/A"}}]
[null,{"$f":"INDEX(建筑!$B$2:$B$5001,MATCH(表格模板!A1687,建筑!$A$2:$A$5001,0),COLUMN(A1687))","v":{"$error":"#N/A"}},null,{"$f":"INDEX(设备类型!$B$2:$B$5001,MATCH(表格模板!C1687,设备类型!$A$2:$A$5001,0),COLUMN(A1687))","v":{"$error":"#N/A"}}]
[null,{"$f":"INDEX(建筑!$B$2:$B$5001,MATCH(表格模板!A1688,建筑!$A$2:$A$5001,0),COLUMN(A1688))","v":{"$error":"#N/A"}},null,{"$f":"INDEX(设备类型!$B$2:$B$5001,MATCH(表格模板!C1688,设备类型!$A$2:$A$5001,0),COLUMN(A1688))","v":{"$error":"#N/A"}}]
[null,{"$f":"INDEX(建筑!$B$2:$B$5001,MATCH(表格模板!A1689,建筑!$A$2:$A$5001,0),COLUMN(A1689))","v":{"$error":"#N/A"}},null,{"$f":"INDEX(设备类型!$B$2:$B$5001,MATCH(表格模板!C1689,设备类型!$A$2:$A$5001,0),COLUMN(A1689))","v":{"$error":"#N/A"}}]
[null,{"$f":"INDEX(建筑!$B$2:$B$5001,MATCH(表格模板!A1690,建筑!$A$2:$A$5001,0),COLUMN(A1690))","v":{"$error":"#N/A"}},null,{"$f":"INDEX(设备类型!$B$2:$B$5001,MATCH(表格模板!C1690,设备类型!$A$2:$A$5001,0),COLUMN(A1690))","v":{"$error":"#N/A"}}]
[null,{"$f":"INDEX(建筑!$B$2:$B$5001,MATCH(表格模板!A1691,建筑!$A$2:$A$5001,0),COLUMN(A1691))","v":{"$error":"#N/A"}},null,{"$f":"INDEX(设备类型!$B$2:$B$5001,MATCH(表格模板!C1691,设备类型!$A$2:$A$5001,0),COLUMN(A1691))","v":{"$error":"#N/A"}}]
[null,{"$f":"INDEX(建筑!$B$2:$B$5001,MATCH(表格模板!A1692,建筑!$A$2:$A$5001,0),COLUMN(A1692))","v":{"$error":"#N/A"}},null,{"$f":"INDEX(设备类型!$B$2:$B$5001,MATCH(表格模板!C1692,设备类型!$A$2:$A$5001,0),COLUMN(A1692))","v":{"$error":"#N/A"}}]
[null,{"$f":"INDEX(建筑!$B$2:$B$5001,MATCH(表格模板!A1693,建筑!$A$2:$A$5001,0),COLUMN(A1693))","v":{"$error":"#N/A"}},null,{"$f":"INDEX(设备类型!$B$2:$B$5001,MATCH(表格模板!C1693,设备类型!$A$2:$A$5001,0),COLUMN(A1693))","v":{"$error":"#N/A"}}]
[null,{"$f":"INDEX(建筑!$B$2:$B$5001,MATCH(表格模板!A1694,建筑!$A$2:$A$5001,0),COLUMN(A1694))","v":{"$error":"#N/A"}},null,{"$f":"INDEX(设备类型!$B$2:$B$5001,MATCH(表格模板!C1694,设备类型!$A$2:$A$5001,0),COLUMN(A1694))","v":{"$error":"#N/A"}}]
[null,{"$f":"INDEX(建筑!$B$2:$B$5001,MATCH(表格模板!A1695,建筑!$A$2:$A$5001,0),COLUMN(A1695))","v":{"$error":"#N/A"}},null,{"$f":"INDEX(设备类型!$B$2:$B$5001,MATCH(表格模板!C1695,设备类型!$A$2:$A$5001,0),COLUMN(A1695))","v":{"$error":"#N/A"}}]
[null,{"$f":"INDEX(建筑!$B$2:$B$5001,MATCH(表格模板!A1696,建筑!$A$2:$A$5001,0),COLUMN(A1696))","v":{"$error":"#N/A"}},null,{"$f":"INDEX(设备类型!$B$2:$B$5001,MATCH(表格模板!C1696,设备类型!$A$2:$A$5001,0),COLUMN(A1696))","v":{"$error":"#N/A"}}]
[null,{"$f":"INDEX(建筑!$B$2:$B$5001,MATCH(表格模板!A1697,建筑!$A$2:$A$5001,0),COLUMN(A1697))","v":{"$error":"#N/A"}},null,{"$f":"INDEX(设备类型!$B$2:$B$5001,MATCH(表格模板!C1697,设备类型!$A$2:$A$5001,0),COLUMN(A1697))","v":{"$error":"#N/A"}}]
[null,{"$f":"INDEX(建筑!$B$2:$B$5001,MATCH(表格模板!A1698,建筑!$A$2:$A$5001,0),COLUMN(A1698))","v":{"$error":"#N/A"}},null,{"$f":"INDEX(设备类型!$B$2:$B$5001,MATCH(表格模板!C1698,设备类型!$A$2:$A$5001,0),COLUMN(A1698))","v":{"$error":"#N/A"}}]
[null,{"$f":"INDEX(建筑!$B$2:$B$5001,MATCH(表格模板!A1699,建筑!$A$2:$A$5001,0),COLUMN(A1699))","v":{"$error":"#N/A"}},null,{"$f":"INDEX(设备类型!$B$2:$B$5001,MATCH(表格模板!C1699,设备类型!$A$2:$A$5001,0),COLUMN(A1699))","v":{"$error":"#N/A"}}]
[null,{"$f":"INDEX(建筑!$B$2:$B$5001,MATCH(表格模板!A1700,建筑!$A$2:$A$5001,0),COLUMN(A1700))","v":{"$error":"#N/A"}},null,{"$f":"INDEX(设备类型!$B$2:$B$5001,MATCH(表格模板!C1700,设备类型!$A$2:$A$5001,0),COLUMN(A1700))","v":{"$error":"#N/A"}}]
[null,{"$f":"INDEX(建筑!$B$2:$B$5001,MATCH(表格模板!A1701,建筑!$A$2:$A$5001,0),COLUMN(A1701))","v":{"$error":"#N/A"}},null,{"$f":"INDEX(设备类型!$B$2:$B$5001,MATCH(表格模板!C1701,设备类型!$A$2:$A$5001,0),COLUMN(A1701))","v":{"$error":"#N/A"}}]
[null,{"$f":"INDEX(建筑!$B$2:$B$5001,MATCH(表格模板!A1702,建筑!$A$2:$A$5001,0),COLUMN(A1702))","v":{"$error":"#N/A"}},null,{"$f":"INDEX(设备类型!$B$2:$B$5001,MATCH(表格模板!C1702,设备类型!$A$2:$A$5001,0),COLUMN(A1702))","v":{"$error":"#N/A"}}]
[null,{"$f":"INDEX(建筑!$B$2:$B$5001,MATCH(表格模板!A1703,建筑!$A$2:$A$5001,0),COLUMN(A1703))","v":{"$error":"#N/A"}},null,{"$f":"INDEX(设备类型!$B$2:$B$5001,MATCH(表格模板!C1703,设备类型!$A$2:$A$5001,0),COLUMN(A1703))","v":{"$error":"#N/A"}}]
[null,{"$f":"INDEX(建筑!$B$2:$B$5001,MATCH(表格模板!A1704,建筑!$A$2:$A$5001,0),COLUMN(A1704))","v":{"$error":"#N/A"}},null,{"$f":"INDEX(设备类型!$B$2:$B$5001,MATCH(表格模板!C1704,设备类型!$A$2:$A$5001,0),COLUMN(A1704))","v":{"$error":"#N/A"}}]
[null,{"$f":"INDEX(建筑!$B$2:$B$5001,MATCH(表格模板!A1705,建筑!$A$2:$A$5001,0),COLUMN(A1705))","v":{"$error":"#N/A"}},null,{"$f":"INDEX(设备类型!$B$2:$B$5001,MATCH(表格模板!C1705,设备类型!$A$2:$A$5001,0),COLUMN(A1705))","v":{"$error":"#N/A"}}]
[null,{"$f":"INDEX(建筑!$B$2:$B$5001,MATCH(表格模板!A1706,建筑!$A$2:$A$5001,0),COLUMN(A1706))","v":{"$error":"#N/A"}},null,{"$f":"INDEX(设备类型!$B$2:$B$5001,MATCH(表格模板!C1706,设备类型!$A$2:$A$5001,0),COLUMN(A1706))","v":{"$error":"#N/A"}}]
[null,{"$f":"INDEX(建筑!$B$2:$B$5001,MATCH(表格模板!A1707,建筑!$A$2:$A$5001,0),COLUMN(A1707))","v":{"$error":"#N/A"}},null,{"$f":"INDEX(设备类型!$B$2:$B$5001,MATCH(表格模板!C1707,设备类型!$A$2:$A$5001,0),COLUMN(A1707))","v":{"$error":"#N/A"}}]
[null,{"$f":"INDEX(建筑!$B$2:$B$5001,MATCH(表格模板!A1708,建筑!$A$2:$A$5001,0),COLUMN(A1708))","v":{"$error":"#N/A"}},null,{"$f":"INDEX(设备类型!$B$2:$B$5001,MATCH(表格模板!C1708,设备类型!$A$2:$A$5001,0),COLUMN(A1708))","v":{"$error":"#N/A"}}]
[null,{"$f":"INDEX(建筑!$B$2:$B$5001,MATCH(表格模板!A1709,建筑!$A$2:$A$5001,0),COLUMN(A1709))","v":{"$error":"#N/A"}},null,{"$f":"INDEX(设备类型!$B$2:$B$5001,MATCH(表格模板!C1709,设备类型!$A$2:$A$5001,0),COLUMN(A1709))","v":{"$error":"#N/A"}}]
[null,{"$f":"INDEX(建筑!$B$2:$B$5001,MATCH(表格模板!A1710,建筑!$A$2:$A$5001,0),COLUMN(A1710))","v":{"$error":"#N/A"}},null,{"$f":"INDEX(设备类型!$B$2:$B$5001,MATCH(表格模板!C1710,设备类型!$A$2:$A$5001,0),COLUMN(A1710))","v":{"$error":"#N/A"}}]
[null,{"$f":"INDEX(建筑!$B$2:$B$5001,MATCH(表格模板!A1711,建筑!$A$2:$A$5001,0),COLUMN(A1711))","v":{"$error":"#N/A"}},null,{"$f":"INDEX(设备类型!$B$2:$B$5001,MATCH(表格模板!C1711,设备类型!$A$2:$A$5001,0),COLUMN(A1711))","v":{"$error":"#N/A"}}]
[null,{"$f":"INDEX(建筑!$B$2:$B$5001,MATCH(表格模板!A1712,建筑!$A$2:$A$5001,0),COLUMN(A1712))","v":{"$error":"#N/A"}},null,{"$f":"INDEX(设备类型!$B$2:$B$5001,MATCH(表格模板!C1712,设备类型!$A$2:$A$5001,0),COLUMN(A1712))","v":{"$error":"#N/A"}}]
[null,{"$f":"INDEX(建筑!$B$2:$B$5001,MATCH(表格模板!A1713,建筑!$A$2:$A$5001,0),COLUMN(A1713))","v":{"$error":"#N/A"}},null,{"$f":"INDEX(设备类型!$B$2:$B$5001,MATCH(表格模板!C1713,设备类型!$A$2:$A$5001,0),COLUMN(A1713))","v":{"$error":"#N/A"}}]
[null,{"$f":"INDEX(建筑!$B$2:$B$5001,MATCH(表格模板!A1714,建筑!$A$2:$A$5001,0),COLUMN(A1714))","v":{"$error":"#N/A"}},null,{"$f":"INDEX(设备类型!$B$2:$B$5001,MATCH(表格模板!C1714,设备类型!$A$2:$A$5001,0),COLUMN(A1714))","v":{"$error":"#N/A"}}]
[null,{"$f":"INDEX(建筑!$B$2:$B$5001,MATCH(表格模板!A1715,建筑!$A$2:$A$5001,0),COLUMN(A1715))","v":{"$error":"#N/A"}},null,{"$f":"INDEX(设备类型!$B$2:$B$5001,MATCH(表格模板!C1715,设备类型!$A$2:$A$5001,0),COLUMN(A1715))","v":{"$error":"#N/A"}}]
[null,{"$f":"INDEX(建筑!$B$2:$B$5001,MATCH(表格模板!A1716,建筑!$A$2:$A$5001,0),COLUMN(A1716))","v":{"$error":"#N/A"}},null,{"$f":"INDEX(设备类型!$B$2:$B$5001,MATCH(表格模板!C1716,设备类型!$A$2:$A$5001,0),COLUMN(A1716))","v":{"$error":"#N/A"}}]
[null,{"$f":"INDEX(建筑!$B$2:$B$5001,MATCH(表格模板!A1717,建筑!$A$2:$A$5001,0),COLUMN(A1717))","v":{"$error":"#N/A"}},null,{"$f":"INDEX(设备类型!$B$2:$B$5001,MATCH(表格模板!C1717,设备类型!$A$2:$A$5001,0),COLUMN(A1717))","v":{"$error":"#N/A"}}]
[null,{"$f":"INDEX(建筑!$B$2:$B$5001,MATCH(表格模板!A1718,建筑!$A$2:$A$5001,0),COLUMN(A1718))","v":{"$error":"#N/A"}},null,{"$f":"INDEX(设备类型!$B$2:$B$5001,MATCH(表格模板!C1718,设备类型!$A$2:$A$5001,0),COLUMN(A1718))","v":{"$error":"#N/A"}}]
[null,{"$f":"INDEX(建筑!$B$2:$B$5001,MATCH(表格模板!A1719,建筑!$A$2:$A$5001,0),COLUMN(A1719))","v":{"$error":"#N/A"}},null,{"$f":"INDEX(设备类型!$B$2:$B$5001,MATCH(表格模板!C1719,设备类型!$A$2:$A$5001,0),COLUMN(A1719))","v":{"$error":"#N/A"}}]
[null,{"$f":"INDEX(建筑!$B$2:$B$5001,MATCH(表格模板!A1720,建筑!$A$2:$A$5001,0),COLUMN(A1720))","v":{"$error":"#N/A"}},null,{"$f":"INDEX(设备类型!$B$2:$B$5001,MATCH(表格模板!C1720,设备类型!$A$2:$A$5001,0),COLUMN(A1720))","v":{"$error":"#N/A"}}]
[null,{"$f":"INDEX(建筑!$B$2:$B$5001,MATCH(表格模板!A1721,建筑!$A$2:$A$5001,0),COLUMN(A1721))","v":{"$error":"#N/A"}},null,{"$f":"INDEX(设备类型!$B$2:$B$5001,MATCH(表格模板!C1721,设备类型!$A$2:$A$5001,0),COLUMN(A1721))","v":{"$error":"#N/A"}}]
[null,{"$f":"INDEX(建筑!$B$2:$B$5001,MATCH(表格模板!A1722,建筑!$A$2:$A$5001,0),COLUMN(A1722))","v":{"$error":"#N/A"}},null,{"$f":"INDEX(设备类型!$B$2:$B$5001,MATCH(表格模板!C1722,设备类型!$A$2:$A$5001,0),COLUMN(A1722))","v":{"$error":"#N/A"}}]
[null,{"$f":"INDEX(建筑!$B$2:$B$5001,MATCH(表格模板!A1723,建筑!$A$2:$A$5001,0),COLUMN(A1723))","v":{"$error":"#N/A"}},null,{"$f":"INDEX(设备类型!$B$2:$B$5001,MATCH(表格模板!C1723,设备类型!$A$2:$A$5001,0),COLUMN(A1723))","v":{"$error":"#N/A"}}]
[null,{"$f":"INDEX(建筑!$B$2:$B$5001,MATCH(表格模板!A1724,建筑!$A$2:$A$5001,0),COLUMN(A1724))","v":{"$error":"#N/A"}},null,{"$f":"INDEX(设备类型!$B$2:$B$5001,MATCH(表格模板!C1724,设备类型!$A$2:$A$5001,0),COLUMN(A1724))","v":{"$error":"#N/A"}}]
[null,{"$f":"INDEX(建筑!$B$2:$B$5001,MATCH(表格模板!A1725,建筑!$A$2:$A$5001,0),COLUMN(A1725))","v":{"$error":"#N/A"}},null,{"$f":"INDEX(设备类型!$B$2:$B$5001,MATCH(表格模板!C1725,设备类型!$A$2:$A$5001,0),COLUMN(A1725))","v":{"$error":"#N/A"}}]
[null,{"$f":"INDEX(建筑!$B$2:$B$5001,MATCH(表格模板!A1726,建筑!$A$2:$A$5001,0),COLUMN(A1726))","v":{"$error":"#N/A"}},null,{"$f":"INDEX(设备类型!$B$2:$B$5001,MATCH(表格模板!C1726,设备类型!$A$2:$A$5001,0),COLUMN(A1726))","v":{"$error":"#N/A"}}]
[null,{"$f":"INDEX(建筑!$B$2:$B$5001,MATCH(表格模板!A1727,建筑!$A$2:$A$5001,0),COLUMN(A1727))","v":{"$error":"#N/A"}},null,{"$f":"INDEX(设备类型!$B$2:$B$5001,MATCH(表格模板!C1727,设备类型!$A$2:$A$5001,0),COLUMN(A1727))","v":{"$error":"#N/A"}}]
[null,{"$f":"INDEX(建筑!$B$2:$B$5001,MATCH(表格模板!A1728,建筑!$A$2:$A$5001,0),COLUMN(A1728))","v":{"$error":"#N/A"}},null,{"$f":"INDEX(设备类型!$B$2:$B$5001,MATCH(表格模板!C1728,设备类型!$A$2:$A$5001,0),COLUMN(A1728))","v":{"$error":"#N/A"}}]
[null,{"$f":"INDEX(建筑!$B$2:$B$5001,MATCH(表格模板!A1729,建筑!$A$2:$A$5001,0),COLUMN(A1729))","v":{"$error":"#N/A"}},null,{"$f":"INDEX(设备类型!$B$2:$B$5001,MATCH(表格模板!C1729,设备类型!$A$2:$A$5001,0),COLUMN(A1729))","v":{"$error":"#N/A"}}]
[null,{"$f":"INDEX(建筑!$B$2:$B$5001,MATCH(表格模板!A1730,建筑!$A$2:$A$5001,0),COLUMN(A1730))","v":{"$error":"#N/A"}},null,{"$f":"INDEX(设备类型!$B$2:$B$5001,MATCH(表格模板!C1730,设备类型!$A$2:$A$5001,0),COLUMN(A1730))","v":{"$error":"#N/A"}}]
[null,{"$f":"INDEX(建筑!$B$2:$B$5001,MATCH(表格模板!A1731,建筑!$A$2:$A$5001,0),COLUMN(A1731))","v":{"$error":"#N/A"}},null,{"$f":"INDEX(设备类型!$B$2:$B$5001,MATCH(表格模板!C1731,设备类型!$A$2:$A$5001,0),COLUMN(A1731))","v":{"$error":"#N/A"}}]
[null,{"$f":"INDEX(建筑!$B$2:$B$5001,MATCH(表格模板!A1732,建筑!$A$2:$A$5001,0),COLUMN(A1732))","v":{"$error":"#N/A"}},null,{"$f":"INDEX(设备类型!$B$2:$B$5001,MATCH(表格模板!C1732,设备类型!$A$2:$A$5001,0),COLUMN(A1732))","v":{"$error":"#N/A"}}]
[null,{"$f":"INDEX(建筑!$B$2:$B$5001,MATCH(表格模板!A1733,建筑!$A$2:$A$5001,0),COLUMN(A1733))","v":{"$error":"#N/A"}},null,{"$f":"INDEX(设备类型!$B$2:$B$5001,MATCH(表格模板!C1733,设备类型!$A$2:$A$5001,0),COLUMN(A1733))","v":{"$error":"#N/A"}}]
[null,{"$f":"INDEX(建筑!$B$2:$B$5001,MATCH(表格模板!A1734,建筑!$A$2:$A$5001,0),COLUMN(A1734))","v":{"$error":"#N/A"}},null,{"$f":"INDEX(设备类型!$B$2:$B$5001,MATCH(表格模板!C1734,设备类型!$A$2:$A$5001,0),COLUMN(A1734))","v":{"$error":"#N/A"}}]
[null,{"$f":"INDEX(建筑!$B$2:$B$5001,MATCH(表格模板!A1735,建筑!$A$2:$A$5001,0),COLUMN(A1735))","v":{"$error":"#N/A"}},null,{"$f":"INDEX(设备类型!$B$2:$B$5001,MATCH(表格模板!C1735,设备类型!$A$2:$A$5001,0),COLUMN(A1735))","v":{"$error":"#N/A"}}]
[null,{"$f":"INDEX(建筑!$B$2:$B$5001,MATCH(表格模板!A1736,建筑!$A$2:$A$5001,0),COLUMN(A1736))","v":{"$error":"#N/A"}},null,{"$f":"INDEX(设备类型!$B$2:$B$5001,MATCH(表格模板!C1736,设备类型!$A$2:$A$5001,0),COLUMN(A1736))","v":{"$error":"#N/A"}}]
[null,{"$f":"INDEX(建筑!$B$2:$B$5001,MATCH(表格模板!A1737,建筑!$A$2:$A$5001,0),COLUMN(A1737))","v":{"$error":"#N/A"}},null,{"$f":"INDEX(设备类型!$B$2:$B$5001,MATCH(表格模板!C1737,设备类型!$A$2:$A$5001,0),COLUMN(A1737))","v":{"$error":"#N/A"}}]
[null,{"$f":"INDEX(建筑!$B$2:$B$5001,MATCH(表格模板!A1738,建筑!$A$2:$A$5001,0),COLUMN(A1738))","v":{"$error":"#N/A"}},null,{"$f":"INDEX(设备类型!$B$2:$B$5001,MATCH(表格模板!C1738,设备类型!$A$2:$A$5001,0),COLUMN(A1738))","v":{"$error":"#N/A"}}]
[null,{"$f":"INDEX(建筑!$B$2:$B$5001,MATCH(表格模板!A1739,建筑!$A$2:$A$5001,0),COLUMN(A1739))","v":{"$error":"#N/A"}},null,{"$f":"INDEX(设备类型!$B$2:$B$5001,MATCH(表格模板!C1739,设备类型!$A$2:$A$5001,0),COLUMN(A1739))","v":{"$error":"#N/A"}}]
[null,{"$f":"INDEX(建筑!$B$2:$B$5001,MATCH(表格模板!A1740,建筑!$A$2:$A$5001,0),COLUMN(A1740))","v":{"$error":"#N/A"}},null,{"$f":"INDEX(设备类型!$B$2:$B$5001,MATCH(表格模板!C1740,设备类型!$A$2:$A$5001,0),COLUMN(A1740))","v":{"$error":"#N/A"}}]
[null,{"$f":"INDEX(建筑!$B$2:$B$5001,MATCH(表格模板!A1741,建筑!$A$2:$A$5001,0),COLUMN(A1741))","v":{"$error":"#N/A"}},null,{"$f":"INDEX(设备类型!$B$2:$B$5001,MATCH(表格模板!C1741,设备类型!$A$2:$A$5001,0),COLUMN(A1741))","v":{"$error":"#N/A"}}]
[null,{"$f":"INDEX(建筑!$B$2:$B$5001,MATCH(表格模板!A1742,建筑!$A$2:$A$5001,0),COLUMN(A1742))","v":{"$error":"#N/A"}},null,{"$f":"INDEX(设备类型!$B$2:$B$5001,MATCH(表格模板!C1742,设备类型!$A$2:$A$5001,0),COLUMN(A1742))","v":{"$error":"#N/A"}}]
[null,{"$f":"INDEX(建筑!$B$2:$B$5001,MATCH(表格模板!A1743,建筑!$A$2:$A$5001,0),COLUMN(A1743))","v":{"$error":"#N/A"}},null,{"$f":"INDEX(设备类型!$B$2:$B$5001,MATCH(表格模板!C1743,设备类型!$A$2:$A$5001,0),COLUMN(A1743))","v":{"$error":"#N/A"}}]
[null,{"$f":"INDEX(建筑!$B$2:$B$5001,MATCH(表格模板!A1744,建筑!$A$2:$A$5001,0),COLUMN(A1744))","v":{"$error":"#N/A"}},null,{"$f":"INDEX(设备类型!$B$2:$B$5001,MATCH(表格模板!C1744,设备类型!$A$2:$A$5001,0),COLUMN(A1744))","v":{"$error":"#N/A"}}]
[null,{"$f":"INDEX(建筑!$B$2:$B$5001,MATCH(表格模板!A1745,建筑!$A$2:$A$5001,0),COLUMN(A1745))","v":{"$error":"#N/A"}},null,{"$f":"INDEX(设备类型!$B$2:$B$5001,MATCH(表格模板!C1745,设备类型!$A$2:$A$5001,0),COLUMN(A1745))","v":{"$error":"#N/A"}}]
[null,{"$f":"INDEX(建筑!$B$2:$B$5001,MATCH(表格模板!A1746,建筑!$A$2:$A$5001,0),COLUMN(A1746))","v":{"$error":"#N/A"}},null,{"$f":"INDEX(设备类型!$B$2:$B$5001,MATCH(表格模板!C1746,设备类型!$A$2:$A$5001,0),COLUMN(A1746))","v":{"$error":"#N/A"}}]
[null,{"$f":"INDEX(建筑!$B$2:$B$5001,MATCH(表格模板!A1747,建筑!$A$2:$A$5001,0),COLUMN(A1747))","v":{"$error":"#N/A"}},null,{"$f":"INDEX(设备类型!$B$2:$B$5001,MATCH(表格模板!C1747,设备类型!$A$2:$A$5001,0),COLUMN(A1747))","v":{"$error":"#N/A"}}]
[null,{"$f":"INDEX(建筑!$B$2:$B$5001,MATCH(表格模板!A1748,建筑!$A$2:$A$5001,0),COLUMN(A1748))","v":{"$error":"#N/A"}},null,{"$f":"INDEX(设备类型!$B$2:$B$5001,MATCH(表格模板!C1748,设备类型!$A$2:$A$5001,0),COLUMN(A1748))","v":{"$error":"#N/A"}}]
[null,{"$f":"INDEX(建筑!$B$2:$B$5001,MATCH(表格模板!A1749,建筑!$A$2:$A$5001,0),COLUMN(A1749))","v":{"$error":"#N/A"}},null,{"$f":"INDEX(设备类型!$B$2:$B$5001,MATCH(表格模板!C1749,设备类型!$A$2:$A$5001,0),COLUMN(A1749))","v":{"$error":"#N/A"}}]
[null,{"$f":"INDEX(建筑!$B$2:$B$5001,MATCH(表格模板!A1750,建筑!$A$2:$A$5001,0),COLUMN(A1750))","v":{"$error":"#N/A"}},null,{"$f":"INDEX(设备类型!$B$2:$B$5001,MATCH(表格模板!C1750,设备类型!$A$2:$A$5001,0),COLUMN(A1750))","v":{"$error":"#N/A"}}]
[null,{"$f":"INDEX(建筑!$B$2:$B$5001,MATCH(表格模板!A1751,建筑!$A$2:$A$5001,0),COLUMN(A1751))","v":{"$error":"#N/A"}},null,{"$f":"INDEX(设备类型!$B$2:$B$5001,MATCH(表格模板!C1751,设备类型!$A$2:$A$5001,0),COLUMN(A1751))","v":{"$error":"#N/A"}}]
[null,{"$f":"INDEX(建筑!$B$2:$B$5001,MATCH(表格模板!A1752,建筑!$A$2:$A$5001,0),COLUMN(A1752))","v":{"$error":"#N/A"}},null,{"$f":"INDEX(设备类型!$B$2:$B$5001,MATCH(表格模板!C1752,设备类型!$A$2:$A$5001,0),COLUMN(A1752))","v":{"$error":"#N/A"}}]
[null,{"$f":"INDEX(建筑!$B$2:$B$5001,MATCH(表格模板!A1753,建筑!$A$2:$A$5001,0),COLUMN(A1753))","v":{"$error":"#N/A"}},null,{"$f":"INDEX(设备类型!$B$2:$B$5001,MATCH(表格模板!C1753,设备类型!$A$2:$A$5001,0),COLUMN(A1753))","v":{"$error":"#N/A"}}]
[null,{"$f":"INDEX(建筑!$B$2:$B$5001,MATCH(表格模板!A1754,建筑!$A$2:$A$5001,0),COLUMN(A1754))","v":{"$error":"#N/A"}},null,{"$f":"INDEX(设备类型!$B$2:$B$5001,MATCH(表格模板!C1754,设备类型!$A$2:$A$5001,0),COLUMN(A1754))","v":{"$error":"#N/A"}}]
[null,{"$f":"INDEX(建筑!$B$2:$B$5001,MATCH(表格模板!A1755,建筑!$A$2:$A$5001,0),COLUMN(A1755))","v":{"$error":"#N/A"}},null,{"$f":"INDEX(设备类型!$B$2:$B$5001,MATCH(表格模板!C1755,设备类型!$A$2:$A$5001,0),COLUMN(A1755))","v":{"$error":"#N/A"}}]
[null,{"$f":"INDEX(建筑!$B$2:$B$5001,MATCH(表格模板!A1756,建筑!$A$2:$A$5001,0),COLUMN(A1756))","v":{"$error":"#N/A"}},null,{"$f":"INDEX(设备类型!$B$2:$B$5001,MATCH(表格模板!C1756,设备类型!$A$2:$A$5001,0),COLUMN(A1756))","v":{"$error":"#N/A"}}]
[null,{"$f":"INDEX(建筑!$B$2:$B$5001,MATCH(表格模板!A1757,建筑!$A$2:$A$5001,0),COLUMN(A1757))","v":{"$error":"#N/A"}},null,{"$f":"INDEX(设备类型!$B$2:$B$5001,MATCH(表格模板!C1757,设备类型!$A$2:$A$5001,0),COLUMN(A1757))","v":{"$error":"#N/A"}}]
[null,{"$f":"INDEX(建筑!$B$2:$B$5001,MATCH(表格模板!A1758,建筑!$A$2:$A$5001,0),COLUMN(A1758))","v":{"$error":"#N/A"}},null,{"$f":"INDEX(设备类型!$B$2:$B$5001,MATCH(表格模板!C1758,设备类型!$A$2:$A$5001,0),COLUMN(A1758))","v":{"$error":"#N/A"}}]
[null,{"$f":"INDEX(建筑!$B$2:$B$5001,MATCH(表格模板!A1759,建筑!$A$2:$A$5001,0),COLUMN(A1759))","v":{"$error":"#N/A"}},null,{"$f":"INDEX(设备类型!$B$2:$B$5001,MATCH(表格模板!C1759,设备类型!$A$2:$A$5001,0),COLUMN(A1759))","v":{"$error":"#N/A"}}]
[null,{"$f":"INDEX(建筑!$B$2:$B$5001,MATCH(表格模板!A1760,建筑!$A$2:$A$5001,0),COLUMN(A1760))","v":{"$error":"#N/A"}},null,{"$f":"INDEX(设备类型!$B$2:$B$5001,MATCH(表格模板!C1760,设备类型!$A$2:$A$5001,0),COLUMN(A1760))","v":{"$error":"#N/A"}}]
[null,{"$f":"INDEX(建筑!$B$2:$B$5001,MATCH(表格模板!A1761,建筑!$A$2:$A$5001,0),COLUMN(A1761))","v":{"$error":"#N/A"}},null,{"$f":"INDEX(设备类型!$B$2:$B$5001,MATCH(表格模板!C1761,设备类型!$A$2:$A$5001,0),COLUMN(A1761))","v":{"$error":"#N/A"}}]
[null,{"$f":"INDEX(建筑!$B$2:$B$5001,MATCH(表格模板!A1762,建筑!$A$2:$A$5001,0),COLUMN(A1762))","v":{"$error":"#N/A"}},null,{"$f":"INDEX(设备类型!$B$2:$B$5001,MATCH(表格模板!C1762,设备类型!$A$2:$A$5001,0),COLUMN(A1762))","v":{"$error":"#N/A"}}]
[null,{"$f":"INDEX(建筑!$B$2:$B$5001,MATCH(表格模板!A1763,建筑!$A$2:$A$5001,0),COLUMN(A1763))","v":{"$error":"#N/A"}},null,{"$f":"INDEX(设备类型!$B$2:$B$5001,MATCH(表格模板!C1763,设备类型!$A$2:$A$5001,0),COLUMN(A1763))","v":{"$error":"#N/A"}}]
[null,{"$f":"INDEX(建筑!$B$2:$B$5001,MATCH(表格模板!A1764,建筑!$A$2:$A$5001,0),COLUMN(A1764))","v":{"$error":"#N/A"}},null,{"$f":"INDEX(设备类型!$B$2:$B$5001,MATCH(表格模板!C1764,设备类型!$A$2:$A$5001,0),COLUMN(A1764))","v":{"$error":"#N/A"}}]
[null,{"$f":"INDEX(建筑!$B$2:$B$5001,MATCH(表格模板!A1765,建筑!$A$2:$A$5001,0),COLUMN(A1765))","v":{"$error":"#N/A"}},null,{"$f":"INDEX(设备类型!$B$2:$B$5001,MATCH(表格模板!C1765,设备类型!$A$2:$A$5001,0),COLUMN(A1765))","v":{"$error":"#N/A"}}]
[null,{"$f":"INDEX(建筑!$B$2:$B$5001,MATCH(表格模板!A1766,建筑!$A$2:$A$5001,0),COLUMN(A1766))","v":{"$error":"#N/A"}},null,{"$f":"INDEX(设备类型!$B$2:$B$5001,MATCH(表格模板!C1766,设备类型!$A$2:$A$5001,0),COLUMN(A1766))","v":{"$error":"#N/A"}}]
[null,{"$f":"INDEX(建筑!$B$2:$B$5001,MATCH(表格模板!A1767,建筑!$A$2:$A$5001,0),COLUMN(A1767))","v":{"$error":"#N/A"}},null,{"$f":"INDEX(设备类型!$B$2:$B$5001,MATCH(表格模板!C1767,设备类型!$A$2:$A$5001,0),COLUMN(A1767))","v":{"$error":"#N/A"}}]
[null,{"$f":"INDEX(建筑!$B$2:$B$5001,MATCH(表格模板!A1768,建筑!$A$2:$A$5001,0),COLUMN(A1768))","v":{"$error":"#N/A"}},null,{"$f":"INDEX(设备类型!$B$2:$B$5001,MATCH(表格模板!C1768,设备类型!$A$2:$A$5001,0),COLUMN(A1768))","v":{"$error":"#N/A"}}]
[null,{"$f":"INDEX(建筑!$B$2:$B$5001,MATCH(表格模板!A1769,建筑!$A$2:$A$5001,0),COLUMN(A1769))","v":{"$error":"#N/A"}},null,{"$f":"INDEX(设备类型!$B$2:$B$5001,MATCH(表格模板!C1769,设备类型!$A$2:$A$5001,0),COLUMN(A1769))","v":{"$error":"#N/A"}}]
[null,{"$f":"INDEX(建筑!$B$2:$B$5001,MATCH(表格模板!A1770,建筑!$A$2:$A$5001,0),COLUMN(A1770))","v":{"$error":"#N/A"}},null,{"$f":"INDEX(设备类型!$B$2:$B$5001,MATCH(表格模板!C1770,设备类型!$A$2:$A$5001,0),COLUMN(A1770))","v":{"$error":"#N/A"}}]
[null,{"$f":"INDEX(建筑!$B$2:$B$5001,MATCH(表格模板!A1771,建筑!$A$2:$A$5001,0),COLUMN(A1771))","v":{"$error":"#N/A"}},null,{"$f":"INDEX(设备类型!$B$2:$B$5001,MATCH(表格模板!C1771,设备类型!$A$2:$A$5001,0),COLUMN(A1771))","v":{"$error":"#N/A"}}]
[null,{"$f":"INDEX(建筑!$B$2:$B$5001,MATCH(表格模板!A1772,建筑!$A$2:$A$5001,0),COLUMN(A1772))","v":{"$error":"#N/A"}},null,{"$f":"INDEX(设备类型!$B$2:$B$5001,MATCH(表格模板!C1772,设备类型!$A$2:$A$5001,0),COLUMN(A1772))","v":{"$error":"#N/A"}}]
[null,{"$f":"INDEX(建筑!$B$2:$B$5001,MATCH(表格模板!A1773,建筑!$A$2:$A$5001,0),COLUMN(A1773))","v":{"$error":"#N/A"}},null,{"$f":"INDEX(设备类型!$B$2:$B$5001,MATCH(表格模板!C1773,设备类型!$A$2:$A$5001,0),COLUMN(A1773))","v":{"$error":"#N/A"}}]
[null,{"$f":"INDEX(建筑!$B$2:$B$5001,MATCH(表格模板!A1774,建筑!$A$2:$A$5001,0),COLUMN(A1774))","v":{"$error":"#N/A"}},null,{"$f":"INDEX(设备类型!$B$2:$B$5001,MATCH(表格模板!C1774,设备类型!$A$2:$A$5001,0),COLUMN(A1774))","v":{"$error":"#N/A"}}]
[null,{"$f":"INDEX(建筑!$B$2:$B$5001,MATCH(表格模板!A1775,建筑!$A$2:$A$5001,0),COLUMN(A1775))","v":{"$error":"#N/A"}},null,{"$f":"INDEX(设备类型!$B$2:$B$5001,MATCH(表格模板!C1775,设备类型!$A$2:$A$5001,0),COLUMN(A1775))","v":{"$error":"#N/A"}}]
[null,{"$f":"INDEX(建筑!$B$2:$B$5001,MATCH(表格模板!A1776,建筑!$A$2:$A$5001,0),COLUMN(A1776))","v":{"$error":"#N/A"}},null,{"$f":"INDEX(设备类型!$B$2:$B$5001,MATCH(表格模板!C1776,设备类型!$A$2:$A$5001,0),COLUMN(A1776))","v":{"$error":"#N/A"}}]
[null,{"$f":"INDEX(建筑!$B$2:$B$5001,MATCH(表格模板!A1777,建筑!$A$2:$A$5001,0),COLUMN(A1777))","v":{"$error":"#N/A"}},null,{"$f":"INDEX(设备类型!$B$2:$B$5001,MATCH(表格模板!C1777,设备类型!$A$2:$A$5001,0),COLUMN(A1777))","v":{"$error":"#N/A"}}]
[null,{"$f":"INDEX(建筑!$B$2:$B$5001,MATCH(表格模板!A1778,建筑!$A$2:$A$5001,0),COLUMN(A1778))","v":{"$error":"#N/A"}},null,{"$f":"INDEX(设备类型!$B$2:$B$5001,MATCH(表格模板!C1778,设备类型!$A$2:$A$5001,0),COLUMN(A1778))","v":{"$error":"#N/A"}}]
[null,{"$f":"INDEX(建筑!$B$2:$B$5001,MATCH(表格模板!A1779,建筑!$A$2:$A$5001,0),COLUMN(A1779))","v":{"$error":"#N/A"}},null,{"$f":"INDEX(设备类型!$B$2:$B$5001,MATCH(表格模板!C1779,设备类型!$A$2:$A$5001,0),COLUMN(A1779))","v":{"$error":"#N/A"}}]
[null,{"$f":"INDEX(建筑!$B$2:$B$5001,MATCH(表格模板!A1780,建筑!$A$2:$A$5001,0),COLUMN(A1780))","v":{"$error":"#N/A"}},null,{"$f":"INDEX(设备类型!$B$2:$B$5001,MATCH(表格模板!C1780,设备类型!$A$2:$A$5001,0),COLUMN(A1780))","v":{"$error":"#N/A"}}]
[null,{"$f":"INDEX(建筑!$B$2:$B$5001,MATCH(表格模板!A1781,建筑!$A$2:$A$5001,0),COLUMN(A1781))","v":{"$error":"#N/A"}},null,{"$f":"INDEX(设备类型!$B$2:$B$5001,MATCH(表格模板!C1781,设备类型!$A$2:$A$5001,0),COLUMN(A1781))","v":{"$error":"#N/A"}}]
[null,{"$f":"INDEX(建筑!$B$2:$B$5001,MATCH(表格模板!A1782,建筑!$A$2:$A$5001,0),COLUMN(A1782))","v":{"$error":"#N/A"}},null,{"$f":"INDEX(设备类型!$B$2:$B$5001,MATCH(表格模板!C1782,设备类型!$A$2:$A$5001,0),COLUMN(A1782))","v":{"$error":"#N/A"}}]
[null,{"$f":"INDEX(建筑!$B$2:$B$5001,MATCH(表格模板!A1783,建筑!$A$2:$A$5001,0),COLUMN(A1783))","v":{"$error":"#N/A"}},null,{"$f":"INDEX(设备类型!$B$2:$B$5001,MATCH(表格模板!C1783,设备类型!$A$2:$A$5001,0),COLUMN(A1783))","v":{"$error":"#N/A"}}]
[null,{"$f":"INDEX(建筑!$B$2:$B$5001,MATCH(表格模板!A1784,建筑!$A$2:$A$5001,0),COLUMN(A1784))","v":{"$error":"#N/A"}},null,{"$f":"INDEX(设备类型!$B$2:$B$5001,MATCH(表格模板!C1784,设备类型!$A$2:$A$5001,0),COLUMN(A1784))","v":{"$error":"#N/A"}}]
[null,{"$f":"INDEX(建筑!$B$2:$B$5001,MATCH(表格模板!A1785,建筑!$A$2:$A$5001,0),COLUMN(A1785))","v":{"$error":"#N/A"}},null,{"$f":"INDEX(设备类型!$B$2:$B$5001,MATCH(表格模板!C1785,设备类型!$A$2:$A$5001,0),COLUMN(A1785))","v":{"$error":"#N/A"}}]
[null,{"$f":"INDEX(建筑!$B$2:$B$5001,MATCH(表格模板!A1786,建筑!$A$2:$A$5001,0),COLUMN(A1786))","v":{"$error":"#N/A"}},null,{"$f":"INDEX(设备类型!$B$2:$B$5001,MATCH(表格模板!C1786,设备类型!$A$2:$A$5001,0),COLUMN(A1786))","v":{"$error":"#N/A"}}]
[null,{"$f":"INDEX(建筑!$B$2:$B$5001,MATCH(表格模板!A1787,建筑!$A$2:$A$5001,0),COLUMN(A1787))","v":{"$error":"#N/A"}},null,{"$f":"INDEX(设备类型!$B$2:$B$5001,MATCH(表格模板!C1787,设备类型!$A$2:$A$5001,0),COLUMN(A1787))","v":{"$error":"#N/A"}}]
[null,{"$f":"INDEX(建筑!$B$2:$B$5001,MATCH(表格模板!A1788,建筑!$A$2:$A$5001,0),COLUMN(A1788))","v":{"$error":"#N/A"}},null,{"$f":"INDEX(设备类型!$B$2:$B$5001,MATCH(表格模板!C1788,设备类型!$A$2:$A$5001,0),COLUMN(A1788))","v":{"$error":"#N/A"}}]
[null,{"$f":"INDEX(建筑!$B$2:$B$5001,MATCH(表格模板!A1789,建筑!$A$2:$A$5001,0),COLUMN(A1789))","v":{"$error":"#N/A"}},null,{"$f":"INDEX(设备类型!$B$2:$B$5001,MATCH(表格模板!C1789,设备类型!$A$2:$A$5001,0),COLUMN(A1789))","v":{"$error":"#N/A"}}]
[null,{"$f":"INDEX(建筑!$B$2:$B$5001,MATCH(表格模板!A1790,建筑!$A$2:$A$5001,0),COLUMN(A1790))","v":{"$error":"#N/A"}},null,{"$f":"INDEX(设备类型!$B$2:$B$5001,MATCH(表格模板!C1790,设备类型!$A$2:$A$5001,0),COLUMN(A1790))","v":{"$error":"#N/A"}}]
[null,{"$f":"INDEX(建筑!$B$2:$B$5001,MATCH(表格模板!A1791,建筑!$A$2:$A$5001,0),COLUMN(A1791))","v":{"$error":"#N/A"}},null,{"$f":"INDEX(设备类型!$B$2:$B$5001,MATCH(表格模板!C1791,设备类型!$A$2:$A$5001,0),COLUMN(A1791))","v":{"$error":"#N/A"}}]
[null,{"$f":"INDEX(建筑!$B$2:$B$5001,MATCH(表格模板!A1792,建筑!$A$2:$A$5001,0),COLUMN(A1792))","v":{"$error":"#N/A"}},null,{"$f":"INDEX(设备类型!$B$2:$B$5001,MATCH(表格模板!C1792,设备类型!$A$2:$A$5001,0),COLUMN(A1792))","v":{"$error":"#N/A"}}]
[null,{"$f":"INDEX(建筑!$B$2:$B$5001,MATCH(表格模板!A1793,建筑!$A$2:$A$5001,0),COLUMN(A1793))","v":{"$error":"#N/A"}},null,{"$f":"INDEX(设备类型!$B$2:$B$5001,MATCH(表格模板!C1793,设备类型!$A$2:$A$5001,0),COLUMN(A1793))","v":{"$error":"#N/A"}}]
[null,{"$f":"INDEX(建筑!$B$2:$B$5001,MATCH(表格模板!A1794,建筑!$A$2:$A$5001,0),COLUMN(A1794))","v":{"$error":"#N/A"}},null,{"$f":"INDEX(设备类型!$B$2:$B$5001,MATCH(表格模板!C1794,设备类型!$A$2:$A$5001,0),COLUMN(A1794))","v":{"$error":"#N/A"}}]
[null,{"$f":"INDEX(建筑!$B$2:$B$5001,MATCH(表格模板!A1795,建筑!$A$2:$A$5001,0),COLUMN(A1795))","v":{"$error":"#N/A"}},null,{"$f":"INDEX(设备类型!$B$2:$B$5001,MATCH(表格模板!C1795,设备类型!$A$2:$A$5001,0),COLUMN(A1795))","v":{"$error":"#N/A"}}]
[null,{"$f":"INDEX(建筑!$B$2:$B$5001,MATCH(表格模板!A1796,建筑!$A$2:$A$5001,0),COLUMN(A1796))","v":{"$error":"#N/A"}},null,{"$f":"INDEX(设备类型!$B$2:$B$5001,MATCH(表格模板!C1796,设备类型!$A$2:$A$5001,0),COLUMN(A1796))","v":{"$error":"#N/A"}}]
[null,{"$f":"INDEX(建筑!$B$2:$B$5001,MATCH(表格模板!A1797,建筑!$A$2:$A$5001,0),COLUMN(A1797))","v":{"$error":"#N/A"}},null,{"$f":"INDEX(设备类型!$B$2:$B$5001,MATCH(表格模板!C1797,设备类型!$A$2:$A$5001,0),COLUMN(A1797))","v":{"$error":"#N/A"}}]
[null,{"$f":"INDEX(建筑!$B$2:$B$5001,MATCH(表格模板!A1798,建筑!$A$2:$A$5001,0),COLUMN(A1798))","v":{"$error":"#N/A"}},null,{"$f":"INDEX(设备类型!$B$2:$B$5001,MATCH(表格模板!C1798,设备类型!$A$2:$A$5001,0),COLUMN(A1798))","v":{"$error":"#N/A"}}]
[null,{"$f":"INDEX(建筑!$B$2:$B$5001,MATCH(表格模板!A1799,建筑!$A$2:$A$5001,0),COLUMN(A1799))","v":{"$error":"#N/A"}},null,{"$f":"INDEX(设备类型!$B$2:$B$5001,MATCH(表格模板!C1799,设备类型!$A$2:$A$5001,0),COLUMN(A1799))","v":{"$error":"#N/A"}}]
[null,{"$f":"INDEX(建筑!$B$2:$B$5001,MATCH(表格模板!A1800,建筑!$A$2:$A$5001,0),COLUMN(A1800))","v":{"$error":"#N/A"}},null,{"$f":"INDEX(设备类型!$B$2:$B$5001,MATCH(表格模板!C1800,设备类型!$A$2:$A$5001,0),COLUMN(A1800))","v":{"$error":"#N/A"}}]
[null,{"$f":"INDEX(建筑!$B$2:$B$5001,MATCH(表格模板!A1801,建筑!$A$2:$A$5001,0),COLUMN(A1801))","v":{"$error":"#N/A"}},null,{"$f":"INDEX(设备类型!$B$2:$B$5001,MATCH(表格模板!C1801,设备类型!$A$2:$A$5001,0),COLUMN(A1801))","v":{"$error":"#N/A"}}]
[null,{"$f":"INDEX(建筑!$B$2:$B$5001,MATCH(表格模板!A1802,建筑!$A$2:$A$5001,0),COLUMN(A1802))","v":{"$error":"#N/A"}},null,{"$f":"INDEX(设备类型!$B$2:$B$5001,MATCH(表格模板!C1802,设备类型!$A$2:$A$5001,0),COLUMN(A1802))","v":{"$error":"#N/A"}}]
[null,{"$f":"INDEX(建筑!$B$2:$B$5001,MATCH(表格模板!A1803,建筑!$A$2:$A$5001,0),COLUMN(A1803))","v":{"$error":"#N/A"}},null,{"$f":"INDEX(设备类型!$B$2:$B$5001,MATCH(表格模板!C1803,设备类型!$A$2:$A$5001,0),COLUMN(A1803))","v":{"$error":"#N/A"}}]
[null,{"$f":"INDEX(建筑!$B$2:$B$5001,MATCH(表格模板!A1804,建筑!$A$2:$A$5001,0),COLUMN(A1804))","v":{"$error":"#N/A"}},null,{"$f":"INDEX(设备类型!$B$2:$B$5001,MATCH(表格模板!C1804,设备类型!$A$2:$A$5001,0),COLUMN(A1804))","v":{"$error":"#N/A"}}]
[null,{"$f":"INDEX(建筑!$B$2:$B$5001,MATCH(表格模板!A1805,建筑!$A$2:$A$5001,0),COLUMN(A1805))","v":{"$error":"#N/A"}},null,{"$f":"INDEX(设备类型!$B$2:$B$5001,MATCH(表格模板!C1805,设备类型!$A$2:$A$5001,0),COLUMN(A1805))","v":{"$error":"#N/A"}}]
[null,{"$f":"INDEX(建筑!$B$2:$B$5001,MATCH(表格模板!A1806,建筑!$A$2:$A$5001,0),COLUMN(A1806))","v":{"$error":"#N/A"}},null,{"$f":"INDEX(设备类型!$B$2:$B$5001,MATCH(表格模板!C1806,设备类型!$A$2:$A$5001,0),COLUMN(A1806))","v":{"$error":"#N/A"}}]
[null,{"$f":"INDEX(建筑!$B$2:$B$5001,MATCH(表格模板!A1807,建筑!$A$2:$A$5001,0),COLUMN(A1807))","v":{"$error":"#N/A"}},null,{"$f":"INDEX(设备类型!$B$2:$B$5001,MATCH(表格模板!C1807,设备类型!$A$2:$A$5001,0),COLUMN(A1807))","v":{"$error":"#N/A"}}]
[null,{"$f":"INDEX(建筑!$B$2:$B$5001,MATCH(表格模板!A1808,建筑!$A$2:$A$5001,0),COLUMN(A1808))","v":{"$error":"#N/A"}},null,{"$f":"INDEX(设备类型!$B$2:$B$5001,MATCH(表格模板!C1808,设备类型!$A$2:$A$5001,0),COLUMN(A1808))","v":{"$error":"#N/A"}}]
[null,{"$f":"INDEX(建筑!$B$2:$B$5001,MATCH(表格模板!A1809,建筑!$A$2:$A$5001,0),COLUMN(A1809))","v":{"$error":"#N/A"}},null,{"$f":"INDEX(设备类型!$B$2:$B$5001,MATCH(表格模板!C1809,设备类型!$A$2:$A$5001,0),COLUMN(A1809))","v":{"$error":"#N/A"}}]
[null,{"$f":"INDEX(建筑!$B$2:$B$5001,MATCH(表格模板!A1810,建筑!$A$2:$A$5001,0),COLUMN(A1810))","v":{"$error":"#N/A"}},null,{"$f":"INDEX(设备类型!$B$2:$B$5001,MATCH(表格模板!C1810,设备类型!$A$2:$A$5001,0),COLUMN(A1810))","v":{"$error":"#N/A"}}]
[null,{"$f":"INDEX(建筑!$B$2:$B$5001,MATCH(表格模板!A1811,建筑!$A$2:$A$5001,0),COLUMN(A1811))","v":{"$error":"#N/A"}},null,{"$f":"INDEX(设备类型!$B$2:$B$5001,MATCH(表格模板!C1811,设备类型!$A$2:$A$5001,0),COLUMN(A1811))","v":{"$error":"#N/A"}}]
[null,{"$f":"INDEX(建筑!$B$2:$B$5001,MATCH(表格模板!A1812,建筑!$A$2:$A$5001,0),COLUMN(A1812))","v":{"$error":"#N/A"}},null,{"$f":"INDEX(设备类型!$B$2:$B$5001,MATCH(表格模板!C1812,设备类型!$A$2:$A$5001,0),COLUMN(A1812))","v":{"$error":"#N/A"}}]
[null,{"$f":"INDEX(建筑!$B$2:$B$5001,MATCH(表格模板!A1813,建筑!$A$2:$A$5001,0),COLUMN(A1813))","v":{"$error":"#N/A"}},null,{"$f":"INDEX(设备类型!$B$2:$B$5001,MATCH(表格模板!C1813,设备类型!$A$2:$A$5001,0),COLUMN(A1813))","v":{"$error":"#N/A"}}]
[null,{"$f":"INDEX(建筑!$B$2:$B$5001,MATCH(表格模板!A1814,建筑!$A$2:$A$5001,0),COLUMN(A1814))","v":{"$error":"#N/A"}},null,{"$f":"INDEX(设备类型!$B$2:$B$5001,MATCH(表格模板!C1814,设备类型!$A$2:$A$5001,0),COLUMN(A1814))","v":{"$error":"#N/A"}}]
[null,{"$f":"INDEX(建筑!$B$2:$B$5001,MATCH(表格模板!A1815,建筑!$A$2:$A$5001,0),COLUMN(A1815))","v":{"$error":"#N/A"}},null,{"$f":"INDEX(设备类型!$B$2:$B$5001,MATCH(表格模板!C1815,设备类型!$A$2:$A$5001,0),COLUMN(A1815))","v":{"$error":"#N/A"}}]
[null,{"$f":"INDEX(建筑!$B$2:$B$5001,MATCH(表格模板!A1816,建筑!$A$2:$A$5001,0),COLUMN(A1816))","v":{"$error":"#N/A"}},null,{"$f":"INDEX(设备类型!$B$2:$B$5001,MATCH(表格模板!C1816,设备类型!$A$2:$A$5001,0),COLUMN(A1816))","v":{"$error":"#N/A"}}]
[null,{"$f":"INDEX(建筑!$B$2:$B$5001,MATCH(表格模板!A1817,建筑!$A$2:$A$5001,0),COLUMN(A1817))","v":{"$error":"#N/A"}},null,{"$f":"INDEX(设备类型!$B$2:$B$5001,MATCH(表格模板!C1817,设备类型!$A$2:$A$5001,0),COLUMN(A1817))","v":{"$error":"#N/A"}}]
[null,{"$f":"INDEX(建筑!$B$2:$B$5001,MATCH(表格模板!A1818,建筑!$A$2:$A$5001,0),COLUMN(A1818))","v":{"$error":"#N/A"}},null,{"$f":"INDEX(设备类型!$B$2:$B$5001,MATCH(表格模板!C1818,设备类型!$A$2:$A$5001,0),COLUMN(A1818))","v":{"$error":"#N/A"}}]
[null,{"$f":"INDEX(建筑!$B$2:$B$5001,MATCH(表格模板!A1819,建筑!$A$2:$A$5001,0),COLUMN(A1819))","v":{"$error":"#N/A"}},null,{"$f":"INDEX(设备类型!$B$2:$B$5001,MATCH(表格模板!C1819,设备类型!$A$2:$A$5001,0),COLUMN(A1819))","v":{"$error":"#N/A"}}]
[null,{"$f":"INDEX(建筑!$B$2:$B$5001,MATCH(表格模板!A1820,建筑!$A$2:$A$5001,0),COLUMN(A1820))","v":{"$error":"#N/A"}},null,{"$f":"INDEX(设备类型!$B$2:$B$5001,MATCH(表格模板!C1820,设备类型!$A$2:$A$5001,0),COLUMN(A1820))","v":{"$error":"#N/A"}}]
[null,{"$f":"INDEX(建筑!$B$2:$B$5001,MATCH(表格模板!A1821,建筑!$A$2:$A$5001,0),COLUMN(A1821))","v":{"$error":"#N/A"}},null,{"$f":"INDEX(设备类型!$B$2:$B$5001,MATCH(表格模板!C1821,设备类型!$A$2:$A$5001,0),COLUMN(A1821))","v":{"$error":"#N/A"}}]
[null,{"$f":"INDEX(建筑!$B$2:$B$5001,MATCH(表格模板!A1822,建筑!$A$2:$A$5001,0),COLUMN(A1822))","v":{"$error":"#N/A"}},null,{"$f":"INDEX(设备类型!$B$2:$B$5001,MATCH(表格模板!C1822,设备类型!$A$2:$A$5001,0),COLUMN(A1822))","v":{"$error":"#N/A"}}]
[null,{"$f":"INDEX(建筑!$B$2:$B$5001,MATCH(表格模板!A1823,建筑!$A$2:$A$5001,0),COLUMN(A1823))","v":{"$error":"#N/A"}},null,{"$f":"INDEX(设备类型!$B$2:$B$5001,MATCH(表格模板!C1823,设备类型!$A$2:$A$5001,0),COLUMN(A1823))","v":{"$error":"#N/A"}}]
[null,{"$f":"INDEX(建筑!$B$2:$B$5001,MATCH(表格模板!A1824,建筑!$A$2:$A$5001,0),COLUMN(A1824))","v":{"$error":"#N/A"}},null,{"$f":"INDEX(设备类型!$B$2:$B$5001,MATCH(表格模板!C1824,设备类型!$A$2:$A$5001,0),COLUMN(A1824))","v":{"$error":"#N/A"}}]
[null,{"$f":"INDEX(建筑!$B$2:$B$5001,MATCH(表格模板!A1825,建筑!$A$2:$A$5001,0),COLUMN(A1825))","v":{"$error":"#N/A"}},null,{"$f":"INDEX(设备类型!$B$2:$B$5001,MATCH(表格模板!C1825,设备类型!$A$2:$A$5001,0),COLUMN(A1825))","v":{"$error":"#N/A"}}]
[null,{"$f":"INDEX(建筑!$B$2:$B$5001,MATCH(表格模板!A1826,建筑!$A$2:$A$5001,0),COLUMN(A1826))","v":{"$error":"#N/A"}},null,{"$f":"INDEX(设备类型!$B$2:$B$5001,MATCH(表格模板!C1826,设备类型!$A$2:$A$5001,0),COLUMN(A1826))","v":{"$error":"#N/A"}}]
[null,{"$f":"INDEX(建筑!$B$2:$B$5001,MATCH(表格模板!A1827,建筑!$A$2:$A$5001,0),COLUMN(A1827))","v":{"$error":"#N/A"}},null,{"$f":"INDEX(设备类型!$B$2:$B$5001,MATCH(表格模板!C1827,设备类型!$A$2:$A$5001,0),COLUMN(A1827))","v":{"$error":"#N/A"}}]
[null,{"$f":"INDEX(建筑!$B$2:$B$5001,MATCH(表格模板!A1828,建筑!$A$2:$A$5001,0),COLUMN(A1828))","v":{"$error":"#N/A"}},null,{"$f":"INDEX(设备类型!$B$2:$B$5001,MATCH(表格模板!C1828,设备类型!$A$2:$A$5001,0),COLUMN(A1828))","v":{"$error":"#N/A"}}]
[null,{"$f":"INDEX(建筑!$B$2:$B$5001,MATCH(表格模板!A1829,建筑!$A$2:$A$5001,0),COLUMN(A1829))","v":{"$error":"#N/A"}},null,{"$f":"INDEX(设备类型!$B$2:$B$5001,MATCH(表格模板!C1829,设备类型!$A$2:$A$5001,0),COLUMN(A1829))","v":{"$error":"#N/A"}}]
[null,{"$f":"INDEX(建筑!$B$2:$B$5001,MATCH(表格模板!A1830,建筑!$A$2:$A$5001,0),COLUMN(A1830))","v":{"$error":"#N/A"}},null,{"$f":"INDEX(设备类型!$B$2:$B$5001,MATCH(表格模板!C1830,设备类型!$A$2:$A$5001,0),COLUMN(A1830))","v":{"$error":"#N/A"}}]
[null,{"$f":"INDEX(建筑!$B$2:$B$5001,MATCH(表格模板!A1831,建筑!$A$2:$A$5001,0),COLUMN(A1831))","v":{"$error":"#N/A"}},null,{"$f":"INDEX(设备类型!$B$2:$B$5001,MATCH(表格模板!C1831,设备类型!$A$2:$A$5001,0),COLUMN(A1831))","v":{"$error":"#N/A"}}]
[null,{"$f":"INDEX(建筑!$B$2:$B$5001,MATCH(表格模板!A1832,建筑!$A$2:$A$5001,0),COLUMN(A1832))","v":{"$error":"#N/A"}},null,{"$f":"INDEX(设备类型!$B$2:$B$5001,MATCH(表格模板!C1832,设备类型!$A$2:$A$5001,0),COLUMN(A1832))","v":{"$error":"#N/A"}}]
[null,{"$f":"INDEX(建筑!$B$2:$B$5001,MATCH(表格模板!A1833,建筑!$A$2:$A$5001,0),COLUMN(A1833))","v":{"$error":"#N/A"}},null,{"$f":"INDEX(设备类型!$B$2:$B$5001,MATCH(表格模板!C1833,设备类型!$A$2:$A$5001,0),COLUMN(A1833))","v":{"$error":"#N/A"}}]
[null,{"$f":"INDEX(建筑!$B$2:$B$5001,MATCH(表格模板!A1834,建筑!$A$2:$A$5001,0),COLUMN(A1834))","v":{"$error":"#N/A"}},null,{"$f":"INDEX(设备类型!$B$2:$B$5001,MATCH(表格模板!C1834,设备类型!$A$2:$A$5001,0),COLUMN(A1834))","v":{"$error":"#N/A"}}]
[null,{"$f":"INDEX(建筑!$B$2:$B$5001,MATCH(表格模板!A1835,建筑!$A$2:$A$5001,0),COLUMN(A1835))","v":{"$error":"#N/A"}},null,{"$f":"INDEX(设备类型!$B$2:$B$5001,MATCH(表格模板!C1835,设备类型!$A$2:$A$5001,0),COLUMN(A1835))","v":{"$error":"#N/A"}}]
[null,{"$f":"INDEX(建筑!$B$2:$B$5001,MATCH(表格模板!A1836,建筑!$A$2:$A$5001,0),COLUMN(A1836))","v":{"$error":"#N/A"}},null,{"$f":"INDEX(设备类型!$B$2:$B$5001,MATCH(表格模板!C1836,设备类型!$A$2:$A$5001,0),COLUMN(A1836))","v":{"$error":"#N/A"}}]
[null,{"$f":"INDEX(建筑!$B$2:$B$5001,MATCH(表格模板!A1837,建筑!$A$2:$A$5001,0),COLUMN(A1837))","v":{"$error":"#N/A"}},null,{"$f":"INDEX(设备类型!$B$2:$B$5001,MATCH(表格模板!C1837,设备类型!$A$2:$A$5001,0),COLUMN(A1837))","v":{"$error":"#N/A"}}]
[null,{"$f":"INDEX(建筑!$B$2:$B$5001,MATCH(表格模板!A1838,建筑!$A$2:$A$5001,0),COLUMN(A1838))","v":{"$error":"#N/A"}},null,{"$f":"INDEX(设备类型!$B$2:$B$5001,MATCH(表格模板!C1838,设备类型!$A$2:$A$5001,0),COLUMN(A1838))","v":{"$error":"#N/A"}}]
[null,{"$f":"INDEX(建筑!$B$2:$B$5001,MATCH(表格模板!A1839,建筑!$A$2:$A$5001,0),COLUMN(A1839))","v":{"$error":"#N/A"}},null,{"$f":"INDEX(设备类型!$B$2:$B$5001,MATCH(表格模板!C1839,设备类型!$A$2:$A$5001,0),COLUMN(A1839))","v":{"$error":"#N/A"}}]
[null,{"$f":"INDEX(建筑!$B$2:$B$5001,MATCH(表格模板!A1840,建筑!$A$2:$A$5001,0),COLUMN(A1840))","v":{"$error":"#N/A"}},null,{"$f":"INDEX(设备类型!$B$2:$B$5001,MATCH(表格模板!C1840,设备类型!$A$2:$A$5001,0),COLUMN(A1840))","v":{"$error":"#N/A"}}]
[null,{"$f":"INDEX(建筑!$B$2:$B$5001,MATCH(表格模板!A1841,建筑!$A$2:$A$5001,0),COLUMN(A1841))","v":{"$error":"#N/A"}},null,{"$f":"INDEX(设备类型!$B$2:$B$5001,MATCH(表格模板!C1841,设备类型!$A$2:$A$5001,0),COLUMN(A1841))","v":{"$error":"#N/A"}}]
[null,{"$f":"INDEX(建筑!$B$2:$B$5001,MATCH(表格模板!A1842,建筑!$A$2:$A$5001,0),COLUMN(A1842))","v":{"$error":"#N/A"}},null,{"$f":"INDEX(设备类型!$B$2:$B$5001,MATCH(表格模板!C1842,设备类型!$A$2:$A$5001,0),COLUMN(A1842))","v":{"$error":"#N/A"}}]
[null,{"$f":"INDEX(建筑!$B$2:$B$5001,MATCH(表格模板!A1843,建筑!$A$2:$A$5001,0),COLUMN(A1843))","v":{"$error":"#N/A"}},null,{"$f":"INDEX(设备类型!$B$2:$B$5001,MATCH(表格模板!C1843,设备类型!$A$2:$A$5001,0),COLUMN(A1843))","v":{"$error":"#N/A"}}]
[null,{"$f":"INDEX(建筑!$B$2:$B$5001,MATCH(表格模板!A1844,建筑!$A$2:$A$5001,0),COLUMN(A1844))","v":{"$error":"#N/A"}},null,{"$f":"INDEX(设备类型!$B$2:$B$5001,MATCH(表格模板!C1844,设备类型!$A$2:$A$5001,0),COLUMN(A1844))","v":{"$error":"#N/A"}}]
[null,{"$f":"INDEX(建筑!$B$2:$B$5001,MATCH(表格模板!A1845,建筑!$A$2:$A$5001,0),COLUMN(A1845))","v":{"$error":"#N/A"}},null,{"$f":"INDEX(设备类型!$B$2:$B$5001,MATCH(表格模板!C1845,设备类型!$A$2:$A$5001,0),COLUMN(A1845))","v":{"$error":"#N/A"}}]
[null,{"$f":"INDEX(建筑!$B$2:$B$5001,MATCH(表格模板!A1846,建筑!$A$2:$A$5001,0),COLUMN(A1846))","v":{"$error":"#N/A"}},null,{"$f":"INDEX(设备类型!$B$2:$B$5001,MATCH(表格模板!C1846,设备类型!$A$2:$A$5001,0),COLUMN(A1846))","v":{"$error":"#N/A"}}]
[null,{"$f":"INDEX(建筑!$B$2:$B$5001,MATCH(表格模板!A1847,建筑!$A$2:$A$5001,0),COLUMN(A1847))","v":{"$error":"#N/A"}},null,{"$f":"INDEX(设备类型!$B$2:$B$5001,MATCH(表格模板!C1847,设备类型!$A$2:$A$5001,0),COLUMN(A1847))","v":{"$error":"#N/A"}}]
[null,{"$f":"INDEX(建筑!$B$2:$B$5001,MATCH(表格模板!A1848,建筑!$A$2:$A$5001,0),COLUMN(A1848))","v":{"$error":"#N/A"}},null,{"$f":"INDEX(设备类型!$B$2:$B$5001,MATCH(表格模板!C1848,设备类型!$A$2:$A$5001,0),COLUMN(A1848))","v":{"$error":"#N/A"}}]
[null,{"$f":"INDEX(建筑!$B$2:$B$5001,MATCH(表格模板!A1849,建筑!$A$2:$A$5001,0),COLUMN(A1849))","v":{"$error":"#N/A"}},null,{"$f":"INDEX(设备类型!$B$2:$B$5001,MATCH(表格模板!C1849,设备类型!$A$2:$A$5001,0),COLUMN(A1849))","v":{"$error":"#N/A"}}]
[null,{"$f":"INDEX(建筑!$B$2:$B$5001,MATCH(表格模板!A1850,建筑!$A$2:$A$5001,0),COLUMN(A1850))","v":{"$error":"#N/A"}},null,{"$f":"INDEX(设备类型!$B$2:$B$5001,MATCH(表格模板!C1850,设备类型!$A$2:$A$5001,0),COLUMN(A1850))","v":{"$error":"#N/A"}}]
[null,{"$f":"INDEX(建筑!$B$2:$B$5001,MATCH(表格模板!A1851,建筑!$A$2:$A$5001,0),COLUMN(A1851))","v":{"$error":"#N/A"}},null,{"$f":"INDEX(设备类型!$B$2:$B$5001,MATCH(表格模板!C1851,设备类型!$A$2:$A$5001,0),COLUMN(A1851))","v":{"$error":"#N/A"}}]
[null,{"$f":"INDEX(建筑!$B$2:$B$5001,MATCH(表格模板!A1852,建筑!$A$2:$A$5001,0),COLUMN(A1852))","v":{"$error":"#N/A"}},null,{"$f":"INDEX(设备类型!$B$2:$B$5001,MATCH(表格模板!C1852,设备类型!$A$2:$A$5001,0),COLUMN(A1852))","v":{"$error":"#N/A"}}]
[null,{"$f":"INDEX(建筑!$B$2:$B$5001,MATCH(表格模板!A1853,建筑!$A$2:$A$5001,0),COLUMN(A1853))","v":{"$error":"#N/A"}},null,{"$f":"INDEX(设备类型!$B$2:$B$5001,MATCH(表格模板!C1853,设备类型!$A$2:$A$5001,0),COLUMN(A1853))","v":{"$error":"#N/A"}}]
[null,{"$f":"INDEX(建筑!$B$2:$B$5001,MATCH(表格模板!A1854,建筑!$A$2:$A$5001,0),COLUMN(A1854))","v":{"$error":"#N/A"}},null,{"$f":"INDEX(设备类型!$B$2:$B$5001,MATCH(表格模板!C1854,设备类型!$A$2:$A$5001,0),COLUMN(A1854))","v":{"$error":"#N/A"}}]
[null,{"$f":"INDEX(建筑!$B$2:$B$5001,MATCH(表格模板!A1855,建筑!$A$2:$A$5001,0),COLUMN(A1855))","v":{"$error":"#N/A"}},null,{"$f":"INDEX(设备类型!$B$2:$B$5001,MATCH(表格模板!C1855,设备类型!$A$2:$A$5001,0),COLUMN(A1855))","v":{"$error":"#N/A"}}]
[null,{"$f":"INDEX(建筑!$B$2:$B$5001,MATCH(表格模板!A1856,建筑!$A$2:$A$5001,0),COLUMN(A1856))","v":{"$error":"#N/A"}},null,{"$f":"INDEX(设备类型!$B$2:$B$5001,MATCH(表格模板!C1856,设备类型!$A$2:$A$5001,0),COLUMN(A1856))","v":{"$error":"#N/A"}}]
[null,{"$f":"INDEX(建筑!$B$2:$B$5001,MATCH(表格模板!A1857,建筑!$A$2:$A$5001,0),COLUMN(A1857))","v":{"$error":"#N/A"}},null,{"$f":"INDEX(设备类型!$B$2:$B$5001,MATCH(表格模板!C1857,设备类型!$A$2:$A$5001,0),COLUMN(A1857))","v":{"$error":"#N/A"}}]
[null,{"$f":"INDEX(建筑!$B$2:$B$5001,MATCH(表格模板!A1858,建筑!$A$2:$A$5001,0),COLUMN(A1858))","v":{"$error":"#N/A"}},null,{"$f":"INDEX(设备类型!$B$2:$B$5001,MATCH(表格模板!C1858,设备类型!$A$2:$A$5001,0),COLUMN(A1858))","v":{"$error":"#N/A"}}]
[null,{"$f":"INDEX(建筑!$B$2:$B$5001,MATCH(表格模板!A1859,建筑!$A$2:$A$5001,0),COLUMN(A1859))","v":{"$error":"#N/A"}},null,{"$f":"INDEX(设备类型!$B$2:$B$5001,MATCH(表格模板!C1859,设备类型!$A$2:$A$5001,0),COLUMN(A1859))","v":{"$error":"#N/A"}}]
[null,{"$f":"INDEX(建筑!$B$2:$B$5001,MATCH(表格模板!A1860,建筑!$A$2:$A$5001,0),COLUMN(A1860))","v":{"$error":"#N/A"}},null,{"$f":"INDEX(设备类型!$B$2:$B$5001,MATCH(表格模板!C1860,设备类型!$A$2:$A$5001,0),COLUMN(A1860))","v":{"$error":"#N/A"}}]
[null,{"$f":"INDEX(建筑!$B$2:$B$5001,MATCH(表格模板!A1861,建筑!$A$2:$A$5001,0),COLUMN(A1861))","v":{"$error":"#N/A"}},null,{"$f":"INDEX(设备类型!$B$2:$B$5001,MATCH(表格模板!C1861,设备类型!$A$2:$A$5001,0),COLUMN(A1861))","v":{"$error":"#N/A"}}]
[null,{"$f":"INDEX(建筑!$B$2:$B$5001,MATCH(表格模板!A1862,建筑!$A$2:$A$5001,0),COLUMN(A1862))","v":{"$error":"#N/A"}},null,{"$f":"INDEX(设备类型!$B$2:$B$5001,MATCH(表格模板!C1862,设备类型!$A$2:$A$5001,0),COLUMN(A1862))","v":{"$error":"#N/A"}}]
[null,{"$f":"INDEX(建筑!$B$2:$B$5001,MATCH(表格模板!A1863,建筑!$A$2:$A$5001,0),COLUMN(A1863))","v":{"$error":"#N/A"}},null,{"$f":"INDEX(设备类型!$B$2:$B$5001,MATCH(表格模板!C1863,设备类型!$A$2:$A$5001,0),COLUMN(A1863))","v":{"$error":"#N/A"}}]
[null,{"$f":"INDEX(建筑!$B$2:$B$5001,MATCH(表格模板!A1864,建筑!$A$2:$A$5001,0),COLUMN(A1864))","v":{"$error":"#N/A"}},null,{"$f":"INDEX(设备类型!$B$2:$B$5001,MATCH(表格模板!C1864,设备类型!$A$2:$A$5001,0),COLUMN(A1864))","v":{"$error":"#N/A"}}]
[null,{"$f":"INDEX(建筑!$B$2:$B$5001,MATCH(表格模板!A1865,建筑!$A$2:$A$5001,0),COLUMN(A1865))","v":{"$error":"#N/A"}},null,{"$f":"INDEX(设备类型!$B$2:$B$5001,MATCH(表格模板!C1865,设备类型!$A$2:$A$5001,0),COLUMN(A1865))","v":{"$error":"#N/A"}}]
[null,{"$f":"INDEX(建筑!$B$2:$B$5001,MATCH(表格模板!A1866,建筑!$A$2:$A$5001,0),COLUMN(A1866))","v":{"$error":"#N/A"}},null,{"$f":"INDEX(设备类型!$B$2:$B$5001,MATCH(表格模板!C1866,设备类型!$A$2:$A$5001,0),COLUMN(A1866))","v":{"$error":"#N/A"}}]
[null,{"$f":"INDEX(建筑!$B$2:$B$5001,MATCH(表格模板!A1867,建筑!$A$2:$A$5001,0),COLUMN(A1867))","v":{"$error":"#N/A"}},null,{"$f":"INDEX(设备类型!$B$2:$B$5001,MATCH(表格模板!C1867,设备类型!$A$2:$A$5001,0),COLUMN(A1867))","v":{"$error":"#N/A"}}]
[null,{"$f":"INDEX(建筑!$B$2:$B$5001,MATCH(表格模板!A1868,建筑!$A$2:$A$5001,0),COLUMN(A1868))","v":{"$error":"#N/A"}},null,{"$f":"INDEX(设备类型!$B$2:$B$5001,MATCH(表格模板!C1868,设备类型!$A$2:$A$5001,0),COLUMN(A1868))","v":{"$error":"#N/A"}}]
[null,{"$f":"INDEX(建筑!$B$2:$B$5001,MATCH(表格模板!A1869,建筑!$A$2:$A$5001,0),COLUMN(A1869))","v":{"$error":"#N/A"}},null,{"$f":"INDEX(设备类型!$B$2:$B$5001,MATCH(表格模板!C1869,设备类型!$A$2:$A$5001,0),COLUMN(A1869))","v":{"$error":"#N/A"}}]
[null,{"$f":"INDEX(建筑!$B$2:$B$5001,MATCH(表格模板!A1870,建筑!$A$2:$A$5001,0),COLUMN(A1870))","v":{"$error":"#N/A"}},null,{"$f":"INDEX(设备类型!$B$2:$B$5001,MATCH(表格模板!C1870,设备类型!$A$2:$A$5001,0),COLUMN(A1870))","v":{"$error":"#N/A"}}]
[null,{"$f":"INDEX(建筑!$B$2:$B$5001,MATCH(表格模板!A1871,建筑!$A$2:$A$5001,0),COLUMN(A1871))","v":{"$error":"#N/A"}},null,{"$f":"INDEX(设备类型!$B$2:$B$5001,MATCH(表格模板!C1871,设备类型!$A$2:$A$5001,0),COLUMN(A1871))","v":{"$error":"#N/A"}}]
[null,{"$f":"INDEX(建筑!$B$2:$B$5001,MATCH(表格模板!A1872,建筑!$A$2:$A$5001,0),COLUMN(A1872))","v":{"$error":"#N/A"}},null,{"$f":"INDEX(设备类型!$B$2:$B$5001,MATCH(表格模板!C1872,设备类型!$A$2:$A$5001,0),COLUMN(A1872))","v":{"$error":"#N/A"}}]
[null,{"$f":"INDEX(建筑!$B$2:$B$5001,MATCH(表格模板!A1873,建筑!$A$2:$A$5001,0),COLUMN(A1873))","v":{"$error":"#N/A"}},null,{"$f":"INDEX(设备类型!$B$2:$B$5001,MATCH(表格模板!C1873,设备类型!$A$2:$A$5001,0),COLUMN(A1873))","v":{"$error":"#N/A"}}]
[null,{"$f":"INDEX(建筑!$B$2:$B$5001,MATCH(表格模板!A1874,建筑!$A$2:$A$5001,0),COLUMN(A1874))","v":{"$error":"#N/A"}},null,{"$f":"INDEX(设备类型!$B$2:$B$5001,MATCH(表格模板!C1874,设备类型!$A$2:$A$5001,0),COLUMN(A1874))","v":{"$error":"#N/A"}}]
[null,{"$f":"INDEX(建筑!$B$2:$B$5001,MATCH(表格模板!A1875,建筑!$A$2:$A$5001,0),COLUMN(A1875))","v":{"$error":"#N/A"}},null,{"$f":"INDEX(设备类型!$B$2:$B$5001,MATCH(表格模板!C1875,设备类型!$A$2:$A$5001,0),COLUMN(A1875))","v":{"$error":"#N/A"}}]
[null,{"$f":"INDEX(建筑!$B$2:$B$5001,MATCH(表格模板!A1876,建筑!$A$2:$A$5001,0),COLUMN(A1876))","v":{"$error":"#N/A"}},null,{"$f":"INDEX(设备类型!$B$2:$B$5001,MATCH(表格模板!C1876,设备类型!$A$2:$A$5001,0),COLUMN(A1876))","v":{"$error":"#N/A"}}]
[null,{"$f":"INDEX(建筑!$B$2:$B$5001,MATCH(表格模板!A1877,建筑!$A$2:$A$5001,0),COLUMN(A1877))","v":{"$error":"#N/A"}},null,{"$f":"INDEX(设备类型!$B$2:$B$5001,MATCH(表格模板!C1877,设备类型!$A$2:$A$5001,0),COLUMN(A1877))","v":{"$error":"#N/A"}}]
[null,{"$f":"INDEX(建筑!$B$2:$B$5001,MATCH(表格模板!A1878,建筑!$A$2:$A$5001,0),COLUMN(A1878))","v":{"$error":"#N/A"}},null,{"$f":"INDEX(设备类型!$B$2:$B$5001,MATCH(表格模板!C1878,设备类型!$A$2:$A$5001,0),COLUMN(A1878))","v":{"$error":"#N/A"}}]
[null,{"$f":"INDEX(建筑!$B$2:$B$5001,MATCH(表格模板!A1879,建筑!$A$2:$A$5001,0),COLUMN(A1879))","v":{"$error":"#N/A"}},null,{"$f":"INDEX(设备类型!$B$2:$B$5001,MATCH(表格模板!C1879,设备类型!$A$2:$A$5001,0),COLUMN(A1879))","v":{"$error":"#N/A"}}]
[null,{"$f":"INDEX(建筑!$B$2:$B$5001,MATCH(表格模板!A1880,建筑!$A$2:$A$5001,0),COLUMN(A1880))","v":{"$error":"#N/A"}},null,{"$f":"INDEX(设备类型!$B$2:$B$5001,MATCH(表格模板!C1880,设备类型!$A$2:$A$5001,0),COLUMN(A1880))","v":{"$error":"#N/A"}}]
[null,{"$f":"INDEX(建筑!$B$2:$B$5001,MATCH(表格模板!A1881,建筑!$A$2:$A$5001,0),COLUMN(A1881))","v":{"$error":"#N/A"}},null,{"$f":"INDEX(设备类型!$B$2:$B$5001,MATCH(表格模板!C1881,设备类型!$A$2:$A$5001,0),COLUMN(A1881))","v":{"$error":"#N/A"}}]
[null,{"$f":"INDEX(建筑!$B$2:$B$5001,MATCH(表格模板!A1882,建筑!$A$2:$A$5001,0),COLUMN(A1882))","v":{"$error":"#N/A"}},null,{"$f":"INDEX(设备类型!$B$2:$B$5001,MATCH(表格模板!C1882,设备类型!$A$2:$A$5001,0),COLUMN(A1882))","v":{"$error":"#N/A"}}]
[null,{"$f":"INDEX(建筑!$B$2:$B$5001,MATCH(表格模板!A1883,建筑!$A$2:$A$5001,0),COLUMN(A1883))","v":{"$error":"#N/A"}},null,{"$f":"INDEX(设备类型!$B$2:$B$5001,MATCH(表格模板!C1883,设备类型!$A$2:$A$5001,0),COLUMN(A1883))","v":{"$error":"#N/A"}}]
[null,{"$f":"INDEX(建筑!$B$2:$B$5001,MATCH(表格模板!A1884,建筑!$A$2:$A$5001,0),COLUMN(A1884))","v":{"$error":"#N/A"}},null,{"$f":"INDEX(设备类型!$B$2:$B$5001,MATCH(表格模板!C1884,设备类型!$A$2:$A$5001,0),COLUMN(A1884))","v":{"$error":"#N/A"}}]
[null,{"$f":"INDEX(建筑!$B$2:$B$5001,MATCH(表格模板!A1885,建筑!$A$2:$A$5001,0),COLUMN(A1885))","v":{"$error":"#N/A"}},null,{"$f":"INDEX(设备类型!$B$2:$B$5001,MATCH(表格模板!C1885,设备类型!$A$2:$A$5001,0),COLUMN(A1885))","v":{"$error":"#N/A"}}]
[null,{"$f":"INDEX(建筑!$B$2:$B$5001,MATCH(表格模板!A1886,建筑!$A$2:$A$5001,0),COLUMN(A1886))","v":{"$error":"#N/A"}},null,{"$f":"INDEX(设备类型!$B$2:$B$5001,MATCH(表格模板!C1886,设备类型!$A$2:$A$5001,0),COLUMN(A1886))","v":{"$error":"#N/A"}}]
[null,{"$f":"INDEX(建筑!$B$2:$B$5001,MATCH(表格模板!A1887,建筑!$A$2:$A$5001,0),COLUMN(A1887))","v":{"$error":"#N/A"}},null,{"$f":"INDEX(设备类型!$B$2:$B$5001,MATCH(表格模板!C1887,设备类型!$A$2:$A$5001,0),COLUMN(A1887))","v":{"$error":"#N/A"}}]
[null,{"$f":"INDEX(建筑!$B$2:$B$5001,MATCH(表格模板!A1888,建筑!$A$2:$A$5001,0),COLUMN(A1888))","v":{"$error":"#N/A"}},null,{"$f":"INDEX(设备类型!$B$2:$B$5001,MATCH(表格模板!C1888,设备类型!$A$2:$A$5001,0),COLUMN(A1888))","v":{"$error":"#N/A"}}]
[null,{"$f":"INDEX(建筑!$B$2:$B$5001,MATCH(表格模板!A1889,建筑!$A$2:$A$5001,0),COLUMN(A1889))","v":{"$error":"#N/A"}},null,{"$f":"INDEX(设备类型!$B$2:$B$5001,MATCH(表格模板!C1889,设备类型!$A$2:$A$5001,0),COLUMN(A1889))","v":{"$error":"#N/A"}}]
[null,{"$f":"INDEX(建筑!$B$2:$B$5001,MATCH(表格模板!A1890,建筑!$A$2:$A$5001,0),COLUMN(A1890))","v":{"$error":"#N/A"}},null,{"$f":"INDEX(设备类型!$B$2:$B$5001,MATCH(表格模板!C1890,设备类型!$A$2:$A$5001,0),COLUMN(A1890))","v":{"$error":"#N/A"}}]
[null,{"$f":"INDEX(建筑!$B$2:$B$5001,MATCH(表格模板!A1891,建筑!$A$2:$A$5001,0),COLUMN(A1891))","v":{"$error":"#N/A"}},null,{"$f":"INDEX(设备类型!$B$2:$B$5001,MATCH(表格模板!C1891,设备类型!$A$2:$A$5001,0),COLUMN(A1891))","v":{"$error":"#N/A"}}]
[null,{"$f":"INDEX(建筑!$B$2:$B$5001,MATCH(表格模板!A1892,建筑!$A$2:$A$5001,0),COLUMN(A1892))","v":{"$error":"#N/A"}},null,{"$f":"INDEX(设备类型!$B$2:$B$5001,MATCH(表格模板!C1892,设备类型!$A$2:$A$5001,0),COLUMN(A1892))","v":{"$error":"#N/A"}}]
[null,{"$f":"INDEX(建筑!$B$2:$B$5001,MATCH(表格模板!A1893,建筑!$A$2:$A$5001,0),COLUMN(A1893))","v":{"$error":"#N/A"}},null,{"$f":"INDEX(设备类型!$B$2:$B$5001,MATCH(表格模板!C1893,设备类型!$A$2:$A$5001,0),COLUMN(A1893))","v":{"$error":"#N/A"}}]
[null,{"$f":"INDEX(建筑!$B$2:$B$5001,MATCH(表格模板!A1894,建筑!$A$2:$A$5001,0),COLUMN(A1894))","v":{"$error":"#N/A"}},null,{"$f":"INDEX(设备类型!$B$2:$B$5001,MATCH(表格模板!C1894,设备类型!$A$2:$A$5001,0),COLUMN(A1894))","v":{"$error":"#N/A"}}]
[null,{"$f":"INDEX(建筑!$B$2:$B$5001,MATCH(表格模板!A1895,建筑!$A$2:$A$5001,0),COLUMN(A1895))","v":{"$error":"#N/A"}},null,{"$f":"INDEX(设备类型!$B$2:$B$5001,MATCH(表格模板!C1895,设备类型!$A$2:$A$5001,0),COLUMN(A1895))","v":{"$error":"#N/A"}}]
[null,{"$f":"INDEX(建筑!$B$2:$B$5001,MATCH(表格模板!A1896,建筑!$A$2:$A$5001,0),COLUMN(A1896))","v":{"$error":"#N/A"}},null,{"$f":"INDEX(设备类型!$B$2:$B$5001,MATCH(表格模板!C1896,设备类型!$A$2:$A$5001,0),COLUMN(A1896))","v":{"$error":"#N/A"}}]
[null,{"$f":"INDEX(建筑!$B$2:$B$5001,MATCH(表格模板!A1897,建筑!$A$2:$A$5001,0),COLUMN(A1897))","v":{"$error":"#N/A"}},null,{"$f":"INDEX(设备类型!$B$2:$B$5001,MATCH(表格模板!C1897,设备类型!$A$2:$A$5001,0),COLUMN(A1897))","v":{"$error":"#N/A"}}]
[null,{"$f":"INDEX(建筑!$B$2:$B$5001,MATCH(表格模板!A1898,建筑!$A$2:$A$5001,0),COLUMN(A1898))","v":{"$error":"#N/A"}},null,{"$f":"INDEX(设备类型!$B$2:$B$5001,MATCH(表格模板!C1898,设备类型!$A$2:$A$5001,0),COLUMN(A1898))","v":{"$error":"#N/A"}}]
[null,{"$f":"INDEX(建筑!$B$2:$B$5001,MATCH(表格模板!A1899,建筑!$A$2:$A$5001,0),COLUMN(A1899))","v":{"$error":"#N/A"}},null,{"$f":"INDEX(设备类型!$B$2:$B$5001,MATCH(表格模板!C1899,设备类型!$A$2:$A$5001,0),COLUMN(A1899))","v":{"$error":"#N/A"}}]
[null,{"$f":"INDEX(建筑!$B$2:$B$5001,MATCH(表格模板!A1900,建筑!$A$2:$A$5001,0),COLUMN(A1900))","v":{"$error":"#N/A"}},null,{"$f":"INDEX(设备类型!$B$2:$B$5001,MATCH(表格模板!C1900,设备类型!$A$2:$A$5001,0),COLUMN(A1900))","v":{"$error":"#N/A"}}]
[null,{"$f":"INDEX(建筑!$B$2:$B$5001,MATCH(表格模板!A1901,建筑!$A$2:$A$5001,0),COLUMN(A1901))","v":{"$error":"#N/A"}},null,{"$f":"INDEX(设备类型!$B$2:$B$5001,MATCH(表格模板!C1901,设备类型!$A$2:$A$5001,0),COLUMN(A1901))","v":{"$error":"#N/A"}}]
[null,{"$f":"INDEX(建筑!$B$2:$B$5001,MATCH(表格模板!A1902,建筑!$A$2:$A$5001,0),COLUMN(A1902))","v":{"$error":"#N/A"}},null,{"$f":"INDEX(设备类型!$B$2:$B$5001,MATCH(表格模板!C1902,设备类型!$A$2:$A$5001,0),COLUMN(A1902))","v":{"$error":"#N/A"}}]
[null,{"$f":"INDEX(建筑!$B$2:$B$5001,MATCH(表格模板!A1903,建筑!$A$2:$A$5001,0),COLUMN(A1903))","v":{"$error":"#N/A"}},null,{"$f":"INDEX(设备类型!$B$2:$B$5001,MATCH(表格模板!C1903,设备类型!$A$2:$A$5001,0),COLUMN(A1903))","v":{"$error":"#N/A"}}]
[null,{"$f":"INDEX(建筑!$B$2:$B$5001,MATCH(表格模板!A1904,建筑!$A$2:$A$5001,0),COLUMN(A1904))","v":{"$error":"#N/A"}},null,{"$f":"INDEX(设备类型!$B$2:$B$5001,MATCH(表格模板!C1904,设备类型!$A$2:$A$5001,0),COLUMN(A1904))","v":{"$error":"#N/A"}}]
[null,{"$f":"INDEX(建筑!$B$2:$B$5001,MATCH(表格模板!A1905,建筑!$A$2:$A$5001,0),COLUMN(A1905))","v":{"$error":"#N/A"}},null,{"$f":"INDEX(设备类型!$B$2:$B$5001,MATCH(表格模板!C1905,设备类型!$A$2:$A$5001,0),COLUMN(A1905))","v":{"$error":"#N/A"}}]
[null,{"$f":"INDEX(建筑!$B$2:$B$5001,MATCH(表格模板!A1906,建筑!$A$2:$A$5001,0),COLUMN(A1906))","v":{"$error":"#N/A"}},null,{"$f":"INDEX(设备类型!$B$2:$B$5001,MATCH(表格模板!C1906,设备类型!$A$2:$A$5001,0),COLUMN(A1906))","v":{"$error":"#N/A"}}]
[null,{"$f":"INDEX(建筑!$B$2:$B$5001,MATCH(表格模板!A1907,建筑!$A$2:$A$5001,0),COLUMN(A1907))","v":{"$error":"#N/A"}},null,{"$f":"INDEX(设备类型!$B$2:$B$5001,MATCH(表格模板!C1907,设备类型!$A$2:$A$5001,0),COLUMN(A1907))","v":{"$error":"#N/A"}}]
[null,{"$f":"INDEX(建筑!$B$2:$B$5001,MATCH(表格模板!A1908,建筑!$A$2:$A$5001,0),COLUMN(A1908))","v":{"$error":"#N/A"}},null,{"$f":"INDEX(设备类型!$B$2:$B$5001,MATCH(表格模板!C1908,设备类型!$A$2:$A$5001,0),COLUMN(A1908))","v":{"$error":"#N/A"}}]
[null,{"$f":"INDEX(建筑!$B$2:$B$5001,MATCH(表格模板!A1909,建筑!$A$2:$A$5001,0),COLUMN(A1909))","v":{"$error":"#N/A"}},null,{"$f":"INDEX(设备类型!$B$2:$B$5001,MATCH(表格模板!C1909,设备类型!$A$2:$A$5001,0),COLUMN(A1909))","v":{"$error":"#N/A"}}]
[null,{"$f":"INDEX(建筑!$B$2:$B$5001,MATCH(表格模板!A1910,建筑!$A$2:$A$5001,0),COLUMN(A1910))","v":{"$error":"#N/A"}},null,{"$f":"INDEX(设备类型!$B$2:$B$5001,MATCH(表格模板!C1910,设备类型!$A$2:$A$5001,0),COLUMN(A1910))","v":{"$error":"#N/A"}}]
[null,{"$f":"INDEX(建筑!$B$2:$B$5001,MATCH(表格模板!A1911,建筑!$A$2:$A$5001,0),COLUMN(A1911))","v":{"$error":"#N/A"}},null,{"$f":"INDEX(设备类型!$B$2:$B$5001,MATCH(表格模板!C1911,设备类型!$A$2:$A$5001,0),COLUMN(A1911))","v":{"$error":"#N/A"}}]
[null,{"$f":"INDEX(建筑!$B$2:$B$5001,MATCH(表格模板!A1912,建筑!$A$2:$A$5001,0),COLUMN(A1912))","v":{"$error":"#N/A"}},null,{"$f":"INDEX(设备类型!$B$2:$B$5001,MATCH(表格模板!C1912,设备类型!$A$2:$A$5001,0),COLUMN(A1912))","v":{"$error":"#N/A"}}]
[null,{"$f":"INDEX(建筑!$B$2:$B$5001,MATCH(表格模板!A1913,建筑!$A$2:$A$5001,0),COLUMN(A1913))","v":{"$error":"#N/A"}},null,{"$f":"INDEX(设备类型!$B$2:$B$5001,MATCH(表格模板!C1913,设备类型!$A$2:$A$5001,0),COLUMN(A1913))","v":{"$error":"#N/A"}}]
[null,{"$f":"INDEX(建筑!$B$2:$B$5001,MATCH(表格模板!A1914,建筑!$A$2:$A$5001,0),COLUMN(A1914))","v":{"$error":"#N/A"}},null,{"$f":"INDEX(设备类型!$B$2:$B$5001,MATCH(表格模板!C1914,设备类型!$A$2:$A$5001,0),COLUMN(A1914))","v":{"$error":"#N/A"}}]
[null,{"$f":"INDEX(建筑!$B$2:$B$5001,MATCH(表格模板!A1915,建筑!$A$2:$A$5001,0),COLUMN(A1915))","v":{"$error":"#N/A"}},null,{"$f":"INDEX(设备类型!$B$2:$B$5001,MATCH(表格模板!C1915,设备类型!$A$2:$A$5001,0),COLUMN(A1915))","v":{"$error":"#N/A"}}]
[null,{"$f":"INDEX(建筑!$B$2:$B$5001,MATCH(表格模板!A1916,建筑!$A$2:$A$5001,0),COLUMN(A1916))","v":{"$error":"#N/A"}},null,{"$f":"INDEX(设备类型!$B$2:$B$5001,MATCH(表格模板!C1916,设备类型!$A$2:$A$5001,0),COLUMN(A1916))","v":{"$error":"#N/A"}}]
[null,{"$f":"INDEX(建筑!$B$2:$B$5001,MATCH(表格模板!A1917,建筑!$A$2:$A$5001,0),COLUMN(A1917))","v":{"$error":"#N/A"}},null,{"$f":"INDEX(设备类型!$B$2:$B$5001,MATCH(表格模板!C1917,设备类型!$A$2:$A$5001,0),COLUMN(A1917))","v":{"$error":"#N/A"}}]
[null,{"$f":"INDEX(建筑!$B$2:$B$5001,MATCH(表格模板!A1918,建筑!$A$2:$A$5001,0),COLUMN(A1918))","v":{"$error":"#N/A"}},null,{"$f":"INDEX(设备类型!$B$2:$B$5001,MATCH(表格模板!C1918,设备类型!$A$2:$A$5001,0),COLUMN(A1918))","v":{"$error":"#N/A"}}]
[null,{"$f":"INDEX(建筑!$B$2:$B$5001,MATCH(表格模板!A1919,建筑!$A$2:$A$5001,0),COLUMN(A1919))","v":{"$error":"#N/A"}},null,{"$f":"INDEX(设备类型!$B$2:$B$5001,MATCH(表格模板!C1919,设备类型!$A$2:$A$5001,0),COLUMN(A1919))","v":{"$error":"#N/A"}}]
[null,{"$f":"INDEX(建筑!$B$2:$B$5001,MATCH(表格模板!A1920,建筑!$A$2:$A$5001,0),COLUMN(A1920))","v":{"$error":"#N/A"}},null,{"$f":"INDEX(设备类型!$B$2:$B$5001,MATCH(表格模板!C1920,设备类型!$A$2:$A$5001,0),COLUMN(A1920))","v":{"$error":"#N/A"}}]
[null,{"$f":"INDEX(建筑!$B$2:$B$5001,MATCH(表格模板!A1921,建筑!$A$2:$A$5001,0),COLUMN(A1921))","v":{"$error":"#N/A"}},null,{"$f":"INDEX(设备类型!$B$2:$B$5001,MATCH(表格模板!C1921,设备类型!$A$2:$A$5001,0),COLUMN(A1921))","v":{"$error":"#N/A"}}]
[null,{"$f":"INDEX(建筑!$B$2:$B$5001,MATCH(表格模板!A1922,建筑!$A$2:$A$5001,0),COLUMN(A1922))","v":{"$error":"#N/A"}},null,{"$f":"INDEX(设备类型!$B$2:$B$5001,MATCH(表格模板!C1922,设备类型!$A$2:$A$5001,0),COLUMN(A1922))","v":{"$error":"#N/A"}}]
[null,{"$f":"INDEX(建筑!$B$2:$B$5001,MATCH(表格模板!A1923,建筑!$A$2:$A$5001,0),COLUMN(A1923))","v":{"$error":"#N/A"}},null,{"$f":"INDEX(设备类型!$B$2:$B$5001,MATCH(表格模板!C1923,设备类型!$A$2:$A$5001,0),COLUMN(A1923))","v":{"$error":"#N/A"}}]
[null,{"$f":"INDEX(建筑!$B$2:$B$5001,MATCH(表格模板!A1924,建筑!$A$2:$A$5001,0),COLUMN(A1924))","v":{"$error":"#N/A"}},null,{"$f":"INDEX(设备类型!$B$2:$B$5001,MATCH(表格模板!C1924,设备类型!$A$2:$A$5001,0),COLUMN(A1924))","v":{"$error":"#N/A"}}]
[null,{"$f":"INDEX(建筑!$B$2:$B$5001,MATCH(表格模板!A1925,建筑!$A$2:$A$5001,0),COLUMN(A1925))","v":{"$error":"#N/A"}},null,{"$f":"INDEX(设备类型!$B$2:$B$5001,MATCH(表格模板!C1925,设备类型!$A$2:$A$5001,0),COLUMN(A1925))","v":{"$error":"#N/A"}}]
[null,{"$f":"INDEX(建筑!$B$2:$B$5001,MATCH(表格模板!A1926,建筑!$A$2:$A$5001,0),COLUMN(A1926))","v":{"$error":"#N/A"}},null,{"$f":"INDEX(设备类型!$B$2:$B$5001,MATCH(表格模板!C1926,设备类型!$A$2:$A$5001,0),COLUMN(A1926))","v":{"$error":"#N/A"}}]
[null,{"$f":"INDEX(建筑!$B$2:$B$5001,MATCH(表格模板!A1927,建筑!$A$2:$A$5001,0),COLUMN(A1927))","v":{"$error":"#N/A"}},null,{"$f":"INDEX(设备类型!$B$2:$B$5001,MATCH(表格模板!C1927,设备类型!$A$2:$A$5001,0),COLUMN(A1927))","v":{"$error":"#N/A"}}]
[null,{"$f":"INDEX(建筑!$B$2:$B$5001,MATCH(表格模板!A1928,建筑!$A$2:$A$5001,0),COLUMN(A1928))","v":{"$error":"#N/A"}},null,{"$f":"INDEX(设备类型!$B$2:$B$5001,MATCH(表格模板!C1928,设备类型!$A$2:$A$5001,0),COLUMN(A1928))","v":{"$error":"#N/A"}}]
[null,{"$f":"INDEX(建筑!$B$2:$B$5001,MATCH(表格模板!A1929,建筑!$A$2:$A$5001,0),COLUMN(A1929))","v":{"$error":"#N/A"}},null,{"$f":"INDEX(设备类型!$B$2:$B$5001,MATCH(表格模板!C1929,设备类型!$A$2:$A$5001,0),COLUMN(A1929))","v":{"$error":"#N/A"}}]
[null,{"$f":"INDEX(建筑!$B$2:$B$5001,MATCH(表格模板!A1930,建筑!$A$2:$A$5001,0),COLUMN(A1930))","v":{"$error":"#N/A"}},null,{"$f":"INDEX(设备类型!$B$2:$B$5001,MATCH(表格模板!C1930,设备类型!$A$2:$A$5001,0),COLUMN(A1930))","v":{"$error":"#N/A"}}]
[null,{"$f":"INDEX(建筑!$B$2:$B$5001,MATCH(表格模板!A1931,建筑!$A$2:$A$5001,0),COLUMN(A1931))","v":{"$error":"#N/A"}},null,{"$f":"INDEX(设备类型!$B$2:$B$5001,MATCH(表格模板!C1931,设备类型!$A$2:$A$5001,0),COLUMN(A1931))","v":{"$error":"#N/A"}}]
[null,{"$f":"INDEX(建筑!$B$2:$B$5001,MATCH(表格模板!A1932,建筑!$A$2:$A$5001,0),COLUMN(A1932))","v":{"$error":"#N/A"}},null,{"$f":"INDEX(设备类型!$B$2:$B$5001,MATCH(表格模板!C1932,设备类型!$A$2:$A$5001,0),COLUMN(A1932))","v":{"$error":"#N/A"}}]
[null,{"$f":"INDEX(建筑!$B$2:$B$5001,MATCH(表格模板!A1933,建筑!$A$2:$A$5001,0),COLUMN(A1933))","v":{"$error":"#N/A"}},null,{"$f":"INDEX(设备类型!$B$2:$B$5001,MATCH(表格模板!C1933,设备类型!$A$2:$A$5001,0),COLUMN(A1933))","v":{"$error":"#N/A"}}]
[null,{"$f":"INDEX(建筑!$B$2:$B$5001,MATCH(表格模板!A1934,建筑!$A$2:$A$5001,0),COLUMN(A1934))","v":{"$error":"#N/A"}},null,{"$f":"INDEX(设备类型!$B$2:$B$5001,MATCH(表格模板!C1934,设备类型!$A$2:$A$5001,0),COLUMN(A1934))","v":{"$error":"#N/A"}}]
[null,{"$f":"INDEX(建筑!$B$2:$B$5001,MATCH(表格模板!A1935,建筑!$A$2:$A$5001,0),COLUMN(A1935))","v":{"$error":"#N/A"}},null,{"$f":"INDEX(设备类型!$B$2:$B$5001,MATCH(表格模板!C1935,设备类型!$A$2:$A$5001,0),COLUMN(A1935))","v":{"$error":"#N/A"}}]
[null,{"$f":"INDEX(建筑!$B$2:$B$5001,MATCH(表格模板!A1936,建筑!$A$2:$A$5001,0),COLUMN(A1936))","v":{"$error":"#N/A"}},null,{"$f":"INDEX(设备类型!$B$2:$B$5001,MATCH(表格模板!C1936,设备类型!$A$2:$A$5001,0),COLUMN(A1936))","v":{"$error":"#N/A"}}]
[null,{"$f":"INDEX(建筑!$B$2:$B$5001,MATCH(表格模板!A1937,建筑!$A$2:$A$5001,0),COLUMN(A1937))","v":{"$error":"#N/A"}},null,{"$f":"INDEX(设备类型!$B$2:$B$5001,MATCH(表格模板!C1937,设备类型!$A$2:$A$5001,0),COLUMN(A1937))","v":{"$error":"#N/A"}}]
[null,{"$f":"INDEX(建筑!$B$2:$B$5001,MATCH(表格模板!A1938,建筑!$A$2:$A$5001,0),COLUMN(A1938))","v":{"$error":"#N/A"}},null,{"$f":"INDEX(设备类型!$B$2:$B$5001,MATCH(表格模板!C1938,设备类型!$A$2:$A$5001,0),COLUMN(A1938))","v":{"$error":"#N/A"}}]
[null,{"$f":"INDEX(建筑!$B$2:$B$5001,MATCH(表格模板!A1939,建筑!$A$2:$A$5001,0),COLUMN(A1939))","v":{"$error":"#N/A"}},null,{"$f":"INDEX(设备类型!$B$2:$B$5001,MATCH(表格模板!C1939,设备类型!$A$2:$A$5001,0),COLUMN(A1939))","v":{"$error":"#N/A"}}]
[null,{"$f":"INDEX(建筑!$B$2:$B$5001,MATCH(表格模板!A1940,建筑!$A$2:$A$5001,0),COLUMN(A1940))","v":{"$error":"#N/A"}},null,{"$f":"INDEX(设备类型!$B$2:$B$5001,MATCH(表格模板!C1940,设备类型!$A$2:$A$5001,0),COLUMN(A1940))","v":{"$error":"#N/A"}}]
[null,{"$f":"INDEX(建筑!$B$2:$B$5001,MATCH(表格模板!A1941,建筑!$A$2:$A$5001,0),COLUMN(A1941))","v":{"$error":"#N/A"}},null,{"$f":"INDEX(设备类型!$B$2:$B$5001,MATCH(表格模板!C1941,设备类型!$A$2:$A$5001,0),COLUMN(A1941))","v":{"$error":"#N/A"}}]
[null,{"$f":"INDEX(建筑!$B$2:$B$5001,MATCH(表格模板!A1942,建筑!$A$2:$A$5001,0),COLUMN(A1942))","v":{"$error":"#N/A"}},null,{"$f":"INDEX(设备类型!$B$2:$B$5001,MATCH(表格模板!C1942,设备类型!$A$2:$A$5001,0),COLUMN(A1942))","v":{"$error":"#N/A"}}]
[null,{"$f":"INDEX(建筑!$B$2:$B$5001,MATCH(表格模板!A1943,建筑!$A$2:$A$5001,0),COLUMN(A1943))","v":{"$error":"#N/A"}},null,{"$f":"INDEX(设备类型!$B$2:$B$5001,MATCH(表格模板!C1943,设备类型!$A$2:$A$5001,0),COLUMN(A1943))","v":{"$error":"#N/A"}}]
[null,{"$f":"INDEX(建筑!$B$2:$B$5001,MATCH(表格模板!A1944,建筑!$A$2:$A$5001,0),COLUMN(A1944))","v":{"$error":"#N/A"}},null,{"$f":"INDEX(设备类型!$B$2:$B$5001,MATCH(表格模板!C1944,设备类型!$A$2:$A$5001,0),COLUMN(A1944))","v":{"$error":"#N/A"}}]
[null,{"$f":"INDEX(建筑!$B$2:$B$5001,MATCH(表格模板!A1945,建筑!$A$2:$A$5001,0),COLUMN(A1945))","v":{"$error":"#N/A"}},null,{"$f":"INDEX(设备类型!$B$2:$B$5001,MATCH(表格模板!C1945,设备类型!$A$2:$A$5001,0),COLUMN(A1945))","v":{"$error":"#N/A"}}]
[null,{"$f":"INDEX(建筑!$B$2:$B$5001,MATCH(表格模板!A1946,建筑!$A$2:$A$5001,0),COLUMN(A1946))","v":{"$error":"#N/A"}},null,{"$f":"INDEX(设备类型!$B$2:$B$5001,MATCH(表格模板!C1946,设备类型!$A$2:$A$5001,0),COLUMN(A1946))","v":{"$error":"#N/A"}}]
[null,{"$f":"INDEX(建筑!$B$2:$B$5001,MATCH(表格模板!A1947,建筑!$A$2:$A$5001,0),COLUMN(A1947))","v":{"$error":"#N/A"}},null,{"$f":"INDEX(设备类型!$B$2:$B$5001,MATCH(表格模板!C1947,设备类型!$A$2:$A$5001,0),COLUMN(A1947))","v":{"$error":"#N/A"}}]
[null,{"$f":"INDEX(建筑!$B$2:$B$5001,MATCH(表格模板!A1948,建筑!$A$2:$A$5001,0),COLUMN(A1948))","v":{"$error":"#N/A"}},null,{"$f":"INDEX(设备类型!$B$2:$B$5001,MATCH(表格模板!C1948,设备类型!$A$2:$A$5001,0),COLUMN(A1948))","v":{"$error":"#N/A"}}]
[null,{"$f":"INDEX(建筑!$B$2:$B$5001,MATCH(表格模板!A1949,建筑!$A$2:$A$5001,0),COLUMN(A1949))","v":{"$error":"#N/A"}},null,{"$f":"INDEX(设备类型!$B$2:$B$5001,MATCH(表格模板!C1949,设备类型!$A$2:$A$5001,0),COLUMN(A1949))","v":{"$error":"#N/A"}}]
[null,{"$f":"INDEX(建筑!$B$2:$B$5001,MATCH(表格模板!A1950,建筑!$A$2:$A$5001,0),COLUMN(A1950))","v":{"$error":"#N/A"}},null,{"$f":"INDEX(设备类型!$B$2:$B$5001,MATCH(表格模板!C1950,设备类型!$A$2:$A$5001,0),COLUMN(A1950))","v":{"$error":"#N/A"}}]
[null,{"$f":"INDEX(建筑!$B$2:$B$5001,MATCH(表格模板!A1951,建筑!$A$2:$A$5001,0),COLUMN(A1951))","v":{"$error":"#N/A"}},null,{"$f":"INDEX(设备类型!$B$2:$B$5001,MATCH(表格模板!C1951,设备类型!$A$2:$A$5001,0),COLUMN(A1951))","v":{"$error":"#N/A"}}]
[null,{"$f":"INDEX(建筑!$B$2:$B$5001,MATCH(表格模板!A1952,建筑!$A$2:$A$5001,0),COLUMN(A1952))","v":{"$error":"#N/A"}},null,{"$f":"INDEX(设备类型!$B$2:$B$5001,MATCH(表格模板!C1952,设备类型!$A$2:$A$5001,0),COLUMN(A1952))","v":{"$error":"#N/A"}}]
[null,{"$f":"INDEX(建筑!$B$2:$B$5001,MATCH(表格模板!A1953,建筑!$A$2:$A$5001,0),COLUMN(A1953))","v":{"$error":"#N/A"}},null,{"$f":"INDEX(设备类型!$B$2:$B$5001,MATCH(表格模板!C1953,设备类型!$A$2:$A$5001,0),COLUMN(A1953))","v":{"$error":"#N/A"}}]
[null,{"$f":"INDEX(建筑!$B$2:$B$5001,MATCH(表格模板!A1954,建筑!$A$2:$A$5001,0),COLUMN(A1954))","v":{"$error":"#N/A"}},null,{"$f":"INDEX(设备类型!$B$2:$B$5001,MATCH(表格模板!C1954,设备类型!$A$2:$A$5001,0),COLUMN(A1954))","v":{"$error":"#N/A"}}]
[null,{"$f":"INDEX(建筑!$B$2:$B$5001,MATCH(表格模板!A1955,建筑!$A$2:$A$5001,0),COLUMN(A1955))","v":{"$error":"#N/A"}},null,{"$f":"INDEX(设备类型!$B$2:$B$5001,MATCH(表格模板!C1955,设备类型!$A$2:$A$5001,0),COLUMN(A1955))","v":{"$error":"#N/A"}}]
[null,{"$f":"INDEX(建筑!$B$2:$B$5001,MATCH(表格模板!A1956,建筑!$A$2:$A$5001,0),COLUMN(A1956))","v":{"$error":"#N/A"}},null,{"$f":"INDEX(设备类型!$B$2:$B$5001,MATCH(表格模板!C1956,设备类型!$A$2:$A$5001,0),COLUMN(A1956))","v":{"$error":"#N/A"}}]
[null,{"$f":"INDEX(建筑!$B$2:$B$5001,MATCH(表格模板!A1957,建筑!$A$2:$A$5001,0),COLUMN(A1957))","v":{"$error":"#N/A"}},null,{"$f":"INDEX(设备类型!$B$2:$B$5001,MATCH(表格模板!C1957,设备类型!$A$2:$A$5001,0),COLUMN(A1957))","v":{"$error":"#N/A"}}]
[null,{"$f":"INDEX(建筑!$B$2:$B$5001,MATCH(表格模板!A1958,建筑!$A$2:$A$5001,0),COLUMN(A1958))","v":{"$error":"#N/A"}},null,{"$f":"INDEX(设备类型!$B$2:$B$5001,MATCH(表格模板!C1958,设备类型!$A$2:$A$5001,0),COLUMN(A1958))","v":{"$error":"#N/A"}}]
[null,{"$f":"INDEX(建筑!$B$2:$B$5001,MATCH(表格模板!A1959,建筑!$A$2:$A$5001,0),COLUMN(A1959))","v":{"$error":"#N/A"}},null,{"$f":"INDEX(设备类型!$B$2:$B$5001,MATCH(表格模板!C1959,设备类型!$A$2:$A$5001,0),COLUMN(A1959))","v":{"$error":"#N/A"}}]
[null,{"$f":"INDEX(建筑!$B$2:$B$5001,MATCH(表格模板!A1960,建筑!$A$2:$A$5001,0),COLUMN(A1960))","v":{"$error":"#N/A"}},null,{"$f":"INDEX(设备类型!$B$2:$B$5001,MATCH(表格模板!C1960,设备类型!$A$2:$A$5001,0),COLUMN(A1960))","v":{"$error":"#N/A"}}]
[null,{"$f":"INDEX(建筑!$B$2:$B$5001,MATCH(表格模板!A1961,建筑!$A$2:$A$5001,0),COLUMN(A1961))","v":{"$error":"#N/A"}},null,{"$f":"INDEX(设备类型!$B$2:$B$5001,MATCH(表格模板!C1961,设备类型!$A$2:$A$5001,0),COLUMN(A1961))","v":{"$error":"#N/A"}}]
[null,{"$f":"INDEX(建筑!$B$2:$B$5001,MATCH(表格模板!A1962,建筑!$A$2:$A$5001,0),COLUMN(A1962))","v":{"$error":"#N/A"}},null,{"$f":"INDEX(设备类型!$B$2:$B$5001,MATCH(表格模板!C1962,设备类型!$A$2:$A$5001,0),COLUMN(A1962))","v":{"$error":"#N/A"}}]
[null,{"$f":"INDEX(建筑!$B$2:$B$5001,MATCH(表格模板!A1963,建筑!$A$2:$A$5001,0),COLUMN(A1963))","v":{"$error":"#N/A"}},null,{"$f":"INDEX(设备类型!$B$2:$B$5001,MATCH(表格模板!C1963,设备类型!$A$2:$A$5001,0),COLUMN(A1963))","v":{"$error":"#N/A"}}]
[null,{"$f":"INDEX(建筑!$B$2:$B$5001,MATCH(表格模板!A1964,建筑!$A$2:$A$5001,0),COLUMN(A1964))","v":{"$error":"#N/A"}},null,{"$f":"INDEX(设备类型!$B$2:$B$5001,MATCH(表格模板!C1964,设备类型!$A$2:$A$5001,0),COLUMN(A1964))","v":{"$error":"#N/A"}}]
[null,{"$f":"INDEX(建筑!$B$2:$B$5001,MATCH(表格模板!A1965,建筑!$A$2:$A$5001,0),COLUMN(A1965))","v":{"$error":"#N/A"}},null,{"$f":"INDEX(设备类型!$B$2:$B$5001,MATCH(表格模板!C1965,设备类型!$A$2:$A$5001,0),COLUMN(A1965))","v":{"$error":"#N/A"}}]
[null,{"$f":"INDEX(建筑!$B$2:$B$5001,MATCH(表格模板!A1966,建筑!$A$2:$A$5001,0),COLUMN(A1966))","v":{"$error":"#N/A"}},null,{"$f":"INDEX(设备类型!$B$2:$B$5001,MATCH(表格模板!C1966,设备类型!$A$2:$A$5001,0),COLUMN(A1966))","v":{"$error":"#N/A"}}]
[null,{"$f":"INDEX(建筑!$B$2:$B$5001,MATCH(表格模板!A1967,建筑!$A$2:$A$5001,0),COLUMN(A1967))","v":{"$error":"#N/A"}},null,{"$f":"INDEX(设备类型!$B$2:$B$5001,MATCH(表格模板!C1967,设备类型!$A$2:$A$5001,0),COLUMN(A1967))","v":{"$error":"#N/A"}}]
[null,{"$f":"INDEX(建筑!$B$2:$B$5001,MATCH(表格模板!A1968,建筑!$A$2:$A$5001,0),COLUMN(A1968))","v":{"$error":"#N/A"}},null,{"$f":"INDEX(设备类型!$B$2:$B$5001,MATCH(表格模板!C1968,设备类型!$A$2:$A$5001,0),COLUMN(A1968))","v":{"$error":"#N/A"}}]
[null,{"$f":"INDEX(建筑!$B$2:$B$5001,MATCH(表格模板!A1969,建筑!$A$2:$A$5001,0),COLUMN(A1969))","v":{"$error":"#N/A"}},null,{"$f":"INDEX(设备类型!$B$2:$B$5001,MATCH(表格模板!C1969,设备类型!$A$2:$A$5001,0),COLUMN(A1969))","v":{"$error":"#N/A"}}]
[null,{"$f":"INDEX(建筑!$B$2:$B$5001,MATCH(表格模板!A1970,建筑!$A$2:$A$5001,0),COLUMN(A1970))","v":{"$error":"#N/A"}},null,{"$f":"INDEX(设备类型!$B$2:$B$5001,MATCH(表格模板!C1970,设备类型!$A$2:$A$5001,0),COLUMN(A1970))","v":{"$error":"#N/A"}}]
[null,{"$f":"INDEX(建筑!$B$2:$B$5001,MATCH(表格模板!A1971,建筑!$A$2:$A$5001,0),COLUMN(A1971))","v":{"$error":"#N/A"}},null,{"$f":"INDEX(设备类型!$B$2:$B$5001,MATCH(表格模板!C1971,设备类型!$A$2:$A$5001,0),COLUMN(A1971))","v":{"$error":"#N/A"}}]
[null,{"$f":"INDEX(建筑!$B$2:$B$5001,MATCH(表格模板!A1972,建筑!$A$2:$A$5001,0),COLUMN(A1972))","v":{"$error":"#N/A"}},null,{"$f":"INDEX(设备类型!$B$2:$B$5001,MATCH(表格模板!C1972,设备类型!$A$2:$A$5001,0),COLUMN(A1972))","v":{"$error":"#N/A"}}]
[null,{"$f":"INDEX(建筑!$B$2:$B$5001,MATCH(表格模板!A1973,建筑!$A$2:$A$5001,0),COLUMN(A1973))","v":{"$error":"#N/A"}},null,{"$f":"INDEX(设备类型!$B$2:$B$5001,MATCH(表格模板!C1973,设备类型!$A$2:$A$5001,0),COLUMN(A1973))","v":{"$error":"#N/A"}}]
[null,{"$f":"INDEX(建筑!$B$2:$B$5001,MATCH(表格模板!A1974,建筑!$A$2:$A$5001,0),COLUMN(A1974))","v":{"$error":"#N/A"}},null,{"$f":"INDEX(设备类型!$B$2:$B$5001,MATCH(表格模板!C1974,设备类型!$A$2:$A$5001,0),COLUMN(A1974))","v":{"$error":"#N/A"}}]
[null,{"$f":"INDEX(建筑!$B$2:$B$5001,MATCH(表格模板!A1975,建筑!$A$2:$A$5001,0),COLUMN(A1975))","v":{"$error":"#N/A"}},null,{"$f":"INDEX(设备类型!$B$2:$B$5001,MATCH(表格模板!C1975,设备类型!$A$2:$A$5001,0),COLUMN(A1975))","v":{"$error":"#N/A"}}]
[null,{"$f":"INDEX(建筑!$B$2:$B$5001,MATCH(表格模板!A1976,建筑!$A$2:$A$5001,0),COLUMN(A1976))","v":{"$error":"#N/A"}},null,{"$f":"INDEX(设备类型!$B$2:$B$5001,MATCH(表格模板!C1976,设备类型!$A$2:$A$5001,0),COLUMN(A1976))","v":{"$error":"#N/A"}}]
[null,{"$f":"INDEX(建筑!$B$2:$B$5001,MATCH(表格模板!A1977,建筑!$A$2:$A$5001,0),COLUMN(A1977))","v":{"$error":"#N/A"}},null,{"$f":"INDEX(设备类型!$B$2:$B$5001,MATCH(表格模板!C1977,设备类型!$A$2:$A$5001,0),COLUMN(A1977))","v":{"$error":"#N/A"}}]
[null,{"$f":"INDEX(建筑!$B$2:$B$5001,MATCH(表格模板!A1978,建筑!$A$2:$A$5001,0),COLUMN(A1978))","v":{"$error":"#N/A"}},null,{"$f":"INDEX(设备类型!$B$2:$B$5001,MATCH(表格模板!C1978,设备类型!$A$2:$A$5001,0),COLUMN(A1978))","v":{"$error":"#N/A"}}]
[null,{"$f":"INDEX(建筑!$B$2:$B$5001,MATCH(表格模板!A1979,建筑!$A$2:$A$5001,0),COLUMN(A1979))","v":{"$error":"#N/A"}},null,{"$f":"INDEX(设备类型!$B$2:$B$5001,MATCH(表格模板!C1979,设备类型!$A$2:$A$5001,0),COLUMN(A1979))","v":{"$error":"#N/A"}}]
[null,{"$f":"INDEX(建筑!$B$2:$B$5001,MATCH(表格模板!A1980,建筑!$A$2:$A$5001,0),COLUMN(A1980))","v":{"$error":"#N/A"}},null,{"$f":"INDEX(设备类型!$B$2:$B$5001,MATCH(表格模板!C1980,设备类型!$A$2:$A$5001,0),COLUMN(A1980))","v":{"$error":"#N/A"}}]
[null,{"$f":"INDEX(建筑!$B$2:$B$5001,MATCH(表格模板!A1981,建筑!$A$2:$A$5001,0),COLUMN(A1981))","v":{"$error":"#N/A"}},null,{"$f":"INDEX(设备类型!$B$2:$B$5001,MATCH(表格模板!C1981,设备类型!$A$2:$A$5001,0),COLUMN(A1981))","v":{"$error":"#N/A"}}]
[null,{"$f":"INDEX(建筑!$B$2:$B$5001,MATCH(表格模板!A1982,建筑!$A$2:$A$5001,0),COLUMN(A1982))","v":{"$error":"#N/A"}},null,{"$f":"INDEX(设备类型!$B$2:$B$5001,MATCH(表格模板!C1982,设备类型!$A$2:$A$5001,0),COLUMN(A1982))","v":{"$error":"#N/A"}}]
[null,{"$f":"INDEX(建筑!$B$2:$B$5001,MATCH(表格模板!A1983,建筑!$A$2:$A$5001,0),COLUMN(A1983))","v":{"$error":"#N/A"}},null,{"$f":"INDEX(设备类型!$B$2:$B$5001,MATCH(表格模板!C1983,设备类型!$A$2:$A$5001,0),COLUMN(A1983))","v":{"$error":"#N/A"}}]
[null,{"$f":"INDEX(建筑!$B$2:$B$5001,MATCH(表格模板!A1984,建筑!$A$2:$A$5001,0),COLUMN(A1984))","v":{"$error":"#N/A"}},null,{"$f":"INDEX(设备类型!$B$2:$B$5001,MATCH(表格模板!C1984,设备类型!$A$2:$A$5001,0),COLUMN(A1984))","v":{"$error":"#N/A"}}]
[null,{"$f":"INDEX(建筑!$B$2:$B$5001,MATCH(表格模板!A1985,建筑!$A$2:$A$5001,0),COLUMN(A1985))","v":{"$error":"#N/A"}},null,{"$f":"INDEX(设备类型!$B$2:$B$5001,MATCH(表格模板!C1985,设备类型!$A$2:$A$5001,0),COLUMN(A1985))","v":{"$error":"#N/A"}}]
[null,{"$f":"INDEX(建筑!$B$2:$B$5001,MATCH(表格模板!A1986,建筑!$A$2:$A$5001,0),COLUMN(A1986))","v":{"$error":"#N/A"}},null,{"$f":"INDEX(设备类型!$B$2:$B$5001,MATCH(表格模板!C1986,设备类型!$A$2:$A$5001,0),COLUMN(A1986))","v":{"$error":"#N/A"}}]
[null,{"$f":"INDEX(建筑!$B$2:$B$5001,MATCH(表格模板!A1987,建筑!$A$2:$A$5001,0),COLUMN(A1987))","v":{"$error":"#N/A"}},null,{"$f":"INDEX(设备类型!$B$2:$B$5001,MATCH(表格模板!C1987,设备类型!$A$2:$A$5001,0),COLUMN(A1987))","v":{"$error":"#N/A"}}]
[null,{"$f":"INDEX(建筑!$B$2:$B$5001,MATCH(表格模板!A1988,建筑!$A$2:$A$5001,0),COLUMN(A1988))","v":{"$error":"#N/A"}},null,{"$f":"INDEX(设备类型!$B$2:$B$5001,MATCH(表格模板!C1988,设备类型!$A$2:$A$5001,0),COLUMN(A1988))","v":{"$error":"#N/A"}}]
[null,{"$f":"INDEX(建筑!$B$2:$B$5001,MATCH(表格模板!A1989,建筑!$A$2:$A$5001,0),COLUMN(A1989))","v":{"$error":"#N/A"}},null,{"$f":"INDEX(设备类型!$B$2:$B$5001,MATCH(表格模板!C1989,设备类型!$A$2:$A$5001,0),COLUMN(A1989))","v":{"$error":"#N/A"}}]
[null,{"$f":"INDEX(建筑!$B$2:$B$5001,MATCH(表格模板!A1990,建筑!$A$2:$A$5001,0),COLUMN(A1990))","v":{"$error":"#N/A"}},null,{"$f":"INDEX(设备类型!$B$2:$B$5001,MATCH(表格模板!C1990,设备类型!$A$2:$A$5001,0),COLUMN(A1990))","v":{"$error":"#N/A"}}]
[null,{"$f":"INDEX(建筑!$B$2:$B$5001,MATCH(表格模板!A1991,建筑!$A$2:$A$5001,0),COLUMN(A1991))","v":{"$error":"#N/A"}},null,{"$f":"INDEX(设备类型!$B$2:$B$5001,MATCH(表格模板!C1991,设备类型!$A$2:$A$5001,0),COLUMN(A1991))","v":{"$error":"#N/A"}}]
[null,{"$f":"INDEX(建筑!$B$2:$B$5001,MATCH(表格模板!A1992,建筑!$A$2:$A$5001,0),COLUMN(A1992))","v":{"$error":"#N/A"}},null,{"$f":"INDEX(设备类型!$B$2:$B$5001,MATCH(表格模板!C1992,设备类型!$A$2:$A$5001,0),COLUMN(A1992))","v":{"$error":"#N/A"}}]
[null,{"$f":"INDEX(建筑!$B$2:$B$5001,MATCH(表格模板!A1993,建筑!$A$2:$A$5001,0),COLUMN(A1993))","v":{"$error":"#N/A"}},null,{"$f":"INDEX(设备类型!$B$2:$B$5001,MATCH(表格模板!C1993,设备类型!$A$2:$A$5001,0),COLUMN(A1993))","v":{"$error":"#N/A"}}]
[null,{"$f":"INDEX(建筑!$B$2:$B$5001,MATCH(表格模板!A1994,建筑!$A$2:$A$5001,0),COLUMN(A1994))","v":{"$error":"#N/A"}},null,{"$f":"INDEX(设备类型!$B$2:$B$5001,MATCH(表格模板!C1994,设备类型!$A$2:$A$5001,0),COLUMN(A1994))","v":{"$error":"#N/A"}}]
[null,{"$f":"INDEX(建筑!$B$2:$B$5001,MATCH(表格模板!A1995,建筑!$A$2:$A$5001,0),COLUMN(A1995))","v":{"$error":"#N/A"}},null,{"$f":"INDEX(设备类型!$B$2:$B$5001,MATCH(表格模板!C1995,设备类型!$A$2:$A$5001,0),COLUMN(A1995))","v":{"$error":"#N/A"}}]
[null,{"$f":"INDEX(建筑!$B$2:$B$5001,MATCH(表格模板!A1996,建筑!$A$2:$A$5001,0),COLUMN(A1996))","v":{"$error":"#N/A"}},null,{"$f":"INDEX(设备类型!$B$2:$B$5001,MATCH(表格模板!C1996,设备类型!$A$2:$A$5001,0),COLUMN(A1996))","v":{"$error":"#N/A"}}]
[null,{"$f":"INDEX(建筑!$B$2:$B$5001,MATCH(表格模板!A1997,建筑!$A$2:$A$5001,0),COLUMN(A1997))","v":{"$error":"#N/A"}},null,{"$f":"INDEX(设备类型!$B$2:$B$5001,MATCH(表格模板!C1997,设备类型!$A$2:$A$5001,0),COLUMN(A1997))","v":{"$error":"#N/A"}}]
[null,{"$f":"INDEX(建筑!$B$2:$B$5001,MATCH(表格模板!A1998,建筑!$A$2:$A$5001,0),COLUMN(A1998))","v":{"$error":"#N/A"}},null,{"$f":"INDEX(设备类型!$B$2:$B$5001,MATCH(表格模板!C1998,设备类型!$A$2:$A$5001,0),COLUMN(A1998))","v":{"$error":"#N/A"}}]
[null,{"$f":"INDEX(建筑!$B$2:$B$5001,MATCH(表格模板!A1999,建筑!$A$2:$A$5001,0),COLUMN(A1999))","v":{"$error":"#N/A"}},null,{"$f":"INDEX(设备类型!$B$2:$B$5001,MATCH(表格模板!C1999,设备类型!$A$2:$A$5001,0),COLUMN(A1999))","v":{"$error":"#N/A"}}]
[null,{"$f":"INDEX(建筑!$B$2:$B$5001,MATCH(表格模板!A2000,建筑!$A$2:$A$5001,0),COLUMN(A2000))","v":{"$error":"#N/A"}},null,{"$f":"INDEX(设备类型!$B$2:$B$5001,MATCH(表格模板!C2000,设备类型!$A$2:$A$5001,0),COLUMN(A2000))","v":{"$error":"#N/A"}}]
[null,{"$f":"INDEX(建筑!$B$2:$B$5001,MATCH(表格模板!A2001,建筑!$A$2:$A$5001,0),COLUMN(A2001))","v":{"$error":"#N/A"}},null,{"$f":"INDEX(设备类型!$B$2:$B$5001,MATCH(表格模板!C2001,设备类型!$A$2:$A$5001,0),COLUMN(A2001))","v":{"$error":"#N/A"}}]
[null,{"$f":"INDEX(建筑!$B$2:$B$5001,MATCH(表格模板!A2002,建筑!$A$2:$A$5001,0),COLUMN(A2002))","v":{"$error":"#N/A"}},null,{"$f":"INDEX(设备类型!$B$2:$B$5001,MATCH(表格模板!C2002,设备类型!$A$2:$A$5001,0),COLUMN(A2002))","v":{"$error":"#N/A"}}]
[null,{"$f":"INDEX(建筑!$B$2:$B$5001,MATCH(表格模板!A2003,建筑!$A$2:$A$5001,0),COLUMN(A2003))","v":{"$error":"#N/A"}},null,{"$f":"INDEX(设备类型!$B$2:$B$5001,MATCH(表格模板!C2003,设备类型!$A$2:$A$5001,0),COLUMN(A2003))","v":{"$error":"#N/A"}}]
[null,{"$f":"INDEX(建筑!$B$2:$B$5001,MATCH(表格模板!A2004,建筑!$A$2:$A$5001,0),COLUMN(A2004))","v":{"$error":"#N/A"}},null,{"$f":"INDEX(设备类型!$B$2:$B$5001,MATCH(表格模板!C2004,设备类型!$A$2:$A$5001,0),COLUMN(A2004))","v":{"$error":"#N/A"}}]
[null,{"$f":"INDEX(建筑!$B$2:$B$5001,MATCH(表格模板!A2005,建筑!$A$2:$A$5001,0),COLUMN(A2005))","v":{"$error":"#N/A"}},null,{"$f":"INDEX(设备类型!$B$2:$B$5001,MATCH(表格模板!C2005,设备类型!$A$2:$A$5001,0),COLUMN(A2005))","v":{"$error":"#N/A"}}]
[null,{"$f":"INDEX(建筑!$B$2:$B$5001,MATCH(表格模板!A2006,建筑!$A$2:$A$5001,0),COLUMN(A2006))","v":{"$error":"#N/A"}},null,{"$f":"INDEX(设备类型!$B$2:$B$5001,MATCH(表格模板!C2006,设备类型!$A$2:$A$5001,0),COLUMN(A2006))","v":{"$error":"#N/A"}}]
[null,{"$f":"INDEX(建筑!$B$2:$B$5001,MATCH(表格模板!A2007,建筑!$A$2:$A$5001,0),COLUMN(A2007))","v":{"$error":"#N/A"}},null,{"$f":"INDEX(设备类型!$B$2:$B$5001,MATCH(表格模板!C2007,设备类型!$A$2:$A$5001,0),COLUMN(A2007))","v":{"$error":"#N/A"}}]
[null,{"$f":"INDEX(建筑!$B$2:$B$5001,MATCH(表格模板!A2008,建筑!$A$2:$A$5001,0),COLUMN(A2008))","v":{"$error":"#N/A"}},null,{"$f":"INDEX(设备类型!$B$2:$B$5001,MATCH(表格模板!C2008,设备类型!$A$2:$A$5001,0),COLUMN(A2008))","v":{"$error":"#N/A"}}]
[null,{"$f":"INDEX(建筑!$B$2:$B$5001,MATCH(表格模板!A2009,建筑!$A$2:$A$5001,0),COLUMN(A2009))","v":{"$error":"#N/A"}},null,{"$f":"INDEX(设备类型!$B$2:$B$5001,MATCH(表格模板!C2009,设备类型!$A$2:$A$5001,0),COLUMN(A2009))","v":{"$error":"#N/A"}}]
[null,{"$f":"INDEX(建筑!$B$2:$B$5001,MATCH(表格模板!A2010,建筑!$A$2:$A$5001,0),COLUMN(A2010))","v":{"$error":"#N/A"}},null,{"$f":"INDEX(设备类型!$B$2:$B$5001,MATCH(表格模板!C2010,设备类型!$A$2:$A$5001,0),COLUMN(A2010))","v":{"$error":"#N/A"}}]
[null,{"$f":"INDEX(建筑!$B$2:$B$5001,MATCH(表格模板!A2011,建筑!$A$2:$A$5001,0),COLUMN(A2011))","v":{"$error":"#N/A"}},null,{"$f":"INDEX(设备类型!$B$2:$B$5001,MATCH(表格模板!C2011,设备类型!$A$2:$A$5001,0),COLUMN(A2011))","v":{"$error":"#N/A"}}]
[null,{"$f":"INDEX(建筑!$B$2:$B$5001,MATCH(表格模板!A2012,建筑!$A$2:$A$5001,0),COLUMN(A2012))","v":{"$error":"#N/A"}},null,{"$f":"INDEX(设备类型!$B$2:$B$5001,MATCH(表格模板!C2012,设备类型!$A$2:$A$5001,0),COLUMN(A2012))","v":{"$error":"#N/A"}}]
[null,{"$f":"INDEX(建筑!$B$2:$B$5001,MATCH(表格模板!A2013,建筑!$A$2:$A$5001,0),COLUMN(A2013))","v":{"$error":"#N/A"}},null,{"$f":"INDEX(设备类型!$B$2:$B$5001,MATCH(表格模板!C2013,设备类型!$A$2:$A$5001,0),COLUMN(A2013))","v":{"$error":"#N/A"}}]
[null,{"$f":"INDEX(建筑!$B$2:$B$5001,MATCH(表格模板!A2014,建筑!$A$2:$A$5001,0),COLUMN(A2014))","v":{"$error":"#N/A"}},null,{"$f":"INDEX(设备类型!$B$2:$B$5001,MATCH(表格模板!C2014,设备类型!$A$2:$A$5001,0),COLUMN(A2014))","v":{"$error":"#N/A"}}]
[null,{"$f":"INDEX(建筑!$B$2:$B$5001,MATCH(表格模板!A2015,建筑!$A$2:$A$5001,0),COLUMN(A2015))","v":{"$error":"#N/A"}},null,{"$f":"INDEX(设备类型!$B$2:$B$5001,MATCH(表格模板!C2015,设备类型!$A$2:$A$5001,0),COLUMN(A2015))","v":{"$error":"#N/A"}}]
[null,{"$f":"INDEX(建筑!$B$2:$B$5001,MATCH(表格模板!A2016,建筑!$A$2:$A$5001,0),COLUMN(A2016))","v":{"$error":"#N/A"}},null,{"$f":"INDEX(设备类型!$B$2:$B$5001,MATCH(表格模板!C2016,设备类型!$A$2:$A$5001,0),COLUMN(A2016))","v":{"$error":"#N/A"}}]
[null,{"$f":"INDEX(建筑!$B$2:$B$5001,MATCH(表格模板!A2017,建筑!$A$2:$A$5001,0),COLUMN(A2017))","v":{"$error":"#N/A"}},null,{"$f":"INDEX(设备类型!$B$2:$B$5001,MATCH(表格模板!C2017,设备类型!$A$2:$A$5001,0),COLUMN(A2017))","v":{"$error":"#N/A"}}]
[null,{"$f":"INDEX(建筑!$B$2:$B$5001,MATCH(表格模板!A2018,建筑!$A$2:$A$5001,0),COLUMN(A2018))","v":{"$error":"#N/A"}},null,{"$f":"INDEX(设备类型!$B$2:$B$5001,MATCH(表格模板!C2018,设备类型!$A$2:$A$5001,0),COLUMN(A2018))","v":{"$error":"#N/A"}}]
[null,{"$f":"INDEX(建筑!$B$2:$B$5001,MATCH(表格模板!A2019,建筑!$A$2:$A$5001,0),COLUMN(A2019))","v":{"$error":"#N/A"}},null,{"$f":"INDEX(设备类型!$B$2:$B$5001,MATCH(表格模板!C2019,设备类型!$A$2:$A$5001,0),COLUMN(A2019))","v":{"$error":"#N/A"}}]
[null,{"$f":"INDEX(建筑!$B$2:$B$5001,MATCH(表格模板!A2020,建筑!$A$2:$A$5001,0),COLUMN(A2020))","v":{"$error":"#N/A"}},null,{"$f":"INDEX(设备类型!$B$2:$B$5001,MATCH(表格模板!C2020,设备类型!$A$2:$A$5001,0),COLUMN(A2020))","v":{"$error":"#N/A"}}]
[null,{"$f":"INDEX(建筑!$B$2:$B$5001,MATCH(表格模板!A2021,建筑!$A$2:$A$5001,0),COLUMN(A2021))","v":{"$error":"#N/A"}},null,{"$f":"INDEX(设备类型!$B$2:$B$5001,MATCH(表格模板!C2021,设备类型!$A$2:$A$5001,0),COLUMN(A2021))","v":{"$error":"#N/A"}}]
[null,{"$f":"INDEX(建筑!$B$2:$B$5001,MATCH(表格模板!A2022,建筑!$A$2:$A$5001,0),COLUMN(A2022))","v":{"$error":"#N/A"}},null,{"$f":"INDEX(设备类型!$B$2:$B$5001,MATCH(表格模板!C2022,设备类型!$A$2:$A$5001,0),COLUMN(A2022))","v":{"$error":"#N/A"}}]
[null,{"$f":"INDEX(建筑!$B$2:$B$5001,MATCH(表格模板!A2023,建筑!$A$2:$A$5001,0),COLUMN(A2023))","v":{"$error":"#N/A"}},null,{"$f":"INDEX(设备类型!$B$2:$B$5001,MATCH(表格模板!C2023,设备类型!$A$2:$A$5001,0),COLUMN(A2023))","v":{"$error":"#N/A"}}]
[null,{"$f":"INDEX(建筑!$B$2:$B$5001,MATCH(表格模板!A2024,建筑!$A$2:$A$5001,0),COLUMN(A2024))","v":{"$error":"#N/A"}},null,{"$f":"INDEX(设备类型!$B$2:$B$5001,MATCH(表格模板!C2024,设备类型!$A$2:$A$5001,0),COLUMN(A2024))","v":{"$error":"#N/A"}}]
[null,{"$f":"INDEX(建筑!$B$2:$B$5001,MATCH(表格模板!A2025,建筑!$A$2:$A$5001,0),COLUMN(A2025))","v":{"$error":"#N/A"}},null,{"$f":"INDEX(设备类型!$B$2:$B$5001,MATCH(表格模板!C2025,设备类型!$A$2:$A$5001,0),COLUMN(A2025))","v":{"$error":"#N/A"}}]
[null,{"$f":"INDEX(建筑!$B$2:$B$5001,MATCH(表格模板!A2026,建筑!$A$2:$A$5001,0),COLUMN(A2026))","v":{"$error":"#N/A"}},null,{"$f":"INDEX(设备类型!$B$2:$B$5001,MATCH(表格模板!C2026,设备类型!$A$2:$A$5001,0),COLUMN(A2026))","v":{"$error":"#N/A"}}]
[null,{"$f":"INDEX(建筑!$B$2:$B$5001,MATCH(表格模板!A2027,建筑!$A$2:$A$5001,0),COLUMN(A2027))","v":{"$error":"#N/A"}},null,{"$f":"INDEX(设备类型!$B$2:$B$5001,MATCH(表格模板!C2027,设备类型!$A$2:$A$5001,0),COLUMN(A2027))","v":{"$error":"#N/A"}}]
[null,{"$f":"INDEX(建筑!$B$2:$B$5001,MATCH(表格模板!A2028,建筑!$A$2:$A$5001,0),COLUMN(A2028))","v":{"$error":"#N/A"}},null,{"$f":"INDEX(设备类型!$B$2:$B$5001,MATCH(表格模板!C2028,设备类型!$A$2:$A$5001,0),COLUMN(A2028))","v":{"$error":"#N/A"}}]
[null,{"$f":"INDEX(建筑!$B$2:$B$5001,MATCH(表格模板!A2029,建筑!$A$2:$A$5001,0),COLUMN(A2029))","v":{"$error":"#N/A"}},null,{"$f":"INDEX(设备类型!$B$2:$B$5001,MATCH(表格模板!C2029,设备类型!$A$2:$A$5001,0),COLUMN(A2029))","v":{"$error":"#N/A"}}]
[null,{"$f":"INDEX(建筑!$B$2:$B$5001,MATCH(表格模板!A2030,建筑!$A$2:$A$5001,0),COLUMN(A2030))","v":{"$error":"#N/A"}},null,{"$f":"INDEX(设备类型!$B$2:$B$5001,MATCH(表格模板!C2030,设备类型!$A$2:$A$5001,0),COLUMN(A2030))","v":{"$error":"#N/A"}}]
[null,{"$f":"INDEX(建筑!$B$2:$B$5001,MATCH(表格模板!A2031,建筑!$A$2:$A$5001,0),COLUMN(A2031))","v":{"$error":"#N/A"}},null,{"$f":"INDEX(设备类型!$B$2:$B$5001,MATCH(表格模板!C2031,设备类型!$A$2:$A$5001,0),COLUMN(A2031))","v":{"$error":"#N/A"}}]
[null,{"$f":"INDEX(建筑!$B$2:$B$5001,MATCH(表格模板!A2032,建筑!$A$2:$A$5001,0),COLUMN(A2032))","v":{"$error":"#N/A"}},null,{"$f":"INDEX(设备类型!$B$2:$B$5001,MATCH(表格模板!C2032,设备类型!$A$2:$A$5001,0),COLUMN(A2032))","v":{"$error":"#N/A"}}]
[null,{"$f":"INDEX(建筑!$B$2:$B$5001,MATCH(表格模板!A2033,建筑!$A$2:$A$5001,0),COLUMN(A2033))","v":{"$error":"#N/A"}},null,{"$f":"INDEX(设备类型!$B$2:$B$5001,MATCH(表格模板!C2033,设备类型!$A$2:$A$5001,0),COLUMN(A2033))","v":{"$error":"#N/A"}}]
[null,{"$f":"INDEX(建筑!$B$2:$B$5001,MATCH(表格模板!A2034,建筑!$A$2:$A$5001,0),COLUMN(A2034))","v":{"$error":"#N/A"}},null,{"$f":"INDEX(设备类型!$B$2:$B$5001,MATCH(表格模板!C2034,设备类型!$A$2:$A$5001,0),COLUMN(A2034))","v":{"$error":"#N/A"}}]
[null,{"$f":"INDEX(建筑!$B$2:$B$5001,MATCH(表格模板!A2035,建筑!$A$2:$A$5001,0),COLUMN(A2035))","v":{"$error":"#N/A"}},null,{"$f":"INDEX(设备类型!$B$2:$B$5001,MATCH(表格模板!C2035,设备类型!$A$2:$A$5001,0),COLUMN(A2035))","v":{"$error":"#N/A"}}]
[null,{"$f":"INDEX(建筑!$B$2:$B$5001,MATCH(表格模板!A2036,建筑!$A$2:$A$5001,0),COLUMN(A2036))","v":{"$error":"#N/A"}},null,{"$f":"INDEX(设备类型!$B$2:$B$5001,MATCH(表格模板!C2036,设备类型!$A$2:$A$5001,0),COLUMN(A2036))","v":{"$error":"#N/A"}}]
[null,{"$f":"INDEX(建筑!$B$2:$B$5001,MATCH(表格模板!A2037,建筑!$A$2:$A$5001,0),COLUMN(A2037))","v":{"$error":"#N/A"}},null,{"$f":"INDEX(设备类型!$B$2:$B$5001,MATCH(表格模板!C2037,设备类型!$A$2:$A$5001,0),COLUMN(A2037))","v":{"$error":"#N/A"}}]
[null,{"$f":"INDEX(建筑!$B$2:$B$5001,MATCH(表格模板!A2038,建筑!$A$2:$A$5001,0),COLUMN(A2038))","v":{"$error":"#N/A"}},null,{"$f":"INDEX(设备类型!$B$2:$B$5001,MATCH(表格模板!C2038,设备类型!$A$2:$A$5001,0),COLUMN(A2038))","v":{"$error":"#N/A"}}]
[null,{"$f":"INDEX(建筑!$B$2:$B$5001,MATCH(表格模板!A2039,建筑!$A$2:$A$5001,0),COLUMN(A2039))","v":{"$error":"#N/A"}},null,{"$f":"INDEX(设备类型!$B$2:$B$5001,MATCH(表格模板!C2039,设备类型!$A$2:$A$5001,0),COLUMN(A2039))","v":{"$error":"#N/A"}}]
[null,{"$f":"INDEX(建筑!$B$2:$B$5001,MATCH(表格模板!A2040,建筑!$A$2:$A$5001,0),COLUMN(A2040))","v":{"$error":"#N/A"}},null,{"$f":"INDEX(设备类型!$B$2:$B$5001,MATCH(表格模板!C2040,设备类型!$A$2:$A$5001,0),COLUMN(A2040))","v":{"$error":"#N/A"}}]
[null,{"$f":"INDEX(建筑!$B$2:$B$5001,MATCH(表格模板!A2041,建筑!$A$2:$A$5001,0),COLUMN(A2041))","v":{"$error":"#N/A"}},null,{"$f":"INDEX(设备类型!$B$2:$B$5001,MATCH(表格模板!C2041,设备类型!$A$2:$A$5001,0),COLUMN(A2041))","v":{"$error":"#N/A"}}]
[null,{"$f":"INDEX(建筑!$B$2:$B$5001,MATCH(表格模板!A2042,建筑!$A$2:$A$5001,0),COLUMN(A2042))","v":{"$error":"#N/A"}},null,{"$f":"INDEX(设备类型!$B$2:$B$5001,MATCH(表格模板!C2042,设备类型!$A$2:$A$5001,0),COLUMN(A2042))","v":{"$error":"#N/A"}}]
[null,{"$f":"INDEX(建筑!$B$2:$B$5001,MATCH(表格模板!A2043,建筑!$A$2:$A$5001,0),COLUMN(A2043))","v":{"$error":"#N/A"}},null,{"$f":"INDEX(设备类型!$B$2:$B$5001,MATCH(表格模板!C2043,设备类型!$A$2:$A$5001,0),COLUMN(A2043))","v":{"$error":"#N/A"}}]
[null,{"$f":"INDEX(建筑!$B$2:$B$5001,MATCH(表格模板!A2044,建筑!$A$2:$A$5001,0),COLUMN(A2044))","v":{"$error":"#N/A"}},null,{"$f":"INDEX(设备类型!$B$2:$B$5001,MATCH(表格模板!C2044,设备类型!$A$2:$A$5001,0),COLUMN(A2044))","v":{"$error":"#N/A"}}]
[null,{"$f":"INDEX(建筑!$B$2:$B$5001,MATCH(表格模板!A2045,建筑!$A$2:$A$5001,0),COLUMN(A2045))","v":{"$error":"#N/A"}},null,{"$f":"INDEX(设备类型!$B$2:$B$5001,MATCH(表格模板!C2045,设备类型!$A$2:$A$5001,0),COLUMN(A2045))","v":{"$error":"#N/A"}}]
[null,{"$f":"INDEX(建筑!$B$2:$B$5001,MATCH(表格模板!A2046,建筑!$A$2:$A$5001,0),COLUMN(A2046))","v":{"$error":"#N/A"}},null,{"$f":"INDEX(设备类型!$B$2:$B$5001,MATCH(表格模板!C2046,设备类型!$A$2:$A$5001,0),COLUMN(A2046))","v":{"$error":"#N/A"}}]
[null,{"$f":"INDEX(建筑!$B$2:$B$5001,MATCH(表格模板!A2047,建筑!$A$2:$A$5001,0),COLUMN(A2047))","v":{"$error":"#N/A"}},null,{"$f":"INDEX(设备类型!$B$2:$B$5001,MATCH(表格模板!C2047,设备类型!$A$2:$A$5001,0),COLUMN(A2047))","v":{"$error":"#N/A"}}]
[null,{"$f":"INDEX(建筑!$B$2:$B$5001,MATCH(表格模板!A2048,建筑!$A$2:$A$5001,0),COLUMN(A2048))","v":{"$error":"#N/A"}},null,{"$f":"INDEX(设备类型!$B$2:$B$5001,MATCH(表格模板!C2048,设备类型!$A$2:$A$5001,0),COLUMN(A2048))","v":{"$error":"#N/A"}}]
[null,{"$f":"INDEX(建筑!$B$2:$B$5001,MATCH(表格模板!A2049,建筑!$A$2:$A$5001,0),COLUMN(A2049))","v":{"$error":"#N/A"}},null,{"$f":"INDEX(设备类型!$B$2:$B$5001,MATCH(表格模板!C2049,设备类型!$A$2:$A$5001,0),COLUMN(A2049))","v":{"$error":"#N/A"}}]
[null,{"$f":"INDEX(建筑!$B$2:$B$5001,MATCH(表格模板!A2050,建筑!$A$2:$A$5001,0),COLUMN(A2050))","v":{"$error":"#N/A"}},null,{"$f":"INDEX(设备类型!$B$2:$B$5001,MATCH(表格模板!C2050,设备类型!$A$2:$A$5001,0),COLUMN(A2050))","v":{"$error":"#N/A"}}]
[null,{"$f":"INDEX(建筑!$B$2:$B$5001,MATCH(表格模板!A2051,建筑!$A$2:$A$5001,0),COLUMN(A2051))","v":{"$error":"#N/A"}},null,{"$f":"INDEX(设备类型!$B$2:$B$5001,MATCH(表格模板!C2051,设备类型!$A$2:$A$5001,0),COLUMN(A2051))","v":{"$error":"#N/A"}}]
[null,{"$f":"INDEX(建筑!$B$2:$B$5001,MATCH(表格模板!A2052,建筑!$A$2:$A$5001,0),COLUMN(A2052))","v":{"$error":"#N/A"}},null,{"$f":"INDEX(设备类型!$B$2:$B$5001,MATCH(表格模板!C2052,设备类型!$A$2:$A$5001,0),COLUMN(A2052))","v":{"$error":"#N/A"}}]
[null,{"$f":"INDEX(建筑!$B$2:$B$5001,MATCH(表格模板!A2053,建筑!$A$2:$A$5001,0),COLUMN(A2053))","v":{"$error":"#N/A"}},null,{"$f":"INDEX(设备类型!$B$2:$B$5001,MATCH(表格模板!C2053,设备类型!$A$2:$A$5001,0),COLUMN(A2053))","v":{"$error":"#N/A"}}]
[null,{"$f":"INDEX(建筑!$B$2:$B$5001,MATCH(表格模板!A2054,建筑!$A$2:$A$5001,0),COLUMN(A2054))","v":{"$error":"#N/A"}},null,{"$f":"INDEX(设备类型!$B$2:$B$5001,MATCH(表格模板!C2054,设备类型!$A$2:$A$5001,0),COLUMN(A2054))","v":{"$error":"#N/A"}}]
[null,{"$f":"INDEX(建筑!$B$2:$B$5001,MATCH(表格模板!A2055,建筑!$A$2:$A$5001,0),COLUMN(A2055))","v":{"$error":"#N/A"}},null,{"$f":"INDEX(设备类型!$B$2:$B$5001,MATCH(表格模板!C2055,设备类型!$A$2:$A$5001,0),COLUMN(A2055))","v":{"$error":"#N/A"}}]
[null,{"$f":"INDEX(建筑!$B$2:$B$5001,MATCH(表格模板!A2056,建筑!$A$2:$A$5001,0),COLUMN(A2056))","v":{"$error":"#N/A"}},null,{"$f":"INDEX(设备类型!$B$2:$B$5001,MATCH(表格模板!C2056,设备类型!$A$2:$A$5001,0),COLUMN(A2056))","v":{"$error":"#N/A"}}]
[null,{"$f":"INDEX(建筑!$B$2:$B$5001,MATCH(表格模板!A2057,建筑!$A$2:$A$5001,0),COLUMN(A2057))","v":{"$error":"#N/A"}},null,{"$f":"INDEX(设备类型!$B$2:$B$5001,MATCH(表格模板!C2057,设备类型!$A$2:$A$5001,0),COLUMN(A2057))","v":{"$error":"#N/A"}}]
[null,{"$f":"INDEX(建筑!$B$2:$B$5001,MATCH(表格模板!A2058,建筑!$A$2:$A$5001,0),COLUMN(A2058))","v":{"$error":"#N/A"}},null,{"$f":"INDEX(设备类型!$B$2:$B$5001,MATCH(表格模板!C2058,设备类型!$A$2:$A$5001,0),COLUMN(A2058))","v":{"$error":"#N/A"}}]
[null,{"$f":"INDEX(建筑!$B$2:$B$5001,MATCH(表格模板!A2059,建筑!$A$2:$A$5001,0),COLUMN(A2059))","v":{"$error":"#N/A"}},null,{"$f":"INDEX(设备类型!$B$2:$B$5001,MATCH(表格模板!C2059,设备类型!$A$2:$A$5001,0),COLUMN(A2059))","v":{"$error":"#N/A"}}]
[null,{"$f":"INDEX(建筑!$B$2:$B$5001,MATCH(表格模板!A2060,建筑!$A$2:$A$5001,0),COLUMN(A2060))","v":{"$error":"#N/A"}},null,{"$f":"INDEX(设备类型!$B$2:$B$5001,MATCH(表格模板!C2060,设备类型!$A$2:$A$5001,0),COLUMN(A2060))","v":{"$error":"#N/A"}}]
[null,{"$f":"INDEX(建筑!$B$2:$B$5001,MATCH(表格模板!A2061,建筑!$A$2:$A$5001,0),COLUMN(A2061))","v":{"$error":"#N/A"}},null,{"$f":"INDEX(设备类型!$B$2:$B$5001,MATCH(表格模板!C2061,设备类型!$A$2:$A$5001,0),COLUMN(A2061))","v":{"$error":"#N/A"}}]
[null,{"$f":"INDEX(建筑!$B$2:$B$5001,MATCH(表格模板!A2062,建筑!$A$2:$A$5001,0),COLUMN(A2062))","v":{"$error":"#N/A"}},null,{"$f":"INDEX(设备类型!$B$2:$B$5001,MATCH(表格模板!C2062,设备类型!$A$2:$A$5001,0),COLUMN(A2062))","v":{"$error":"#N/A"}}]
[null,{"$f":"INDEX(建筑!$B$2:$B$5001,MATCH(表格模板!A2063,建筑!$A$2:$A$5001,0),COLUMN(A2063))","v":{"$error":"#N/A"}},null,{"$f":"INDEX(设备类型!$B$2:$B$5001,MATCH(表格模板!C2063,设备类型!$A$2:$A$5001,0),COLUMN(A2063))","v":{"$error":"#N/A"}}]
[null,{"$f":"INDEX(建筑!$B$2:$B$5001,MATCH(表格模板!A2064,建筑!$A$2:$A$5001,0),COLUMN(A2064))","v":{"$error":"#N/A"}},null,{"$f":"INDEX(设备类型!$B$2:$B$5001,MATCH(表格模板!C2064,设备类型!$A$2:$A$5001,0),COLUMN(A2064))","v":{"$error":"#N/A"}}]
[null,{"$f":"INDEX(建筑!$B$2:$B$5001,MATCH(表格模板!A2065,建筑!$A$2:$A$5001,0),COLUMN(A2065))","v":{"$error":"#N/A"}},null,{"$f":"INDEX(设备类型!$B$2:$B$5001,MATCH(表格模板!C2065,设备类型!$A$2:$A$5001,0),COLUMN(A2065))","v":{"$error":"#N/A"}}]
[null,{"$f":"INDEX(建筑!$B$2:$B$5001,MATCH(表格模板!A2066,建筑!$A$2:$A$5001,0),COLUMN(A2066))","v":{"$error":"#N/A"}},null,{"$f":"INDEX(设备类型!$B$2:$B$5001,MATCH(表格模板!C2066,设备类型!$A$2:$A$5001,0),COLUMN(A2066))","v":{"$error":"#N/A"}}]
[null,{"$f":"INDEX(建筑!$B$2:$B$5001,MATCH(表格模板!A2067,建筑!$A$2:$A$5001,0),COLUMN(A2067))","v":{"$error":"#N/A"}},null,{"$f":"INDEX(设备类型!$B$2:$B$5001,MATCH(表格模板!C2067,设备类型!$A$2:$A$5001,0),COLUMN(A2067))","v":{"$error":"#N/A"}}]
[null,{"$f":"INDEX(建筑!$B$2:$B$5001,MATCH(表格模板!A2068,建筑!$A$2:$A$5001,0),COLUMN(A2068))","v":{"$error":"#N/A"}},null,{"$f":"INDEX(设备类型!$B$2:$B$5001,MATCH(表格模板!C2068,设备类型!$A$2:$A$5001,0),COLUMN(A2068))","v":{"$error":"#N/A"}}]
[null,{"$f":"INDEX(建筑!$B$2:$B$5001,MATCH(表格模板!A2069,建筑!$A$2:$A$5001,0),COLUMN(A2069))","v":{"$error":"#N/A"}},null,{"$f":"INDEX(设备类型!$B$2:$B$5001,MATCH(表格模板!C2069,设备类型!$A$2:$A$5001,0),COLUMN(A2069))","v":{"$error":"#N/A"}}]
[null,{"$f":"INDEX(建筑!$B$2:$B$5001,MATCH(表格模板!A2070,建筑!$A$2:$A$5001,0),COLUMN(A2070))","v":{"$error":"#N/A"}},null,{"$f":"INDEX(设备类型!$B$2:$B$5001,MATCH(表格模板!C2070,设备类型!$A$2:$A$5001,0),COLUMN(A2070))","v":{"$error":"#N/A"}}]
[null,{"$f":"INDEX(建筑!$B$2:$B$5001,MATCH(表格模板!A2071,建筑!$A$2:$A$5001,0),COLUMN(A2071))","v":{"$error":"#N/A"}},null,{"$f":"INDEX(设备类型!$B$2:$B$5001,MATCH(表格模板!C2071,设备类型!$A$2:$A$5001,0),COLUMN(A2071))","v":{"$error":"#N/A"}}]
[null,{"$f":"INDEX(建筑!$B$2:$B$5001,MATCH(表格模板!A2072,建筑!$A$2:$A$5001,0),COLUMN(A2072))","v":{"$error":"#N/A"}},null,{"$f":"INDEX(设备类型!$B$2:$B$5001,MATCH(表格模板!C2072,设备类型!$A$2:$A$5001,0),COLUMN(A2072))","v":{"$error":"#N/A"}}]
[null,{"$f":"INDEX(建筑!$B$2:$B$5001,MATCH(表格模板!A2073,建筑!$A$2:$A$5001,0),COLUMN(A2073))","v":{"$error":"#N/A"}},null,{"$f":"INDEX(设备类型!$B$2:$B$5001,MATCH(表格模板!C2073,设备类型!$A$2:$A$5001,0),COLUMN(A2073))","v":{"$error":"#N/A"}}]
[null,{"$f":"INDEX(建筑!$B$2:$B$5001,MATCH(表格模板!A2074,建筑!$A$2:$A$5001,0),COLUMN(A2074))","v":{"$error":"#N/A"}},null,{"$f":"INDEX(设备类型!$B$2:$B$5001,MATCH(表格模板!C2074,设备类型!$A$2:$A$5001,0),COLUMN(A2074))","v":{"$error":"#N/A"}}]
[null,{"$f":"INDEX(建筑!$B$2:$B$5001,MATCH(表格模板!A2075,建筑!$A$2:$A$5001,0),COLUMN(A2075))","v":{"$error":"#N/A"}},null,{"$f":"INDEX(设备类型!$B$2:$B$5001,MATCH(表格模板!C2075,设备类型!$A$2:$A$5001,0),COLUMN(A2075))","v":{"$error":"#N/A"}}]
[null,{"$f":"INDEX(建筑!$B$2:$B$5001,MATCH(表格模板!A2076,建筑!$A$2:$A$5001,0),COLUMN(A2076))","v":{"$error":"#N/A"}},null,{"$f":"INDEX(设备类型!$B$2:$B$5001,MATCH(表格模板!C2076,设备类型!$A$2:$A$5001,0),COLUMN(A2076))","v":{"$error":"#N/A"}}]
[null,{"$f":"INDEX(建筑!$B$2:$B$5001,MATCH(表格模板!A2077,建筑!$A$2:$A$5001,0),COLUMN(A2077))","v":{"$error":"#N/A"}},null,{"$f":"INDEX(设备类型!$B$2:$B$5001,MATCH(表格模板!C2077,设备类型!$A$2:$A$5001,0),COLUMN(A2077))","v":{"$error":"#N/A"}}]
[null,{"$f":"INDEX(建筑!$B$2:$B$5001,MATCH(表格模板!A2078,建筑!$A$2:$A$5001,0),COLUMN(A2078))","v":{"$error":"#N/A"}},null,{"$f":"INDEX(设备类型!$B$2:$B$5001,MATCH(表格模板!C2078,设备类型!$A$2:$A$5001,0),COLUMN(A2078))","v":{"$error":"#N/A"}}]
[null,{"$f":"INDEX(建筑!$B$2:$B$5001,MATCH(表格模板!A2079,建筑!$A$2:$A$5001,0),COLUMN(A2079))","v":{"$error":"#N/A"}},null,{"$f":"INDEX(设备类型!$B$2:$B$5001,MATCH(表格模板!C2079,设备类型!$A$2:$A$5001,0),COLUMN(A2079))","v":{"$error":"#N/A"}}]
[null,{"$f":"INDEX(建筑!$B$2:$B$5001,MATCH(表格模板!A2080,建筑!$A$2:$A$5001,0),COLUMN(A2080))","v":{"$error":"#N/A"}},null,{"$f":"INDEX(设备类型!$B$2:$B$5001,MATCH(表格模板!C2080,设备类型!$A$2:$A$5001,0),COLUMN(A2080))","v":{"$error":"#N/A"}}]
[null,{"$f":"INDEX(建筑!$B$2:$B$5001,MATCH(表格模板!A2081,建筑!$A$2:$A$5001,0),COLUMN(A2081))","v":{"$error":"#N/A"}},null,{"$f":"INDEX(设备类型!$B$2:$B$5001,MATCH(表格模板!C2081,设备类型!$A$2:$A$5001,0),COLUMN(A2081))","v":{"$error":"#N/A"}}]
[null,{"$f":"INDEX(建筑!$B$2:$B$5001,MATCH(表格模板!A2082,建筑!$A$2:$A$5001,0),COLUMN(A2082))","v":{"$error":"#N/A"}},null,{"$f":"INDEX(设备类型!$B$2:$B$5001,MATCH(表格模板!C2082,设备类型!$A$2:$A$5001,0),COLUMN(A2082))","v":{"$error":"#N/A"}}]
[null,{"$f":"INDEX(建筑!$B$2:$B$5001,MATCH(表格模板!A2083,建筑!$A$2:$A$5001,0),COLUMN(A2083))","v":{"$error":"#N/A"}},null,{"$f":"INDEX(设备类型!$B$2:$B$5001,MATCH(表格模板!C2083,设备类型!$A$2:$A$5001,0),COLUMN(A2083))","v":{"$error":"#N/A"}}]
[null,{"$f":"INDEX(建筑!$B$2:$B$5001,MATCH(表格模板!A2084,建筑!$A$2:$A$5001,0),COLUMN(A2084))","v":{"$error":"#N/A"}},null,{"$f":"INDEX(设备类型!$B$2:$B$5001,MATCH(表格模板!C2084,设备类型!$A$2:$A$5001,0),COLUMN(A2084))","v":{"$error":"#N/A"}}]
[null,{"$f":"INDEX(建筑!$B$2:$B$5001,MATCH(表格模板!A2085,建筑!$A$2:$A$5001,0),COLUMN(A2085))","v":{"$error":"#N/A"}},null,{"$f":"INDEX(设备类型!$B$2:$B$5001,MATCH(表格模板!C2085,设备类型!$A$2:$A$5001,0),COLUMN(A2085))","v":{"$error":"#N/A"}}]
[null,{"$f":"INDEX(建筑!$B$2:$B$5001,MATCH(表格模板!A2086,建筑!$A$2:$A$5001,0),COLUMN(A2086))","v":{"$error":"#N/A"}},null,{"$f":"INDEX(设备类型!$B$2:$B$5001,MATCH(表格模板!C2086,设备类型!$A$2:$A$5001,0),COLUMN(A2086))","v":{"$error":"#N/A"}}]
[null,{"$f":"INDEX(建筑!$B$2:$B$5001,MATCH(表格模板!A2087,建筑!$A$2:$A$5001,0),COLUMN(A2087))","v":{"$error":"#N/A"}},null,{"$f":"INDEX(设备类型!$B$2:$B$5001,MATCH(表格模板!C2087,设备类型!$A$2:$A$5001,0),COLUMN(A2087))","v":{"$error":"#N/A"}}]
[null,{"$f":"INDEX(建筑!$B$2:$B$5001,MATCH(表格模板!A2088,建筑!$A$2:$A$5001,0),COLUMN(A2088))","v":{"$error":"#N/A"}},null,{"$f":"INDEX(设备类型!$B$2:$B$5001,MATCH(表格模板!C2088,设备类型!$A$2:$A$5001,0),COLUMN(A2088))","v":{"$error":"#N/A"}}]
[null,{"$f":"INDEX(建筑!$B$2:$B$5001,MATCH(表格模板!A2089,建筑!$A$2:$A$5001,0),COLUMN(A2089))","v":{"$error":"#N/A"}},null,{"$f":"INDEX(设备类型!$B$2:$B$5001,MATCH(表格模板!C2089,设备类型!$A$2:$A$5001,0),COLUMN(A2089))","v":{"$error":"#N/A"}}]
[null,{"$f":"INDEX(建筑!$B$2:$B$5001,MATCH(表格模板!A2090,建筑!$A$2:$A$5001,0),COLUMN(A2090))","v":{"$error":"#N/A"}},null,{"$f":"INDEX(设备类型!$B$2:$B$5001,MATCH(表格模板!C2090,设备类型!$A$2:$A$5001,0),COLUMN(A2090))","v":{"$error":"#N/A"}}]
[null,{"$f":"INDEX(建筑!$B$2:$B$5001,MATCH(表格模板!A2091,建筑!$A$2:$A$5001,0),COLUMN(A2091))","v":{"$error":"#N/A"}},null,{"$f":"INDEX(设备类型!$B$2:$B$5001,MATCH(表格模板!C2091,设备类型!$A$2:$A$5001,0),COLUMN(A2091))","v":{"$error":"#N/A"}}]
[null,{"$f":"INDEX(建筑!$B$2:$B$5001,MATCH(表格模板!A2092,建筑!$A$2:$A$5001,0),COLUMN(A2092))","v":{"$error":"#N/A"}},null,{"$f":"INDEX(设备类型!$B$2:$B$5001,MATCH(表格模板!C2092,设备类型!$A$2:$A$5001,0),COLUMN(A2092))","v":{"$error":"#N/A"}}]
[null,{"$f":"INDEX(建筑!$B$2:$B$5001,MATCH(表格模板!A2093,建筑!$A$2:$A$5001,0),COLUMN(A2093))","v":{"$error":"#N/A"}},null,{"$f":"INDEX(设备类型!$B$2:$B$5001,MATCH(表格模板!C2093,设备类型!$A$2:$A$5001,0),COLUMN(A2093))","v":{"$error":"#N/A"}}]
[null,{"$f":"INDEX(建筑!$B$2:$B$5001,MATCH(表格模板!A2094,建筑!$A$2:$A$5001,0),COLUMN(A2094))","v":{"$error":"#N/A"}},null,{"$f":"INDEX(设备类型!$B$2:$B$5001,MATCH(表格模板!C2094,设备类型!$A$2:$A$5001,0),COLUMN(A2094))","v":{"$error":"#N/A"}}]
[null,{"$f":"INDEX(建筑!$B$2:$B$5001,MATCH(表格模板!A2095,建筑!$A$2:$A$5001,0),COLUMN(A2095))","v":{"$error":"#N/A"}},null,{"$f":"INDEX(设备类型!$B$2:$B$5001,MATCH(表格模板!C2095,设备类型!$A$2:$A$5001,0),COLUMN(A2095))","v":{"$error":"#N/A"}}]
[null,{"$f":"INDEX(建筑!$B$2:$B$5001,MATCH(表格模板!A2096,建筑!$A$2:$A$5001,0),COLUMN(A2096))","v":{"$error":"#N/A"}},null,{"$f":"INDEX(设备类型!$B$2:$B$5001,MATCH(表格模板!C2096,设备类型!$A$2:$A$5001,0),COLUMN(A2096))","v":{"$error":"#N/A"}}]
[null,{"$f":"INDEX(建筑!$B$2:$B$5001,MATCH(表格模板!A2097,建筑!$A$2:$A$5001,0),COLUMN(A2097))","v":{"$error":"#N/A"}},null,{"$f":"INDEX(设备类型!$B$2:$B$5001,MATCH(表格模板!C2097,设备类型!$A$2:$A$5001,0),COLUMN(A2097))","v":{"$error":"#N/A"}}]
[null,{"$f":"INDEX(建筑!$B$2:$B$5001,MATCH(表格模板!A2098,建筑!$A$2:$A$5001,0),COLUMN(A2098))","v":{"$error":"#N/A"}},null,{"$f":"INDEX(设备类型!$B$2:$B$5001,MATCH(表格模板!C2098,设备类型!$A$2:$A$5001,0),COLUMN(A2098))","v":{"$error":"#N/A"}}]
[null,{"$f":"INDEX(建筑!$B$2:$B$5001,MATCH(表格模板!A2099,建筑!$A$2:$A$5001,0),COLUMN(A2099))","v":{"$error":"#N/A"}},null,{"$f":"INDEX(设备类型!$B$2:$B$5001,MATCH(表格模板!C2099,设备类型!$A$2:$A$5001,0),COLUMN(A2099))","v":{"$error":"#N/A"}}]
[null,{"$f":"INDEX(建筑!$B$2:$B$5001,MATCH(表格模板!A2100,建筑!$A$2:$A$5001,0),COLUMN(A2100))","v":{"$error":"#N/A"}},null,{"$f":"INDEX(设备类型!$B$2:$B$5001,MATCH(表格模板!C2100,设备类型!$A$2:$A$5001,0),COLUMN(A2100))","v":{"$error":"#N/A"}}]
[null,{"$f":"INDEX(建筑!$B$2:$B$5001,MATCH(表格模板!A2101,建筑!$A$2:$A$5001,0),COLUMN(A2101))","v":{"$error":"#N/A"}},null,{"$f":"INDEX(设备类型!$B$2:$B$5001,MATCH(表格模板!C2101,设备类型!$A$2:$A$5001,0),COLUMN(A2101))","v":{"$error":"#N/A"}}]
[null,{"$f":"INDEX(建筑!$B$2:$B$5001,MATCH(表格模板!A2102,建筑!$A$2:$A$5001,0),COLUMN(A2102))","v":{"$error":"#N/A"}},null,{"$f":"INDEX(设备类型!$B$2:$B$5001,MATCH(表格模板!C2102,设备类型!$A$2:$A$5001,0),COLUMN(A2102))","v":{"$error":"#N/A"}}]
[null,{"$f":"INDEX(建筑!$B$2:$B$5001,MATCH(表格模板!A2103,建筑!$A$2:$A$5001,0),COLUMN(A2103))","v":{"$error":"#N/A"}},null,{"$f":"INDEX(设备类型!$B$2:$B$5001,MATCH(表格模板!C2103,设备类型!$A$2:$A$5001,0),COLUMN(A2103))","v":{"$error":"#N/A"}}]
[null,{"$f":"INDEX(建筑!$B$2:$B$5001,MATCH(表格模板!A2104,建筑!$A$2:$A$5001,0),COLUMN(A2104))","v":{"$error":"#N/A"}},null,{"$f":"INDEX(设备类型!$B$2:$B$5001,MATCH(表格模板!C2104,设备类型!$A$2:$A$5001,0),COLUMN(A2104))","v":{"$error":"#N/A"}}]
[null,{"$f":"INDEX(建筑!$B$2:$B$5001,MATCH(表格模板!A2105,建筑!$A$2:$A$5001,0),COLUMN(A2105))","v":{"$error":"#N/A"}},null,{"$f":"INDEX(设备类型!$B$2:$B$5001,MATCH(表格模板!C2105,设备类型!$A$2:$A$5001,0),COLUMN(A2105))","v":{"$error":"#N/A"}}]
[null,{"$f":"INDEX(建筑!$B$2:$B$5001,MATCH(表格模板!A2106,建筑!$A$2:$A$5001,0),COLUMN(A2106))","v":{"$error":"#N/A"}},null,{"$f":"INDEX(设备类型!$B$2:$B$5001,MATCH(表格模板!C2106,设备类型!$A$2:$A$5001,0),COLUMN(A2106))","v":{"$error":"#N/A"}}]
[null,{"$f":"INDEX(建筑!$B$2:$B$5001,MATCH(表格模板!A2107,建筑!$A$2:$A$5001,0),COLUMN(A2107))","v":{"$error":"#N/A"}},null,{"$f":"INDEX(设备类型!$B$2:$B$5001,MATCH(表格模板!C2107,设备类型!$A$2:$A$5001,0),COLUMN(A2107))","v":{"$error":"#N/A"}}]
[null,{"$f":"INDEX(建筑!$B$2:$B$5001,MATCH(表格模板!A2108,建筑!$A$2:$A$5001,0),COLUMN(A2108))","v":{"$error":"#N/A"}},null,{"$f":"INDEX(设备类型!$B$2:$B$5001,MATCH(表格模板!C2108,设备类型!$A$2:$A$5001,0),COLUMN(A2108))","v":{"$error":"#N/A"}}]
[null,{"$f":"INDEX(建筑!$B$2:$B$5001,MATCH(表格模板!A2109,建筑!$A$2:$A$5001,0),COLUMN(A2109))","v":{"$error":"#N/A"}},null,{"$f":"INDEX(设备类型!$B$2:$B$5001,MATCH(表格模板!C2109,设备类型!$A$2:$A$5001,0),COLUMN(A2109))","v":{"$error":"#N/A"}}]
[null,{"$f":"INDEX(建筑!$B$2:$B$5001,MATCH(表格模板!A2110,建筑!$A$2:$A$5001,0),COLUMN(A2110))","v":{"$error":"#N/A"}},null,{"$f":"INDEX(设备类型!$B$2:$B$5001,MATCH(表格模板!C2110,设备类型!$A$2:$A$5001,0),COLUMN(A2110))","v":{"$error":"#N/A"}}]
[null,{"$f":"INDEX(建筑!$B$2:$B$5001,MATCH(表格模板!A2111,建筑!$A$2:$A$5001,0),COLUMN(A2111))","v":{"$error":"#N/A"}},null,{"$f":"INDEX(设备类型!$B$2:$B$5001,MATCH(表格模板!C2111,设备类型!$A$2:$A$5001,0),COLUMN(A2111))","v":{"$error":"#N/A"}}]
[null,{"$f":"INDEX(建筑!$B$2:$B$5001,MATCH(表格模板!A2112,建筑!$A$2:$A$5001,0),COLUMN(A2112))","v":{"$error":"#N/A"}},null,{"$f":"INDEX(设备类型!$B$2:$B$5001,MATCH(表格模板!C2112,设备类型!$A$2:$A$5001,0),COLUMN(A2112))","v":{"$error":"#N/A"}}]
[null,{"$f":"INDEX(建筑!$B$2:$B$5001,MATCH(表格模板!A2113,建筑!$A$2:$A$5001,0),COLUMN(A2113))","v":{"$error":"#N/A"}},null,{"$f":"INDEX(设备类型!$B$2:$B$5001,MATCH(表格模板!C2113,设备类型!$A$2:$A$5001,0),COLUMN(A2113))","v":{"$error":"#N/A"}}]
[null,{"$f":"INDEX(建筑!$B$2:$B$5001,MATCH(表格模板!A2114,建筑!$A$2:$A$5001,0),COLUMN(A2114))","v":{"$error":"#N/A"}},null,{"$f":"INDEX(设备类型!$B$2:$B$5001,MATCH(表格模板!C2114,设备类型!$A$2:$A$5001,0),COLUMN(A2114))","v":{"$error":"#N/A"}}]
[null,{"$f":"INDEX(建筑!$B$2:$B$5001,MATCH(表格模板!A2115,建筑!$A$2:$A$5001,0),COLUMN(A2115))","v":{"$error":"#N/A"}},null,{"$f":"INDEX(设备类型!$B$2:$B$5001,MATCH(表格模板!C2115,设备类型!$A$2:$A$5001,0),COLUMN(A2115))","v":{"$error":"#N/A"}}]
[null,{"$f":"INDEX(建筑!$B$2:$B$5001,MATCH(表格模板!A2116,建筑!$A$2:$A$5001,0),COLUMN(A2116))","v":{"$error":"#N/A"}},null,{"$f":"INDEX(设备类型!$B$2:$B$5001,MATCH(表格模板!C2116,设备类型!$A$2:$A$5001,0),COLUMN(A2116))","v":{"$error":"#N/A"}}]
[null,{"$f":"INDEX(建筑!$B$2:$B$5001,MATCH(表格模板!A2117,建筑!$A$2:$A$5001,0),COLUMN(A2117))","v":{"$error":"#N/A"}},null,{"$f":"INDEX(设备类型!$B$2:$B$5001,MATCH(表格模板!C2117,设备类型!$A$2:$A$5001,0),COLUMN(A2117))","v":{"$error":"#N/A"}}]
[null,{"$f":"INDEX(建筑!$B$2:$B$5001,MATCH(表格模板!A2118,建筑!$A$2:$A$5001,0),COLUMN(A2118))","v":{"$error":"#N/A"}},null,{"$f":"INDEX(设备类型!$B$2:$B$5001,MATCH(表格模板!C2118,设备类型!$A$2:$A$5001,0),COLUMN(A2118))","v":{"$error":"#N/A"}}]
[null,{"$f":"INDEX(建筑!$B$2:$B$5001,MATCH(表格模板!A2119,建筑!$A$2:$A$5001,0),COLUMN(A2119))","v":{"$error":"#N/A"}},null,{"$f":"INDEX(设备类型!$B$2:$B$5001,MATCH(表格模板!C2119,设备类型!$A$2:$A$5001,0),COLUMN(A2119))","v":{"$error":"#N/A"}}]
[null,{"$f":"INDEX(建筑!$B$2:$B$5001,MATCH(表格模板!A2120,建筑!$A$2:$A$5001,0),COLUMN(A2120))","v":{"$error":"#N/A"}},null,{"$f":"INDEX(设备类型!$B$2:$B$5001,MATCH(表格模板!C2120,设备类型!$A$2:$A$5001,0),COLUMN(A2120))","v":{"$error":"#N/A"}}]
[null,{"$f":"INDEX(建筑!$B$2:$B$5001,MATCH(表格模板!A2121,建筑!$A$2:$A$5001,0),COLUMN(A2121))","v":{"$error":"#N/A"}},null,{"$f":"INDEX(设备类型!$B$2:$B$5001,MATCH(表格模板!C2121,设备类型!$A$2:$A$5001,0),COLUMN(A2121))","v":{"$error":"#N/A"}}]
[null,{"$f":"INDEX(建筑!$B$2:$B$5001,MATCH(表格模板!A2122,建筑!$A$2:$A$5001,0),COLUMN(A2122))","v":{"$error":"#N/A"}},null,{"$f":"INDEX(设备类型!$B$2:$B$5001,MATCH(表格模板!C2122,设备类型!$A$2:$A$5001,0),COLUMN(A2122))","v":{"$error":"#N/A"}}]
[null,{"$f":"INDEX(建筑!$B$2:$B$5001,MATCH(表格模板!A2123,建筑!$A$2:$A$5001,0),COLUMN(A2123))","v":{"$error":"#N/A"}},null,{"$f":"INDEX(设备类型!$B$2:$B$5001,MATCH(表格模板!C2123,设备类型!$A$2:$A$5001,0),COLUMN(A2123))","v":{"$error":"#N/A"}}]
[null,{"$f":"INDEX(建筑!$B$2:$B$5001,MATCH(表格模板!A2124,建筑!$A$2:$A$5001,0),COLUMN(A2124))","v":{"$error":"#N/A"}},null,{"$f":"INDEX(设备类型!$B$2:$B$5001,MATCH(表格模板!C2124,设备类型!$A$2:$A$5001,0),COLUMN(A2124))","v":{"$error":"#N/A"}}]
[null,{"$f":"INDEX(建筑!$B$2:$B$5001,MATCH(表格模板!A2125,建筑!$A$2:$A$5001,0),COLUMN(A2125))","v":{"$error":"#N/A"}},null,{"$f":"INDEX(设备类型!$B$2:$B$5001,MATCH(表格模板!C2125,设备类型!$A$2:$A$5001,0),COLUMN(A2125))","v":{"$error":"#N/A"}}]
[null,{"$f":"INDEX(建筑!$B$2:$B$5001,MATCH(表格模板!A2126,建筑!$A$2:$A$5001,0),COLUMN(A2126))","v":{"$error":"#N/A"}},null,{"$f":"INDEX(设备类型!$B$2:$B$5001,MATCH(表格模板!C2126,设备类型!$A$2:$A$5001,0),COLUMN(A2126))","v":{"$error":"#N/A"}}]
[null,{"$f":"INDEX(建筑!$B$2:$B$5001,MATCH(表格模板!A2127,建筑!$A$2:$A$5001,0),COLUMN(A2127))","v":{"$error":"#N/A"}},null,{"$f":"INDEX(设备类型!$B$2:$B$5001,MATCH(表格模板!C2127,设备类型!$A$2:$A$5001,0),COLUMN(A2127))","v":{"$error":"#N/A"}}]
[null,{"$f":"INDEX(建筑!$B$2:$B$5001,MATCH(表格模板!A2128,建筑!$A$2:$A$5001,0),COLUMN(A2128))","v":{"$error":"#N/A"}},null,{"$f":"INDEX(设备类型!$B$2:$B$5001,MATCH(表格模板!C2128,设备类型!$A$2:$A$5001,0),COLUMN(A2128))","v":{"$error":"#N/A"}}]
[null,{"$f":"INDEX(建筑!$B$2:$B$5001,MATCH(表格模板!A2129,建筑!$A$2:$A$5001,0),COLUMN(A2129))","v":{"$error":"#N/A"}},null,{"$f":"INDEX(设备类型!$B$2:$B$5001,MATCH(表格模板!C2129,设备类型!$A$2:$A$5001,0),COLUMN(A2129))","v":{"$error":"#N/A"}}]
[null,{"$f":"INDEX(建筑!$B$2:$B$5001,MATCH(表格模板!A2130,建筑!$A$2:$A$5001,0),COLUMN(A2130))","v":{"$error":"#N/A"}},null,{"$f":"INDEX(设备类型!$B$2:$B$5001,MATCH(表格模板!C2130,设备类型!$A$2:$A$5001,0),COLUMN(A2130))","v":{"$error":"#N/A"}}]
[null,{"$f":"INDEX(建筑!$B$2:$B$5001,MATCH(表格模板!A2131,建筑!$A$2:$A$5001,0),COLUMN(A2131))","v":{"$error":"#N/A"}},null,{"$f":"INDEX(设备类型!$B$2:$B$5001,MATCH(表格模板!C2131,设备类型!$A$2:$A$5001,0),COLUMN(A2131))","v":{"$error":"#N/A"}}]
[null,{"$f":"INDEX(建筑!$B$2:$B$5001,MATCH(表格模板!A2132,建筑!$A$2:$A$5001,0),COLUMN(A2132))","v":{"$error":"#N/A"}},null,{"$f":"INDEX(设备类型!$B$2:$B$5001,MATCH(表格模板!C2132,设备类型!$A$2:$A$5001,0),COLUMN(A2132))","v":{"$error":"#N/A"}}]
[null,{"$f":"INDEX(建筑!$B$2:$B$5001,MATCH(表格模板!A2133,建筑!$A$2:$A$5001,0),COLUMN(A2133))","v":{"$error":"#N/A"}},null,{"$f":"INDEX(设备类型!$B$2:$B$5001,MATCH(表格模板!C2133,设备类型!$A$2:$A$5001,0),COLUMN(A2133))","v":{"$error":"#N/A"}}]
[null,{"$f":"INDEX(建筑!$B$2:$B$5001,MATCH(表格模板!A2134,建筑!$A$2:$A$5001,0),COLUMN(A2134))","v":{"$error":"#N/A"}},null,{"$f":"INDEX(设备类型!$B$2:$B$5001,MATCH(表格模板!C2134,设备类型!$A$2:$A$5001,0),COLUMN(A2134))","v":{"$error":"#N/A"}}]
[null,{"$f":"INDEX(建筑!$B$2:$B$5001,MATCH(表格模板!A2135,建筑!$A$2:$A$5001,0),COLUMN(A2135))","v":{"$error":"#N/A"}},null,{"$f":"INDEX(设备类型!$B$2:$B$5001,MATCH(表格模板!C2135,设备类型!$A$2:$A$5001,0),COLUMN(A2135))","v":{"$error":"#N/A"}}]
[null,{"$f":"INDEX(建筑!$B$2:$B$5001,MATCH(表格模板!A2136,建筑!$A$2:$A$5001,0),COLUMN(A2136))","v":{"$error":"#N/A"}},null,{"$f":"INDEX(设备类型!$B$2:$B$5001,MATCH(表格模板!C2136,设备类型!$A$2:$A$5001,0),COLUMN(A2136))","v":{"$error":"#N/A"}}]
[null,{"$f":"INDEX(建筑!$B$2:$B$5001,MATCH(表格模板!A2137,建筑!$A$2:$A$5001,0),COLUMN(A2137))","v":{"$error":"#N/A"}},null,{"$f":"INDEX(设备类型!$B$2:$B$5001,MATCH(表格模板!C2137,设备类型!$A$2:$A$5001,0),COLUMN(A2137))","v":{"$error":"#N/A"}}]
[null,{"$f":"INDEX(建筑!$B$2:$B$5001,MATCH(表格模板!A2138,建筑!$A$2:$A$5001,0),COLUMN(A2138))","v":{"$error":"#N/A"}},null,{"$f":"INDEX(设备类型!$B$2:$B$5001,MATCH(表格模板!C2138,设备类型!$A$2:$A$5001,0),COLUMN(A2138))","v":{"$error":"#N/A"}}]
[null,{"$f":"INDEX(建筑!$B$2:$B$5001,MATCH(表格模板!A2139,建筑!$A$2:$A$5001,0),COLUMN(A2139))","v":{"$error":"#N/A"}},null,{"$f":"INDEX(设备类型!$B$2:$B$5001,MATCH(表格模板!C2139,设备类型!$A$2:$A$5001,0),COLUMN(A2139))","v":{"$error":"#N/A"}}]
[null,{"$f":"INDEX(建筑!$B$2:$B$5001,MATCH(表格模板!A2140,建筑!$A$2:$A$5001,0),COLUMN(A2140))","v":{"$error":"#N/A"}},null,{"$f":"INDEX(设备类型!$B$2:$B$5001,MATCH(表格模板!C2140,设备类型!$A$2:$A$5001,0),COLUMN(A2140))","v":{"$error":"#N/A"}}]
[null,{"$f":"INDEX(建筑!$B$2:$B$5001,MATCH(表格模板!A2141,建筑!$A$2:$A$5001,0),COLUMN(A2141))","v":{"$error":"#N/A"}},null,{"$f":"INDEX(设备类型!$B$2:$B$5001,MATCH(表格模板!C2141,设备类型!$A$2:$A$5001,0),COLUMN(A2141))","v":{"$error":"#N/A"}}]
[null,{"$f":"INDEX(建筑!$B$2:$B$5001,MATCH(表格模板!A2142,建筑!$A$2:$A$5001,0),COLUMN(A2142))","v":{"$error":"#N/A"}},null,{"$f":"INDEX(设备类型!$B$2:$B$5001,MATCH(表格模板!C2142,设备类型!$A$2:$A$5001,0),COLUMN(A2142))","v":{"$error":"#N/A"}}]
[null,{"$f":"INDEX(建筑!$B$2:$B$5001,MATCH(表格模板!A2143,建筑!$A$2:$A$5001,0),COLUMN(A2143))","v":{"$error":"#N/A"}},null,{"$f":"INDEX(设备类型!$B$2:$B$5001,MATCH(表格模板!C2143,设备类型!$A$2:$A$5001,0),COLUMN(A2143))","v":{"$error":"#N/A"}}]
[null,{"$f":"INDEX(建筑!$B$2:$B$5001,MATCH(表格模板!A2144,建筑!$A$2:$A$5001,0),COLUMN(A2144))","v":{"$error":"#N/A"}},null,{"$f":"INDEX(设备类型!$B$2:$B$5001,MATCH(表格模板!C2144,设备类型!$A$2:$A$5001,0),COLUMN(A2144))","v":{"$error":"#N/A"}}]
[null,{"$f":"INDEX(建筑!$B$2:$B$5001,MATCH(表格模板!A2145,建筑!$A$2:$A$5001,0),COLUMN(A2145))","v":{"$error":"#N/A"}},null,{"$f":"INDEX(设备类型!$B$2:$B$5001,MATCH(表格模板!C2145,设备类型!$A$2:$A$5001,0),COLUMN(A2145))","v":{"$error":"#N/A"}}]
[null,{"$f":"INDEX(建筑!$B$2:$B$5001,MATCH(表格模板!A2146,建筑!$A$2:$A$5001,0),COLUMN(A2146))","v":{"$error":"#N/A"}},null,{"$f":"INDEX(设备类型!$B$2:$B$5001,MATCH(表格模板!C2146,设备类型!$A$2:$A$5001,0),COLUMN(A2146))","v":{"$error":"#N/A"}}]
[null,{"$f":"INDEX(建筑!$B$2:$B$5001,MATCH(表格模板!A2147,建筑!$A$2:$A$5001,0),COLUMN(A2147))","v":{"$error":"#N/A"}},null,{"$f":"INDEX(设备类型!$B$2:$B$5001,MATCH(表格模板!C2147,设备类型!$A$2:$A$5001,0),COLUMN(A2147))","v":{"$error":"#N/A"}}]
[null,{"$f":"INDEX(建筑!$B$2:$B$5001,MATCH(表格模板!A2148,建筑!$A$2:$A$5001,0),COLUMN(A2148))","v":{"$error":"#N/A"}},null,{"$f":"INDEX(设备类型!$B$2:$B$5001,MATCH(表格模板!C2148,设备类型!$A$2:$A$5001,0),COLUMN(A2148))","v":{"$error":"#N/A"}}]
[null,{"$f":"INDEX(建筑!$B$2:$B$5001,MATCH(表格模板!A2149,建筑!$A$2:$A$5001,0),COLUMN(A2149))","v":{"$error":"#N/A"}},null,{"$f":"INDEX(设备类型!$B$2:$B$5001,MATCH(表格模板!C2149,设备类型!$A$2:$A$5001,0),COLUMN(A2149))","v":{"$error":"#N/A"}}]
[null,{"$f":"INDEX(建筑!$B$2:$B$5001,MATCH(表格模板!A2150,建筑!$A$2:$A$5001,0),COLUMN(A2150))","v":{"$error":"#N/A"}},null,{"$f":"INDEX(设备类型!$B$2:$B$5001,MATCH(表格模板!C2150,设备类型!$A$2:$A$5001,0),COLUMN(A2150))","v":{"$error":"#N/A"}}]
[null,{"$f":"INDEX(建筑!$B$2:$B$5001,MATCH(表格模板!A2151,建筑!$A$2:$A$5001,0),COLUMN(A2151))","v":{"$error":"#N/A"}},null,{"$f":"INDEX(设备类型!$B$2:$B$5001,MATCH(表格模板!C2151,设备类型!$A$2:$A$5001,0),COLUMN(A2151))","v":{"$error":"#N/A"}}]
[null,{"$f":"INDEX(建筑!$B$2:$B$5001,MATCH(表格模板!A2152,建筑!$A$2:$A$5001,0),COLUMN(A2152))","v":{"$error":"#N/A"}},null,{"$f":"INDEX(设备类型!$B$2:$B$5001,MATCH(表格模板!C2152,设备类型!$A$2:$A$5001,0),COLUMN(A2152))","v":{"$error":"#N/A"}}]
[null,{"$f":"INDEX(建筑!$B$2:$B$5001,MATCH(表格模板!A2153,建筑!$A$2:$A$5001,0),COLUMN(A2153))","v":{"$error":"#N/A"}},null,{"$f":"INDEX(设备类型!$B$2:$B$5001,MATCH(表格模板!C2153,设备类型!$A$2:$A$5001,0),COLUMN(A2153))","v":{"$error":"#N/A"}}]
[null,{"$f":"INDEX(建筑!$B$2:$B$5001,MATCH(表格模板!A2154,建筑!$A$2:$A$5001,0),COLUMN(A2154))","v":{"$error":"#N/A"}},null,{"$f":"INDEX(设备类型!$B$2:$B$5001,MATCH(表格模板!C2154,设备类型!$A$2:$A$5001,0),COLUMN(A2154))","v":{"$error":"#N/A"}}]
[null,{"$f":"INDEX(建筑!$B$2:$B$5001,MATCH(表格模板!A2155,建筑!$A$2:$A$5001,0),COLUMN(A2155))","v":{"$error":"#N/A"}},null,{"$f":"INDEX(设备类型!$B$2:$B$5001,MATCH(表格模板!C2155,设备类型!$A$2:$A$5001,0),COLUMN(A2155))","v":{"$error":"#N/A"}}]
[null,{"$f":"INDEX(建筑!$B$2:$B$5001,MATCH(表格模板!A2156,建筑!$A$2:$A$5001,0),COLUMN(A2156))","v":{"$error":"#N/A"}},null,{"$f":"INDEX(设备类型!$B$2:$B$5001,MATCH(表格模板!C2156,设备类型!$A$2:$A$5001,0),COLUMN(A2156))","v":{"$error":"#N/A"}}]
[null,{"$f":"INDEX(建筑!$B$2:$B$5001,MATCH(表格模板!A2157,建筑!$A$2:$A$5001,0),COLUMN(A2157))","v":{"$error":"#N/A"}},null,{"$f":"INDEX(设备类型!$B$2:$B$5001,MATCH(表格模板!C2157,设备类型!$A$2:$A$5001,0),COLUMN(A2157))","v":{"$error":"#N/A"}}]
[null,{"$f":"INDEX(建筑!$B$2:$B$5001,MATCH(表格模板!A2158,建筑!$A$2:$A$5001,0),COLUMN(A2158))","v":{"$error":"#N/A"}},null,{"$f":"INDEX(设备类型!$B$2:$B$5001,MATCH(表格模板!C2158,设备类型!$A$2:$A$5001,0),COLUMN(A2158))","v":{"$error":"#N/A"}}]
[null,{"$f":"INDEX(建筑!$B$2:$B$5001,MATCH(表格模板!A2159,建筑!$A$2:$A$5001,0),COLUMN(A2159))","v":{"$error":"#N/A"}},null,{"$f":"INDEX(设备类型!$B$2:$B$5001,MATCH(表格模板!C2159,设备类型!$A$2:$A$5001,0),COLUMN(A2159))","v":{"$error":"#N/A"}}]
[null,{"$f":"INDEX(建筑!$B$2:$B$5001,MATCH(表格模板!A2160,建筑!$A$2:$A$5001,0),COLUMN(A2160))","v":{"$error":"#N/A"}},null,{"$f":"INDEX(设备类型!$B$2:$B$5001,MATCH(表格模板!C2160,设备类型!$A$2:$A$5001,0),COLUMN(A2160))","v":{"$error":"#N/A"}}]
[null,{"$f":"INDEX(建筑!$B$2:$B$5001,MATCH(表格模板!A2161,建筑!$A$2:$A$5001,0),COLUMN(A2161))","v":{"$error":"#N/A"}},null,{"$f":"INDEX(设备类型!$B$2:$B$5001,MATCH(表格模板!C2161,设备类型!$A$2:$A$5001,0),COLUMN(A2161))","v":{"$error":"#N/A"}}]
[null,{"$f":"INDEX(建筑!$B$2:$B$5001,MATCH(表格模板!A2162,建筑!$A$2:$A$5001,0),COLUMN(A2162))","v":{"$error":"#N/A"}},null,{"$f":"INDEX(设备类型!$B$2:$B$5001,MATCH(表格模板!C2162,设备类型!$A$2:$A$5001,0),COLUMN(A2162))","v":{"$error":"#N/A"}}]
[null,{"$f":"INDEX(建筑!$B$2:$B$5001,MATCH(表格模板!A2163,建筑!$A$2:$A$5001,0),COLUMN(A2163))","v":{"$error":"#N/A"}},null,{"$f":"INDEX(设备类型!$B$2:$B$5001,MATCH(表格模板!C2163,设备类型!$A$2:$A$5001,0),COLUMN(A2163))","v":{"$error":"#N/A"}}]
[null,{"$f":"INDEX(建筑!$B$2:$B$5001,MATCH(表格模板!A2164,建筑!$A$2:$A$5001,0),COLUMN(A2164))","v":{"$error":"#N/A"}},null,{"$f":"INDEX(设备类型!$B$2:$B$5001,MATCH(表格模板!C2164,设备类型!$A$2:$A$5001,0),COLUMN(A2164))","v":{"$error":"#N/A"}}]
[null,{"$f":"INDEX(建筑!$B$2:$B$5001,MATCH(表格模板!A2165,建筑!$A$2:$A$5001,0),COLUMN(A2165))","v":{"$error":"#N/A"}},null,{"$f":"INDEX(设备类型!$B$2:$B$5001,MATCH(表格模板!C2165,设备类型!$A$2:$A$5001,0),COLUMN(A2165))","v":{"$error":"#N/A"}}]
[null,{"$f":"INDEX(建筑!$B$2:$B$5001,MATCH(表格模板!A2166,建筑!$A$2:$A$5001,0),COLUMN(A2166))","v":{"$error":"#N/A"}},null,{"$f":"INDEX(设备类型!$B$2:$B$5001,MATCH(表格模板!C2166,设备类型!$A$2:$A$5001,0),COLUMN(A2166))","v":{"$error":"#N/A"}}]
[null,{"$f":"INDEX(建筑!$B$2:$B$5001,MATCH(表格模板!A2167,建筑!$A$2:$A$5001,0),COLUMN(A2167))","v":{"$error":"#N/A"}},null,{"$f":"INDEX(设备类型!$B$2:$B$5001,MATCH(表格模板!C2167,设备类型!$A$2:$A$5001,0),COLUMN(A2167))","v":{"$error":"#N/A"}}]
[null,{"$f":"INDEX(建筑!$B$2:$B$5001,MATCH(表格模板!A2168,建筑!$A$2:$A$5001,0),COLUMN(A2168))","v":{"$error":"#N/A"}},null,{"$f":"INDEX(设备类型!$B$2:$B$5001,MATCH(表格模板!C2168,设备类型!$A$2:$A$5001,0),COLUMN(A2168))","v":{"$error":"#N/A"}}]
[null,{"$f":"INDEX(建筑!$B$2:$B$5001,MATCH(表格模板!A2169,建筑!$A$2:$A$5001,0),COLUMN(A2169))","v":{"$error":"#N/A"}},null,{"$f":"INDEX(设备类型!$B$2:$B$5001,MATCH(表格模板!C2169,设备类型!$A$2:$A$5001,0),COLUMN(A2169))","v":{"$error":"#N/A"}}]
[null,{"$f":"INDEX(建筑!$B$2:$B$5001,MATCH(表格模板!A2170,建筑!$A$2:$A$5001,0),COLUMN(A2170))","v":{"$error":"#N/A"}},null,{"$f":"INDEX(设备类型!$B$2:$B$5001,MATCH(表格模板!C2170,设备类型!$A$2:$A$5001,0),COLUMN(A2170))","v":{"$error":"#N/A"}}]
[null,{"$f":"INDEX(建筑!$B$2:$B$5001,MATCH(表格模板!A2171,建筑!$A$2:$A$5001,0),COLUMN(A2171))","v":{"$error":"#N/A"}},null,{"$f":"INDEX(设备类型!$B$2:$B$5001,MATCH(表格模板!C2171,设备类型!$A$2:$A$5001,0),COLUMN(A2171))","v":{"$error":"#N/A"}}]
[null,{"$f":"INDEX(建筑!$B$2:$B$5001,MATCH(表格模板!A2172,建筑!$A$2:$A$5001,0),COLUMN(A2172))","v":{"$error":"#N/A"}},null,{"$f":"INDEX(设备类型!$B$2:$B$5001,MATCH(表格模板!C2172,设备类型!$A$2:$A$5001,0),COLUMN(A2172))","v":{"$error":"#N/A"}}]
[null,{"$f":"INDEX(建筑!$B$2:$B$5001,MATCH(表格模板!A2173,建筑!$A$2:$A$5001,0),COLUMN(A2173))","v":{"$error":"#N/A"}},null,{"$f":"INDEX(设备类型!$B$2:$B$5001,MATCH(表格模板!C2173,设备类型!$A$2:$A$5001,0),COLUMN(A2173))","v":{"$error":"#N/A"}}]
[null,{"$f":"INDEX(建筑!$B$2:$B$5001,MATCH(表格模板!A2174,建筑!$A$2:$A$5001,0),COLUMN(A2174))","v":{"$error":"#N/A"}},null,{"$f":"INDEX(设备类型!$B$2:$B$5001,MATCH(表格模板!C2174,设备类型!$A$2:$A$5001,0),COLUMN(A2174))","v":{"$error":"#N/A"}}]
[null,{"$f":"INDEX(建筑!$B$2:$B$5001,MATCH(表格模板!A2175,建筑!$A$2:$A$5001,0),COLUMN(A2175))","v":{"$error":"#N/A"}},null,{"$f":"INDEX(设备类型!$B$2:$B$5001,MATCH(表格模板!C2175,设备类型!$A$2:$A$5001,0),COLUMN(A2175))","v":{"$error":"#N/A"}}]
[null,{"$f":"INDEX(建筑!$B$2:$B$5001,MATCH(表格模板!A2176,建筑!$A$2:$A$5001,0),COLUMN(A2176))","v":{"$error":"#N/A"}},null,{"$f":"INDEX(设备类型!$B$2:$B$5001,MATCH(表格模板!C2176,设备类型!$A$2:$A$5001,0),COLUMN(A2176))","v":{"$error":"#N/A"}}]
[null,{"$f":"INDEX(建筑!$B$2:$B$5001,MATCH(表格模板!A2177,建筑!$A$2:$A$5001,0),COLUMN(A2177))","v":{"$error":"#N/A"}},null,{"$f":"INDEX(设备类型!$B$2:$B$5001,MATCH(表格模板!C2177,设备类型!$A$2:$A$5001,0),COLUMN(A2177))","v":{"$error":"#N/A"}}]
[null,{"$f":"INDEX(建筑!$B$2:$B$5001,MATCH(表格模板!A2178,建筑!$A$2:$A$5001,0),COLUMN(A2178))","v":{"$error":"#N/A"}},null,{"$f":"INDEX(设备类型!$B$2:$B$5001,MATCH(表格模板!C2178,设备类型!$A$2:$A$5001,0),COLUMN(A2178))","v":{"$error":"#N/A"}}]
[null,{"$f":"INDEX(建筑!$B$2:$B$5001,MATCH(表格模板!A2179,建筑!$A$2:$A$5001,0),COLUMN(A2179))","v":{"$error":"#N/A"}},null,{"$f":"INDEX(设备类型!$B$2:$B$5001,MATCH(表格模板!C2179,设备类型!$A$2:$A$5001,0),COLUMN(A2179))","v":{"$error":"#N/A"}}]
[null,{"$f":"INDEX(建筑!$B$2:$B$5001,MATCH(表格模板!A2180,建筑!$A$2:$A$5001,0),COLUMN(A2180))","v":{"$error":"#N/A"}},null,{"$f":"INDEX(设备类型!$B$2:$B$5001,MATCH(表格模板!C2180,设备类型!$A$2:$A$5001,0),COLUMN(A2180))","v":{"$error":"#N/A"}}]
[null,{"$f":"INDEX(建筑!$B$2:$B$5001,MATCH(表格模板!A2181,建筑!$A$2:$A$5001,0),COLUMN(A2181))","v":{"$error":"#N/A"}},null,{"$f":"INDEX(设备类型!$B$2:$B$5001,MATCH(表格模板!C2181,设备类型!$A$2:$A$5001,0),COLUMN(A2181))","v":{"$error":"#N/A"}}]
[null,{"$f":"INDEX(建筑!$B$2:$B$5001,MATCH(表格模板!A2182,建筑!$A$2:$A$5001,0),COLUMN(A2182))","v":{"$error":"#N/A"}},null,{"$f":"INDEX(设备类型!$B$2:$B$5001,MATCH(表格模板!C2182,设备类型!$A$2:$A$5001,0),COLUMN(A2182))","v":{"$error":"#N/A"}}]
[null,{"$f":"INDEX(建筑!$B$2:$B$5001,MATCH(表格模板!A2183,建筑!$A$2:$A$5001,0),COLUMN(A2183))","v":{"$error":"#N/A"}},null,{"$f":"INDEX(设备类型!$B$2:$B$5001,MATCH(表格模板!C2183,设备类型!$A$2:$A$5001,0),COLUMN(A2183))","v":{"$error":"#N/A"}}]
[null,{"$f":"INDEX(建筑!$B$2:$B$5001,MATCH(表格模板!A2184,建筑!$A$2:$A$5001,0),COLUMN(A2184))","v":{"$error":"#N/A"}},null,{"$f":"INDEX(设备类型!$B$2:$B$5001,MATCH(表格模板!C2184,设备类型!$A$2:$A$5001,0),COLUMN(A2184))","v":{"$error":"#N/A"}}]
[null,{"$f":"INDEX(建筑!$B$2:$B$5001,MATCH(表格模板!A2185,建筑!$A$2:$A$5001,0),COLUMN(A2185))","v":{"$error":"#N/A"}},null,{"$f":"INDEX(设备类型!$B$2:$B$5001,MATCH(表格模板!C2185,设备类型!$A$2:$A$5001,0),COLUMN(A2185))","v":{"$error":"#N/A"}}]
[null,{"$f":"INDEX(建筑!$B$2:$B$5001,MATCH(表格模板!A2186,建筑!$A$2:$A$5001,0),COLUMN(A2186))","v":{"$error":"#N/A"}},null,{"$f":"INDEX(设备类型!$B$2:$B$5001,MATCH(表格模板!C2186,设备类型!$A$2:$A$5001,0),COLUMN(A2186))","v":{"$error":"#N/A"}}]
[null,{"$f":"INDEX(建筑!$B$2:$B$5001,MATCH(表格模板!A2187,建筑!$A$2:$A$5001,0),COLUMN(A2187))","v":{"$error":"#N/A"}},null,{"$f":"INDEX(设备类型!$B$2:$B$5001,MATCH(表格模板!C2187,设备类型!$A$2:$A$5001,0),COLUMN(A2187))","v":{"$error":"#N/A"}}]
[null,{"$f":"INDEX(建筑!$B$2:$B$5001,MATCH(表格模板!A2188,建筑!$A$2:$A$5001,0),COLUMN(A2188))","v":{"$error":"#N/A"}},null,{"$f":"INDEX(设备类型!$B$2:$B$5001,MATCH(表格模板!C2188,设备类型!$A$2:$A$5001,0),COLUMN(A2188))","v":{"$error":"#N/A"}}]
[null,{"$f":"INDEX(建筑!$B$2:$B$5001,MATCH(表格模板!A2189,建筑!$A$2:$A$5001,0),COLUMN(A2189))","v":{"$error":"#N/A"}},null,{"$f":"INDEX(设备类型!$B$2:$B$5001,MATCH(表格模板!C2189,设备类型!$A$2:$A$5001,0),COLUMN(A2189))","v":{"$error":"#N/A"}}]
[null,{"$f":"INDEX(建筑!$B$2:$B$5001,MATCH(表格模板!A2190,建筑!$A$2:$A$5001,0),COLUMN(A2190))","v":{"$error":"#N/A"}},null,{"$f":"INDEX(设备类型!$B$2:$B$5001,MATCH(表格模板!C2190,设备类型!$A$2:$A$5001,0),COLUMN(A2190))","v":{"$error":"#N/A"}}]
[null,{"$f":"INDEX(建筑!$B$2:$B$5001,MATCH(表格模板!A2191,建筑!$A$2:$A$5001,0),COLUMN(A2191))","v":{"$error":"#N/A"}},null,{"$f":"INDEX(设备类型!$B$2:$B$5001,MATCH(表格模板!C2191,设备类型!$A$2:$A$5001,0),COLUMN(A2191))","v":{"$error":"#N/A"}}]
[null,{"$f":"INDEX(建筑!$B$2:$B$5001,MATCH(表格模板!A2192,建筑!$A$2:$A$5001,0),COLUMN(A2192))","v":{"$error":"#N/A"}},null,{"$f":"INDEX(设备类型!$B$2:$B$5001,MATCH(表格模板!C2192,设备类型!$A$2:$A$5001,0),COLUMN(A2192))","v":{"$error":"#N/A"}}]
[null,{"$f":"INDEX(建筑!$B$2:$B$5001,MATCH(表格模板!A2193,建筑!$A$2:$A$5001,0),COLUMN(A2193))","v":{"$error":"#N/A"}},null,{"$f":"INDEX(设备类型!$B$2:$B$5001,MATCH(表格模板!C2193,设备类型!$A$2:$A$5001,0),COLUMN(A2193))","v":{"$error":"#N/A"}}]
[null,{"$f":"INDEX(建筑!$B$2:$B$5001,MATCH(表格模板!A2194,建筑!$A$2:$A$5001,0),COLUMN(A2194))","v":{"$error":"#N/A"}},null,{"$f":"INDEX(设备类型!$B$2:$B$5001,MATCH(表格模板!C2194,设备类型!$A$2:$A$5001,0),COLUMN(A2194))","v":{"$error":"#N/A"}}]
[null,{"$f":"INDEX(建筑!$B$2:$B$5001,MATCH(表格模板!A2195,建筑!$A$2:$A$5001,0),COLUMN(A2195))","v":{"$error":"#N/A"}},null,{"$f":"INDEX(设备类型!$B$2:$B$5001,MATCH(表格模板!C2195,设备类型!$A$2:$A$5001,0),COLUMN(A2195))","v":{"$error":"#N/A"}}]
[null,{"$f":"INDEX(建筑!$B$2:$B$5001,MATCH(表格模板!A2196,建筑!$A$2:$A$5001,0),COLUMN(A2196))","v":{"$error":"#N/A"}},null,{"$f":"INDEX(设备类型!$B$2:$B$5001,MATCH(表格模板!C2196,设备类型!$A$2:$A$5001,0),COLUMN(A2196))","v":{"$error":"#N/A"}}]
[null,{"$f":"INDEX(建筑!$B$2:$B$5001,MATCH(表格模板!A2197,建筑!$A$2:$A$5001,0),COLUMN(A2197))","v":{"$error":"#N/A"}},null,{"$f":"INDEX(设备类型!$B$2:$B$5001,MATCH(表格模板!C2197,设备类型!$A$2:$A$5001,0),COLUMN(A2197))","v":{"$error":"#N/A"}}]
[null,{"$f":"INDEX(建筑!$B$2:$B$5001,MATCH(表格模板!A2198,建筑!$A$2:$A$5001,0),COLUMN(A2198))","v":{"$error":"#N/A"}},null,{"$f":"INDEX(设备类型!$B$2:$B$5001,MATCH(表格模板!C2198,设备类型!$A$2:$A$5001,0),COLUMN(A2198))","v":{"$error":"#N/A"}}]
[null,{"$f":"INDEX(建筑!$B$2:$B$5001,MATCH(表格模板!A2199,建筑!$A$2:$A$5001,0),COLUMN(A2199))","v":{"$error":"#N/A"}},null,{"$f":"INDEX(设备类型!$B$2:$B$5001,MATCH(表格模板!C2199,设备类型!$A$2:$A$5001,0),COLUMN(A2199))","v":{"$error":"#N/A"}}]
[null,{"$f":"INDEX(建筑!$B$2:$B$5001,MATCH(表格模板!A2200,建筑!$A$2:$A$5001,0),COLUMN(A2200))","v":{"$error":"#N/A"}},null,{"$f":"INDEX(设备类型!$B$2:$B$5001,MATCH(表格模板!C2200,设备类型!$A$2:$A$5001,0),COLUMN(A2200))","v":{"$error":"#N/A"}}]
[null,{"$f":"INDEX(建筑!$B$2:$B$5001,MATCH(表格模板!A2201,建筑!$A$2:$A$5001,0),COLUMN(A2201))","v":{"$error":"#N/A"}},null,{"$f":"INDEX(设备类型!$B$2:$B$5001,MATCH(表格模板!C2201,设备类型!$A$2:$A$5001,0),COLUMN(A2201))","v":{"$error":"#N/A"}}]
[null,{"$f":"INDEX(建筑!$B$2:$B$5001,MATCH(表格模板!A2202,建筑!$A$2:$A$5001,0),COLUMN(A2202))","v":{"$error":"#N/A"}},null,{"$f":"INDEX(设备类型!$B$2:$B$5001,MATCH(表格模板!C2202,设备类型!$A$2:$A$5001,0),COLUMN(A2202))","v":{"$error":"#N/A"}}]
[null,{"$f":"INDEX(建筑!$B$2:$B$5001,MATCH(表格模板!A2203,建筑!$A$2:$A$5001,0),COLUMN(A2203))","v":{"$error":"#N/A"}},null,{"$f":"INDEX(设备类型!$B$2:$B$5001,MATCH(表格模板!C2203,设备类型!$A$2:$A$5001,0),COLUMN(A2203))","v":{"$error":"#N/A"}}]
[null,{"$f":"INDEX(建筑!$B$2:$B$5001,MATCH(表格模板!A2204,建筑!$A$2:$A$5001,0),COLUMN(A2204))","v":{"$error":"#N/A"}},null,{"$f":"INDEX(设备类型!$B$2:$B$5001,MATCH(表格模板!C2204,设备类型!$A$2:$A$5001,0),COLUMN(A2204))","v":{"$error":"#N/A"}}]
[null,{"$f":"INDEX(建筑!$B$2:$B$5001,MATCH(表格模板!A2205,建筑!$A$2:$A$5001,0),COLUMN(A2205))","v":{"$error":"#N/A"}},null,{"$f":"INDEX(设备类型!$B$2:$B$5001,MATCH(表格模板!C2205,设备类型!$A$2:$A$5001,0),COLUMN(A2205))","v":{"$error":"#N/A"}}]
[null,{"$f":"INDEX(建筑!$B$2:$B$5001,MATCH(表格模板!A2206,建筑!$A$2:$A$5001,0),COLUMN(A2206))","v":{"$error":"#N/A"}},null,{"$f":"INDEX(设备类型!$B$2:$B$5001,MATCH(表格模板!C2206,设备类型!$A$2:$A$5001,0),COLUMN(A2206))","v":{"$error":"#N/A"}}]
[null,{"$f":"INDEX(建筑!$B$2:$B$5001,MATCH(表格模板!A2207,建筑!$A$2:$A$5001,0),COLUMN(A2207))","v":{"$error":"#N/A"}},null,{"$f":"INDEX(设备类型!$B$2:$B$5001,MATCH(表格模板!C2207,设备类型!$A$2:$A$5001,0),COLUMN(A2207))","v":{"$error":"#N/A"}}]
[null,{"$f":"INDEX(建筑!$B$2:$B$5001,MATCH(表格模板!A2208,建筑!$A$2:$A$5001,0),COLUMN(A2208))","v":{"$error":"#N/A"}},null,{"$f":"INDEX(设备类型!$B$2:$B$5001,MATCH(表格模板!C2208,设备类型!$A$2:$A$5001,0),COLUMN(A2208))","v":{"$error":"#N/A"}}]
[null,{"$f":"INDEX(建筑!$B$2:$B$5001,MATCH(表格模板!A2209,建筑!$A$2:$A$5001,0),COLUMN(A2209))","v":{"$error":"#N/A"}},null,{"$f":"INDEX(设备类型!$B$2:$B$5001,MATCH(表格模板!C2209,设备类型!$A$2:$A$5001,0),COLUMN(A2209))","v":{"$error":"#N/A"}}]
[null,{"$f":"INDEX(建筑!$B$2:$B$5001,MATCH(表格模板!A2210,建筑!$A$2:$A$5001,0),COLUMN(A2210))","v":{"$error":"#N/A"}},null,{"$f":"INDEX(设备类型!$B$2:$B$5001,MATCH(表格模板!C2210,设备类型!$A$2:$A$5001,0),COLUMN(A2210))","v":{"$error":"#N/A"}}]
[null,{"$f":"INDEX(建筑!$B$2:$B$5001,MATCH(表格模板!A2211,建筑!$A$2:$A$5001,0),COLUMN(A2211))","v":{"$error":"#N/A"}},null,{"$f":"INDEX(设备类型!$B$2:$B$5001,MATCH(表格模板!C2211,设备类型!$A$2:$A$5001,0),COLUMN(A2211))","v":{"$error":"#N/A"}}]
[null,{"$f":"INDEX(建筑!$B$2:$B$5001,MATCH(表格模板!A2212,建筑!$A$2:$A$5001,0),COLUMN(A2212))","v":{"$error":"#N/A"}},null,{"$f":"INDEX(设备类型!$B$2:$B$5001,MATCH(表格模板!C2212,设备类型!$A$2:$A$5001,0),COLUMN(A2212))","v":{"$error":"#N/A"}}]
[null,{"$f":"INDEX(建筑!$B$2:$B$5001,MATCH(表格模板!A2213,建筑!$A$2:$A$5001,0),COLUMN(A2213))","v":{"$error":"#N/A"}},null,{"$f":"INDEX(设备类型!$B$2:$B$5001,MATCH(表格模板!C2213,设备类型!$A$2:$A$5001,0),COLUMN(A2213))","v":{"$error":"#N/A"}}]
[null,{"$f":"INDEX(建筑!$B$2:$B$5001,MATCH(表格模板!A2214,建筑!$A$2:$A$5001,0),COLUMN(A2214))","v":{"$error":"#N/A"}},null,{"$f":"INDEX(设备类型!$B$2:$B$5001,MATCH(表格模板!C2214,设备类型!$A$2:$A$5001,0),COLUMN(A2214))","v":{"$error":"#N/A"}}]
[null,{"$f":"INDEX(建筑!$B$2:$B$5001,MATCH(表格模板!A2215,建筑!$A$2:$A$5001,0),COLUMN(A2215))","v":{"$error":"#N/A"}},null,{"$f":"INDEX(设备类型!$B$2:$B$5001,MATCH(表格模板!C2215,设备类型!$A$2:$A$5001,0),COLUMN(A2215))","v":{"$error":"#N/A"}}]
[null,{"$f":"INDEX(建筑!$B$2:$B$5001,MATCH(表格模板!A2216,建筑!$A$2:$A$5001,0),COLUMN(A2216))","v":{"$error":"#N/A"}},null,{"$f":"INDEX(设备类型!$B$2:$B$5001,MATCH(表格模板!C2216,设备类型!$A$2:$A$5001,0),COLUMN(A2216))","v":{"$error":"#N/A"}}]
[null,{"$f":"INDEX(建筑!$B$2:$B$5001,MATCH(表格模板!A2217,建筑!$A$2:$A$5001,0),COLUMN(A2217))","v":{"$error":"#N/A"}},null,{"$f":"INDEX(设备类型!$B$2:$B$5001,MATCH(表格模板!C2217,设备类型!$A$2:$A$5001,0),COLUMN(A2217))","v":{"$error":"#N/A"}}]
[null,{"$f":"INDEX(建筑!$B$2:$B$5001,MATCH(表格模板!A2218,建筑!$A$2:$A$5001,0),COLUMN(A2218))","v":{"$error":"#N/A"}},null,{"$f":"INDEX(设备类型!$B$2:$B$5001,MATCH(表格模板!C2218,设备类型!$A$2:$A$5001,0),COLUMN(A2218))","v":{"$error":"#N/A"}}]
[null,{"$f":"INDEX(建筑!$B$2:$B$5001,MATCH(表格模板!A2219,建筑!$A$2:$A$5001,0),COLUMN(A2219))","v":{"$error":"#N/A"}},null,{"$f":"INDEX(设备类型!$B$2:$B$5001,MATCH(表格模板!C2219,设备类型!$A$2:$A$5001,0),COLUMN(A2219))","v":{"$error":"#N/A"}}]
[null,{"$f":"INDEX(建筑!$B$2:$B$5001,MATCH(表格模板!A2220,建筑!$A$2:$A$5001,0),COLUMN(A2220))","v":{"$error":"#N/A"}},null,{"$f":"INDEX(设备类型!$B$2:$B$5001,MATCH(表格模板!C2220,设备类型!$A$2:$A$5001,0),COLUMN(A2220))","v":{"$error":"#N/A"}}]
[null,{"$f":"INDEX(建筑!$B$2:$B$5001,MATCH(表格模板!A2221,建筑!$A$2:$A$5001,0),COLUMN(A2221))","v":{"$error":"#N/A"}},null,{"$f":"INDEX(设备类型!$B$2:$B$5001,MATCH(表格模板!C2221,设备类型!$A$2:$A$5001,0),COLUMN(A2221))","v":{"$error":"#N/A"}}]
[null,{"$f":"INDEX(建筑!$B$2:$B$5001,MATCH(表格模板!A2222,建筑!$A$2:$A$5001,0),COLUMN(A2222))","v":{"$error":"#N/A"}},null,{"$f":"INDEX(设备类型!$B$2:$B$5001,MATCH(表格模板!C2222,设备类型!$A$2:$A$5001,0),COLUMN(A2222))","v":{"$error":"#N/A"}}]
[null,{"$f":"INDEX(建筑!$B$2:$B$5001,MATCH(表格模板!A2223,建筑!$A$2:$A$5001,0),COLUMN(A2223))","v":{"$error":"#N/A"}},null,{"$f":"INDEX(设备类型!$B$2:$B$5001,MATCH(表格模板!C2223,设备类型!$A$2:$A$5001,0),COLUMN(A2223))","v":{"$error":"#N/A"}}]
[null,{"$f":"INDEX(建筑!$B$2:$B$5001,MATCH(表格模板!A2224,建筑!$A$2:$A$5001,0),COLUMN(A2224))","v":{"$error":"#N/A"}},null,{"$f":"INDEX(设备类型!$B$2:$B$5001,MATCH(表格模板!C2224,设备类型!$A$2:$A$5001,0),COLUMN(A2224))","v":{"$error":"#N/A"}}]
[null,{"$f":"INDEX(建筑!$B$2:$B$5001,MATCH(表格模板!A2225,建筑!$A$2:$A$5001,0),COLUMN(A2225))","v":{"$error":"#N/A"}},null,{"$f":"INDEX(设备类型!$B$2:$B$5001,MATCH(表格模板!C2225,设备类型!$A$2:$A$5001,0),COLUMN(A2225))","v":{"$error":"#N/A"}}]
[null,{"$f":"INDEX(建筑!$B$2:$B$5001,MATCH(表格模板!A2226,建筑!$A$2:$A$5001,0),COLUMN(A2226))","v":{"$error":"#N/A"}},null,{"$f":"INDEX(设备类型!$B$2:$B$5001,MATCH(表格模板!C2226,设备类型!$A$2:$A$5001,0),COLUMN(A2226))","v":{"$error":"#N/A"}}]
[null,{"$f":"INDEX(建筑!$B$2:$B$5001,MATCH(表格模板!A2227,建筑!$A$2:$A$5001,0),COLUMN(A2227))","v":{"$error":"#N/A"}},null,{"$f":"INDEX(设备类型!$B$2:$B$5001,MATCH(表格模板!C2227,设备类型!$A$2:$A$5001,0),COLUMN(A2227))","v":{"$error":"#N/A"}}]
[null,{"$f":"INDEX(建筑!$B$2:$B$5001,MATCH(表格模板!A2228,建筑!$A$2:$A$5001,0),COLUMN(A2228))","v":{"$error":"#N/A"}},null,{"$f":"INDEX(设备类型!$B$2:$B$5001,MATCH(表格模板!C2228,设备类型!$A$2:$A$5001,0),COLUMN(A2228))","v":{"$error":"#N/A"}}]
[null,{"$f":"INDEX(建筑!$B$2:$B$5001,MATCH(表格模板!A2229,建筑!$A$2:$A$5001,0),COLUMN(A2229))","v":{"$error":"#N/A"}},null,{"$f":"INDEX(设备类型!$B$2:$B$5001,MATCH(表格模板!C2229,设备类型!$A$2:$A$5001,0),COLUMN(A2229))","v":{"$error":"#N/A"}}]
[null,{"$f":"INDEX(建筑!$B$2:$B$5001,MATCH(表格模板!A2230,建筑!$A$2:$A$5001,0),COLUMN(A2230))","v":{"$error":"#N/A"}},null,{"$f":"INDEX(设备类型!$B$2:$B$5001,MATCH(表格模板!C2230,设备类型!$A$2:$A$5001,0),COLUMN(A2230))","v":{"$error":"#N/A"}}]
[null,{"$f":"INDEX(建筑!$B$2:$B$5001,MATCH(表格模板!A2231,建筑!$A$2:$A$5001,0),COLUMN(A2231))","v":{"$error":"#N/A"}},null,{"$f":"INDEX(设备类型!$B$2:$B$5001,MATCH(表格模板!C2231,设备类型!$A$2:$A$5001,0),COLUMN(A2231))","v":{"$error":"#N/A"}}]
[null,{"$f":"INDEX(建筑!$B$2:$B$5001,MATCH(表格模板!A2232,建筑!$A$2:$A$5001,0),COLUMN(A2232))","v":{"$error":"#N/A"}},null,{"$f":"INDEX(设备类型!$B$2:$B$5001,MATCH(表格模板!C2232,设备类型!$A$2:$A$5001,0),COLUMN(A2232))","v":{"$error":"#N/A"}}]
[null,{"$f":"INDEX(建筑!$B$2:$B$5001,MATCH(表格模板!A2233,建筑!$A$2:$A$5001,0),COLUMN(A2233))","v":{"$error":"#N/A"}},null,{"$f":"INDEX(设备类型!$B$2:$B$5001,MATCH(表格模板!C2233,设备类型!$A$2:$A$5001,0),COLUMN(A2233))","v":{"$error":"#N/A"}}]
[null,{"$f":"INDEX(建筑!$B$2:$B$5001,MATCH(表格模板!A2234,建筑!$A$2:$A$5001,0),COLUMN(A2234))","v":{"$error":"#N/A"}},null,{"$f":"INDEX(设备类型!$B$2:$B$5001,MATCH(表格模板!C2234,设备类型!$A$2:$A$5001,0),COLUMN(A2234))","v":{"$error":"#N/A"}}]
[null,{"$f":"INDEX(建筑!$B$2:$B$5001,MATCH(表格模板!A2235,建筑!$A$2:$A$5001,0),COLUMN(A2235))","v":{"$error":"#N/A"}},null,{"$f":"INDEX(设备类型!$B$2:$B$5001,MATCH(表格模板!C2235,设备类型!$A$2:$A$5001,0),COLUMN(A2235))","v":{"$error":"#N/A"}}]
[null,{"$f":"INDEX(建筑!$B$2:$B$5001,MATCH(表格模板!A2236,建筑!$A$2:$A$5001,0),COLUMN(A2236))","v":{"$error":"#N/A"}},null,{"$f":"INDEX(设备类型!$B$2:$B$5001,MATCH(表格模板!C2236,设备类型!$A$2:$A$5001,0),COLUMN(A2236))","v":{"$error":"#N/A"}}]
[null,{"$f":"INDEX(建筑!$B$2:$B$5001,MATCH(表格模板!A2237,建筑!$A$2:$A$5001,0),COLUMN(A2237))","v":{"$error":"#N/A"}},null,{"$f":"INDEX(设备类型!$B$2:$B$5001,MATCH(表格模板!C2237,设备类型!$A$2:$A$5001,0),COLUMN(A2237))","v":{"$error":"#N/A"}}]
[null,{"$f":"INDEX(建筑!$B$2:$B$5001,MATCH(表格模板!A2238,建筑!$A$2:$A$5001,0),COLUMN(A2238))","v":{"$error":"#N/A"}},null,{"$f":"INDEX(设备类型!$B$2:$B$5001,MATCH(表格模板!C2238,设备类型!$A$2:$A$5001,0),COLUMN(A2238))","v":{"$error":"#N/A"}}]
[null,{"$f":"INDEX(建筑!$B$2:$B$5001,MATCH(表格模板!A2239,建筑!$A$2:$A$5001,0),COLUMN(A2239))","v":{"$error":"#N/A"}},null,{"$f":"INDEX(设备类型!$B$2:$B$5001,MATCH(表格模板!C2239,设备类型!$A$2:$A$5001,0),COLUMN(A2239))","v":{"$error":"#N/A"}}]
[null,{"$f":"INDEX(建筑!$B$2:$B$5001,MATCH(表格模板!A2240,建筑!$A$2:$A$5001,0),COLUMN(A2240))","v":{"$error":"#N/A"}},null,{"$f":"INDEX(设备类型!$B$2:$B$5001,MATCH(表格模板!C2240,设备类型!$A$2:$A$5001,0),COLUMN(A2240))","v":{"$error":"#N/A"}}]
[null,{"$f":"INDEX(建筑!$B$2:$B$5001,MATCH(表格模板!A2241,建筑!$A$2:$A$5001,0),COLUMN(A2241))","v":{"$error":"#N/A"}},null,{"$f":"INDEX(设备类型!$B$2:$B$5001,MATCH(表格模板!C2241,设备类型!$A$2:$A$5001,0),COLUMN(A2241))","v":{"$error":"#N/A"}}]
[null,{"$f":"INDEX(建筑!$B$2:$B$5001,MATCH(表格模板!A2242,建筑!$A$2:$A$5001,0),COLUMN(A2242))","v":{"$error":"#N/A"}},null,{"$f":"INDEX(设备类型!$B$2:$B$5001,MATCH(表格模板!C2242,设备类型!$A$2:$A$5001,0),COLUMN(A2242))","v":{"$error":"#N/A"}}]
[null,{"$f":"INDEX(建筑!$B$2:$B$5001,MATCH(表格模板!A2243,建筑!$A$2:$A$5001,0),COLUMN(A2243))","v":{"$error":"#N/A"}},null,{"$f":"INDEX(设备类型!$B$2:$B$5001,MATCH(表格模板!C2243,设备类型!$A$2:$A$5001,0),COLUMN(A2243))","v":{"$error":"#N/A"}}]
[null,{"$f":"INDEX(建筑!$B$2:$B$5001,MATCH(表格模板!A2244,建筑!$A$2:$A$5001,0),COLUMN(A2244))","v":{"$error":"#N/A"}},null,{"$f":"INDEX(设备类型!$B$2:$B$5001,MATCH(表格模板!C2244,设备类型!$A$2:$A$5001,0),COLUMN(A2244))","v":{"$error":"#N/A"}}]
[null,{"$f":"INDEX(建筑!$B$2:$B$5001,MATCH(表格模板!A2245,建筑!$A$2:$A$5001,0),COLUMN(A2245))","v":{"$error":"#N/A"}},null,{"$f":"INDEX(设备类型!$B$2:$B$5001,MATCH(表格模板!C2245,设备类型!$A$2:$A$5001,0),COLUMN(A2245))","v":{"$error":"#N/A"}}]
[null,{"$f":"INDEX(建筑!$B$2:$B$5001,MATCH(表格模板!A2246,建筑!$A$2:$A$5001,0),COLUMN(A2246))","v":{"$error":"#N/A"}},null,{"$f":"INDEX(设备类型!$B$2:$B$5001,MATCH(表格模板!C2246,设备类型!$A$2:$A$5001,0),COLUMN(A2246))","v":{"$error":"#N/A"}}]
[null,{"$f":"INDEX(建筑!$B$2:$B$5001,MATCH(表格模板!A2247,建筑!$A$2:$A$5001,0),COLUMN(A2247))","v":{"$error":"#N/A"}},null,{"$f":"INDEX(设备类型!$B$2:$B$5001,MATCH(表格模板!C2247,设备类型!$A$2:$A$5001,0),COLUMN(A2247))","v":{"$error":"#N/A"}}]
[null,{"$f":"INDEX(建筑!$B$2:$B$5001,MATCH(表格模板!A2248,建筑!$A$2:$A$5001,0),COLUMN(A2248))","v":{"$error":"#N/A"}},null,{"$f":"INDEX(设备类型!$B$2:$B$5001,MATCH(表格模板!C2248,设备类型!$A$2:$A$5001,0),COLUMN(A2248))","v":{"$error":"#N/A"}}]
[null,{"$f":"INDEX(建筑!$B$2:$B$5001,MATCH(表格模板!A2249,建筑!$A$2:$A$5001,0),COLUMN(A2249))","v":{"$error":"#N/A"}},null,{"$f":"INDEX(设备类型!$B$2:$B$5001,MATCH(表格模板!C2249,设备类型!$A$2:$A$5001,0),COLUMN(A2249))","v":{"$error":"#N/A"}}]
[null,{"$f":"INDEX(建筑!$B$2:$B$5001,MATCH(表格模板!A2250,建筑!$A$2:$A$5001,0),COLUMN(A2250))","v":{"$error":"#N/A"}},null,{"$f":"INDEX(设备类型!$B$2:$B$5001,MATCH(表格模板!C2250,设备类型!$A$2:$A$5001,0),COLUMN(A2250))","v":{"$error":"#N/A"}}]
[null,{"$f":"INDEX(建筑!$B$2:$B$5001,MATCH(表格模板!A2251,建筑!$A$2:$A$5001,0),COLUMN(A2251))","v":{"$error":"#N/A"}},null,{"$f":"INDEX(设备类型!$B$2:$B$5001,MATCH(表格模板!C2251,设备类型!$A$2:$A$5001,0),COLUMN(A2251))","v":{"$error":"#N/A"}}]
[null,{"$f":"INDEX(建筑!$B$2:$B$5001,MATCH(表格模板!A2252,建筑!$A$2:$A$5001,0),COLUMN(A2252))","v":{"$error":"#N/A"}},null,{"$f":"INDEX(设备类型!$B$2:$B$5001,MATCH(表格模板!C2252,设备类型!$A$2:$A$5001,0),COLUMN(A2252))","v":{"$error":"#N/A"}}]
[null,{"$f":"INDEX(建筑!$B$2:$B$5001,MATCH(表格模板!A2253,建筑!$A$2:$A$5001,0),COLUMN(A2253))","v":{"$error":"#N/A"}},null,{"$f":"INDEX(设备类型!$B$2:$B$5001,MATCH(表格模板!C2253,设备类型!$A$2:$A$5001,0),COLUMN(A2253))","v":{"$error":"#N/A"}}]
[null,{"$f":"INDEX(建筑!$B$2:$B$5001,MATCH(表格模板!A2254,建筑!$A$2:$A$5001,0),COLUMN(A2254))","v":{"$error":"#N/A"}},null,{"$f":"INDEX(设备类型!$B$2:$B$5001,MATCH(表格模板!C2254,设备类型!$A$2:$A$5001,0),COLUMN(A2254))","v":{"$error":"#N/A"}}]
[null,{"$f":"INDEX(建筑!$B$2:$B$5001,MATCH(表格模板!A2255,建筑!$A$2:$A$5001,0),COLUMN(A2255))","v":{"$error":"#N/A"}},null,{"$f":"INDEX(设备类型!$B$2:$B$5001,MATCH(表格模板!C2255,设备类型!$A$2:$A$5001,0),COLUMN(A2255))","v":{"$error":"#N/A"}}]
[null,{"$f":"INDEX(建筑!$B$2:$B$5001,MATCH(表格模板!A2256,建筑!$A$2:$A$5001,0),COLUMN(A2256))","v":{"$error":"#N/A"}},null,{"$f":"INDEX(设备类型!$B$2:$B$5001,MATCH(表格模板!C2256,设备类型!$A$2:$A$5001,0),COLUMN(A2256))","v":{"$error":"#N/A"}}]
[null,{"$f":"INDEX(建筑!$B$2:$B$5001,MATCH(表格模板!A2257,建筑!$A$2:$A$5001,0),COLUMN(A2257))","v":{"$error":"#N/A"}},null,{"$f":"INDEX(设备类型!$B$2:$B$5001,MATCH(表格模板!C2257,设备类型!$A$2:$A$5001,0),COLUMN(A2257))","v":{"$error":"#N/A"}}]
[null,{"$f":"INDEX(建筑!$B$2:$B$5001,MATCH(表格模板!A2258,建筑!$A$2:$A$5001,0),COLUMN(A2258))","v":{"$error":"#N/A"}},null,{"$f":"INDEX(设备类型!$B$2:$B$5001,MATCH(表格模板!C2258,设备类型!$A$2:$A$5001,0),COLUMN(A2258))","v":{"$error":"#N/A"}}]
[null,{"$f":"INDEX(建筑!$B$2:$B$5001,MATCH(表格模板!A2259,建筑!$A$2:$A$5001,0),COLUMN(A2259))","v":{"$error":"#N/A"}},null,{"$f":"INDEX(设备类型!$B$2:$B$5001,MATCH(表格模板!C2259,设备类型!$A$2:$A$5001,0),COLUMN(A2259))","v":{"$error":"#N/A"}}]
[null,{"$f":"INDEX(建筑!$B$2:$B$5001,MATCH(表格模板!A2260,建筑!$A$2:$A$5001,0),COLUMN(A2260))","v":{"$error":"#N/A"}},null,{"$f":"INDEX(设备类型!$B$2:$B$5001,MATCH(表格模板!C2260,设备类型!$A$2:$A$5001,0),COLUMN(A2260))","v":{"$error":"#N/A"}}]
[null,{"$f":"INDEX(建筑!$B$2:$B$5001,MATCH(表格模板!A2261,建筑!$A$2:$A$5001,0),COLUMN(A2261))","v":{"$error":"#N/A"}},null,{"$f":"INDEX(设备类型!$B$2:$B$5001,MATCH(表格模板!C2261,设备类型!$A$2:$A$5001,0),COLUMN(A2261))","v":{"$error":"#N/A"}}]
[null,{"$f":"INDEX(建筑!$B$2:$B$5001,MATCH(表格模板!A2262,建筑!$A$2:$A$5001,0),COLUMN(A2262))","v":{"$error":"#N/A"}},null,{"$f":"INDEX(设备类型!$B$2:$B$5001,MATCH(表格模板!C2262,设备类型!$A$2:$A$5001,0),COLUMN(A2262))","v":{"$error":"#N/A"}}]
[null,{"$f":"INDEX(建筑!$B$2:$B$5001,MATCH(表格模板!A2263,建筑!$A$2:$A$5001,0),COLUMN(A2263))","v":{"$error":"#N/A"}},null,{"$f":"INDEX(设备类型!$B$2:$B$5001,MATCH(表格模板!C2263,设备类型!$A$2:$A$5001,0),COLUMN(A2263))","v":{"$error":"#N/A"}}]
[null,{"$f":"INDEX(建筑!$B$2:$B$5001,MATCH(表格模板!A2264,建筑!$A$2:$A$5001,0),COLUMN(A2264))","v":{"$error":"#N/A"}},null,{"$f":"INDEX(设备类型!$B$2:$B$5001,MATCH(表格模板!C2264,设备类型!$A$2:$A$5001,0),COLUMN(A2264))","v":{"$error":"#N/A"}}]
[null,{"$f":"INDEX(建筑!$B$2:$B$5001,MATCH(表格模板!A2265,建筑!$A$2:$A$5001,0),COLUMN(A2265))","v":{"$error":"#N/A"}},null,{"$f":"INDEX(设备类型!$B$2:$B$5001,MATCH(表格模板!C2265,设备类型!$A$2:$A$5001,0),COLUMN(A2265))","v":{"$error":"#N/A"}}]
[null,{"$f":"INDEX(建筑!$B$2:$B$5001,MATCH(表格模板!A2266,建筑!$A$2:$A$5001,0),COLUMN(A2266))","v":{"$error":"#N/A"}},null,{"$f":"INDEX(设备类型!$B$2:$B$5001,MATCH(表格模板!C2266,设备类型!$A$2:$A$5001,0),COLUMN(A2266))","v":{"$error":"#N/A"}}]
[null,{"$f":"INDEX(建筑!$B$2:$B$5001,MATCH(表格模板!A2267,建筑!$A$2:$A$5001,0),COLUMN(A2267))","v":{"$error":"#N/A"}},null,{"$f":"INDEX(设备类型!$B$2:$B$5001,MATCH(表格模板!C2267,设备类型!$A$2:$A$5001,0),COLUMN(A2267))","v":{"$error":"#N/A"}}]
[null,{"$f":"INDEX(建筑!$B$2:$B$5001,MATCH(表格模板!A2268,建筑!$A$2:$A$5001,0),COLUMN(A2268))","v":{"$error":"#N/A"}},null,{"$f":"INDEX(设备类型!$B$2:$B$5001,MATCH(表格模板!C2268,设备类型!$A$2:$A$5001,0),COLUMN(A2268))","v":{"$error":"#N/A"}}]
[null,{"$f":"INDEX(建筑!$B$2:$B$5001,MATCH(表格模板!A2269,建筑!$A$2:$A$5001,0),COLUMN(A2269))","v":{"$error":"#N/A"}},null,{"$f":"INDEX(设备类型!$B$2:$B$5001,MATCH(表格模板!C2269,设备类型!$A$2:$A$5001,0),COLUMN(A2269))","v":{"$error":"#N/A"}}]
[null,{"$f":"INDEX(建筑!$B$2:$B$5001,MATCH(表格模板!A2270,建筑!$A$2:$A$5001,0),COLUMN(A2270))","v":{"$error":"#N/A"}},null,{"$f":"INDEX(设备类型!$B$2:$B$5001,MATCH(表格模板!C2270,设备类型!$A$2:$A$5001,0),COLUMN(A2270))","v":{"$error":"#N/A"}}]
[null,{"$f":"INDEX(建筑!$B$2:$B$5001,MATCH(表格模板!A2271,建筑!$A$2:$A$5001,0),COLUMN(A2271))","v":{"$error":"#N/A"}},null,{"$f":"INDEX(设备类型!$B$2:$B$5001,MATCH(表格模板!C2271,设备类型!$A$2:$A$5001,0),COLUMN(A2271))","v":{"$error":"#N/A"}}]
[null,{"$f":"INDEX(建筑!$B$2:$B$5001,MATCH(表格模板!A2272,建筑!$A$2:$A$5001,0),COLUMN(A2272))","v":{"$error":"#N/A"}},null,{"$f":"INDEX(设备类型!$B$2:$B$5001,MATCH(表格模板!C2272,设备类型!$A$2:$A$5001,0),COLUMN(A2272))","v":{"$error":"#N/A"}}]
[null,{"$f":"INDEX(建筑!$B$2:$B$5001,MATCH(表格模板!A2273,建筑!$A$2:$A$5001,0),COLUMN(A2273))","v":{"$error":"#N/A"}},null,{"$f":"INDEX(设备类型!$B$2:$B$5001,MATCH(表格模板!C2273,设备类型!$A$2:$A$5001,0),COLUMN(A2273))","v":{"$error":"#N/A"}}]
[null,{"$f":"INDEX(建筑!$B$2:$B$5001,MATCH(表格模板!A2274,建筑!$A$2:$A$5001,0),COLUMN(A2274))","v":{"$error":"#N/A"}},null,{"$f":"INDEX(设备类型!$B$2:$B$5001,MATCH(表格模板!C2274,设备类型!$A$2:$A$5001,0),COLUMN(A2274))","v":{"$error":"#N/A"}}]
[null,{"$f":"INDEX(建筑!$B$2:$B$5001,MATCH(表格模板!A2275,建筑!$A$2:$A$5001,0),COLUMN(A2275))","v":{"$error":"#N/A"}},null,{"$f":"INDEX(设备类型!$B$2:$B$5001,MATCH(表格模板!C2275,设备类型!$A$2:$A$5001,0),COLUMN(A2275))","v":{"$error":"#N/A"}}]
[null,{"$f":"INDEX(建筑!$B$2:$B$5001,MATCH(表格模板!A2276,建筑!$A$2:$A$5001,0),COLUMN(A2276))","v":{"$error":"#N/A"}},null,{"$f":"INDEX(设备类型!$B$2:$B$5001,MATCH(表格模板!C2276,设备类型!$A$2:$A$5001,0),COLUMN(A2276))","v":{"$error":"#N/A"}}]
[null,{"$f":"INDEX(建筑!$B$2:$B$5001,MATCH(表格模板!A2277,建筑!$A$2:$A$5001,0),COLUMN(A2277))","v":{"$error":"#N/A"}},null,{"$f":"INDEX(设备类型!$B$2:$B$5001,MATCH(表格模板!C2277,设备类型!$A$2:$A$5001,0),COLUMN(A2277))","v":{"$error":"#N/A"}}]
[null,{"$f":"INDEX(建筑!$B$2:$B$5001,MATCH(表格模板!A2278,建筑!$A$2:$A$5001,0),COLUMN(A2278))","v":{"$error":"#N/A"}},null,{"$f":"INDEX(设备类型!$B$2:$B$5001,MATCH(表格模板!C2278,设备类型!$A$2:$A$5001,0),COLUMN(A2278))","v":{"$error":"#N/A"}}]
[null,{"$f":"INDEX(建筑!$B$2:$B$5001,MATCH(表格模板!A2279,建筑!$A$2:$A$5001,0),COLUMN(A2279))","v":{"$error":"#N/A"}},null,{"$f":"INDEX(设备类型!$B$2:$B$5001,MATCH(表格模板!C2279,设备类型!$A$2:$A$5001,0),COLUMN(A2279))","v":{"$error":"#N/A"}}]
[null,{"$f":"INDEX(建筑!$B$2:$B$5001,MATCH(表格模板!A2280,建筑!$A$2:$A$5001,0),COLUMN(A2280))","v":{"$error":"#N/A"}},null,{"$f":"INDEX(设备类型!$B$2:$B$5001,MATCH(表格模板!C2280,设备类型!$A$2:$A$5001,0),COLUMN(A2280))","v":{"$error":"#N/A"}}]
[null,{"$f":"INDEX(建筑!$B$2:$B$5001,MATCH(表格模板!A2281,建筑!$A$2:$A$5001,0),COLUMN(A2281))","v":{"$error":"#N/A"}},null,{"$f":"INDEX(设备类型!$B$2:$B$5001,MATCH(表格模板!C2281,设备类型!$A$2:$A$5001,0),COLUMN(A2281))","v":{"$error":"#N/A"}}]
[null,{"$f":"INDEX(建筑!$B$2:$B$5001,MATCH(表格模板!A2282,建筑!$A$2:$A$5001,0),COLUMN(A2282))","v":{"$error":"#N/A"}},null,{"$f":"INDEX(设备类型!$B$2:$B$5001,MATCH(表格模板!C2282,设备类型!$A$2:$A$5001,0),COLUMN(A2282))","v":{"$error":"#N/A"}}]
[null,{"$f":"INDEX(建筑!$B$2:$B$5001,MATCH(表格模板!A2283,建筑!$A$2:$A$5001,0),COLUMN(A2283))","v":{"$error":"#N/A"}},null,{"$f":"INDEX(设备类型!$B$2:$B$5001,MATCH(表格模板!C2283,设备类型!$A$2:$A$5001,0),COLUMN(A2283))","v":{"$error":"#N/A"}}]
[null,{"$f":"INDEX(建筑!$B$2:$B$5001,MATCH(表格模板!A2284,建筑!$A$2:$A$5001,0),COLUMN(A2284))","v":{"$error":"#N/A"}},null,{"$f":"INDEX(设备类型!$B$2:$B$5001,MATCH(表格模板!C2284,设备类型!$A$2:$A$5001,0),COLUMN(A2284))","v":{"$error":"#N/A"}}]
[null,{"$f":"INDEX(建筑!$B$2:$B$5001,MATCH(表格模板!A2285,建筑!$A$2:$A$5001,0),COLUMN(A2285))","v":{"$error":"#N/A"}},null,{"$f":"INDEX(设备类型!$B$2:$B$5001,MATCH(表格模板!C2285,设备类型!$A$2:$A$5001,0),COLUMN(A2285))","v":{"$error":"#N/A"}}]
[null,{"$f":"INDEX(建筑!$B$2:$B$5001,MATCH(表格模板!A2286,建筑!$A$2:$A$5001,0),COLUMN(A2286))","v":{"$error":"#N/A"}},null,{"$f":"INDEX(设备类型!$B$2:$B$5001,MATCH(表格模板!C2286,设备类型!$A$2:$A$5001,0),COLUMN(A2286))","v":{"$error":"#N/A"}}]
[null,{"$f":"INDEX(建筑!$B$2:$B$5001,MATCH(表格模板!A2287,建筑!$A$2:$A$5001,0),COLUMN(A2287))","v":{"$error":"#N/A"}},null,{"$f":"INDEX(设备类型!$B$2:$B$5001,MATCH(表格模板!C2287,设备类型!$A$2:$A$5001,0),COLUMN(A2287))","v":{"$error":"#N/A"}}]
[null,{"$f":"INDEX(建筑!$B$2:$B$5001,MATCH(表格模板!A2288,建筑!$A$2:$A$5001,0),COLUMN(A2288))","v":{"$error":"#N/A"}},null,{"$f":"INDEX(设备类型!$B$2:$B$5001,MATCH(表格模板!C2288,设备类型!$A$2:$A$5001,0),COLUMN(A2288))","v":{"$error":"#N/A"}}]
[null,{"$f":"INDEX(建筑!$B$2:$B$5001,MATCH(表格模板!A2289,建筑!$A$2:$A$5001,0),COLUMN(A2289))","v":{"$error":"#N/A"}},null,{"$f":"INDEX(设备类型!$B$2:$B$5001,MATCH(表格模板!C2289,设备类型!$A$2:$A$5001,0),COLUMN(A2289))","v":{"$error":"#N/A"}}]
[null,{"$f":"INDEX(建筑!$B$2:$B$5001,MATCH(表格模板!A2290,建筑!$A$2:$A$5001,0),COLUMN(A2290))","v":{"$error":"#N/A"}},null,{"$f":"INDEX(设备类型!$B$2:$B$5001,MATCH(表格模板!C2290,设备类型!$A$2:$A$5001,0),COLUMN(A2290))","v":{"$error":"#N/A"}}]
[null,{"$f":"INDEX(建筑!$B$2:$B$5001,MATCH(表格模板!A2291,建筑!$A$2:$A$5001,0),COLUMN(A2291))","v":{"$error":"#N/A"}},null,{"$f":"INDEX(设备类型!$B$2:$B$5001,MATCH(表格模板!C2291,设备类型!$A$2:$A$5001,0),COLUMN(A2291))","v":{"$error":"#N/A"}}]
[null,{"$f":"INDEX(建筑!$B$2:$B$5001,MATCH(表格模板!A2292,建筑!$A$2:$A$5001,0),COLUMN(A2292))","v":{"$error":"#N/A"}},null,{"$f":"INDEX(设备类型!$B$2:$B$5001,MATCH(表格模板!C2292,设备类型!$A$2:$A$5001,0),COLUMN(A2292))","v":{"$error":"#N/A"}}]
[null,{"$f":"INDEX(建筑!$B$2:$B$5001,MATCH(表格模板!A2293,建筑!$A$2:$A$5001,0),COLUMN(A2293))","v":{"$error":"#N/A"}},null,{"$f":"INDEX(设备类型!$B$2:$B$5001,MATCH(表格模板!C2293,设备类型!$A$2:$A$5001,0),COLUMN(A2293))","v":{"$error":"#N/A"}}]
[null,{"$f":"INDEX(建筑!$B$2:$B$5001,MATCH(表格模板!A2294,建筑!$A$2:$A$5001,0),COLUMN(A2294))","v":{"$error":"#N/A"}},null,{"$f":"INDEX(设备类型!$B$2:$B$5001,MATCH(表格模板!C2294,设备类型!$A$2:$A$5001,0),COLUMN(A2294))","v":{"$error":"#N/A"}}]
[null,{"$f":"INDEX(建筑!$B$2:$B$5001,MATCH(表格模板!A2295,建筑!$A$2:$A$5001,0),COLUMN(A2295))","v":{"$error":"#N/A"}},null,{"$f":"INDEX(设备类型!$B$2:$B$5001,MATCH(表格模板!C2295,设备类型!$A$2:$A$5001,0),COLUMN(A2295))","v":{"$error":"#N/A"}}]
[null,{"$f":"INDEX(建筑!$B$2:$B$5001,MATCH(表格模板!A2296,建筑!$A$2:$A$5001,0),COLUMN(A2296))","v":{"$error":"#N/A"}},null,{"$f":"INDEX(设备类型!$B$2:$B$5001,MATCH(表格模板!C2296,设备类型!$A$2:$A$5001,0),COLUMN(A2296))","v":{"$error":"#N/A"}}]
[null,{"$f":"INDEX(建筑!$B$2:$B$5001,MATCH(表格模板!A2297,建筑!$A$2:$A$5001,0),COLUMN(A2297))","v":{"$error":"#N/A"}},null,{"$f":"INDEX(设备类型!$B$2:$B$5001,MATCH(表格模板!C2297,设备类型!$A$2:$A$5001,0),COLUMN(A2297))","v":{"$error":"#N/A"}}]
[null,{"$f":"INDEX(建筑!$B$2:$B$5001,MATCH(表格模板!A2298,建筑!$A$2:$A$5001,0),COLUMN(A2298))","v":{"$error":"#N/A"}},null,{"$f":"INDEX(设备类型!$B$2:$B$5001,MATCH(表格模板!C2298,设备类型!$A$2:$A$5001,0),COLUMN(A2298))","v":{"$error":"#N/A"}}]
[null,{"$f":"INDEX(建筑!$B$2:$B$5001,MATCH(表格模板!A2299,建筑!$A$2:$A$5001,0),COLUMN(A2299))","v":{"$error":"#N/A"}},null,{"$f":"INDEX(设备类型!$B$2:$B$5001,MATCH(表格模板!C2299,设备类型!$A$2:$A$5001,0),COLUMN(A2299))","v":{"$error":"#N/A"}}]
[null,{"$f":"INDEX(建筑!$B$2:$B$5001,MATCH(表格模板!A2300,建筑!$A$2:$A$5001,0),COLUMN(A2300))","v":{"$error":"#N/A"}},null,{"$f":"INDEX(设备类型!$B$2:$B$5001,MATCH(表格模板!C2300,设备类型!$A$2:$A$5001,0),COLUMN(A2300))","v":{"$error":"#N/A"}}]
[null,{"$f":"INDEX(建筑!$B$2:$B$5001,MATCH(表格模板!A2301,建筑!$A$2:$A$5001,0),COLUMN(A2301))","v":{"$error":"#N/A"}},null,{"$f":"INDEX(设备类型!$B$2:$B$5001,MATCH(表格模板!C2301,设备类型!$A$2:$A$5001,0),COLUMN(A2301))","v":{"$error":"#N/A"}}]
[null,{"$f":"INDEX(建筑!$B$2:$B$5001,MATCH(表格模板!A2302,建筑!$A$2:$A$5001,0),COLUMN(A2302))","v":{"$error":"#N/A"}},null,{"$f":"INDEX(设备类型!$B$2:$B$5001,MATCH(表格模板!C2302,设备类型!$A$2:$A$5001,0),COLUMN(A2302))","v":{"$error":"#N/A"}}]
[null,{"$f":"INDEX(建筑!$B$2:$B$5001,MATCH(表格模板!A2303,建筑!$A$2:$A$5001,0),COLUMN(A2303))","v":{"$error":"#N/A"}},null,{"$f":"INDEX(设备类型!$B$2:$B$5001,MATCH(表格模板!C2303,设备类型!$A$2:$A$5001,0),COLUMN(A2303))","v":{"$error":"#N/A"}}]
[null,{"$f":"INDEX(建筑!$B$2:$B$5001,MATCH(表格模板!A2304,建筑!$A$2:$A$5001,0),COLUMN(A2304))","v":{"$error":"#N/A"}},null,{"$f":"INDEX(设备类型!$B$2:$B$5001,MATCH(表格模板!C2304,设备类型!$A$2:$A$5001,0),COLUMN(A2304))","v":{"$error":"#N/A"}}]
[null,{"$f":"INDEX(建筑!$B$2:$B$5001,MATCH(表格模板!A2305,建筑!$A$2:$A$5001,0),COLUMN(A2305))","v":{"$error":"#N/A"}},null,{"$f":"INDEX(设备类型!$B$2:$B$5001,MATCH(表格模板!C2305,设备类型!$A$2:$A$5001,0),COLUMN(A2305))","v":{"$error":"#N/A"}}]
[null,{"$f":"INDEX(建筑!$B$2:$B$5001,MATCH(表格模板!A2306,建筑!$A$2:$A$5001,0),COLUMN(A2306))","v":{"$error":"#N/A"}},null,{"$f":"INDEX(设备类型!$B$2:$B$5001,MATCH(表格模板!C2306,设备类型!$A$2:$A$5001,0),COLUMN(A2306))","v":{"$error":"#N/A"}}]
[null,{"$f":"INDEX(建筑!$B$2:$B$5001,MATCH(表格模板!A2307,建筑!$A$2:$A$5001,0),COLUMN(A2307))","v":{"$error":"#N/A"}},null,{"$f":"INDEX(设备类型!$B$2:$B$5001,MATCH(表格模板!C2307,设备类型!$A$2:$A$5001,0),COLUMN(A2307))","v":{"$error":"#N/A"}}]
[null,{"$f":"INDEX(建筑!$B$2:$B$5001,MATCH(表格模板!A2308,建筑!$A$2:$A$5001,0),COLUMN(A2308))","v":{"$error":"#N/A"}},null,{"$f":"INDEX(设备类型!$B$2:$B$5001,MATCH(表格模板!C2308,设备类型!$A$2:$A$5001,0),COLUMN(A2308))","v":{"$error":"#N/A"}}]
[null,{"$f":"INDEX(建筑!$B$2:$B$5001,MATCH(表格模板!A2309,建筑!$A$2:$A$5001,0),COLUMN(A2309))","v":{"$error":"#N/A"}},null,{"$f":"INDEX(设备类型!$B$2:$B$5001,MATCH(表格模板!C2309,设备类型!$A$2:$A$5001,0),COLUMN(A2309))","v":{"$error":"#N/A"}}]
[null,{"$f":"INDEX(建筑!$B$2:$B$5001,MATCH(表格模板!A2310,建筑!$A$2:$A$5001,0),COLUMN(A2310))","v":{"$error":"#N/A"}},null,{"$f":"INDEX(设备类型!$B$2:$B$5001,MATCH(表格模板!C2310,设备类型!$A$2:$A$5001,0),COLUMN(A2310))","v":{"$error":"#N/A"}}]
[null,{"$f":"INDEX(建筑!$B$2:$B$5001,MATCH(表格模板!A2311,建筑!$A$2:$A$5001,0),COLUMN(A2311))","v":{"$error":"#N/A"}},null,{"$f":"INDEX(设备类型!$B$2:$B$5001,MATCH(表格模板!C2311,设备类型!$A$2:$A$5001,0),COLUMN(A2311))","v":{"$error":"#N/A"}}]
[null,{"$f":"INDEX(建筑!$B$2:$B$5001,MATCH(表格模板!A2312,建筑!$A$2:$A$5001,0),COLUMN(A2312))","v":{"$error":"#N/A"}},null,{"$f":"INDEX(设备类型!$B$2:$B$5001,MATCH(表格模板!C2312,设备类型!$A$2:$A$5001,0),COLUMN(A2312))","v":{"$error":"#N/A"}}]
[null,{"$f":"INDEX(建筑!$B$2:$B$5001,MATCH(表格模板!A2313,建筑!$A$2:$A$5001,0),COLUMN(A2313))","v":{"$error":"#N/A"}},null,{"$f":"INDEX(设备类型!$B$2:$B$5001,MATCH(表格模板!C2313,设备类型!$A$2:$A$5001,0),COLUMN(A2313))","v":{"$error":"#N/A"}}]
[null,{"$f":"INDEX(建筑!$B$2:$B$5001,MATCH(表格模板!A2314,建筑!$A$2:$A$5001,0),COLUMN(A2314))","v":{"$error":"#N/A"}},null,{"$f":"INDEX(设备类型!$B$2:$B$5001,MATCH(表格模板!C2314,设备类型!$A$2:$A$5001,0),COLUMN(A2314))","v":{"$error":"#N/A"}}]
[null,{"$f":"INDEX(建筑!$B$2:$B$5001,MATCH(表格模板!A2315,建筑!$A$2:$A$5001,0),COLUMN(A2315))","v":{"$error":"#N/A"}},null,{"$f":"INDEX(设备类型!$B$2:$B$5001,MATCH(表格模板!C2315,设备类型!$A$2:$A$5001,0),COLUMN(A2315))","v":{"$error":"#N/A"}}]
[null,{"$f":"INDEX(建筑!$B$2:$B$5001,MATCH(表格模板!A2316,建筑!$A$2:$A$5001,0),COLUMN(A2316))","v":{"$error":"#N/A"}},null,{"$f":"INDEX(设备类型!$B$2:$B$5001,MATCH(表格模板!C2316,设备类型!$A$2:$A$5001,0),COLUMN(A2316))","v":{"$error":"#N/A"}}]
[null,{"$f":"INDEX(建筑!$B$2:$B$5001,MATCH(表格模板!A2317,建筑!$A$2:$A$5001,0),COLUMN(A2317))","v":{"$error":"#N/A"}},null,{"$f":"INDEX(设备类型!$B$2:$B$5001,MATCH(表格模板!C2317,设备类型!$A$2:$A$5001,0),COLUMN(A2317))","v":{"$error":"#N/A"}}]
[null,{"$f":"INDEX(建筑!$B$2:$B$5001,MATCH(表格模板!A2318,建筑!$A$2:$A$5001,0),COLUMN(A2318))","v":{"$error":"#N/A"}},null,{"$f":"INDEX(设备类型!$B$2:$B$5001,MATCH(表格模板!C2318,设备类型!$A$2:$A$5001,0),COLUMN(A2318))","v":{"$error":"#N/A"}}]
[null,{"$f":"INDEX(建筑!$B$2:$B$5001,MATCH(表格模板!A2319,建筑!$A$2:$A$5001,0),COLUMN(A2319))","v":{"$error":"#N/A"}},null,{"$f":"INDEX(设备类型!$B$2:$B$5001,MATCH(表格模板!C2319,设备类型!$A$2:$A$5001,0),COLUMN(A2319))","v":{"$error":"#N/A"}}]
[null,{"$f":"INDEX(建筑!$B$2:$B$5001,MATCH(表格模板!A2320,建筑!$A$2:$A$5001,0),COLUMN(A2320))","v":{"$error":"#N/A"}},null,{"$f":"INDEX(设备类型!$B$2:$B$5001,MATCH(表格模板!C2320,设备类型!$A$2:$A$5001,0),COLUMN(A2320))","v":{"$error":"#N/A"}}]
[null,{"$f":"INDEX(建筑!$B$2:$B$5001,MATCH(表格模板!A2321,建筑!$A$2:$A$5001,0),COLUMN(A2321))","v":{"$error":"#N/A"}},null,{"$f":"INDEX(设备类型!$B$2:$B$5001,MATCH(表格模板!C2321,设备类型!$A$2:$A$5001,0),COLUMN(A2321))","v":{"$error":"#N/A"}}]
[null,{"$f":"INDEX(建筑!$B$2:$B$5001,MATCH(表格模板!A2322,建筑!$A$2:$A$5001,0),COLUMN(A2322))","v":{"$error":"#N/A"}},null,{"$f":"INDEX(设备类型!$B$2:$B$5001,MATCH(表格模板!C2322,设备类型!$A$2:$A$5001,0),COLUMN(A2322))","v":{"$error":"#N/A"}}]
[null,{"$f":"INDEX(建筑!$B$2:$B$5001,MATCH(表格模板!A2323,建筑!$A$2:$A$5001,0),COLUMN(A2323))","v":{"$error":"#N/A"}},null,{"$f":"INDEX(设备类型!$B$2:$B$5001,MATCH(表格模板!C2323,设备类型!$A$2:$A$5001,0),COLUMN(A2323))","v":{"$error":"#N/A"}}]
[null,{"$f":"INDEX(建筑!$B$2:$B$5001,MATCH(表格模板!A2324,建筑!$A$2:$A$5001,0),COLUMN(A2324))","v":{"$error":"#N/A"}},null,{"$f":"INDEX(设备类型!$B$2:$B$5001,MATCH(表格模板!C2324,设备类型!$A$2:$A$5001,0),COLUMN(A2324))","v":{"$error":"#N/A"}}]
[null,{"$f":"INDEX(建筑!$B$2:$B$5001,MATCH(表格模板!A2325,建筑!$A$2:$A$5001,0),COLUMN(A2325))","v":{"$error":"#N/A"}},null,{"$f":"INDEX(设备类型!$B$2:$B$5001,MATCH(表格模板!C2325,设备类型!$A$2:$A$5001,0),COLUMN(A2325))","v":{"$error":"#N/A"}}]
[null,{"$f":"INDEX(建筑!$B$2:$B$5001,MATCH(表格模板!A2326,建筑!$A$2:$A$5001,0),COLUMN(A2326))","v":{"$error":"#N/A"}},null,{"$f":"INDEX(设备类型!$B$2:$B$5001,MATCH(表格模板!C2326,设备类型!$A$2:$A$5001,0),COLUMN(A2326))","v":{"$error":"#N/A"}}]
[null,{"$f":"INDEX(建筑!$B$2:$B$5001,MATCH(表格模板!A2327,建筑!$A$2:$A$5001,0),COLUMN(A2327))","v":{"$error":"#N/A"}},null,{"$f":"INDEX(设备类型!$B$2:$B$5001,MATCH(表格模板!C2327,设备类型!$A$2:$A$5001,0),COLUMN(A2327))","v":{"$error":"#N/A"}}]
[null,{"$f":"INDEX(建筑!$B$2:$B$5001,MATCH(表格模板!A2328,建筑!$A$2:$A$5001,0),COLUMN(A2328))","v":{"$error":"#N/A"}},null,{"$f":"INDEX(设备类型!$B$2:$B$5001,MATCH(表格模板!C2328,设备类型!$A$2:$A$5001,0),COLUMN(A2328))","v":{"$error":"#N/A"}}]
[null,{"$f":"INDEX(建筑!$B$2:$B$5001,MATCH(表格模板!A2329,建筑!$A$2:$A$5001,0),COLUMN(A2329))","v":{"$error":"#N/A"}},null,{"$f":"INDEX(设备类型!$B$2:$B$5001,MATCH(表格模板!C2329,设备类型!$A$2:$A$5001,0),COLUMN(A2329))","v":{"$error":"#N/A"}}]
[null,{"$f":"INDEX(建筑!$B$2:$B$5001,MATCH(表格模板!A2330,建筑!$A$2:$A$5001,0),COLUMN(A2330))","v":{"$error":"#N/A"}},null,{"$f":"INDEX(设备类型!$B$2:$B$5001,MATCH(表格模板!C2330,设备类型!$A$2:$A$5001,0),COLUMN(A2330))","v":{"$error":"#N/A"}}]
[null,{"$f":"INDEX(建筑!$B$2:$B$5001,MATCH(表格模板!A2331,建筑!$A$2:$A$5001,0),COLUMN(A2331))","v":{"$error":"#N/A"}},null,{"$f":"INDEX(设备类型!$B$2:$B$5001,MATCH(表格模板!C2331,设备类型!$A$2:$A$5001,0),COLUMN(A2331))","v":{"$error":"#N/A"}}]
[null,{"$f":"INDEX(建筑!$B$2:$B$5001,MATCH(表格模板!A2332,建筑!$A$2:$A$5001,0),COLUMN(A2332))","v":{"$error":"#N/A"}},null,{"$f":"INDEX(设备类型!$B$2:$B$5001,MATCH(表格模板!C2332,设备类型!$A$2:$A$5001,0),COLUMN(A2332))","v":{"$error":"#N/A"}}]
[null,{"$f":"INDEX(建筑!$B$2:$B$5001,MATCH(表格模板!A2333,建筑!$A$2:$A$5001,0),COLUMN(A2333))","v":{"$error":"#N/A"}},null,{"$f":"INDEX(设备类型!$B$2:$B$5001,MATCH(表格模板!C2333,设备类型!$A$2:$A$5001,0),COLUMN(A2333))","v":{"$error":"#N/A"}}]
[null,{"$f":"INDEX(建筑!$B$2:$B$5001,MATCH(表格模板!A2334,建筑!$A$2:$A$5001,0),COLUMN(A2334))","v":{"$error":"#N/A"}},null,{"$f":"INDEX(设备类型!$B$2:$B$5001,MATCH(表格模板!C2334,设备类型!$A$2:$A$5001,0),COLUMN(A2334))","v":{"$error":"#N/A"}}]
[null,{"$f":"INDEX(建筑!$B$2:$B$5001,MATCH(表格模板!A2335,建筑!$A$2:$A$5001,0),COLUMN(A2335))","v":{"$error":"#N/A"}},null,{"$f":"INDEX(设备类型!$B$2:$B$5001,MATCH(表格模板!C2335,设备类型!$A$2:$A$5001,0),COLUMN(A2335))","v":{"$error":"#N/A"}}]
[null,{"$f":"INDEX(建筑!$B$2:$B$5001,MATCH(表格模板!A2336,建筑!$A$2:$A$5001,0),COLUMN(A2336))","v":{"$error":"#N/A"}},null,{"$f":"INDEX(设备类型!$B$2:$B$5001,MATCH(表格模板!C2336,设备类型!$A$2:$A$5001,0),COLUMN(A2336))","v":{"$error":"#N/A"}}]
[null,{"$f":"INDEX(建筑!$B$2:$B$5001,MATCH(表格模板!A2337,建筑!$A$2:$A$5001,0),COLUMN(A2337))","v":{"$error":"#N/A"}},null,{"$f":"INDEX(设备类型!$B$2:$B$5001,MATCH(表格模板!C2337,设备类型!$A$2:$A$5001,0),COLUMN(A2337))","v":{"$error":"#N/A"}}]
[null,{"$f":"INDEX(建筑!$B$2:$B$5001,MATCH(表格模板!A2338,建筑!$A$2:$A$5001,0),COLUMN(A2338))","v":{"$error":"#N/A"}},null,{"$f":"INDEX(设备类型!$B$2:$B$5001,MATCH(表格模板!C2338,设备类型!$A$2:$A$5001,0),COLUMN(A2338))","v":{"$error":"#N/A"}}]
[null,{"$f":"INDEX(建筑!$B$2:$B$5001,MATCH(表格模板!A2339,建筑!$A$2:$A$5001,0),COLUMN(A2339))","v":{"$error":"#N/A"}},null,{"$f":"INDEX(设备类型!$B$2:$B$5001,MATCH(表格模板!C2339,设备类型!$A$2:$A$5001,0),COLUMN(A2339))","v":{"$error":"#N/A"}}]
[null,{"$f":"INDEX(建筑!$B$2:$B$5001,MATCH(表格模板!A2340,建筑!$A$2:$A$5001,0),COLUMN(A2340))","v":{"$error":"#N/A"}},null,{"$f":"INDEX(设备类型!$B$2:$B$5001,MATCH(表格模板!C2340,设备类型!$A$2:$A$5001,0),COLUMN(A2340))","v":{"$error":"#N/A"}}]
[null,{"$f":"INDEX(建筑!$B$2:$B$5001,MATCH(表格模板!A2341,建筑!$A$2:$A$5001,0),COLUMN(A2341))","v":{"$error":"#N/A"}},null,{"$f":"INDEX(设备类型!$B$2:$B$5001,MATCH(表格模板!C2341,设备类型!$A$2:$A$5001,0),COLUMN(A2341))","v":{"$error":"#N/A"}}]
[null,{"$f":"INDEX(建筑!$B$2:$B$5001,MATCH(表格模板!A2342,建筑!$A$2:$A$5001,0),COLUMN(A2342))","v":{"$error":"#N/A"}},null,{"$f":"INDEX(设备类型!$B$2:$B$5001,MATCH(表格模板!C2342,设备类型!$A$2:$A$5001,0),COLUMN(A2342))","v":{"$error":"#N/A"}}]
[null,{"$f":"INDEX(建筑!$B$2:$B$5001,MATCH(表格模板!A2343,建筑!$A$2:$A$5001,0),COLUMN(A2343))","v":{"$error":"#N/A"}},null,{"$f":"INDEX(设备类型!$B$2:$B$5001,MATCH(表格模板!C2343,设备类型!$A$2:$A$5001,0),COLUMN(A2343))","v":{"$error":"#N/A"}}]
[null,{"$f":"INDEX(建筑!$B$2:$B$5001,MATCH(表格模板!A2344,建筑!$A$2:$A$5001,0),COLUMN(A2344))","v":{"$error":"#N/A"}},null,{"$f":"INDEX(设备类型!$B$2:$B$5001,MATCH(表格模板!C2344,设备类型!$A$2:$A$5001,0),COLUMN(A2344))","v":{"$error":"#N/A"}}]
[null,{"$f":"INDEX(建筑!$B$2:$B$5001,MATCH(表格模板!A2345,建筑!$A$2:$A$5001,0),COLUMN(A2345))","v":{"$error":"#N/A"}},null,{"$f":"INDEX(设备类型!$B$2:$B$5001,MATCH(表格模板!C2345,设备类型!$A$2:$A$5001,0),COLUMN(A2345))","v":{"$error":"#N/A"}}]
[null,{"$f":"INDEX(建筑!$B$2:$B$5001,MATCH(表格模板!A2346,建筑!$A$2:$A$5001,0),COLUMN(A2346))","v":{"$error":"#N/A"}},null,{"$f":"INDEX(设备类型!$B$2:$B$5001,MATCH(表格模板!C2346,设备类型!$A$2:$A$5001,0),COLUMN(A2346))","v":{"$error":"#N/A"}}]
[null,{"$f":"INDEX(建筑!$B$2:$B$5001,MATCH(表格模板!A2347,建筑!$A$2:$A$5001,0),COLUMN(A2347))","v":{"$error":"#N/A"}},null,{"$f":"INDEX(设备类型!$B$2:$B$5001,MATCH(表格模板!C2347,设备类型!$A$2:$A$5001,0),COLUMN(A2347))","v":{"$error":"#N/A"}}]
[null,{"$f":"INDEX(建筑!$B$2:$B$5001,MATCH(表格模板!A2348,建筑!$A$2:$A$5001,0),COLUMN(A2348))","v":{"$error":"#N/A"}},null,{"$f":"INDEX(设备类型!$B$2:$B$5001,MATCH(表格模板!C2348,设备类型!$A$2:$A$5001,0),COLUMN(A2348))","v":{"$error":"#N/A"}}]
[null,{"$f":"INDEX(建筑!$B$2:$B$5001,MATCH(表格模板!A2349,建筑!$A$2:$A$5001,0),COLUMN(A2349))","v":{"$error":"#N/A"}},null,{"$f":"INDEX(设备类型!$B$2:$B$5001,MATCH(表格模板!C2349,设备类型!$A$2:$A$5001,0),COLUMN(A2349))","v":{"$error":"#N/A"}}]
[null,{"$f":"INDEX(建筑!$B$2:$B$5001,MATCH(表格模板!A2350,建筑!$A$2:$A$5001,0),COLUMN(A2350))","v":{"$error":"#N/A"}},null,{"$f":"INDEX(设备类型!$B$2:$B$5001,MATCH(表格模板!C2350,设备类型!$A$2:$A$5001,0),COLUMN(A2350))","v":{"$error":"#N/A"}}]
[null,{"$f":"INDEX(建筑!$B$2:$B$5001,MATCH(表格模板!A2351,建筑!$A$2:$A$5001,0),COLUMN(A2351))","v":{"$error":"#N/A"}},null,{"$f":"INDEX(设备类型!$B$2:$B$5001,MATCH(表格模板!C2351,设备类型!$A$2:$A$5001,0),COLUMN(A2351))","v":{"$error":"#N/A"}}]
[null,{"$f":"INDEX(建筑!$B$2:$B$5001,MATCH(表格模板!A2352,建筑!$A$2:$A$5001,0),COLUMN(A2352))","v":{"$error":"#N/A"}},null,{"$f":"INDEX(设备类型!$B$2:$B$5001,MATCH(表格模板!C2352,设备类型!$A$2:$A$5001,0),COLUMN(A2352))","v":{"$error":"#N/A"}}]
[null,{"$f":"INDEX(建筑!$B$2:$B$5001,MATCH(表格模板!A2353,建筑!$A$2:$A$5001,0),COLUMN(A2353))","v":{"$error":"#N/A"}},null,{"$f":"INDEX(设备类型!$B$2:$B$5001,MATCH(表格模板!C2353,设备类型!$A$2:$A$5001,0),COLUMN(A2353))","v":{"$error":"#N/A"}}]
[null,{"$f":"INDEX(建筑!$B$2:$B$5001,MATCH(表格模板!A2354,建筑!$A$2:$A$5001,0),COLUMN(A2354))","v":{"$error":"#N/A"}},null,{"$f":"INDEX(设备类型!$B$2:$B$5001,MATCH(表格模板!C2354,设备类型!$A$2:$A$5001,0),COLUMN(A2354))","v":{"$error":"#N/A"}}]
[null,{"$f":"INDEX(建筑!$B$2:$B$5001,MATCH(表格模板!A2355,建筑!$A$2:$A$5001,0),COLUMN(A2355))","v":{"$error":"#N/A"}},null,{"$f":"INDEX(设备类型!$B$2:$B$5001,MATCH(表格模板!C2355,设备类型!$A$2:$A$5001,0),COLUMN(A2355))","v":{"$error":"#N/A"}}]
[null,{"$f":"INDEX(建筑!$B$2:$B$5001,MATCH(表格模板!A2356,建筑!$A$2:$A$5001,0),COLUMN(A2356))","v":{"$error":"#N/A"}},null,{"$f":"INDEX(设备类型!$B$2:$B$5001,MATCH(表格模板!C2356,设备类型!$A$2:$A$5001,0),COLUMN(A2356))","v":{"$error":"#N/A"}}]
[null,{"$f":"INDEX(建筑!$B$2:$B$5001,MATCH(表格模板!A2357,建筑!$A$2:$A$5001,0),COLUMN(A2357))","v":{"$error":"#N/A"}},null,{"$f":"INDEX(设备类型!$B$2:$B$5001,MATCH(表格模板!C2357,设备类型!$A$2:$A$5001,0),COLUMN(A2357))","v":{"$error":"#N/A"}}]
[null,{"$f":"INDEX(建筑!$B$2:$B$5001,MATCH(表格模板!A2358,建筑!$A$2:$A$5001,0),COLUMN(A2358))","v":{"$error":"#N/A"}},null,{"$f":"INDEX(设备类型!$B$2:$B$5001,MATCH(表格模板!C2358,设备类型!$A$2:$A$5001,0),COLUMN(A2358))","v":{"$error":"#N/A"}}]
[null,{"$f":"INDEX(建筑!$B$2:$B$5001,MATCH(表格模板!A2359,建筑!$A$2:$A$5001,0),COLUMN(A2359))","v":{"$error":"#N/A"}},null,{"$f":"INDEX(设备类型!$B$2:$B$5001,MATCH(表格模板!C2359,设备类型!$A$2:$A$5001,0),COLUMN(A2359))","v":{"$error":"#N/A"}}]
[null,{"$f":"INDEX(建筑!$B$2:$B$5001,MATCH(表格模板!A2360,建筑!$A$2:$A$5001,0),COLUMN(A2360))","v":{"$error":"#N/A"}},null,{"$f":"INDEX(设备类型!$B$2:$B$5001,MATCH(表格模板!C2360,设备类型!$A$2:$A$5001,0),COLUMN(A2360))","v":{"$error":"#N/A"}}]
[null,{"$f":"INDEX(建筑!$B$2:$B$5001,MATCH(表格模板!A2361,建筑!$A$2:$A$5001,0),COLUMN(A2361))","v":{"$error":"#N/A"}},null,{"$f":"INDEX(设备类型!$B$2:$B$5001,MATCH(表格模板!C2361,设备类型!$A$2:$A$5001,0),COLUMN(A2361))","v":{"$error":"#N/A"}}]
[null,{"$f":"INDEX(建筑!$B$2:$B$5001,MATCH(表格模板!A2362,建筑!$A$2:$A$5001,0),COLUMN(A2362))","v":{"$error":"#N/A"}},null,{"$f":"INDEX(设备类型!$B$2:$B$5001,MATCH(表格模板!C2362,设备类型!$A$2:$A$5001,0),COLUMN(A2362))","v":{"$error":"#N/A"}}]
[null,{"$f":"INDEX(建筑!$B$2:$B$5001,MATCH(表格模板!A2363,建筑!$A$2:$A$5001,0),COLUMN(A2363))","v":{"$error":"#N/A"}},null,{"$f":"INDEX(设备类型!$B$2:$B$5001,MATCH(表格模板!C2363,设备类型!$A$2:$A$5001,0),COLUMN(A2363))","v":{"$error":"#N/A"}}]
[null,{"$f":"INDEX(建筑!$B$2:$B$5001,MATCH(表格模板!A2364,建筑!$A$2:$A$5001,0),COLUMN(A2364))","v":{"$error":"#N/A"}},null,{"$f":"INDEX(设备类型!$B$2:$B$5001,MATCH(表格模板!C2364,设备类型!$A$2:$A$5001,0),COLUMN(A2364))","v":{"$error":"#N/A"}}]
[null,{"$f":"INDEX(建筑!$B$2:$B$5001,MATCH(表格模板!A2365,建筑!$A$2:$A$5001,0),COLUMN(A2365))","v":{"$error":"#N/A"}},null,{"$f":"INDEX(设备类型!$B$2:$B$5001,MATCH(表格模板!C2365,设备类型!$A$2:$A$5001,0),COLUMN(A2365))","v":{"$error":"#N/A"}}]
[null,{"$f":"INDEX(建筑!$B$2:$B$5001,MATCH(表格模板!A2366,建筑!$A$2:$A$5001,0),COLUMN(A2366))","v":{"$error":"#N/A"}},null,{"$f":"INDEX(设备类型!$B$2:$B$5001,MATCH(表格模板!C2366,设备类型!$A$2:$A$5001,0),COLUMN(A2366))","v":{"$error":"#N/A"}}]
[null,{"$f":"INDEX(建筑!$B$2:$B$5001,MATCH(表格模板!A2367,建筑!$A$2:$A$5001,0),COLUMN(A2367))","v":{"$error":"#N/A"}},null,{"$f":"INDEX(设备类型!$B$2:$B$5001,MATCH(表格模板!C2367,设备类型!$A$2:$A$5001,0),COLUMN(A2367))","v":{"$error":"#N/A"}}]
[null,{"$f":"INDEX(建筑!$B$2:$B$5001,MATCH(表格模板!A2368,建筑!$A$2:$A$5001,0),COLUMN(A2368))","v":{"$error":"#N/A"}},null,{"$f":"INDEX(设备类型!$B$2:$B$5001,MATCH(表格模板!C2368,设备类型!$A$2:$A$5001,0),COLUMN(A2368))","v":{"$error":"#N/A"}}]
[null,{"$f":"INDEX(建筑!$B$2:$B$5001,MATCH(表格模板!A2369,建筑!$A$2:$A$5001,0),COLUMN(A2369))","v":{"$error":"#N/A"}},null,{"$f":"INDEX(设备类型!$B$2:$B$5001,MATCH(表格模板!C2369,设备类型!$A$2:$A$5001,0),COLUMN(A2369))","v":{"$error":"#N/A"}}]
[null,{"$f":"INDEX(建筑!$B$2:$B$5001,MATCH(表格模板!A2370,建筑!$A$2:$A$5001,0),COLUMN(A2370))","v":{"$error":"#N/A"}},null,{"$f":"INDEX(设备类型!$B$2:$B$5001,MATCH(表格模板!C2370,设备类型!$A$2:$A$5001,0),COLUMN(A2370))","v":{"$error":"#N/A"}}]
[null,{"$f":"INDEX(建筑!$B$2:$B$5001,MATCH(表格模板!A2371,建筑!$A$2:$A$5001,0),COLUMN(A2371))","v":{"$error":"#N/A"}},null,{"$f":"INDEX(设备类型!$B$2:$B$5001,MATCH(表格模板!C2371,设备类型!$A$2:$A$5001,0),COLUMN(A2371))","v":{"$error":"#N/A"}}]
[null,{"$f":"INDEX(建筑!$B$2:$B$5001,MATCH(表格模板!A2372,建筑!$A$2:$A$5001,0),COLUMN(A2372))","v":{"$error":"#N/A"}},null,{"$f":"INDEX(设备类型!$B$2:$B$5001,MATCH(表格模板!C2372,设备类型!$A$2:$A$5001,0),COLUMN(A2372))","v":{"$error":"#N/A"}}]
[null,{"$f":"INDEX(建筑!$B$2:$B$5001,MATCH(表格模板!A2373,建筑!$A$2:$A$5001,0),COLUMN(A2373))","v":{"$error":"#N/A"}},null,{"$f":"INDEX(设备类型!$B$2:$B$5001,MATCH(表格模板!C2373,设备类型!$A$2:$A$5001,0),COLUMN(A2373))","v":{"$error":"#N/A"}}]
[null,{"$f":"INDEX(建筑!$B$2:$B$5001,MATCH(表格模板!A2374,建筑!$A$2:$A$5001,0),COLUMN(A2374))","v":{"$error":"#N/A"}},null,{"$f":"INDEX(设备类型!$B$2:$B$5001,MATCH(表格模板!C2374,设备类型!$A$2:$A$5001,0),COLUMN(A2374))","v":{"$error":"#N/A"}}]
[null,{"$f":"INDEX(建筑!$B$2:$B$5001,MATCH(表格模板!A2375,建筑!$A$2:$A$5001,0),COLUMN(A2375))","v":{"$error":"#N/A"}},null,{"$f":"INDEX(设备类型!$B$2:$B$5001,MATCH(表格模板!C2375,设备类型!$A$2:$A$5001,0),COLUMN(A2375))","v":{"$error":"#N/A"}}]
[null,{"$f":"INDEX(建筑!$B$2:$B$5001,MATCH(表格模板!A2376,建筑!$A$2:$A$5001,0),COLUMN(A2376))","v":{"$error":"#N/A"}},null,{"$f":"INDEX(设备类型!$B$2:$B$5001,MATCH(表格模板!C2376,设备类型!$A$2:$A$5001,0),COLUMN(A2376))","v":{"$error":"#N/A"}}]
[null,{"$f":"INDEX(建筑!$B$2:$B$5001,MATCH(表格模板!A2377,建筑!$A$2:$A$5001,0),COLUMN(A2377))","v":{"$error":"#N/A"}},null,{"$f":"INDEX(设备类型!$B$2:$B$5001,MATCH(表格模板!C2377,设备类型!$A$2:$A$5001,0),COLUMN(A2377))","v":{"$error":"#N/A"}}]
[null,{"$f":"INDEX(建筑!$B$2:$B$5001,MATCH(表格模板!A2378,建筑!$A$2:$A$5001,0),COLUMN(A2378))","v":{"$error":"#N/A"}},null,{"$f":"INDEX(设备类型!$B$2:$B$5001,MATCH(表格模板!C2378,设备类型!$A$2:$A$5001,0),COLUMN(A2378))","v":{"$error":"#N/A"}}]
[null,{"$f":"INDEX(建筑!$B$2:$B$5001,MATCH(表格模板!A2379,建筑!$A$2:$A$5001,0),COLUMN(A2379))","v":{"$error":"#N/A"}},null,{"$f":"INDEX(设备类型!$B$2:$B$5001,MATCH(表格模板!C2379,设备类型!$A$2:$A$5001,0),COLUMN(A2379))","v":{"$error":"#N/A"}}]
[null,{"$f":"INDEX(建筑!$B$2:$B$5001,MATCH(表格模板!A2380,建筑!$A$2:$A$5001,0),COLUMN(A2380))","v":{"$error":"#N/A"}},null,{"$f":"INDEX(设备类型!$B$2:$B$5001,MATCH(表格模板!C2380,设备类型!$A$2:$A$5001,0),COLUMN(A2380))","v":{"$error":"#N/A"}}]
[null,{"$f":"INDEX(建筑!$B$2:$B$5001,MATCH(表格模板!A2381,建筑!$A$2:$A$5001,0),COLUMN(A2381))","v":{"$error":"#N/A"}},null,{"$f":"INDEX(设备类型!$B$2:$B$5001,MATCH(表格模板!C2381,设备类型!$A$2:$A$5001,0),COLUMN(A2381))","v":{"$error":"#N/A"}}]
[null,{"$f":"INDEX(建筑!$B$2:$B$5001,MATCH(表格模板!A2382,建筑!$A$2:$A$5001,0),COLUMN(A2382))","v":{"$error":"#N/A"}},null,{"$f":"INDEX(设备类型!$B$2:$B$5001,MATCH(表格模板!C2382,设备类型!$A$2:$A$5001,0),COLUMN(A2382))","v":{"$error":"#N/A"}}]
[null,{"$f":"INDEX(建筑!$B$2:$B$5001,MATCH(表格模板!A2383,建筑!$A$2:$A$5001,0),COLUMN(A2383))","v":{"$error":"#N/A"}},null,{"$f":"INDEX(设备类型!$B$2:$B$5001,MATCH(表格模板!C2383,设备类型!$A$2:$A$5001,0),COLUMN(A2383))","v":{"$error":"#N/A"}}]
[null,{"$f":"INDEX(建筑!$B$2:$B$5001,MATCH(表格模板!A2384,建筑!$A$2:$A$5001,0),COLUMN(A2384))","v":{"$error":"#N/A"}},null,{"$f":"INDEX(设备类型!$B$2:$B$5001,MATCH(表格模板!C2384,设备类型!$A$2:$A$5001,0),COLUMN(A2384))","v":{"$error":"#N/A"}}]
[null,{"$f":"INDEX(建筑!$B$2:$B$5001,MATCH(表格模板!A2385,建筑!$A$2:$A$5001,0),COLUMN(A2385))","v":{"$error":"#N/A"}},null,{"$f":"INDEX(设备类型!$B$2:$B$5001,MATCH(表格模板!C2385,设备类型!$A$2:$A$5001,0),COLUMN(A2385))","v":{"$error":"#N/A"}}]
[null,{"$f":"INDEX(建筑!$B$2:$B$5001,MATCH(表格模板!A2386,建筑!$A$2:$A$5001,0),COLUMN(A2386))","v":{"$error":"#N/A"}},null,{"$f":"INDEX(设备类型!$B$2:$B$5001,MATCH(表格模板!C2386,设备类型!$A$2:$A$5001,0),COLUMN(A2386))","v":{"$error":"#N/A"}}]
[null,{"$f":"INDEX(建筑!$B$2:$B$5001,MATCH(表格模板!A2387,建筑!$A$2:$A$5001,0),COLUMN(A2387))","v":{"$error":"#N/A"}},null,{"$f":"INDEX(设备类型!$B$2:$B$5001,MATCH(表格模板!C2387,设备类型!$A$2:$A$5001,0),COLUMN(A2387))","v":{"$error":"#N/A"}}]
[null,{"$f":"INDEX(建筑!$B$2:$B$5001,MATCH(表格模板!A2388,建筑!$A$2:$A$5001,0),COLUMN(A2388))","v":{"$error":"#N/A"}},null,{"$f":"INDEX(设备类型!$B$2:$B$5001,MATCH(表格模板!C2388,设备类型!$A$2:$A$5001,0),COLUMN(A2388))","v":{"$error":"#N/A"}}]
[null,{"$f":"INDEX(建筑!$B$2:$B$5001,MATCH(表格模板!A2389,建筑!$A$2:$A$5001,0),COLUMN(A2389))","v":{"$error":"#N/A"}},null,{"$f":"INDEX(设备类型!$B$2:$B$5001,MATCH(表格模板!C2389,设备类型!$A$2:$A$5001,0),COLUMN(A2389))","v":{"$error":"#N/A"}}]
[null,{"$f":"INDEX(建筑!$B$2:$B$5001,MATCH(表格模板!A2390,建筑!$A$2:$A$5001,0),COLUMN(A2390))","v":{"$error":"#N/A"}},null,{"$f":"INDEX(设备类型!$B$2:$B$5001,MATCH(表格模板!C2390,设备类型!$A$2:$A$5001,0),COLUMN(A2390))","v":{"$error":"#N/A"}}]
[null,{"$f":"INDEX(建筑!$B$2:$B$5001,MATCH(表格模板!A2391,建筑!$A$2:$A$5001,0),COLUMN(A2391))","v":{"$error":"#N/A"}},null,{"$f":"INDEX(设备类型!$B$2:$B$5001,MATCH(表格模板!C2391,设备类型!$A$2:$A$5001,0),COLUMN(A2391))","v":{"$error":"#N/A"}}]
[null,{"$f":"INDEX(建筑!$B$2:$B$5001,MATCH(表格模板!A2392,建筑!$A$2:$A$5001,0),COLUMN(A2392))","v":{"$error":"#N/A"}},null,{"$f":"INDEX(设备类型!$B$2:$B$5001,MATCH(表格模板!C2392,设备类型!$A$2:$A$5001,0),COLUMN(A2392))","v":{"$error":"#N/A"}}]
[null,{"$f":"INDEX(建筑!$B$2:$B$5001,MATCH(表格模板!A2393,建筑!$A$2:$A$5001,0),COLUMN(A2393))","v":{"$error":"#N/A"}},null,{"$f":"INDEX(设备类型!$B$2:$B$5001,MATCH(表格模板!C2393,设备类型!$A$2:$A$5001,0),COLUMN(A2393))","v":{"$error":"#N/A"}}]
[null,{"$f":"INDEX(建筑!$B$2:$B$5001,MATCH(表格模板!A2394,建筑!$A$2:$A$5001,0),COLUMN(A2394))","v":{"$error":"#N/A"}},null,{"$f":"INDEX(设备类型!$B$2:$B$5001,MATCH(表格模板!C2394,设备类型!$A$2:$A$5001,0),COLUMN(A2394))","v":{"$error":"#N/A"}}]
[null,{"$f":"INDEX(建筑!$B$2:$B$5001,MATCH(表格模板!A2395,建筑!$A$2:$A$5001,0),COLUMN(A2395))","v":{"$error":"#N/A"}},null,{"$f":"INDEX(设备类型!$B$2:$B$5001,MATCH(表格模板!C2395,设备类型!$A$2:$A$5001,0),COLUMN(A2395))","v":{"$error":"#N/A"}}]
[null,{"$f":"INDEX(建筑!$B$2:$B$5001,MATCH(表格模板!A2396,建筑!$A$2:$A$5001,0),COLUMN(A2396))","v":{"$error":"#N/A"}},null,{"$f":"INDEX(设备类型!$B$2:$B$5001,MATCH(表格模板!C2396,设备类型!$A$2:$A$5001,0),COLUMN(A2396))","v":{"$error":"#N/A"}}]
[null,{"$f":"INDEX(建筑!$B$2:$B$5001,MATCH(表格模板!A2397,建筑!$A$2:$A$5001,0),COLUMN(A2397))","v":{"$error":"#N/A"}},null,{"$f":"INDEX(设备类型!$B$2:$B$5001,MATCH(表格模板!C2397,设备类型!$A$2:$A$5001,0),COLUMN(A2397))","v":{"$error":"#N/A"}}]
[null,{"$f":"INDEX(建筑!$B$2:$B$5001,MATCH(表格模板!A2398,建筑!$A$2:$A$5001,0),COLUMN(A2398))","v":{"$error":"#N/A"}},null,{"$f":"INDEX(设备类型!$B$2:$B$5001,MATCH(表格模板!C2398,设备类型!$A$2:$A$5001,0),COLUMN(A2398))","v":{"$error":"#N/A"}}]
[null,{"$f":"INDEX(建筑!$B$2:$B$5001,MATCH(表格模板!A2399,建筑!$A$2:$A$5001,0),COLUMN(A2399))","v":{"$error":"#N/A"}},null,{"$f":"INDEX(设备类型!$B$2:$B$5001,MATCH(表格模板!C2399,设备类型!$A$2:$A$5001,0),COLUMN(A2399))","v":{"$error":"#N/A"}}]
[null,{"$f":"INDEX(建筑!$B$2:$B$5001,MATCH(表格模板!A2400,建筑!$A$2:$A$5001,0),COLUMN(A2400))","v":{"$error":"#N/A"}},null,{"$f":"INDEX(设备类型!$B$2:$B$5001,MATCH(表格模板!C2400,设备类型!$A$2:$A$5001,0),COLUMN(A2400))","v":{"$error":"#N/A"}}]
[null,{"$f":"INDEX(建筑!$B$2:$B$5001,MATCH(表格模板!A2401,建筑!$A$2:$A$5001,0),COLUMN(A2401))","v":{"$error":"#N/A"}},null,{"$f":"INDEX(设备类型!$B$2:$B$5001,MATCH(表格模板!C2401,设备类型!$A$2:$A$5001,0),COLUMN(A2401))","v":{"$error":"#N/A"}}]
[null,{"$f":"INDEX(建筑!$B$2:$B$5001,MATCH(表格模板!A2402,建筑!$A$2:$A$5001,0),COLUMN(A2402))","v":{"$error":"#N/A"}},null,{"$f":"INDEX(设备类型!$B$2:$B$5001,MATCH(表格模板!C2402,设备类型!$A$2:$A$5001,0),COLUMN(A2402))","v":{"$error":"#N/A"}}]
[null,{"$f":"INDEX(建筑!$B$2:$B$5001,MATCH(表格模板!A2403,建筑!$A$2:$A$5001,0),COLUMN(A2403))","v":{"$error":"#N/A"}},null,{"$f":"INDEX(设备类型!$B$2:$B$5001,MATCH(表格模板!C2403,设备类型!$A$2:$A$5001,0),COLUMN(A2403))","v":{"$error":"#N/A"}}]
[null,{"$f":"INDEX(建筑!$B$2:$B$5001,MATCH(表格模板!A2404,建筑!$A$2:$A$5001,0),COLUMN(A2404))","v":{"$error":"#N/A"}},null,{"$f":"INDEX(设备类型!$B$2:$B$5001,MATCH(表格模板!C2404,设备类型!$A$2:$A$5001,0),COLUMN(A2404))","v":{"$error":"#N/A"}}]
[null,{"$f":"INDEX(建筑!$B$2:$B$5001,MATCH(表格模板!A2405,建筑!$A$2:$A$5001,0),COLUMN(A2405))","v":{"$error":"#N/A"}},null,{"$f":"INDEX(设备类型!$B$2:$B$5001,MATCH(表格模板!C2405,设备类型!$A$2:$A$5001,0),COLUMN(A2405))","v":{"$error":"#N/A"}}]
[null,{"$f":"INDEX(建筑!$B$2:$B$5001,MATCH(表格模板!A2406,建筑!$A$2:$A$5001,0),COLUMN(A2406))","v":{"$error":"#N/A"}},null,{"$f":"INDEX(设备类型!$B$2:$B$5001,MATCH(表格模板!C2406,设备类型!$A$2:$A$5001,0),COLUMN(A2406))","v":{"$error":"#N/A"}}]
[null,{"$f":"INDEX(建筑!$B$2:$B$5001,MATCH(表格模板!A2407,建筑!$A$2:$A$5001,0),COLUMN(A2407))","v":{"$error":"#N/A"}},null,{"$f":"INDEX(设备类型!$B$2:$B$5001,MATCH(表格模板!C2407,设备类型!$A$2:$A$5001,0),COLUMN(A2407))","v":{"$error":"#N/A"}}]
[null,{"$f":"INDEX(建筑!$B$2:$B$5001,MATCH(表格模板!A2408,建筑!$A$2:$A$5001,0),COLUMN(A2408))","v":{"$error":"#N/A"}},null,{"$f":"INDEX(设备类型!$B$2:$B$5001,MATCH(表格模板!C2408,设备类型!$A$2:$A$5001,0),COLUMN(A2408))","v":{"$error":"#N/A"}}]
[null,{"$f":"INDEX(建筑!$B$2:$B$5001,MATCH(表格模板!A2409,建筑!$A$2:$A$5001,0),COLUMN(A2409))","v":{"$error":"#N/A"}},null,{"$f":"INDEX(设备类型!$B$2:$B$5001,MATCH(表格模板!C2409,设备类型!$A$2:$A$5001,0),COLUMN(A2409))","v":{"$error":"#N/A"}}]
[null,{"$f":"INDEX(建筑!$B$2:$B$5001,MATCH(表格模板!A2410,建筑!$A$2:$A$5001,0),COLUMN(A2410))","v":{"$error":"#N/A"}},null,{"$f":"INDEX(设备类型!$B$2:$B$5001,MATCH(表格模板!C2410,设备类型!$A$2:$A$5001,0),COLUMN(A2410))","v":{"$error":"#N/A"}}]
[null,{"$f":"INDEX(建筑!$B$2:$B$5001,MATCH(表格模板!A2411,建筑!$A$2:$A$5001,0),COLUMN(A2411))","v":{"$error":"#N/A"}},null,{"$f":"INDEX(设备类型!$B$2:$B$5001,MATCH(表格模板!C2411,设备类型!$A$2:$A$5001,0),COLUMN(A2411))","v":{"$error":"#N/A"}}]
[null,{"$f":"INDEX(建筑!$B$2:$B$5001,MATCH(表格模板!A2412,建筑!$A$2:$A$5001,0),COLUMN(A2412))","v":{"$error":"#N/A"}},null,{"$f":"INDEX(设备类型!$B$2:$B$5001,MATCH(表格模板!C2412,设备类型!$A$2:$A$5001,0),COLUMN(A2412))","v":{"$error":"#N/A"}}]
[null,{"$f":"INDEX(建筑!$B$2:$B$5001,MATCH(表格模板!A2413,建筑!$A$2:$A$5001,0),COLUMN(A2413))","v":{"$error":"#N/A"}},null,{"$f":"INDEX(设备类型!$B$2:$B$5001,MATCH(表格模板!C2413,设备类型!$A$2:$A$5001,0),COLUMN(A2413))","v":{"$error":"#N/A"}}]
[null,{"$f":"INDEX(建筑!$B$2:$B$5001,MATCH(表格模板!A2414,建筑!$A$2:$A$5001,0),COLUMN(A2414))","v":{"$error":"#N/A"}},null,{"$f":"INDEX(设备类型!$B$2:$B$5001,MATCH(表格模板!C2414,设备类型!$A$2:$A$5001,0),COLUMN(A2414))","v":{"$error":"#N/A"}}]
[null,{"$f":"INDEX(建筑!$B$2:$B$5001,MATCH(表格模板!A2415,建筑!$A$2:$A$5001,0),COLUMN(A2415))","v":{"$error":"#N/A"}},null,{"$f":"INDEX(设备类型!$B$2:$B$5001,MATCH(表格模板!C2415,设备类型!$A$2:$A$5001,0),COLUMN(A2415))","v":{"$error":"#N/A"}}]
[null,{"$f":"INDEX(建筑!$B$2:$B$5001,MATCH(表格模板!A2416,建筑!$A$2:$A$5001,0),COLUMN(A2416))","v":{"$error":"#N/A"}},null,{"$f":"INDEX(设备类型!$B$2:$B$5001,MATCH(表格模板!C2416,设备类型!$A$2:$A$5001,0),COLUMN(A2416))","v":{"$error":"#N/A"}}]
[null,{"$f":"INDEX(建筑!$B$2:$B$5001,MATCH(表格模板!A2417,建筑!$A$2:$A$5001,0),COLUMN(A2417))","v":{"$error":"#N/A"}},null,{"$f":"INDEX(设备类型!$B$2:$B$5001,MATCH(表格模板!C2417,设备类型!$A$2:$A$5001,0),COLUMN(A2417))","v":{"$error":"#N/A"}}]
[null,{"$f":"INDEX(建筑!$B$2:$B$5001,MATCH(表格模板!A2418,建筑!$A$2:$A$5001,0),COLUMN(A2418))","v":{"$error":"#N/A"}},null,{"$f":"INDEX(设备类型!$B$2:$B$5001,MATCH(表格模板!C2418,设备类型!$A$2:$A$5001,0),COLUMN(A2418))","v":{"$error":"#N/A"}}]
[null,{"$f":"INDEX(建筑!$B$2:$B$5001,MATCH(表格模板!A2419,建筑!$A$2:$A$5001,0),COLUMN(A2419))","v":{"$error":"#N/A"}},null,{"$f":"INDEX(设备类型!$B$2:$B$5001,MATCH(表格模板!C2419,设备类型!$A$2:$A$5001,0),COLUMN(A2419))","v":{"$error":"#N/A"}}]
[null,{"$f":"INDEX(建筑!$B$2:$B$5001,MATCH(表格模板!A2420,建筑!$A$2:$A$5001,0),COLUMN(A2420))","v":{"$error":"#N/A"}},null,{"$f":"INDEX(设备类型!$B$2:$B$5001,MATCH(表格模板!C2420,设备类型!$A$2:$A$5001,0),COLUMN(A2420))","v":{"$error":"#N/A"}}]
[null,{"$f":"INDEX(建筑!$B$2:$B$5001,MATCH(表格模板!A2421,建筑!$A$2:$A$5001,0),COLUMN(A2421))","v":{"$error":"#N/A"}},null,{"$f":"INDEX(设备类型!$B$2:$B$5001,MATCH(表格模板!C2421,设备类型!$A$2:$A$5001,0),COLUMN(A2421))","v":{"$error":"#N/A"}}]
[null,{"$f":"INDEX(建筑!$B$2:$B$5001,MATCH(表格模板!A2422,建筑!$A$2:$A$5001,0),COLUMN(A2422))","v":{"$error":"#N/A"}},null,{"$f":"INDEX(设备类型!$B$2:$B$5001,MATCH(表格模板!C2422,设备类型!$A$2:$A$5001,0),COLUMN(A2422))","v":{"$error":"#N/A"}}]
[null,{"$f":"INDEX(建筑!$B$2:$B$5001,MATCH(表格模板!A2423,建筑!$A$2:$A$5001,0),COLUMN(A2423))","v":{"$error":"#N/A"}},null,{"$f":"INDEX(设备类型!$B$2:$B$5001,MATCH(表格模板!C2423,设备类型!$A$2:$A$5001,0),COLUMN(A2423))","v":{"$error":"#N/A"}}]
[null,{"$f":"INDEX(建筑!$B$2:$B$5001,MATCH(表格模板!A2424,建筑!$A$2:$A$5001,0),COLUMN(A2424))","v":{"$error":"#N/A"}},null,{"$f":"INDEX(设备类型!$B$2:$B$5001,MATCH(表格模板!C2424,设备类型!$A$2:$A$5001,0),COLUMN(A2424))","v":{"$error":"#N/A"}}]
[null,{"$f":"INDEX(建筑!$B$2:$B$5001,MATCH(表格模板!A2425,建筑!$A$2:$A$5001,0),COLUMN(A2425))","v":{"$error":"#N/A"}},null,{"$f":"INDEX(设备类型!$B$2:$B$5001,MATCH(表格模板!C2425,设备类型!$A$2:$A$5001,0),COLUMN(A2425))","v":{"$error":"#N/A"}}]
[null,{"$f":"INDEX(建筑!$B$2:$B$5001,MATCH(表格模板!A2426,建筑!$A$2:$A$5001,0),COLUMN(A2426))","v":{"$error":"#N/A"}},null,{"$f":"INDEX(设备类型!$B$2:$B$5001,MATCH(表格模板!C2426,设备类型!$A$2:$A$5001,0),COLUMN(A2426))","v":{"$error":"#N/A"}}]
[null,{"$f":"INDEX(建筑!$B$2:$B$5001,MATCH(表格模板!A2427,建筑!$A$2:$A$5001,0),COLUMN(A2427))","v":{"$error":"#N/A"}},null,{"$f":"INDEX(设备类型!$B$2:$B$5001,MATCH(表格模板!C2427,设备类型!$A$2:$A$5001,0),COLUMN(A2427))","v":{"$error":"#N/A"}}]
[null,{"$f":"INDEX(建筑!$B$2:$B$5001,MATCH(表格模板!A2428,建筑!$A$2:$A$5001,0),COLUMN(A2428))","v":{"$error":"#N/A"}},null,{"$f":"INDEX(设备类型!$B$2:$B$5001,MATCH(表格模板!C2428,设备类型!$A$2:$A$5001,0),COLUMN(A2428))","v":{"$error":"#N/A"}}]
[null,{"$f":"INDEX(建筑!$B$2:$B$5001,MATCH(表格模板!A2429,建筑!$A$2:$A$5001,0),COLUMN(A2429))","v":{"$error":"#N/A"}},null,{"$f":"INDEX(设备类型!$B$2:$B$5001,MATCH(表格模板!C2429,设备类型!$A$2:$A$5001,0),COLUMN(A2429))","v":{"$error":"#N/A"}}]
[null,{"$f":"INDEX(建筑!$B$2:$B$5001,MATCH(表格模板!A2430,建筑!$A$2:$A$5001,0),COLUMN(A2430))","v":{"$error":"#N/A"}},null,{"$f":"INDEX(设备类型!$B$2:$B$5001,MATCH(表格模板!C2430,设备类型!$A$2:$A$5001,0),COLUMN(A2430))","v":{"$error":"#N/A"}}]
[null,{"$f":"INDEX(建筑!$B$2:$B$5001,MATCH(表格模板!A2431,建筑!$A$2:$A$5001,0),COLUMN(A2431))","v":{"$error":"#N/A"}},null,{"$f":"INDEX(设备类型!$B$2:$B$5001,MATCH(表格模板!C2431,设备类型!$A$2:$A$5001,0),COLUMN(A2431))","v":{"$error":"#N/A"}}]
[null,{"$f":"INDEX(建筑!$B$2:$B$5001,MATCH(表格模板!A2432,建筑!$A$2:$A$5001,0),COLUMN(A2432))","v":{"$error":"#N/A"}},null,{"$f":"INDEX(设备类型!$B$2:$B$5001,MATCH(表格模板!C2432,设备类型!$A$2:$A$5001,0),COLUMN(A2432))","v":{"$error":"#N/A"}}]
[null,{"$f":"INDEX(建筑!$B$2:$B$5001,MATCH(表格模板!A2433,建筑!$A$2:$A$5001,0),COLUMN(A2433))","v":{"$error":"#N/A"}},null,{"$f":"INDEX(设备类型!$B$2:$B$5001,MATCH(表格模板!C2433,设备类型!$A$2:$A$5001,0),COLUMN(A2433))","v":{"$error":"#N/A"}}]
[null,{"$f":"INDEX(建筑!$B$2:$B$5001,MATCH(表格模板!A2434,建筑!$A$2:$A$5001,0),COLUMN(A2434))","v":{"$error":"#N/A"}},null,{"$f":"INDEX(设备类型!$B$2:$B$5001,MATCH(表格模板!C2434,设备类型!$A$2:$A$5001,0),COLUMN(A2434))","v":{"$error":"#N/A"}}]
[null,{"$f":"INDEX(建筑!$B$2:$B$5001,MATCH(表格模板!A2435,建筑!$A$2:$A$5001,0),COLUMN(A2435))","v":{"$error":"#N/A"}},null,{"$f":"INDEX(设备类型!$B$2:$B$5001,MATCH(表格模板!C2435,设备类型!$A$2:$A$5001,0),COLUMN(A2435))","v":{"$error":"#N/A"}}]
[null,{"$f":"INDEX(建筑!$B$2:$B$5001,MATCH(表格模板!A2436,建筑!$A$2:$A$5001,0),COLUMN(A2436))","v":{"$error":"#N/A"}},null,{"$f":"INDEX(设备类型!$B$2:$B$5001,MATCH(表格模板!C2436,设备类型!$A$2:$A$5001,0),COLUMN(A2436))","v":{"$error":"#N/A"}}]
[null,{"$f":"INDEX(建筑!$B$2:$B$5001,MATCH(表格模板!A2437,建筑!$A$2:$A$5001,0),COLUMN(A2437))","v":{"$error":"#N/A"}},null,{"$f":"INDEX(设备类型!$B$2:$B$5001,MATCH(表格模板!C2437,设备类型!$A$2:$A$5001,0),COLUMN(A2437))","v":{"$error":"#N/A"}}]
[null,{"$f":"INDEX(建筑!$B$2:$B$5001,MATCH(表格模板!A2438,建筑!$A$2:$A$5001,0),COLUMN(A2438))","v":{"$error":"#N/A"}},null,{"$f":"INDEX(设备类型!$B$2:$B$5001,MATCH(表格模板!C2438,设备类型!$A$2:$A$5001,0),COLUMN(A2438))","v":{"$error":"#N/A"}}]
[null,{"$f":"INDEX(建筑!$B$2:$B$5001,MATCH(表格模板!A2439,建筑!$A$2:$A$5001,0),COLUMN(A2439))","v":{"$error":"#N/A"}},null,{"$f":"INDEX(设备类型!$B$2:$B$5001,MATCH(表格模板!C2439,设备类型!$A$2:$A$5001,0),COLUMN(A2439))","v":{"$error":"#N/A"}}]
[null,{"$f":"INDEX(建筑!$B$2:$B$5001,MATCH(表格模板!A2440,建筑!$A$2:$A$5001,0),COLUMN(A2440))","v":{"$error":"#N/A"}},null,{"$f":"INDEX(设备类型!$B$2:$B$5001,MATCH(表格模板!C2440,设备类型!$A$2:$A$5001,0),COLUMN(A2440))","v":{"$error":"#N/A"}}]
[null,{"$f":"INDEX(建筑!$B$2:$B$5001,MATCH(表格模板!A2441,建筑!$A$2:$A$5001,0),COLUMN(A2441))","v":{"$error":"#N/A"}},null,{"$f":"INDEX(设备类型!$B$2:$B$5001,MATCH(表格模板!C2441,设备类型!$A$2:$A$5001,0),COLUMN(A2441))","v":{"$error":"#N/A"}}]
[null,{"$f":"INDEX(建筑!$B$2:$B$5001,MATCH(表格模板!A2442,建筑!$A$2:$A$5001,0),COLUMN(A2442))","v":{"$error":"#N/A"}},null,{"$f":"INDEX(设备类型!$B$2:$B$5001,MATCH(表格模板!C2442,设备类型!$A$2:$A$5001,0),COLUMN(A2442))","v":{"$error":"#N/A"}}]
[null,{"$f":"INDEX(建筑!$B$2:$B$5001,MATCH(表格模板!A2443,建筑!$A$2:$A$5001,0),COLUMN(A2443))","v":{"$error":"#N/A"}},null,{"$f":"INDEX(设备类型!$B$2:$B$5001,MATCH(表格模板!C2443,设备类型!$A$2:$A$5001,0),COLUMN(A2443))","v":{"$error":"#N/A"}}]
[null,{"$f":"INDEX(建筑!$B$2:$B$5001,MATCH(表格模板!A2444,建筑!$A$2:$A$5001,0),COLUMN(A2444))","v":{"$error":"#N/A"}},null,{"$f":"INDEX(设备类型!$B$2:$B$5001,MATCH(表格模板!C2444,设备类型!$A$2:$A$5001,0),COLUMN(A2444))","v":{"$error":"#N/A"}}]
[null,{"$f":"INDEX(建筑!$B$2:$B$5001,MATCH(表格模板!A2445,建筑!$A$2:$A$5001,0),COLUMN(A2445))","v":{"$error":"#N/A"}},null,{"$f":"INDEX(设备类型!$B$2:$B$5001,MATCH(表格模板!C2445,设备类型!$A$2:$A$5001,0),COLUMN(A2445))","v":{"$error":"#N/A"}}]
[null,{"$f":"INDEX(建筑!$B$2:$B$5001,MATCH(表格模板!A2446,建筑!$A$2:$A$5001,0),COLUMN(A2446))","v":{"$error":"#N/A"}},null,{"$f":"INDEX(设备类型!$B$2:$B$5001,MATCH(表格模板!C2446,设备类型!$A$2:$A$5001,0),COLUMN(A2446))","v":{"$error":"#N/A"}}]
[null,{"$f":"INDEX(建筑!$B$2:$B$5001,MATCH(表格模板!A2447,建筑!$A$2:$A$5001,0),COLUMN(A2447))","v":{"$error":"#N/A"}},null,{"$f":"INDEX(设备类型!$B$2:$B$5001,MATCH(表格模板!C2447,设备类型!$A$2:$A$5001,0),COLUMN(A2447))","v":{"$error":"#N/A"}}]
[null,{"$f":"INDEX(建筑!$B$2:$B$5001,MATCH(表格模板!A2448,建筑!$A$2:$A$5001,0),COLUMN(A2448))","v":{"$error":"#N/A"}},null,{"$f":"INDEX(设备类型!$B$2:$B$5001,MATCH(表格模板!C2448,设备类型!$A$2:$A$5001,0),COLUMN(A2448))","v":{"$error":"#N/A"}}]
[null,{"$f":"INDEX(建筑!$B$2:$B$5001,MATCH(表格模板!A2449,建筑!$A$2:$A$5001,0),COLUMN(A2449))","v":{"$error":"#N/A"}},null,{"$f":"INDEX(设备类型!$B$2:$B$5001,MATCH(表格模板!C2449,设备类型!$A$2:$A$5001,0),COLUMN(A2449))","v":{"$error":"#N/A"}}]
[null,{"$f":"INDEX(建筑!$B$2:$B$5001,MATCH(表格模板!A2450,建筑!$A$2:$A$5001,0),COLUMN(A2450))","v":{"$error":"#N/A"}},null,{"$f":"INDEX(设备类型!$B$2:$B$5001,MATCH(表格模板!C2450,设备类型!$A$2:$A$5001,0),COLUMN(A2450))","v":{"$error":"#N/A"}}]
[null,{"$f":"INDEX(建筑!$B$2:$B$5001,MATCH(表格模板!A2451,建筑!$A$2:$A$5001,0),COLUMN(A2451))","v":{"$error":"#N/A"}},null,{"$f":"INDEX(设备类型!$B$2:$B$5001,MATCH(表格模板!C2451,设备类型!$A$2:$A$5001,0),COLUMN(A2451))","v":{"$error":"#N/A"}}]
[null,{"$f":"INDEX(建筑!$B$2:$B$5001,MATCH(表格模板!A2452,建筑!$A$2:$A$5001,0),COLUMN(A2452))","v":{"$error":"#N/A"}},null,{"$f":"INDEX(设备类型!$B$2:$B$5001,MATCH(表格模板!C2452,设备类型!$A$2:$A$5001,0),COLUMN(A2452))","v":{"$error":"#N/A"}}]
[null,{"$f":"INDEX(建筑!$B$2:$B$5001,MATCH(表格模板!A2453,建筑!$A$2:$A$5001,0),COLUMN(A2453))","v":{"$error":"#N/A"}},null,{"$f":"INDEX(设备类型!$B$2:$B$5001,MATCH(表格模板!C2453,设备类型!$A$2:$A$5001,0),COLUMN(A2453))","v":{"$error":"#N/A"}}]
[null,{"$f":"INDEX(建筑!$B$2:$B$5001,MATCH(表格模板!A2454,建筑!$A$2:$A$5001,0),COLUMN(A2454))","v":{"$error":"#N/A"}},null,{"$f":"INDEX(设备类型!$B$2:$B$5001,MATCH(表格模板!C2454,设备类型!$A$2:$A$5001,0),COLUMN(A2454))","v":{"$error":"#N/A"}}]
[null,{"$f":"INDEX(建筑!$B$2:$B$5001,MATCH(表格模板!A2455,建筑!$A$2:$A$5001,0),COLUMN(A2455))","v":{"$error":"#N/A"}},null,{"$f":"INDEX(设备类型!$B$2:$B$5001,MATCH(表格模板!C2455,设备类型!$A$2:$A$5001,0),COLUMN(A2455))","v":{"$error":"#N/A"}}]
[null,{"$f":"INDEX(建筑!$B$2:$B$5001,MATCH(表格模板!A2456,建筑!$A$2:$A$5001,0),COLUMN(A2456))","v":{"$error":"#N/A"}},null,{"$f":"INDEX(设备类型!$B$2:$B$5001,MATCH(表格模板!C2456,设备类型!$A$2:$A$5001,0),COLUMN(A2456))","v":{"$error":"#N/A"}}]
[null,{"$f":"INDEX(建筑!$B$2:$B$5001,MATCH(表格模板!A2457,建筑!$A$2:$A$5001,0),COLUMN(A2457))","v":{"$error":"#N/A"}},null,{"$f":"INDEX(设备类型!$B$2:$B$5001,MATCH(表格模板!C2457,设备类型!$A$2:$A$5001,0),COLUMN(A2457))","v":{"$error":"#N/A"}}]
[null,{"$f":"INDEX(建筑!$B$2:$B$5001,MATCH(表格模板!A2458,建筑!$A$2:$A$5001,0),COLUMN(A2458))","v":{"$error":"#N/A"}},null,{"$f":"INDEX(设备类型!$B$2:$B$5001,MATCH(表格模板!C2458,设备类型!$A$2:$A$5001,0),COLUMN(A2458))","v":{"$error":"#N/A"}}]
[null,{"$f":"INDEX(建筑!$B$2:$B$5001,MATCH(表格模板!A2459,建筑!$A$2:$A$5001,0),COLUMN(A2459))","v":{"$error":"#N/A"}},null,{"$f":"INDEX(设备类型!$B$2:$B$5001,MATCH(表格模板!C2459,设备类型!$A$2:$A$5001,0),COLUMN(A2459))","v":{"$error":"#N/A"}}]
[null,{"$f":"INDEX(建筑!$B$2:$B$5001,MATCH(表格模板!A2460,建筑!$A$2:$A$5001,0),COLUMN(A2460))","v":{"$error":"#N/A"}},null,{"$f":"INDEX(设备类型!$B$2:$B$5001,MATCH(表格模板!C2460,设备类型!$A$2:$A$5001,0),COLUMN(A2460))","v":{"$error":"#N/A"}}]
[null,{"$f":"INDEX(建筑!$B$2:$B$5001,MATCH(表格模板!A2461,建筑!$A$2:$A$5001,0),COLUMN(A2461))","v":{"$error":"#N/A"}},null,{"$f":"INDEX(设备类型!$B$2:$B$5001,MATCH(表格模板!C2461,设备类型!$A$2:$A$5001,0),COLUMN(A2461))","v":{"$error":"#N/A"}}]
[null,{"$f":"INDEX(建筑!$B$2:$B$5001,MATCH(表格模板!A2462,建筑!$A$2:$A$5001,0),COLUMN(A2462))","v":{"$error":"#N/A"}},null,{"$f":"INDEX(设备类型!$B$2:$B$5001,MATCH(表格模板!C2462,设备类型!$A$2:$A$5001,0),COLUMN(A2462))","v":{"$error":"#N/A"}}]
[null,{"$f":"INDEX(建筑!$B$2:$B$5001,MATCH(表格模板!A2463,建筑!$A$2:$A$5001,0),COLUMN(A2463))","v":{"$error":"#N/A"}},null,{"$f":"INDEX(设备类型!$B$2:$B$5001,MATCH(表格模板!C2463,设备类型!$A$2:$A$5001,0),COLUMN(A2463))","v":{"$error":"#N/A"}}]
[null,{"$f":"INDEX(建筑!$B$2:$B$5001,MATCH(表格模板!A2464,建筑!$A$2:$A$5001,0),COLUMN(A2464))","v":{"$error":"#N/A"}},null,{"$f":"INDEX(设备类型!$B$2:$B$5001,MATCH(表格模板!C2464,设备类型!$A$2:$A$5001,0),COLUMN(A2464))","v":{"$error":"#N/A"}}]
[null,{"$f":"INDEX(建筑!$B$2:$B$5001,MATCH(表格模板!A2465,建筑!$A$2:$A$5001,0),COLUMN(A2465))","v":{"$error":"#N/A"}},null,{"$f":"INDEX(设备类型!$B$2:$B$5001,MATCH(表格模板!C2465,设备类型!$A$2:$A$5001,0),COLUMN(A2465))","v":{"$error":"#N/A"}}]
[null,{"$f":"INDEX(建筑!$B$2:$B$5001,MATCH(表格模板!A2466,建筑!$A$2:$A$5001,0),COLUMN(A2466))","v":{"$error":"#N/A"}},null,{"$f":"INDEX(设备类型!$B$2:$B$5001,MATCH(表格模板!C2466,设备类型!$A$2:$A$5001,0),COLUMN(A2466))","v":{"$error":"#N/A"}}]
[null,{"$f":"INDEX(建筑!$B$2:$B$5001,MATCH(表格模板!A2467,建筑!$A$2:$A$5001,0),COLUMN(A2467))","v":{"$error":"#N/A"}},null,{"$f":"INDEX(设备类型!$B$2:$B$5001,MATCH(表格模板!C2467,设备类型!$A$2:$A$5001,0),COLUMN(A2467))","v":{"$error":"#N/A"}}]
[null,{"$f":"INDEX(建筑!$B$2:$B$5001,MATCH(表格模板!A2468,建筑!$A$2:$A$5001,0),COLUMN(A2468))","v":{"$error":"#N/A"}},null,{"$f":"INDEX(设备类型!$B$2:$B$5001,MATCH(表格模板!C2468,设备类型!$A$2:$A$5001,0),COLUMN(A2468))","v":{"$error":"#N/A"}}]
[null,{"$f":"INDEX(建筑!$B$2:$B$5001,MATCH(表格模板!A2469,建筑!$A$2:$A$5001,0),COLUMN(A2469))","v":{"$error":"#N/A"}},null,{"$f":"INDEX(设备类型!$B$2:$B$5001,MATCH(表格模板!C2469,设备类型!$A$2:$A$5001,0),COLUMN(A2469))","v":{"$error":"#N/A"}}]
[null,{"$f":"INDEX(建筑!$B$2:$B$5001,MATCH(表格模板!A2470,建筑!$A$2:$A$5001,0),COLUMN(A2470))","v":{"$error":"#N/A"}},null,{"$f":"INDEX(设备类型!$B$2:$B$5001,MATCH(表格模板!C2470,设备类型!$A$2:$A$5001,0),COLUMN(A2470))","v":{"$error":"#N/A"}}]
[null,{"$f":"INDEX(建筑!$B$2:$B$5001,MATCH(表格模板!A2471,建筑!$A$2:$A$5001,0),COLUMN(A2471))","v":{"$error":"#N/A"}},null,{"$f":"INDEX(设备类型!$B$2:$B$5001,MATCH(表格模板!C2471,设备类型!$A$2:$A$5001,0),COLUMN(A2471))","v":{"$error":"#N/A"}}]
[null,{"$f":"INDEX(建筑!$B$2:$B$5001,MATCH(表格模板!A2472,建筑!$A$2:$A$5001,0),COLUMN(A2472))","v":{"$error":"#N/A"}},null,{"$f":"INDEX(设备类型!$B$2:$B$5001,MATCH(表格模板!C2472,设备类型!$A$2:$A$5001,0),COLUMN(A2472))","v":{"$error":"#N/A"}}]
[null,{"$f":"INDEX(建筑!$B$2:$B$5001,MATCH(表格模板!A2473,建筑!$A$2:$A$5001,0),COLUMN(A2473))","v":{"$error":"#N/A"}},null,{"$f":"INDEX(设备类型!$B$2:$B$5001,MATCH(表格模板!C2473,设备类型!$A$2:$A$5001,0),COLUMN(A2473))","v":{"$error":"#N/A"}}]
[null,{"$f":"INDEX(建筑!$B$2:$B$5001,MATCH(表格模板!A2474,建筑!$A$2:$A$5001,0),COLUMN(A2474))","v":{"$error":"#N/A"}},null,{"$f":"INDEX(设备类型!$B$2:$B$5001,MATCH(表格模板!C2474,设备类型!$A$2:$A$5001,0),COLUMN(A2474))","v":{"$error":"#N/A"}}]
[null,{"$f":"INDEX(建筑!$B$2:$B$5001,MATCH(表格模板!A2475,建筑!$A$2:$A$5001,0),COLUMN(A2475))","v":{"$error":"#N/A"}},null,{"$f":"INDEX(设备类型!$B$2:$B$5001,MATCH(表格模板!C2475,设备类型!$A$2:$A$5001,0),COLUMN(A2475))","v":{"$error":"#N/A"}}]
[null,{"$f":"INDEX(建筑!$B$2:$B$5001,MATCH(表格模板!A2476,建筑!$A$2:$A$5001,0),COLUMN(A2476))","v":{"$error":"#N/A"}},null,{"$f":"INDEX(设备类型!$B$2:$B$5001,MATCH(表格模板!C2476,设备类型!$A$2:$A$5001,0),COLUMN(A2476))","v":{"$error":"#N/A"}}]
[null,{"$f":"INDEX(建筑!$B$2:$B$5001,MATCH(表格模板!A2477,建筑!$A$2:$A$5001,0),COLUMN(A2477))","v":{"$error":"#N/A"}},null,{"$f":"INDEX(设备类型!$B$2:$B$5001,MATCH(表格模板!C2477,设备类型!$A$2:$A$5001,0),COLUMN(A2477))","v":{"$error":"#N/A"}}]
[null,{"$f":"INDEX(建筑!$B$2:$B$5001,MATCH(表格模板!A2478,建筑!$A$2:$A$5001,0),COLUMN(A2478))","v":{"$error":"#N/A"}},null,{"$f":"INDEX(设备类型!$B$2:$B$5001,MATCH(表格模板!C2478,设备类型!$A$2:$A$5001,0),COLUMN(A2478))","v":{"$error":"#N/A"}}]
[null,{"$f":"INDEX(建筑!$B$2:$B$5001,MATCH(表格模板!A2479,建筑!$A$2:$A$5001,0),COLUMN(A2479))","v":{"$error":"#N/A"}},null,{"$f":"INDEX(设备类型!$B$2:$B$5001,MATCH(表格模板!C2479,设备类型!$A$2:$A$5001,0),COLUMN(A2479))","v":{"$error":"#N/A"}}]
[null,{"$f":"INDEX(建筑!$B$2:$B$5001,MATCH(表格模板!A2480,建筑!$A$2:$A$5001,0),COLUMN(A2480))","v":{"$error":"#N/A"}},null,{"$f":"INDEX(设备类型!$B$2:$B$5001,MATCH(表格模板!C2480,设备类型!$A$2:$A$5001,0),COLUMN(A2480))","v":{"$error":"#N/A"}}]
[null,{"$f":"INDEX(建筑!$B$2:$B$5001,MATCH(表格模板!A2481,建筑!$A$2:$A$5001,0),COLUMN(A2481))","v":{"$error":"#N/A"}},null,{"$f":"INDEX(设备类型!$B$2:$B$5001,MATCH(表格模板!C2481,设备类型!$A$2:$A$5001,0),COLUMN(A2481))","v":{"$error":"#N/A"}}]
[null,{"$f":"INDEX(建筑!$B$2:$B$5001,MATCH(表格模板!A2482,建筑!$A$2:$A$5001,0),COLUMN(A2482))","v":{"$error":"#N/A"}},null,{"$f":"INDEX(设备类型!$B$2:$B$5001,MATCH(表格模板!C2482,设备类型!$A$2:$A$5001,0),COLUMN(A2482))","v":{"$error":"#N/A"}}]
[null,{"$f":"INDEX(建筑!$B$2:$B$5001,MATCH(表格模板!A2483,建筑!$A$2:$A$5001,0),COLUMN(A2483))","v":{"$error":"#N/A"}},null,{"$f":"INDEX(设备类型!$B$2:$B$5001,MATCH(表格模板!C2483,设备类型!$A$2:$A$5001,0),COLUMN(A2483))","v":{"$error":"#N/A"}}]
[null,{"$f":"INDEX(建筑!$B$2:$B$5001,MATCH(表格模板!A2484,建筑!$A$2:$A$5001,0),COLUMN(A2484))","v":{"$error":"#N/A"}},null,{"$f":"INDEX(设备类型!$B$2:$B$5001,MATCH(表格模板!C2484,设备类型!$A$2:$A$5001,0),COLUMN(A2484))","v":{"$error":"#N/A"}}]
[null,{"$f":"INDEX(建筑!$B$2:$B$5001,MATCH(表格模板!A2485,建筑!$A$2:$A$5001,0),COLUMN(A2485))","v":{"$error":"#N/A"}},null,{"$f":"INDEX(设备类型!$B$2:$B$5001,MATCH(表格模板!C2485,设备类型!$A$2:$A$5001,0),COLUMN(A2485))","v":{"$error":"#N/A"}}]
[null,{"$f":"INDEX(建筑!$B$2:$B$5001,MATCH(表格模板!A2486,建筑!$A$2:$A$5001,0),COLUMN(A2486))","v":{"$error":"#N/A"}},null,{"$f":"INDEX(设备类型!$B$2:$B$5001,MATCH(表格模板!C2486,设备类型!$A$2:$A$5001,0),COLUMN(A2486))","v":{"$error":"#N/A"}}]
[null,{"$f":"INDEX(建筑!$B$2:$B$5001,MATCH(表格模板!A2487,建筑!$A$2:$A$5001,0),COLUMN(A2487))","v":{"$error":"#N/A"}},null,{"$f":"INDEX(设备类型!$B$2:$B$5001,MATCH(表格模板!C2487,设备类型!$A$2:$A$5001,0),COLUMN(A2487))","v":{"$error":"#N/A"}}]
[null,{"$f":"INDEX(建筑!$B$2:$B$5001,MATCH(表格模板!A2488,建筑!$A$2:$A$5001,0),COLUMN(A2488))","v":{"$error":"#N/A"}},null,{"$f":"INDEX(设备类型!$B$2:$B$5001,MATCH(表格模板!C2488,设备类型!$A$2:$A$5001,0),COLUMN(A2488))","v":{"$error":"#N/A"}}]
[null,{"$f":"INDEX(建筑!$B$2:$B$5001,MATCH(表格模板!A2489,建筑!$A$2:$A$5001,0),COLUMN(A2489))","v":{"$error":"#N/A"}},null,{"$f":"INDEX(设备类型!$B$2:$B$5001,MATCH(表格模板!C2489,设备类型!$A$2:$A$5001,0),COLUMN(A2489))","v":{"$error":"#N/A"}}]
[null,{"$f":"INDEX(建筑!$B$2:$B$5001,MATCH(表格模板!A2490,建筑!$A$2:$A$5001,0),COLUMN(A2490))","v":{"$error":"#N/A"}},null,{"$f":"INDEX(设备类型!$B$2:$B$5001,MATCH(表格模板!C2490,设备类型!$A$2:$A$5001,0),COLUMN(A2490))","v":{"$error":"#N/A"}}]
[null,{"$f":"INDEX(建筑!$B$2:$B$5001,MATCH(表格模板!A2491,建筑!$A$2:$A$5001,0),COLUMN(A2491))","v":{"$error":"#N/A"}},null,{"$f":"INDEX(设备类型!$B$2:$B$5001,MATCH(表格模板!C2491,设备类型!$A$2:$A$5001,0),COLUMN(A2491))","v":{"$error":"#N/A"}}]
[null,{"$f":"INDEX(建筑!$B$2:$B$5001,MATCH(表格模板!A2492,建筑!$A$2:$A$5001,0),COLUMN(A2492))","v":{"$error":"#N/A"}},null,{"$f":"INDEX(设备类型!$B$2:$B$5001,MATCH(表格模板!C2492,设备类型!$A$2:$A$5001,0),COLUMN(A2492))","v":{"$error":"#N/A"}}]
[null,{"$f":"INDEX(建筑!$B$2:$B$5001,MATCH(表格模板!A2493,建筑!$A$2:$A$5001,0),COLUMN(A2493))","v":{"$error":"#N/A"}},null,{"$f":"INDEX(设备类型!$B$2:$B$5001,MATCH(表格模板!C2493,设备类型!$A$2:$A$5001,0),COLUMN(A2493))","v":{"$error":"#N/A"}}]
[null,{"$f":"INDEX(建筑!$B$2:$B$5001,MATCH(表格模板!A2494,建筑!$A$2:$A$5001,0),COLUMN(A2494))","v":{"$error":"#N/A"}},null,{"$f":"INDEX(设备类型!$B$2:$B$5001,MATCH(表格模板!C2494,设备类型!$A$2:$A$5001,0),COLUMN(A2494))","v":{"$error":"#N/A"}}]
[null,{"$f":"INDEX(建筑!$B$2:$B$5001,MATCH(表格模板!A2495,建筑!$A$2:$A$5001,0),COLUMN(A2495))","v":{"$error":"#N/A"}},null,{"$f":"INDEX(设备类型!$B$2:$B$5001,MATCH(表格模板!C2495,设备类型!$A$2:$A$5001,0),COLUMN(A2495))","v":{"$error":"#N/A"}}]
[null,{"$f":"INDEX(建筑!$B$2:$B$5001,MATCH(表格模板!A2496,建筑!$A$2:$A$5001,0),COLUMN(A2496))","v":{"$error":"#N/A"}},null,{"$f":"INDEX(设备类型!$B$2:$B$5001,MATCH(表格模板!C2496,设备类型!$A$2:$A$5001,0),COLUMN(A2496))","v":{"$error":"#N/A"}}]
[null,{"$f":"INDEX(建筑!$B$2:$B$5001,MATCH(表格模板!A2497,建筑!$A$2:$A$5001,0),COLUMN(A2497))","v":{"$error":"#N/A"}},null,{"$f":"INDEX(设备类型!$B$2:$B$5001,MATCH(表格模板!C2497,设备类型!$A$2:$A$5001,0),COLUMN(A2497))","v":{"$error":"#N/A"}}]
[null,{"$f":"INDEX(建筑!$B$2:$B$5001,MATCH(表格模板!A2498,建筑!$A$2:$A$5001,0),COLUMN(A2498))","v":{"$error":"#N/A"}},null,{"$f":"INDEX(设备类型!$B$2:$B$5001,MATCH(表格模板!C2498,设备类型!$A$2:$A$5001,0),COLUMN(A2498))","v":{"$error":"#N/A"}}]
[null,{"$f":"INDEX(建筑!$B$2:$B$5001,MATCH(表格模板!A2499,建筑!$A$2:$A$5001,0),COLUMN(A2499))","v":{"$error":"#N/A"}},null,{"$f":"INDEX(设备类型!$B$2:$B$5001,MATCH(表格模板!C2499,设备类型!$A$2:$A$5001,0),COLUMN(A2499))","v":{"$error":"#N/A"}}]
[null,{"$f":"INDEX(建筑!$B$2:$B$5001,MATCH(表格模板!A2500,建筑!$A$2:$A$5001,0),COLUMN(A2500))","v":{"$error":"#N/A"}},null,{"$f":"INDEX(设备类型!$B$2:$B$5001,MATCH(表格模板!C2500,设备类型!$A$2:$A$5001,0),COLUMN(A2500))","v":{"$error":"#N/A"}}]
[null,{"$f":"INDEX(建筑!$B$2:$B$5001,MATCH(表格模板!A2501,建筑!$A$2:$A$5001,0),COLUMN(A2501))","v":{"$error":"#N/A"}},null,{"$f":"INDEX(设备类型!$B$2:$B$5001,MATCH(表格模板!C2501,设备类型!$A$2:$A$5001,0),COLUMN(A2501))","v":{"$error":"#N/A"}}]
[null,{"$f":"INDEX(建筑!$B$2:$B$5001,MATCH(表格模板!A2502,建筑!$A$2:$A$5001,0),COLUMN(A2502))","v":{"$error":"#N/A"}},null,{"$f":"INDEX(设备类型!$B$2:$B$5001,MATCH(表格模板!C2502,设备类型!$A$2:$A$5001,0),COLUMN(A2502))","v":{"$error":"#N/A"}}]
[null,{"$f":"INDEX(建筑!$B$2:$B$5001,MATCH(表格模板!A2503,建筑!$A$2:$A$5001,0),COLUMN(A2503))","v":{"$error":"#N/A"}},null,{"$f":"INDEX(设备类型!$B$2:$B$5001,MATCH(表格模板!C2503,设备类型!$A$2:$A$5001,0),COLUMN(A2503))","v":{"$error":"#N/A"}}]
[null,{"$f":"INDEX(建筑!$B$2:$B$5001,MATCH(表格模板!A2504,建筑!$A$2:$A$5001,0),COLUMN(A2504))","v":{"$error":"#N/A"}},null,{"$f":"INDEX(设备类型!$B$2:$B$5001,MATCH(表格模板!C2504,设备类型!$A$2:$A$5001,0),COLUMN(A2504))","v":{"$error":"#N/A"}}]
[null,{"$f":"INDEX(建筑!$B$2:$B$5001,MATCH(表格模板!A2505,建筑!$A$2:$A$5001,0),COLUMN(A2505))","v":{"$error":"#N/A"}},null,{"$f":"INDEX(设备类型!$B$2:$B$5001,MATCH(表格模板!C2505,设备类型!$A$2:$A$5001,0),COLUMN(A2505))","v":{"$error":"#N/A"}}]
[null,{"$f":"INDEX(建筑!$B$2:$B$5001,MATCH(表格模板!A2506,建筑!$A$2:$A$5001,0),COLUMN(A2506))","v":{"$error":"#N/A"}},null,{"$f":"INDEX(设备类型!$B$2:$B$5001,MATCH(表格模板!C2506,设备类型!$A$2:$A$5001,0),COLUMN(A2506))","v":{"$error":"#N/A"}}]
[null,{"$f":"INDEX(建筑!$B$2:$B$5001,MATCH(表格模板!A2507,建筑!$A$2:$A$5001,0),COLUMN(A2507))","v":{"$error":"#N/A"}},null,{"$f":"INDEX(设备类型!$B$2:$B$5001,MATCH(表格模板!C2507,设备类型!$A$2:$A$5001,0),COLUMN(A2507))","v":{"$error":"#N/A"}}]
[null,{"$f":"INDEX(建筑!$B$2:$B$5001,MATCH(表格模板!A2508,建筑!$A$2:$A$5001,0),COLUMN(A2508))","v":{"$error":"#N/A"}},null,{"$f":"INDEX(设备类型!$B$2:$B$5001,MATCH(表格模板!C2508,设备类型!$A$2:$A$5001,0),COLUMN(A2508))","v":{"$error":"#N/A"}}]
[null,{"$f":"INDEX(建筑!$B$2:$B$5001,MATCH(表格模板!A2509,建筑!$A$2:$A$5001,0),COLUMN(A2509))","v":{"$error":"#N/A"}},null,{"$f":"INDEX(设备类型!$B$2:$B$5001,MATCH(表格模板!C2509,设备类型!$A$2:$A$5001,0),COLUMN(A2509))","v":{"$error":"#N/A"}}]
[null,{"$f":"INDEX(建筑!$B$2:$B$5001,MATCH(表格模板!A2510,建筑!$A$2:$A$5001,0),COLUMN(A2510))","v":{"$error":"#N/A"}},null,{"$f":"INDEX(设备类型!$B$2:$B$5001,MATCH(表格模板!C2510,设备类型!$A$2:$A$5001,0),COLUMN(A2510))","v":{"$error":"#N/A"}}]
[null,{"$f":"INDEX(建筑!$B$2:$B$5001,MATCH(表格模板!A2511,建筑!$A$2:$A$5001,0),COLUMN(A2511))","v":{"$error":"#N/A"}},null,{"$f":"INDEX(设备类型!$B$2:$B$5001,MATCH(表格模板!C2511,设备类型!$A$2:$A$5001,0),COLUMN(A2511))","v":{"$error":"#N/A"}}]
[null,{"$f":"INDEX(建筑!$B$2:$B$5001,MATCH(表格模板!A2512,建筑!$A$2:$A$5001,0),COLUMN(A2512))","v":{"$error":"#N/A"}},null,{"$f":"INDEX(设备类型!$B$2:$B$5001,MATCH(表格模板!C2512,设备类型!$A$2:$A$5001,0),COLUMN(A2512))","v":{"$error":"#N/A"}}]
[null,{"$f":"INDEX(建筑!$B$2:$B$5001,MATCH(表格模板!A2513,建筑!$A$2:$A$5001,0),COLUMN(A2513))","v":{"$error":"#N/A"}},null,{"$f":"INDEX(设备类型!$B$2:$B$5001,MATCH(表格模板!C2513,设备类型!$A$2:$A$5001,0),COLUMN(A2513))","v":{"$error":"#N/A"}}]
[null,{"$f":"INDEX(建筑!$B$2:$B$5001,MATCH(表格模板!A2514,建筑!$A$2:$A$5001,0),COLUMN(A2514))","v":{"$error":"#N/A"}},null,{"$f":"INDEX(设备类型!$B$2:$B$5001,MATCH(表格模板!C2514,设备类型!$A$2:$A$5001,0),COLUMN(A2514))","v":{"$error":"#N/A"}}]
[null,{"$f":"INDEX(建筑!$B$2:$B$5001,MATCH(表格模板!A2515,建筑!$A$2:$A$5001,0),COLUMN(A2515))","v":{"$error":"#N/A"}},null,{"$f":"INDEX(设备类型!$B$2:$B$5001,MATCH(表格模板!C2515,设备类型!$A$2:$A$5001,0),COLUMN(A2515))","v":{"$error":"#N/A"}}]
[null,{"$f":"INDEX(建筑!$B$2:$B$5001,MATCH(表格模板!A2516,建筑!$A$2:$A$5001,0),COLUMN(A2516))","v":{"$error":"#N/A"}},null,{"$f":"INDEX(设备类型!$B$2:$B$5001,MATCH(表格模板!C2516,设备类型!$A$2:$A$5001,0),COLUMN(A2516))","v":{"$error":"#N/A"}}]
[null,{"$f":"INDEX(建筑!$B$2:$B$5001,MATCH(表格模板!A2517,建筑!$A$2:$A$5001,0),COLUMN(A2517))","v":{"$error":"#N/A"}},null,{"$f":"INDEX(设备类型!$B$2:$B$5001,MATCH(表格模板!C2517,设备类型!$A$2:$A$5001,0),COLUMN(A2517))","v":{"$error":"#N/A"}}]
[null,{"$f":"INDEX(建筑!$B$2:$B$5001,MATCH(表格模板!A2518,建筑!$A$2:$A$5001,0),COLUMN(A2518))","v":{"$error":"#N/A"}},null,{"$f":"INDEX(设备类型!$B$2:$B$5001,MATCH(表格模板!C2518,设备类型!$A$2:$A$5001,0),COLUMN(A2518))","v":{"$error":"#N/A"}}]
[null,{"$f":"INDEX(建筑!$B$2:$B$5001,MATCH(表格模板!A2519,建筑!$A$2:$A$5001,0),COLUMN(A2519))","v":{"$error":"#N/A"}},null,{"$f":"INDEX(设备类型!$B$2:$B$5001,MATCH(表格模板!C2519,设备类型!$A$2:$A$5001,0),COLUMN(A2519))","v":{"$error":"#N/A"}}]
[null,{"$f":"INDEX(建筑!$B$2:$B$5001,MATCH(表格模板!A2520,建筑!$A$2:$A$5001,0),COLUMN(A2520))","v":{"$error":"#N/A"}},null,{"$f":"INDEX(设备类型!$B$2:$B$5001,MATCH(表格模板!C2520,设备类型!$A$2:$A$5001,0),COLUMN(A2520))","v":{"$error":"#N/A"}}]
[null,{"$f":"INDEX(建筑!$B$2:$B$5001,MATCH(表格模板!A2521,建筑!$A$2:$A$5001,0),COLUMN(A2521))","v":{"$error":"#N/A"}},null,{"$f":"INDEX(设备类型!$B$2:$B$5001,MATCH(表格模板!C2521,设备类型!$A$2:$A$5001,0),COLUMN(A2521))","v":{"$error":"#N/A"}}]
[null,{"$f":"INDEX(建筑!$B$2:$B$5001,MATCH(表格模板!A2522,建筑!$A$2:$A$5001,0),COLUMN(A2522))","v":{"$error":"#N/A"}},null,{"$f":"INDEX(设备类型!$B$2:$B$5001,MATCH(表格模板!C2522,设备类型!$A$2:$A$5001,0),COLUMN(A2522))","v":{"$error":"#N/A"}}]
[null,{"$f":"INDEX(建筑!$B$2:$B$5001,MATCH(表格模板!A2523,建筑!$A$2:$A$5001,0),COLUMN(A2523))","v":{"$error":"#N/A"}},null,{"$f":"INDEX(设备类型!$B$2:$B$5001,MATCH(表格模板!C2523,设备类型!$A$2:$A$5001,0),COLUMN(A2523))","v":{"$error":"#N/A"}}]
[null,{"$f":"INDEX(建筑!$B$2:$B$5001,MATCH(表格模板!A2524,建筑!$A$2:$A$5001,0),COLUMN(A2524))","v":{"$error":"#N/A"}},null,{"$f":"INDEX(设备类型!$B$2:$B$5001,MATCH(表格模板!C2524,设备类型!$A$2:$A$5001,0),COLUMN(A2524))","v":{"$error":"#N/A"}}]
[null,{"$f":"INDEX(建筑!$B$2:$B$5001,MATCH(表格模板!A2525,建筑!$A$2:$A$5001,0),COLUMN(A2525))","v":{"$error":"#N/A"}},null,{"$f":"INDEX(设备类型!$B$2:$B$5001,MATCH(表格模板!C2525,设备类型!$A$2:$A$5001,0),COLUMN(A2525))","v":{"$error":"#N/A"}}]
[null,{"$f":"INDEX(建筑!$B$2:$B$5001,MATCH(表格模板!A2526,建筑!$A$2:$A$5001,0),COLUMN(A2526))","v":{"$error":"#N/A"}},null,{"$f":"INDEX(设备类型!$B$2:$B$5001,MATCH(表格模板!C2526,设备类型!$A$2:$A$5001,0),COLUMN(A2526))","v":{"$error":"#N/A"}}]
[null,{"$f":"INDEX(建筑!$B$2:$B$5001,MATCH(表格模板!A2527,建筑!$A$2:$A$5001,0),COLUMN(A2527))","v":{"$error":"#N/A"}},null,{"$f":"INDEX(设备类型!$B$2:$B$5001,MATCH(表格模板!C2527,设备类型!$A$2:$A$5001,0),COLUMN(A2527))","v":{"$error":"#N/A"}}]
[null,{"$f":"INDEX(建筑!$B$2:$B$5001,MATCH(表格模板!A2528,建筑!$A$2:$A$5001,0),COLUMN(A2528))","v":{"$error":"#N/A"}},null,{"$f":"INDEX(设备类型!$B$2:$B$5001,MATCH(表格模板!C2528,设备类型!$A$2:$A$5001,0),COLUMN(A2528))","v":{"$error":"#N/A"}}]
[null,{"$f":"INDEX(建筑!$B$2:$B$5001,MATCH(表格模板!A2529,建筑!$A$2:$A$5001,0),COLUMN(A2529))","v":{"$error":"#N/A"}},null,{"$f":"INDEX(设备类型!$B$2:$B$5001,MATCH(表格模板!C2529,设备类型!$A$2:$A$5001,0),COLUMN(A2529))","v":{"$error":"#N/A"}}]
[null,{"$f":"INDEX(建筑!$B$2:$B$5001,MATCH(表格模板!A2530,建筑!$A$2:$A$5001,0),COLUMN(A2530))","v":{"$error":"#N/A"}},null,{"$f":"INDEX(设备类型!$B$2:$B$5001,MATCH(表格模板!C2530,设备类型!$A$2:$A$5001,0),COLUMN(A2530))","v":{"$error":"#N/A"}}]
[null,{"$f":"INDEX(建筑!$B$2:$B$5001,MATCH(表格模板!A2531,建筑!$A$2:$A$5001,0),COLUMN(A2531))","v":{"$error":"#N/A"}},null,{"$f":"INDEX(设备类型!$B$2:$B$5001,MATCH(表格模板!C2531,设备类型!$A$2:$A$5001,0),COLUMN(A2531))","v":{"$error":"#N/A"}}]
[null,{"$f":"INDEX(建筑!$B$2:$B$5001,MATCH(表格模板!A2532,建筑!$A$2:$A$5001,0),COLUMN(A2532))","v":{"$error":"#N/A"}},null,{"$f":"INDEX(设备类型!$B$2:$B$5001,MATCH(表格模板!C2532,设备类型!$A$2:$A$5001,0),COLUMN(A2532))","v":{"$error":"#N/A"}}]
[null,{"$f":"INDEX(建筑!$B$2:$B$5001,MATCH(表格模板!A2533,建筑!$A$2:$A$5001,0),COLUMN(A2533))","v":{"$error":"#N/A"}},null,{"$f":"INDEX(设备类型!$B$2:$B$5001,MATCH(表格模板!C2533,设备类型!$A$2:$A$5001,0),COLUMN(A2533))","v":{"$error":"#N/A"}}]
[null,{"$f":"INDEX(建筑!$B$2:$B$5001,MATCH(表格模板!A2534,建筑!$A$2:$A$5001,0),COLUMN(A2534))","v":{"$error":"#N/A"}},null,{"$f":"INDEX(设备类型!$B$2:$B$5001,MATCH(表格模板!C2534,设备类型!$A$2:$A$5001,0),COLUMN(A2534))","v":{"$error":"#N/A"}}]
[null,{"$f":"INDEX(建筑!$B$2:$B$5001,MATCH(表格模板!A2535,建筑!$A$2:$A$5001,0),COLUMN(A2535))","v":{"$error":"#N/A"}},null,{"$f":"INDEX(设备类型!$B$2:$B$5001,MATCH(表格模板!C2535,设备类型!$A$2:$A$5001,0),COLUMN(A2535))","v":{"$error":"#N/A"}}]
[null,{"$f":"INDEX(建筑!$B$2:$B$5001,MATCH(表格模板!A2536,建筑!$A$2:$A$5001,0),COLUMN(A2536))","v":{"$error":"#N/A"}},null,{"$f":"INDEX(设备类型!$B$2:$B$5001,MATCH(表格模板!C2536,设备类型!$A$2:$A$5001,0),COLUMN(A2536))","v":{"$error":"#N/A"}}]
[null,{"$f":"INDEX(建筑!$B$2:$B$5001,MATCH(表格模板!A2537,建筑!$A$2:$A$5001,0),COLUMN(A2537))","v":{"$error":"#N/A"}},null,{"$f":"INDEX(设备类型!$B$2:$B$5001,MATCH(表格模板!C2537,设备类型!$A$2:$A$5001,0),COLUMN(A2537))","v":{"$error":"#N/A"}}]
[null,{"$f":"INDEX(建筑!$B$2:$B$5001,MATCH(表格模板!A2538,建筑!$A$2:$A$5001,0),COLUMN(A2538))","v":{"$error":"#N/A"}},null,{"$f":"INDEX(设备类型!$B$2:$B$5001,MATCH(表格模板!C2538,设备类型!$A$2:$A$5001,0),COLUMN(A2538))","v":{"$error":"#N/A"}}]
[null,{"$f":"INDEX(建筑!$B$2:$B$5001,MATCH(表格模板!A2539,建筑!$A$2:$A$5001,0),COLUMN(A2539))","v":{"$error":"#N/A"}},null,{"$f":"INDEX(设备类型!$B$2:$B$5001,MATCH(表格模板!C2539,设备类型!$A$2:$A$5001,0),COLUMN(A2539))","v":{"$error":"#N/A"}}]
[null,{"$f":"INDEX(建筑!$B$2:$B$5001,MATCH(表格模板!A2540,建筑!$A$2:$A$5001,0),COLUMN(A2540))","v":{"$error":"#N/A"}},null,{"$f":"INDEX(设备类型!$B$2:$B$5001,MATCH(表格模板!C2540,设备类型!$A$2:$A$5001,0),COLUMN(A2540))","v":{"$error":"#N/A"}}]
[null,{"$f":"INDEX(建筑!$B$2:$B$5001,MATCH(表格模板!A2541,建筑!$A$2:$A$5001,0),COLUMN(A2541))","v":{"$error":"#N/A"}},null,{"$f":"INDEX(设备类型!$B$2:$B$5001,MATCH(表格模板!C2541,设备类型!$A$2:$A$5001,0),COLUMN(A2541))","v":{"$error":"#N/A"}}]
[null,{"$f":"INDEX(建筑!$B$2:$B$5001,MATCH(表格模板!A2542,建筑!$A$2:$A$5001,0),COLUMN(A2542))","v":{"$error":"#N/A"}},null,{"$f":"INDEX(设备类型!$B$2:$B$5001,MATCH(表格模板!C2542,设备类型!$A$2:$A$5001,0),COLUMN(A2542))","v":{"$error":"#N/A"}}]
[null,{"$f":"INDEX(建筑!$B$2:$B$5001,MATCH(表格模板!A2543,建筑!$A$2:$A$5001,0),COLUMN(A2543))","v":{"$error":"#N/A"}},null,{"$f":"INDEX(设备类型!$B$2:$B$5001,MATCH(表格模板!C2543,设备类型!$A$2:$A$5001,0),COLUMN(A2543))","v":{"$error":"#N/A"}}]
[null,{"$f":"INDEX(建筑!$B$2:$B$5001,MATCH(表格模板!A2544,建筑!$A$2:$A$5001,0),COLUMN(A2544))","v":{"$error":"#N/A"}},null,{"$f":"INDEX(设备类型!$B$2:$B$5001,MATCH(表格模板!C2544,设备类型!$A$2:$A$5001,0),COLUMN(A2544))","v":{"$error":"#N/A"}}]
[null,{"$f":"INDEX(建筑!$B$2:$B$5001,MATCH(表格模板!A2545,建筑!$A$2:$A$5001,0),COLUMN(A2545))","v":{"$error":"#N/A"}},null,{"$f":"INDEX(设备类型!$B$2:$B$5001,MATCH(表格模板!C2545,设备类型!$A$2:$A$5001,0),COLUMN(A2545))","v":{"$error":"#N/A"}}]
[null,{"$f":"INDEX(建筑!$B$2:$B$5001,MATCH(表格模板!A2546,建筑!$A$2:$A$5001,0),COLUMN(A2546))","v":{"$error":"#N/A"}},null,{"$f":"INDEX(设备类型!$B$2:$B$5001,MATCH(表格模板!C2546,设备类型!$A$2:$A$5001,0),COLUMN(A2546))","v":{"$error":"#N/A"}}]
[null,{"$f":"INDEX(建筑!$B$2:$B$5001,MATCH(表格模板!A2547,建筑!$A$2:$A$5001,0),COLUMN(A2547))","v":{"$error":"#N/A"}},null,{"$f":"INDEX(设备类型!$B$2:$B$5001,MATCH(表格模板!C2547,设备类型!$A$2:$A$5001,0),COLUMN(A2547))","v":{"$error":"#N/A"}}]
[null,{"$f":"INDEX(建筑!$B$2:$B$5001,MATCH(表格模板!A2548,建筑!$A$2:$A$5001,0),COLUMN(A2548))","v":{"$error":"#N/A"}},null,{"$f":"INDEX(设备类型!$B$2:$B$5001,MATCH(表格模板!C2548,设备类型!$A$2:$A$5001,0),COLUMN(A2548))","v":{"$error":"#N/A"}}]
[null,{"$f":"INDEX(建筑!$B$2:$B$5001,MATCH(表格模板!A2549,建筑!$A$2:$A$5001,0),COLUMN(A2549))","v":{"$error":"#N/A"}},null,{"$f":"INDEX(设备类型!$B$2:$B$5001,MATCH(表格模板!C2549,设备类型!$A$2:$A$5001,0),COLUMN(A2549))","v":{"$error":"#N/A"}}]
[null,{"$f":"INDEX(建筑!$B$2:$B$5001,MATCH(表格模板!A2550,建筑!$A$2:$A$5001,0),COLUMN(A2550))","v":{"$error":"#N/A"}},null,{"$f":"INDEX(设备类型!$B$2:$B$5001,MATCH(表格模板!C2550,设备类型!$A$2:$A$5001,0),COLUMN(A2550))","v":{"$error":"#N/A"}}]
[null,{"$f":"INDEX(建筑!$B$2:$B$5001,MATCH(表格模板!A2551,建筑!$A$2:$A$5001,0),COLUMN(A2551))","v":{"$error":"#N/A"}},null,{"$f":"INDEX(设备类型!$B$2:$B$5001,MATCH(表格模板!C2551,设备类型!$A$2:$A$5001,0),COLUMN(A2551))","v":{"$error":"#N/A"}}]
[null,{"$f":"INDEX(建筑!$B$2:$B$5001,MATCH(表格模板!A2552,建筑!$A$2:$A$5001,0),COLUMN(A2552))","v":{"$error":"#N/A"}},null,{"$f":"INDEX(设备类型!$B$2:$B$5001,MATCH(表格模板!C2552,设备类型!$A$2:$A$5001,0),COLUMN(A2552))","v":{"$error":"#N/A"}}]
[null,{"$f":"INDEX(建筑!$B$2:$B$5001,MATCH(表格模板!A2553,建筑!$A$2:$A$5001,0),COLUMN(A2553))","v":{"$error":"#N/A"}},null,{"$f":"INDEX(设备类型!$B$2:$B$5001,MATCH(表格模板!C2553,设备类型!$A$2:$A$5001,0),COLUMN(A2553))","v":{"$error":"#N/A"}}]
[null,{"$f":"INDEX(建筑!$B$2:$B$5001,MATCH(表格模板!A2554,建筑!$A$2:$A$5001,0),COLUMN(A2554))","v":{"$error":"#N/A"}},null,{"$f":"INDEX(设备类型!$B$2:$B$5001,MATCH(表格模板!C2554,设备类型!$A$2:$A$5001,0),COLUMN(A2554))","v":{"$error":"#N/A"}}]
[null,{"$f":"INDEX(建筑!$B$2:$B$5001,MATCH(表格模板!A2555,建筑!$A$2:$A$5001,0),COLUMN(A2555))","v":{"$error":"#N/A"}},null,{"$f":"INDEX(设备类型!$B$2:$B$5001,MATCH(表格模板!C2555,设备类型!$A$2:$A$5001,0),COLUMN(A2555))","v":{"$error":"#N/A"}}]
[null,{"$f":"INDEX(建筑!$B$2:$B$5001,MATCH(表格模板!A2556,建筑!$A$2:$A$5001,0),COLUMN(A2556))","v":{"$error":"#N/A"}},null,{"$f":"INDEX(设备类型!$B$2:$B$5001,MATCH(表格模板!C2556,设备类型!$A$2:$A$5001,0),COLUMN(A2556))","v":{"$error":"#N/A"}}]
[null,{"$f":"INDEX(建筑!$B$2:$B$5001,MATCH(表格模板!A2557,建筑!$A$2:$A$5001,0),COLUMN(A2557))","v":{"$error":"#N/A"}},null,{"$f":"INDEX(设备类型!$B$2:$B$5001,MATCH(表格模板!C2557,设备类型!$A$2:$A$5001,0),COLUMN(A2557))","v":{"$error":"#N/A"}}]
[null,{"$f":"INDEX(建筑!$B$2:$B$5001,MATCH(表格模板!A2558,建筑!$A$2:$A$5001,0),COLUMN(A2558))","v":{"$error":"#N/A"}},null,{"$f":"INDEX(设备类型!$B$2:$B$5001,MATCH(表格模板!C2558,设备类型!$A$2:$A$5001,0),COLUMN(A2558))","v":{"$error":"#N/A"}}]
[null,{"$f":"INDEX(建筑!$B$2:$B$5001,MATCH(表格模板!A2559,建筑!$A$2:$A$5001,0),COLUMN(A2559))","v":{"$error":"#N/A"}},null,{"$f":"INDEX(设备类型!$B$2:$B$5001,MATCH(表格模板!C2559,设备类型!$A$2:$A$5001,0),COLUMN(A2559))","v":{"$error":"#N/A"}}]
[null,{"$f":"INDEX(建筑!$B$2:$B$5001,MATCH(表格模板!A2560,建筑!$A$2:$A$5001,0),COLUMN(A2560))","v":{"$error":"#N/A"}},null,{"$f":"INDEX(设备类型!$B$2:$B$5001,MATCH(表格模板!C2560,设备类型!$A$2:$A$5001,0),COLUMN(A2560))","v":{"$error":"#N/A"}}]
[null,{"$f":"INDEX(建筑!$B$2:$B$5001,MATCH(表格模板!A2561,建筑!$A$2:$A$5001,0),COLUMN(A2561))","v":{"$error":"#N/A"}},null,{"$f":"INDEX(设备类型!$B$2:$B$5001,MATCH(表格模板!C2561,设备类型!$A$2:$A$5001,0),COLUMN(A2561))","v":{"$error":"#N/A"}}]
[null,{"$f":"INDEX(建筑!$B$2:$B$5001,MATCH(表格模板!A2562,建筑!$A$2:$A$5001,0),COLUMN(A2562))","v":{"$error":"#N/A"}},null,{"$f":"INDEX(设备类型!$B$2:$B$5001,MATCH(表格模板!C2562,设备类型!$A$2:$A$5001,0),COLUMN(A2562))","v":{"$error":"#N/A"}}]
[null,{"$f":"INDEX(建筑!$B$2:$B$5001,MATCH(表格模板!A2563,建筑!$A$2:$A$5001,0),COLUMN(A2563))","v":{"$error":"#N/A"}},null,{"$f":"INDEX(设备类型!$B$2:$B$5001,MATCH(表格模板!C2563,设备类型!$A$2:$A$5001,0),COLUMN(A2563))","v":{"$error":"#N/A"}}]
[null,{"$f":"INDEX(建筑!$B$2:$B$5001,MATCH(表格模板!A2564,建筑!$A$2:$A$5001,0),COLUMN(A2564))","v":{"$error":"#N/A"}},null,{"$f":"INDEX(设备类型!$B$2:$B$5001,MATCH(表格模板!C2564,设备类型!$A$2:$A$5001,0),COLUMN(A2564))","v":{"$error":"#N/A"}}]
[null,{"$f":"INDEX(建筑!$B$2:$B$5001,MATCH(表格模板!A2565,建筑!$A$2:$A$5001,0),COLUMN(A2565))","v":{"$error":"#N/A"}},null,{"$f":"INDEX(设备类型!$B$2:$B$5001,MATCH(表格模板!C2565,设备类型!$A$2:$A$5001,0),COLUMN(A2565))","v":{"$error":"#N/A"}}]
[null,{"$f":"INDEX(建筑!$B$2:$B$5001,MATCH(表格模板!A2566,建筑!$A$2:$A$5001,0),COLUMN(A2566))","v":{"$error":"#N/A"}},null,{"$f":"INDEX(设备类型!$B$2:$B$5001,MATCH(表格模板!C2566,设备类型!$A$2:$A$5001,0),COLUMN(A2566))","v":{"$error":"#N/A"}}]
[null,{"$f":"INDEX(建筑!$B$2:$B$5001,MATCH(表格模板!A2567,建筑!$A$2:$A$5001,0),COLUMN(A2567))","v":{"$error":"#N/A"}},null,{"$f":"INDEX(设备类型!$B$2:$B$5001,MATCH(表格模板!C2567,设备类型!$A$2:$A$5001,0),COLUMN(A2567))","v":{"$error":"#N/A"}}]
[null,{"$f":"INDEX(建筑!$B$2:$B$5001,MATCH(表格模板!A2568,建筑!$A$2:$A$5001,0),COLUMN(A2568))","v":{"$error":"#N/A"}},null,{"$f":"INDEX(设备类型!$B$2:$B$5001,MATCH(表格模板!C2568,设备类型!$A$2:$A$5001,0),COLUMN(A2568))","v":{"$error":"#N/A"}}]
[null,{"$f":"INDEX(建筑!$B$2:$B$5001,MATCH(表格模板!A2569,建筑!$A$2:$A$5001,0),COLUMN(A2569))","v":{"$error":"#N/A"}},null,{"$f":"INDEX(设备类型!$B$2:$B$5001,MATCH(表格模板!C2569,设备类型!$A$2:$A$5001,0),COLUMN(A2569))","v":{"$error":"#N/A"}}]
[null,{"$f":"INDEX(建筑!$B$2:$B$5001,MATCH(表格模板!A2570,建筑!$A$2:$A$5001,0),COLUMN(A2570))","v":{"$error":"#N/A"}},null,{"$f":"INDEX(设备类型!$B$2:$B$5001,MATCH(表格模板!C2570,设备类型!$A$2:$A$5001,0),COLUMN(A2570))","v":{"$error":"#N/A"}}]
[null,{"$f":"INDEX(建筑!$B$2:$B$5001,MATCH(表格模板!A2571,建筑!$A$2:$A$5001,0),COLUMN(A2571))","v":{"$error":"#N/A"}},null,{"$f":"INDEX(设备类型!$B$2:$B$5001,MATCH(表格模板!C2571,设备类型!$A$2:$A$5001,0),COLUMN(A2571))","v":{"$error":"#N/A"}}]
[null,{"$f":"INDEX(建筑!$B$2:$B$5001,MATCH(表格模板!A2572,建筑!$A$2:$A$5001,0),COLUMN(A2572))","v":{"$error":"#N/A"}},null,{"$f":"INDEX(设备类型!$B$2:$B$5001,MATCH(表格模板!C2572,设备类型!$A$2:$A$5001,0),COLUMN(A2572))","v":{"$error":"#N/A"}}]
[null,{"$f":"INDEX(建筑!$B$2:$B$5001,MATCH(表格模板!A2573,建筑!$A$2:$A$5001,0),COLUMN(A2573))","v":{"$error":"#N/A"}},null,{"$f":"INDEX(设备类型!$B$2:$B$5001,MATCH(表格模板!C2573,设备类型!$A$2:$A$5001,0),COLUMN(A2573))","v":{"$error":"#N/A"}}]
[null,{"$f":"INDEX(建筑!$B$2:$B$5001,MATCH(表格模板!A2574,建筑!$A$2:$A$5001,0),COLUMN(A2574))","v":{"$error":"#N/A"}},null,{"$f":"INDEX(设备类型!$B$2:$B$5001,MATCH(表格模板!C2574,设备类型!$A$2:$A$5001,0),COLUMN(A2574))","v":{"$error":"#N/A"}}]
[null,{"$f":"INDEX(建筑!$B$2:$B$5001,MATCH(表格模板!A2575,建筑!$A$2:$A$5001,0),COLUMN(A2575))","v":{"$error":"#N/A"}},null,{"$f":"INDEX(设备类型!$B$2:$B$5001,MATCH(表格模板!C2575,设备类型!$A$2:$A$5001,0),COLUMN(A2575))","v":{"$error":"#N/A"}}]
[null,{"$f":"INDEX(建筑!$B$2:$B$5001,MATCH(表格模板!A2576,建筑!$A$2:$A$5001,0),COLUMN(A2576))","v":{"$error":"#N/A"}},null,{"$f":"INDEX(设备类型!$B$2:$B$5001,MATCH(表格模板!C2576,设备类型!$A$2:$A$5001,0),COLUMN(A2576))","v":{"$error":"#N/A"}}]
[null,{"$f":"INDEX(建筑!$B$2:$B$5001,MATCH(表格模板!A2577,建筑!$A$2:$A$5001,0),COLUMN(A2577))","v":{"$error":"#N/A"}},null,{"$f":"INDEX(设备类型!$B$2:$B$5001,MATCH(表格模板!C2577,设备类型!$A$2:$A$5001,0),COLUMN(A2577))","v":{"$error":"#N/A"}}]
[null,{"$f":"INDEX(建筑!$B$2:$B$5001,MATCH(表格模板!A2578,建筑!$A$2:$A$5001,0),COLUMN(A2578))","v":{"$error":"#N/A"}},null,{"$f":"INDEX(设备类型!$B$2:$B$5001,MATCH(表格模板!C2578,设备类型!$A$2:$A$5001,0),COLUMN(A2578))","v":{"$error":"#N/A"}}]
[null,{"$f":"INDEX(建筑!$B$2:$B$5001,MATCH(表格模板!A2579,建筑!$A$2:$A$5001,0),COLUMN(A2579))","v":{"$error":"#N/A"}},null,{"$f":"INDEX(设备类型!$B$2:$B$5001,MATCH(表格模板!C2579,设备类型!$A$2:$A$5001,0),COLUMN(A2579))","v":{"$error":"#N/A"}}]
[null,{"$f":"INDEX(建筑!$B$2:$B$5001,MATCH(表格模板!A2580,建筑!$A$2:$A$5001,0),COLUMN(A2580))","v":{"$error":"#N/A"}},null,{"$f":"INDEX(设备类型!$B$2:$B$5001,MATCH(表格模板!C2580,设备类型!$A$2:$A$5001,0),COLUMN(A2580))","v":{"$error":"#N/A"}}]
[null,{"$f":"INDEX(建筑!$B$2:$B$5001,MATCH(表格模板!A2581,建筑!$A$2:$A$5001,0),COLUMN(A2581))","v":{"$error":"#N/A"}},null,{"$f":"INDEX(设备类型!$B$2:$B$5001,MATCH(表格模板!C2581,设备类型!$A$2:$A$5001,0),COLUMN(A2581))","v":{"$error":"#N/A"}}]
[null,{"$f":"INDEX(建筑!$B$2:$B$5001,MATCH(表格模板!A2582,建筑!$A$2:$A$5001,0),COLUMN(A2582))","v":{"$error":"#N/A"}},null,{"$f":"INDEX(设备类型!$B$2:$B$5001,MATCH(表格模板!C2582,设备类型!$A$2:$A$5001,0),COLUMN(A2582))","v":{"$error":"#N/A"}}]
[null,{"$f":"INDEX(建筑!$B$2:$B$5001,MATCH(表格模板!A2583,建筑!$A$2:$A$5001,0),COLUMN(A2583))","v":{"$error":"#N/A"}},null,{"$f":"INDEX(设备类型!$B$2:$B$5001,MATCH(表格模板!C2583,设备类型!$A$2:$A$5001,0),COLUMN(A2583))","v":{"$error":"#N/A"}}]
[null,{"$f":"INDEX(建筑!$B$2:$B$5001,MATCH(表格模板!A2584,建筑!$A$2:$A$5001,0),COLUMN(A2584))","v":{"$error":"#N/A"}},null,{"$f":"INDEX(设备类型!$B$2:$B$5001,MATCH(表格模板!C2584,设备类型!$A$2:$A$5001,0),COLUMN(A2584))","v":{"$error":"#N/A"}}]
[null,{"$f":"INDEX(建筑!$B$2:$B$5001,MATCH(表格模板!A2585,建筑!$A$2:$A$5001,0),COLUMN(A2585))","v":{"$error":"#N/A"}},null,{"$f":"INDEX(设备类型!$B$2:$B$5001,MATCH(表格模板!C2585,设备类型!$A$2:$A$5001,0),COLUMN(A2585))","v":{"$error":"#N/A"}}]
[null,{"$f":"INDEX(建筑!$B$2:$B$5001,MATCH(表格模板!A2586,建筑!$A$2:$A$5001,0),COLUMN(A2586))","v":{"$error":"#N/A"}},null,{"$f":"INDEX(设备类型!$B$2:$B$5001,MATCH(表格模板!C2586,设备类型!$A$2:$A$5001,0),COLUMN(A2586))","v":{"$error":"#N/A"}}]
[null,{"$f":"INDEX(建筑!$B$2:$B$5001,MATCH(表格模板!A2587,建筑!$A$2:$A$5001,0),COLUMN(A2587))","v":{"$error":"#N/A"}},null,{"$f":"INDEX(设备类型!$B$2:$B$5001,MATCH(表格模板!C2587,设备类型!$A$2:$A$5001,0),COLUMN(A2587))","v":{"$error":"#N/A"}}]
[null,{"$f":"INDEX(建筑!$B$2:$B$5001,MATCH(表格模板!A2588,建筑!$A$2:$A$5001,0),COLUMN(A2588))","v":{"$error":"#N/A"}},null,{"$f":"INDEX(设备类型!$B$2:$B$5001,MATCH(表格模板!C2588,设备类型!$A$2:$A$5001,0),COLUMN(A2588))","v":{"$error":"#N/A"}}]
[null,{"$f":"INDEX(建筑!$B$2:$B$5001,MATCH(表格模板!A2589,建筑!$A$2:$A$5001,0),COLUMN(A2589))","v":{"$error":"#N/A"}},null,{"$f":"INDEX(设备类型!$B$2:$B$5001,MATCH(表格模板!C2589,设备类型!$A$2:$A$5001,0),COLUMN(A2589))","v":{"$error":"#N/A"}}]
[null,{"$f":"INDEX(建筑!$B$2:$B$5001,MATCH(表格模板!A2590,建筑!$A$2:$A$5001,0),COLUMN(A2590))","v":{"$error":"#N/A"}},null,{"$f":"INDEX(设备类型!$B$2:$B$5001,MATCH(表格模板!C2590,设备类型!$A$2:$A$5001,0),COLUMN(A2590))","v":{"$error":"#N/A"}}]
[null,{"$f":"INDEX(建筑!$B$2:$B$5001,MATCH(表格模板!A2591,建筑!$A$2:$A$5001,0),COLUMN(A2591))","v":{"$error":"#N/A"}},null,{"$f":"INDEX(设备类型!$B$2:$B$5001,MATCH(表格模板!C2591,设备类型!$A$2:$A$5001,0),COLUMN(A2591))","v":{"$error":"#N/A"}}]
[null,{"$f":"INDEX(建筑!$B$2:$B$5001,MATCH(表格模板!A2592,建筑!$A$2:$A$5001,0),COLUMN(A2592))","v":{"$error":"#N/A"}},null,{"$f":"INDEX(设备类型!$B$2:$B$5001,MATCH(表格模板!C2592,设备类型!$A$2:$A$5001,0),COLUMN(A2592))","v":{"$error":"#N/A"}}]
[null,{"$f":"INDEX(建筑!$B$2:$B$5001,MATCH(表格模板!A2593,建筑!$A$2:$A$5001,0),COLUMN(A2593))","v":{"$error":"#N/A"}},null,{"$f":"INDEX(设备类型!$B$2:$B$5001,MATCH(表格模板!C2593,设备类型!$A$2:$A$5001,0),COLUMN(A2593))","v":{"$error":"#N/A"}}]
[null,{"$f":"INDEX(建筑!$B$2:$B$5001,MATCH(表格模板!A2594,建筑!$A$2:$A$5001,0),COLUMN(A2594))","v":{"$error":"#N/A"}},null,{"$f":"INDEX(设备类型!$B$2:$B$5001,MATCH(表格模板!C2594,设备类型!$A$2:$A$5001,0),COLUMN(A2594))","v":{"$error":"#N/A"}}]
[null,{"$f":"INDEX(建筑!$B$2:$B$5001,MATCH(表格模板!A2595,建筑!$A$2:$A$5001,0),COLUMN(A2595))","v":{"$error":"#N/A"}},null,{"$f":"INDEX(设备类型!$B$2:$B$5001,MATCH(表格模板!C2595,设备类型!$A$2:$A$5001,0),COLUMN(A2595))","v":{"$error":"#N/A"}}]
[null,{"$f":"INDEX(建筑!$B$2:$B$5001,MATCH(表格模板!A2596,建筑!$A$2:$A$5001,0),COLUMN(A2596))","v":{"$error":"#N/A"}},null,{"$f":"INDEX(设备类型!$B$2:$B$5001,MATCH(表格模板!C2596,设备类型!$A$2:$A$5001,0),COLUMN(A2596))","v":{"$error":"#N/A"}}]
[null,{"$f":"INDEX(建筑!$B$2:$B$5001,MATCH(表格模板!A2597,建筑!$A$2:$A$5001,0),COLUMN(A2597))","v":{"$error":"#N/A"}},null,{"$f":"INDEX(设备类型!$B$2:$B$5001,MATCH(表格模板!C2597,设备类型!$A$2:$A$5001,0),COLUMN(A2597))","v":{"$error":"#N/A"}}]
[null,{"$f":"INDEX(建筑!$B$2:$B$5001,MATCH(表格模板!A2598,建筑!$A$2:$A$5001,0),COLUMN(A2598))","v":{"$error":"#N/A"}},null,{"$f":"INDEX(设备类型!$B$2:$B$5001,MATCH(表格模板!C2598,设备类型!$A$2:$A$5001,0),COLUMN(A2598))","v":{"$error":"#N/A"}}]
[null,{"$f":"INDEX(建筑!$B$2:$B$5001,MATCH(表格模板!A2599,建筑!$A$2:$A$5001,0),COLUMN(A2599))","v":{"$error":"#N/A"}},null,{"$f":"INDEX(设备类型!$B$2:$B$5001,MATCH(表格模板!C2599,设备类型!$A$2:$A$5001,0),COLUMN(A2599))","v":{"$error":"#N/A"}}]
[null,{"$f":"INDEX(建筑!$B$2:$B$5001,MATCH(表格模板!A2600,建筑!$A$2:$A$5001,0),COLUMN(A2600))","v":{"$error":"#N/A"}},null,{"$f":"INDEX(设备类型!$B$2:$B$5001,MATCH(表格模板!C2600,设备类型!$A$2:$A$5001,0),COLUMN(A2600))","v":{"$error":"#N/A"}}]
[null,{"$f":"INDEX(建筑!$B$2:$B$5001,MATCH(表格模板!A2601,建筑!$A$2:$A$5001,0),COLUMN(A2601))","v":{"$error":"#N/A"}},null,{"$f":"INDEX(设备类型!$B$2:$B$5001,MATCH(表格模板!C2601,设备类型!$A$2:$A$5001,0),COLUMN(A2601))","v":{"$error":"#N/A"}}]
[null,{"$f":"INDEX(建筑!$B$2:$B$5001,MATCH(表格模板!A2602,建筑!$A$2:$A$5001,0),COLUMN(A2602))","v":{"$error":"#N/A"}},null,{"$f":"INDEX(设备类型!$B$2:$B$5001,MATCH(表格模板!C2602,设备类型!$A$2:$A$5001,0),COLUMN(A2602))","v":{"$error":"#N/A"}}]
[null,{"$f":"INDEX(建筑!$B$2:$B$5001,MATCH(表格模板!A2603,建筑!$A$2:$A$5001,0),COLUMN(A2603))","v":{"$error":"#N/A"}},null,{"$f":"INDEX(设备类型!$B$2:$B$5001,MATCH(表格模板!C2603,设备类型!$A$2:$A$5001,0),COLUMN(A2603))","v":{"$error":"#N/A"}}]
[null,{"$f":"INDEX(建筑!$B$2:$B$5001,MATCH(表格模板!A2604,建筑!$A$2:$A$5001,0),COLUMN(A2604))","v":{"$error":"#N/A"}},null,{"$f":"INDEX(设备类型!$B$2:$B$5001,MATCH(表格模板!C2604,设备类型!$A$2:$A$5001,0),COLUMN(A2604))","v":{"$error":"#N/A"}}]
[null,{"$f":"INDEX(建筑!$B$2:$B$5001,MATCH(表格模板!A2605,建筑!$A$2:$A$5001,0),COLUMN(A2605))","v":{"$error":"#N/A"}},null,{"$f":"INDEX(设备类型!$B$2:$B$5001,MATCH(表格模板!C2605,设备类型!$A$2:$A$5001,0),COLUMN(A2605))","v":{"$error":"#N/A"}}]
[null,{"$f":"INDEX(建筑!$B$2:$B$5001,MATCH(表格模板!A2606,建筑!$A$2:$A$5001,0),COLUMN(A2606))","v":{"$error":"#N/A"}},null,{"$f":"INDEX(设备类型!$B$2:$B$5001,MATCH(表格模板!C2606,设备类型!$A$2:$A$5001,0),COLUMN(A2606))","v":{"$error":"#N/A"}}]
[null,{"$f":"INDEX(建筑!$B$2:$B$5001,MATCH(表格模板!A2607,建筑!$A$2:$A$5001,0),COLUMN(A2607))","v":{"$error":"#N/A"}},null,{"$f":"INDEX(设备类型!$B$2:$B$5001,MATCH(表格模板!C2607,设备类型!$A$2:$A$5001,0),COLUMN(A2607))","v":{"$error":"#N/A"}}]
[null,{"$f":"INDEX(建筑!$B$2:$B$5001,MATCH(表格模板!A2608,建筑!$A$2:$A$5001,0),COLUMN(A2608))","v":{"$error":"#N/A"}},null,{"$f":"INDEX(设备类型!$B$2:$B$5001,MATCH(表格模板!C2608,设备类型!$A$2:$A$5001,0),COLUMN(A2608))","v":{"$error":"#N/A"}}]
[null,{"$f":"INDEX(建筑!$B$2:$B$5001,MATCH(表格模板!A2609,建筑!$A$2:$A$5001,0),COLUMN(A2609))","v":{"$error":"#N/A"}},null,{"$f":"INDEX(设备类型!$B$2:$B$5001,MATCH(表格模板!C2609,设备类型!$A$2:$A$5001,0),COLUMN(A2609))","v":{"$error":"#N/A"}}]
[null,{"$f":"INDEX(建筑!$B$2:$B$5001,MATCH(表格模板!A2610,建筑!$A$2:$A$5001,0),COLUMN(A2610))","v":{"$error":"#N/A"}},null,{"$f":"INDEX(设备类型!$B$2:$B$5001,MATCH(表格模板!C2610,设备类型!$A$2:$A$5001,0),COLUMN(A2610))","v":{"$error":"#N/A"}}]
[null,{"$f":"INDEX(建筑!$B$2:$B$5001,MATCH(表格模板!A2611,建筑!$A$2:$A$5001,0),COLUMN(A2611))","v":{"$error":"#N/A"}},null,{"$f":"INDEX(设备类型!$B$2:$B$5001,MATCH(表格模板!C2611,设备类型!$A$2:$A$5001,0),COLUMN(A2611))","v":{"$error":"#N/A"}}]
[null,{"$f":"INDEX(建筑!$B$2:$B$5001,MATCH(表格模板!A2612,建筑!$A$2:$A$5001,0),COLUMN(A2612))","v":{"$error":"#N/A"}},null,{"$f":"INDEX(设备类型!$B$2:$B$5001,MATCH(表格模板!C2612,设备类型!$A$2:$A$5001,0),COLUMN(A2612))","v":{"$error":"#N/A"}}]
[null,{"$f":"INDEX(建筑!$B$2:$B$5001,MATCH(表格模板!A2613,建筑!$A$2:$A$5001,0),COLUMN(A2613))","v":{"$error":"#N/A"}},null,{"$f":"INDEX(设备类型!$B$2:$B$5001,MATCH(表格模板!C2613,设备类型!$A$2:$A$5001,0),COLUMN(A2613))","v":{"$error":"#N/A"}}]
[null,{"$f":"INDEX(建筑!$B$2:$B$5001,MATCH(表格模板!A2614,建筑!$A$2:$A$5001,0),COLUMN(A2614))","v":{"$error":"#N/A"}},null,{"$f":"INDEX(设备类型!$B$2:$B$5001,MATCH(表格模板!C2614,设备类型!$A$2:$A$5001,0),COLUMN(A2614))","v":{"$error":"#N/A"}}]
[null,{"$f":"INDEX(建筑!$B$2:$B$5001,MATCH(表格模板!A2615,建筑!$A$2:$A$5001,0),COLUMN(A2615))","v":{"$error":"#N/A"}},null,{"$f":"INDEX(设备类型!$B$2:$B$5001,MATCH(表格模板!C2615,设备类型!$A$2:$A$5001,0),COLUMN(A2615))","v":{"$error":"#N/A"}}]
[null,{"$f":"INDEX(建筑!$B$2:$B$5001,MATCH(表格模板!A2616,建筑!$A$2:$A$5001,0),COLUMN(A2616))","v":{"$error":"#N/A"}},null,{"$f":"INDEX(设备类型!$B$2:$B$5001,MATCH(表格模板!C2616,设备类型!$A$2:$A$5001,0),COLUMN(A2616))","v":{"$error":"#N/A"}}]
[null,{"$f":"INDEX(建筑!$B$2:$B$5001,MATCH(表格模板!A2617,建筑!$A$2:$A$5001,0),COLUMN(A2617))","v":{"$error":"#N/A"}},null,{"$f":"INDEX(设备类型!$B$2:$B$5001,MATCH(表格模板!C2617,设备类型!$A$2:$A$5001,0),COLUMN(A2617))","v":{"$error":"#N/A"}}]
[null,{"$f":"INDEX(建筑!$B$2:$B$5001,MATCH(表格模板!A2618,建筑!$A$2:$A$5001,0),COLUMN(A2618))","v":{"$error":"#N/A"}},null,{"$f":"INDEX(设备类型!$B$2:$B$5001,MATCH(表格模板!C2618,设备类型!$A$2:$A$5001,0),COLUMN(A2618))","v":{"$error":"#N/A"}}]
[null,{"$f":"INDEX(建筑!$B$2:$B$5001,MATCH(表格模板!A2619,建筑!$A$2:$A$5001,0),COLUMN(A2619))","v":{"$error":"#N/A"}},null,{"$f":"INDEX(设备类型!$B$2:$B$5001,MATCH(表格模板!C2619,设备类型!$A$2:$A$5001,0),COLUMN(A2619))","v":{"$error":"#N/A"}}]
[null,{"$f":"INDEX(建筑!$B$2:$B$5001,MATCH(表格模板!A2620,建筑!$A$2:$A$5001,0),COLUMN(A2620))","v":{"$error":"#N/A"}},null,{"$f":"INDEX(设备类型!$B$2:$B$5001,MATCH(表格模板!C2620,设备类型!$A$2:$A$5001,0),COLUMN(A2620))","v":{"$error":"#N/A"}}]
[null,{"$f":"INDEX(建筑!$B$2:$B$5001,MATCH(表格模板!A2621,建筑!$A$2:$A$5001,0),COLUMN(A2621))","v":{"$error":"#N/A"}},null,{"$f":"INDEX(设备类型!$B$2:$B$5001,MATCH(表格模板!C2621,设备类型!$A$2:$A$5001,0),COLUMN(A2621))","v":{"$error":"#N/A"}}]
[null,{"$f":"INDEX(建筑!$B$2:$B$5001,MATCH(表格模板!A2622,建筑!$A$2:$A$5001,0),COLUMN(A2622))","v":{"$error":"#N/A"}},null,{"$f":"INDEX(设备类型!$B$2:$B$5001,MATCH(表格模板!C2622,设备类型!$A$2:$A$5001,0),COLUMN(A2622))","v":{"$error":"#N/A"}}]
[null,{"$f":"INDEX(建筑!$B$2:$B$5001,MATCH(表格模板!A2623,建筑!$A$2:$A$5001,0),COLUMN(A2623))","v":{"$error":"#N/A"}},null,{"$f":"INDEX(设备类型!$B$2:$B$5001,MATCH(表格模板!C2623,设备类型!$A$2:$A$5001,0),COLUMN(A2623))","v":{"$error":"#N/A"}}]
[null,{"$f":"INDEX(建筑!$B$2:$B$5001,MATCH(表格模板!A2624,建筑!$A$2:$A$5001,0),COLUMN(A2624))","v":{"$error":"#N/A"}},null,{"$f":"INDEX(设备类型!$B$2:$B$5001,MATCH(表格模板!C2624,设备类型!$A$2:$A$5001,0),COLUMN(A2624))","v":{"$error":"#N/A"}}]
[null,{"$f":"INDEX(建筑!$B$2:$B$5001,MATCH(表格模板!A2625,建筑!$A$2:$A$5001,0),COLUMN(A2625))","v":{"$error":"#N/A"}},null,{"$f":"INDEX(设备类型!$B$2:$B$5001,MATCH(表格模板!C2625,设备类型!$A$2:$A$5001,0),COLUMN(A2625))","v":{"$error":"#N/A"}}]
[null,{"$f":"INDEX(建筑!$B$2:$B$5001,MATCH(表格模板!A2626,建筑!$A$2:$A$5001,0),COLUMN(A2626))","v":{"$error":"#N/A"}},null,{"$f":"INDEX(设备类型!$B$2:$B$5001,MATCH(表格模板!C2626,设备类型!$A$2:$A$5001,0),COLUMN(A2626))","v":{"$error":"#N/A"}}]
[null,{"$f":"INDEX(建筑!$B$2:$B$5001,MATCH(表格模板!A2627,建筑!$A$2:$A$5001,0),COLUMN(A2627))","v":{"$error":"#N/A"}},null,{"$f":"INDEX(设备类型!$B$2:$B$5001,MATCH(表格模板!C2627,设备类型!$A$2:$A$5001,0),COLUMN(A2627))","v":{"$error":"#N/A"}}]
[null,{"$f":"INDEX(建筑!$B$2:$B$5001,MATCH(表格模板!A2628,建筑!$A$2:$A$5001,0),COLUMN(A2628))","v":{"$error":"#N/A"}},null,{"$f":"INDEX(设备类型!$B$2:$B$5001,MATCH(表格模板!C2628,设备类型!$A$2:$A$5001,0),COLUMN(A2628))","v":{"$error":"#N/A"}}]
[null,{"$f":"INDEX(建筑!$B$2:$B$5001,MATCH(表格模板!A2629,建筑!$A$2:$A$5001,0),COLUMN(A2629))","v":{"$error":"#N/A"}},null,{"$f":"INDEX(设备类型!$B$2:$B$5001,MATCH(表格模板!C2629,设备类型!$A$2:$A$5001,0),COLUMN(A2629))","v":{"$error":"#N/A"}}]
[null,{"$f":"INDEX(建筑!$B$2:$B$5001,MATCH(表格模板!A2630,建筑!$A$2:$A$5001,0),COLUMN(A2630))","v":{"$error":"#N/A"}},null,{"$f":"INDEX(设备类型!$B$2:$B$5001,MATCH(表格模板!C2630,设备类型!$A$2:$A$5001,0),COLUMN(A2630))","v":{"$error":"#N/A"}}]
[null,{"$f":"INDEX(建筑!$B$2:$B$5001,MATCH(表格模板!A2631,建筑!$A$2:$A$5001,0),COLUMN(A2631))","v":{"$error":"#N/A"}},null,{"$f":"INDEX(设备类型!$B$2:$B$5001,MATCH(表格模板!C2631,设备类型!$A$2:$A$5001,0),COLUMN(A2631))","v":{"$error":"#N/A"}}]
[null,{"$f":"INDEX(建筑!$B$2:$B$5001,MATCH(表格模板!A2632,建筑!$A$2:$A$5001,0),COLUMN(A2632))","v":{"$error":"#N/A"}},null,{"$f":"INDEX(设备类型!$B$2:$B$5001,MATCH(表格模板!C2632,设备类型!$A$2:$A$5001,0),COLUMN(A2632))","v":{"$error":"#N/A"}}]
[null,{"$f":"INDEX(建筑!$B$2:$B$5001,MATCH(表格模板!A2633,建筑!$A$2:$A$5001,0),COLUMN(A2633))","v":{"$error":"#N/A"}},null,{"$f":"INDEX(设备类型!$B$2:$B$5001,MATCH(表格模板!C2633,设备类型!$A$2:$A$5001,0),COLUMN(A2633))","v":{"$error":"#N/A"}}]
[null,{"$f":"INDEX(建筑!$B$2:$B$5001,MATCH(表格模板!A2634,建筑!$A$2:$A$5001,0),COLUMN(A2634))","v":{"$error":"#N/A"}},null,{"$f":"INDEX(设备类型!$B$2:$B$5001,MATCH(表格模板!C2634,设备类型!$A$2:$A$5001,0),COLUMN(A2634))","v":{"$error":"#N/A"}}]
[null,{"$f":"INDEX(建筑!$B$2:$B$5001,MATCH(表格模板!A2635,建筑!$A$2:$A$5001,0),COLUMN(A2635))","v":{"$error":"#N/A"}},null,{"$f":"INDEX(设备类型!$B$2:$B$5001,MATCH(表格模板!C2635,设备类型!$A$2:$A$5001,0),COLUMN(A2635))","v":{"$error":"#N/A"}}]
[null,{"$f":"INDEX(建筑!$B$2:$B$5001,MATCH(表格模板!A2636,建筑!$A$2:$A$5001,0),COLUMN(A2636))","v":{"$error":"#N/A"}},null,{"$f":"INDEX(设备类型!$B$2:$B$5001,MATCH(表格模板!C2636,设备类型!$A$2:$A$5001,0),COLUMN(A2636))","v":{"$error":"#N/A"}}]
[null,{"$f":"INDEX(建筑!$B$2:$B$5001,MATCH(表格模板!A2637,建筑!$A$2:$A$5001,0),COLUMN(A2637))","v":{"$error":"#N/A"}},null,{"$f":"INDEX(设备类型!$B$2:$B$5001,MATCH(表格模板!C2637,设备类型!$A$2:$A$5001,0),COLUMN(A2637))","v":{"$error":"#N/A"}}]
[null,{"$f":"INDEX(建筑!$B$2:$B$5001,MATCH(表格模板!A2638,建筑!$A$2:$A$5001,0),COLUMN(A2638))","v":{"$error":"#N/A"}},null,{"$f":"INDEX(设备类型!$B$2:$B$5001,MATCH(表格模板!C2638,设备类型!$A$2:$A$5001,0),COLUMN(A2638))","v":{"$error":"#N/A"}}]
[null,{"$f":"INDEX(建筑!$B$2:$B$5001,MATCH(表格模板!A2639,建筑!$A$2:$A$5001,0),COLUMN(A2639))","v":{"$error":"#N/A"}},null,{"$f":"INDEX(设备类型!$B$2:$B$5001,MATCH(表格模板!C2639,设备类型!$A$2:$A$5001,0),COLUMN(A2639))","v":{"$error":"#N/A"}}]
[null,{"$f":"INDEX(建筑!$B$2:$B$5001,MATCH(表格模板!A2640,建筑!$A$2:$A$5001,0),COLUMN(A2640))","v":{"$error":"#N/A"}},null,{"$f":"INDEX(设备类型!$B$2:$B$5001,MATCH(表格模板!C2640,设备类型!$A$2:$A$5001,0),COLUMN(A2640))","v":{"$error":"#N/A"}}]
[null,{"$f":"INDEX(建筑!$B$2:$B$5001,MATCH(表格模板!A2641,建筑!$A$2:$A$5001,0),COLUMN(A2641))","v":{"$error":"#N/A"}},null,{"$f":"INDEX(设备类型!$B$2:$B$5001,MATCH(表格模板!C2641,设备类型!$A$2:$A$5001,0),COLUMN(A2641))","v":{"$error":"#N/A"}}]
[null,{"$f":"INDEX(建筑!$B$2:$B$5001,MATCH(表格模板!A2642,建筑!$A$2:$A$5001,0),COLUMN(A2642))","v":{"$error":"#N/A"}},null,{"$f":"INDEX(设备类型!$B$2:$B$5001,MATCH(表格模板!C2642,设备类型!$A$2:$A$5001,0),COLUMN(A2642))","v":{"$error":"#N/A"}}]
[null,{"$f":"INDEX(建筑!$B$2:$B$5001,MATCH(表格模板!A2643,建筑!$A$2:$A$5001,0),COLUMN(A2643))","v":{"$error":"#N/A"}},null,{"$f":"INDEX(设备类型!$B$2:$B$5001,MATCH(表格模板!C2643,设备类型!$A$2:$A$5001,0),COLUMN(A2643))","v":{"$error":"#N/A"}}]
[null,{"$f":"INDEX(建筑!$B$2:$B$5001,MATCH(表格模板!A2644,建筑!$A$2:$A$5001,0),COLUMN(A2644))","v":{"$error":"#N/A"}},null,{"$f":"INDEX(设备类型!$B$2:$B$5001,MATCH(表格模板!C2644,设备类型!$A$2:$A$5001,0),COLUMN(A2644))","v":{"$error":"#N/A"}}]
[null,{"$f":"INDEX(建筑!$B$2:$B$5001,MATCH(表格模板!A2645,建筑!$A$2:$A$5001,0),COLUMN(A2645))","v":{"$error":"#N/A"}},null,{"$f":"INDEX(设备类型!$B$2:$B$5001,MATCH(表格模板!C2645,设备类型!$A$2:$A$5001,0),COLUMN(A2645))","v":{"$error":"#N/A"}}]
[null,{"$f":"INDEX(建筑!$B$2:$B$5001,MATCH(表格模板!A2646,建筑!$A$2:$A$5001,0),COLUMN(A2646))","v":{"$error":"#N/A"}},null,{"$f":"INDEX(设备类型!$B$2:$B$5001,MATCH(表格模板!C2646,设备类型!$A$2:$A$5001,0),COLUMN(A2646))","v":{"$error":"#N/A"}}]
[null,{"$f":"INDEX(建筑!$B$2:$B$5001,MATCH(表格模板!A2647,建筑!$A$2:$A$5001,0),COLUMN(A2647))","v":{"$error":"#N/A"}},null,{"$f":"INDEX(设备类型!$B$2:$B$5001,MATCH(表格模板!C2647,设备类型!$A$2:$A$5001,0),COLUMN(A2647))","v":{"$error":"#N/A"}}]
[null,{"$f":"INDEX(建筑!$B$2:$B$5001,MATCH(表格模板!A2648,建筑!$A$2:$A$5001,0),COLUMN(A2648))","v":{"$error":"#N/A"}},null,{"$f":"INDEX(设备类型!$B$2:$B$5001,MATCH(表格模板!C2648,设备类型!$A$2:$A$5001,0),COLUMN(A2648))","v":{"$error":"#N/A"}}]
[null,{"$f":"INDEX(建筑!$B$2:$B$5001,MATCH(表格模板!A2649,建筑!$A$2:$A$5001,0),COLUMN(A2649))","v":{"$error":"#N/A"}},null,{"$f":"INDEX(设备类型!$B$2:$B$5001,MATCH(表格模板!C2649,设备类型!$A$2:$A$5001,0),COLUMN(A2649))","v":{"$error":"#N/A"}}]
[null,{"$f":"INDEX(建筑!$B$2:$B$5001,MATCH(表格模板!A2650,建筑!$A$2:$A$5001,0),COLUMN(A2650))","v":{"$error":"#N/A"}},null,{"$f":"INDEX(设备类型!$B$2:$B$5001,MATCH(表格模板!C2650,设备类型!$A$2:$A$5001,0),COLUMN(A2650))","v":{"$error":"#N/A"}}]
[null,{"$f":"INDEX(建筑!$B$2:$B$5001,MATCH(表格模板!A2651,建筑!$A$2:$A$5001,0),COLUMN(A2651))","v":{"$error":"#N/A"}},null,{"$f":"INDEX(设备类型!$B$2:$B$5001,MATCH(表格模板!C2651,设备类型!$A$2:$A$5001,0),COLUMN(A2651))","v":{"$error":"#N/A"}}]
[null,{"$f":"INDEX(建筑!$B$2:$B$5001,MATCH(表格模板!A2652,建筑!$A$2:$A$5001,0),COLUMN(A2652))","v":{"$error":"#N/A"}},null,{"$f":"INDEX(设备类型!$B$2:$B$5001,MATCH(表格模板!C2652,设备类型!$A$2:$A$5001,0),COLUMN(A2652))","v":{"$error":"#N/A"}}]
[null,{"$f":"INDEX(建筑!$B$2:$B$5001,MATCH(表格模板!A2653,建筑!$A$2:$A$5001,0),COLUMN(A2653))","v":{"$error":"#N/A"}},null,{"$f":"INDEX(设备类型!$B$2:$B$5001,MATCH(表格模板!C2653,设备类型!$A$2:$A$5001,0),COLUMN(A2653))","v":{"$error":"#N/A"}}]
[null,{"$f":"INDEX(建筑!$B$2:$B$5001,MATCH(表格模板!A2654,建筑!$A$2:$A$5001,0),COLUMN(A2654))","v":{"$error":"#N/A"}},null,{"$f":"INDEX(设备类型!$B$2:$B$5001,MATCH(表格模板!C2654,设备类型!$A$2:$A$5001,0),COLUMN(A2654))","v":{"$error":"#N/A"}}]
[null,{"$f":"INDEX(建筑!$B$2:$B$5001,MATCH(表格模板!A2655,建筑!$A$2:$A$5001,0),COLUMN(A2655))","v":{"$error":"#N/A"}},null,{"$f":"INDEX(设备类型!$B$2:$B$5001,MATCH(表格模板!C2655,设备类型!$A$2:$A$5001,0),COLUMN(A2655))","v":{"$error":"#N/A"}}]
[null,{"$f":"INDEX(建筑!$B$2:$B$5001,MATCH(表格模板!A2656,建筑!$A$2:$A$5001,0),COLUMN(A2656))","v":{"$error":"#N/A"}},null,{"$f":"INDEX(设备类型!$B$2:$B$5001,MATCH(表格模板!C2656,设备类型!$A$2:$A$5001,0),COLUMN(A2656))","v":{"$error":"#N/A"}}]
[null,{"$f":"INDEX(建筑!$B$2:$B$5001,MATCH(表格模板!A2657,建筑!$A$2:$A$5001,0),COLUMN(A2657))","v":{"$error":"#N/A"}},null,{"$f":"INDEX(设备类型!$B$2:$B$5001,MATCH(表格模板!C2657,设备类型!$A$2:$A$5001,0),COLUMN(A2657))","v":{"$error":"#N/A"}}]
[null,{"$f":"INDEX(建筑!$B$2:$B$5001,MATCH(表格模板!A2658,建筑!$A$2:$A$5001,0),COLUMN(A2658))","v":{"$error":"#N/A"}},null,{"$f":"INDEX(设备类型!$B$2:$B$5001,MATCH(表格模板!C2658,设备类型!$A$2:$A$5001,0),COLUMN(A2658))","v":{"$error":"#N/A"}}]
[null,{"$f":"INDEX(建筑!$B$2:$B$5001,MATCH(表格模板!A2659,建筑!$A$2:$A$5001,0),COLUMN(A2659))","v":{"$error":"#N/A"}},null,{"$f":"INDEX(设备类型!$B$2:$B$5001,MATCH(表格模板!C2659,设备类型!$A$2:$A$5001,0),COLUMN(A2659))","v":{"$error":"#N/A"}}]
[null,{"$f":"INDEX(建筑!$B$2:$B$5001,MATCH(表格模板!A2660,建筑!$A$2:$A$5001,0),COLUMN(A2660))","v":{"$error":"#N/A"}},null,{"$f":"INDEX(设备类型!$B$2:$B$5001,MATCH(表格模板!C2660,设备类型!$A$2:$A$5001,0),COLUMN(A2660))","v":{"$error":"#N/A"}}]
[null,{"$f":"INDEX(建筑!$B$2:$B$5001,MATCH(表格模板!A2661,建筑!$A$2:$A$5001,0),COLUMN(A2661))","v":{"$error":"#N/A"}},null,{"$f":"INDEX(设备类型!$B$2:$B$5001,MATCH(表格模板!C2661,设备类型!$A$2:$A$5001,0),COLUMN(A2661))","v":{"$error":"#N/A"}}]
[null,{"$f":"INDEX(建筑!$B$2:$B$5001,MATCH(表格模板!A2662,建筑!$A$2:$A$5001,0),COLUMN(A2662))","v":{"$error":"#N/A"}},null,{"$f":"INDEX(设备类型!$B$2:$B$5001,MATCH(表格模板!C2662,设备类型!$A$2:$A$5001,0),COLUMN(A2662))","v":{"$error":"#N/A"}}]
[null,{"$f":"INDEX(建筑!$B$2:$B$5001,MATCH(表格模板!A2663,建筑!$A$2:$A$5001,0),COLUMN(A2663))","v":{"$error":"#N/A"}},null,{"$f":"INDEX(设备类型!$B$2:$B$5001,MATCH(表格模板!C2663,设备类型!$A$2:$A$5001,0),COLUMN(A2663))","v":{"$error":"#N/A"}}]
[null,{"$f":"INDEX(建筑!$B$2:$B$5001,MATCH(表格模板!A2664,建筑!$A$2:$A$5001,0),COLUMN(A2664))","v":{"$error":"#N/A"}},null,{"$f":"INDEX(设备类型!$B$2:$B$5001,MATCH(表格模板!C2664,设备类型!$A$2:$A$5001,0),COLUMN(A2664))","v":{"$error":"#N/A"}}]
[null,{"$f":"INDEX(建筑!$B$2:$B$5001,MATCH(表格模板!A2665,建筑!$A$2:$A$5001,0),COLUMN(A2665))","v":{"$error":"#N/A"}},null,{"$f":"INDEX(设备类型!$B$2:$B$5001,MATCH(表格模板!C2665,设备类型!$A$2:$A$5001,0),COLUMN(A2665))","v":{"$error":"#N/A"}}]
[null,{"$f":"INDEX(建筑!$B$2:$B$5001,MATCH(表格模板!A2666,建筑!$A$2:$A$5001,0),COLUMN(A2666))","v":{"$error":"#N/A"}},null,{"$f":"INDEX(设备类型!$B$2:$B$5001,MATCH(表格模板!C2666,设备类型!$A$2:$A$5001,0),COLUMN(A2666))","v":{"$error":"#N/A"}}]
[null,{"$f":"INDEX(建筑!$B$2:$B$5001,MATCH(表格模板!A2667,建筑!$A$2:$A$5001,0),COLUMN(A2667))","v":{"$error":"#N/A"}},null,{"$f":"INDEX(设备类型!$B$2:$B$5001,MATCH(表格模板!C2667,设备类型!$A$2:$A$5001,0),COLUMN(A2667))","v":{"$error":"#N/A"}}]
[null,{"$f":"INDEX(建筑!$B$2:$B$5001,MATCH(表格模板!A2668,建筑!$A$2:$A$5001,0),COLUMN(A2668))","v":{"$error":"#N/A"}},null,{"$f":"INDEX(设备类型!$B$2:$B$5001,MATCH(表格模板!C2668,设备类型!$A$2:$A$5001,0),COLUMN(A2668))","v":{"$error":"#N/A"}}]
[null,{"$f":"INDEX(建筑!$B$2:$B$5001,MATCH(表格模板!A2669,建筑!$A$2:$A$5001,0),COLUMN(A2669))","v":{"$error":"#N/A"}},null,{"$f":"INDEX(设备类型!$B$2:$B$5001,MATCH(表格模板!C2669,设备类型!$A$2:$A$5001,0),COLUMN(A2669))","v":{"$error":"#N/A"}}]
[null,{"$f":"INDEX(建筑!$B$2:$B$5001,MATCH(表格模板!A2670,建筑!$A$2:$A$5001,0),COLUMN(A2670))","v":{"$error":"#N/A"}},null,{"$f":"INDEX(设备类型!$B$2:$B$5001,MATCH(表格模板!C2670,设备类型!$A$2:$A$5001,0),COLUMN(A2670))","v":{"$error":"#N/A"}}]
[null,{"$f":"INDEX(建筑!$B$2:$B$5001,MATCH(表格模板!A2671,建筑!$A$2:$A$5001,0),COLUMN(A2671))","v":{"$error":"#N/A"}},null,{"$f":"INDEX(设备类型!$B$2:$B$5001,MATCH(表格模板!C2671,设备类型!$A$2:$A$5001,0),COLUMN(A2671))","v":{"$error":"#N/A"}}]
[null,{"$f":"INDEX(建筑!$B$2:$B$5001,MATCH(表格模板!A2672,建筑!$A$2:$A$5001,0),COLUMN(A2672))","v":{"$error":"#N/A"}},null,{"$f":"INDEX(设备类型!$B$2:$B$5001,MATCH(表格模板!C2672,设备类型!$A$2:$A$5001,0),COLUMN(A2672))","v":{"$error":"#N/A"}}]
[null,{"$f":"INDEX(建筑!$B$2:$B$5001,MATCH(表格模板!A2673,建筑!$A$2:$A$5001,0),COLUMN(A2673))","v":{"$error":"#N/A"}},null,{"$f":"INDEX(设备类型!$B$2:$B$5001,MATCH(表格模板!C2673,设备类型!$A$2:$A$5001,0),COLUMN(A2673))","v":{"$error":"#N/A"}}]
[null,{"$f":"INDEX(建筑!$B$2:$B$5001,MATCH(表格模板!A2674,建筑!$A$2:$A$5001,0),COLUMN(A2674))","v":{"$error":"#N/A"}},null,{"$f":"INDEX(设备类型!$B$2:$B$5001,MATCH(表格模板!C2674,设备类型!$A$2:$A$5001,0),COLUMN(A2674))","v":{"$error":"#N/A"}}]
[null,{"$f":"INDEX(建筑!$B$2:$B$5001,MATCH(表格模板!A2675,建筑!$A$2:$A$5001,0),COLUMN(A2675))","v":{"$error":"#N/A"}},null,{"$f":"INDEX(设备类型!$B$2:$B$5001,MATCH(表格模板!C2675,设备类型!$A$2:$A$5001,0),COLUMN(A2675))","v":{"$error":"#N/A"}}]
[null,{"$f":"INDEX(建筑!$B$2:$B$5001,MATCH(表格模板!A2676,建筑!$A$2:$A$5001,0),COLUMN(A2676))","v":{"$error":"#N/A"}},null,{"$f":"INDEX(设备类型!$B$2:$B$5001,MATCH(表格模板!C2676,设备类型!$A$2:$A$5001,0),COLUMN(A2676))","v":{"$error":"#N/A"}}]
[null,{"$f":"INDEX(建筑!$B$2:$B$5001,MATCH(表格模板!A2677,建筑!$A$2:$A$5001,0),COLUMN(A2677))","v":{"$error":"#N/A"}},null,{"$f":"INDEX(设备类型!$B$2:$B$5001,MATCH(表格模板!C2677,设备类型!$A$2:$A$5001,0),COLUMN(A2677))","v":{"$error":"#N/A"}}]
[null,{"$f":"INDEX(建筑!$B$2:$B$5001,MATCH(表格模板!A2678,建筑!$A$2:$A$5001,0),COLUMN(A2678))","v":{"$error":"#N/A"}},null,{"$f":"INDEX(设备类型!$B$2:$B$5001,MATCH(表格模板!C2678,设备类型!$A$2:$A$5001,0),COLUMN(A2678))","v":{"$error":"#N/A"}}]
[null,{"$f":"INDEX(建筑!$B$2:$B$5001,MATCH(表格模板!A2679,建筑!$A$2:$A$5001,0),COLUMN(A2679))","v":{"$error":"#N/A"}},null,{"$f":"INDEX(设备类型!$B$2:$B$5001,MATCH(表格模板!C2679,设备类型!$A$2:$A$5001,0),COLUMN(A2679))","v":{"$error":"#N/A"}}]
[null,{"$f":"INDEX(建筑!$B$2:$B$5001,MATCH(表格模板!A2680,建筑!$A$2:$A$5001,0),COLUMN(A2680))","v":{"$error":"#N/A"}},null,{"$f":"INDEX(设备类型!$B$2:$B$5001,MATCH(表格模板!C2680,设备类型!$A$2:$A$5001,0),COLUMN(A2680))","v":{"$error":"#N/A"}}]
[null,{"$f":"INDEX(建筑!$B$2:$B$5001,MATCH(表格模板!A2681,建筑!$A$2:$A$5001,0),COLUMN(A2681))","v":{"$error":"#N/A"}},null,{"$f":"INDEX(设备类型!$B$2:$B$5001,MATCH(表格模板!C2681,设备类型!$A$2:$A$5001,0),COLUMN(A2681))","v":{"$error":"#N/A"}}]
[null,{"$f":"INDEX(建筑!$B$2:$B$5001,MATCH(表格模板!A2682,建筑!$A$2:$A$5001,0),COLUMN(A2682))","v":{"$error":"#N/A"}},null,{"$f":"INDEX(设备类型!$B$2:$B$5001,MATCH(表格模板!C2682,设备类型!$A$2:$A$5001,0),COLUMN(A2682))","v":{"$error":"#N/A"}}]
[null,{"$f":"INDEX(建筑!$B$2:$B$5001,MATCH(表格模板!A2683,建筑!$A$2:$A$5001,0),COLUMN(A2683))","v":{"$error":"#N/A"}},null,{"$f":"INDEX(设备类型!$B$2:$B$5001,MATCH(表格模板!C2683,设备类型!$A$2:$A$5001,0),COLUMN(A2683))","v":{"$error":"#N/A"}}]
[null,{"$f":"INDEX(建筑!$B$2:$B$5001,MATCH(表格模板!A2684,建筑!$A$2:$A$5001,0),COLUMN(A2684))","v":{"$error":"#N/A"}},null,{"$f":"INDEX(设备类型!$B$2:$B$5001,MATCH(表格模板!C2684,设备类型!$A$2:$A$5001,0),COLUMN(A2684))","v":{"$error":"#N/A"}}]
[null,{"$f":"INDEX(建筑!$B$2:$B$5001,MATCH(表格模板!A2685,建筑!$A$2:$A$5001,0),COLUMN(A2685))","v":{"$error":"#N/A"}},null,{"$f":"INDEX(设备类型!$B$2:$B$5001,MATCH(表格模板!C2685,设备类型!$A$2:$A$5001,0),COLUMN(A2685))","v":{"$error":"#N/A"}}]
[null,{"$f":"INDEX(建筑!$B$2:$B$5001,MATCH(表格模板!A2686,建筑!$A$2:$A$5001,0),COLUMN(A2686))","v":{"$error":"#N/A"}},null,{"$f":"INDEX(设备类型!$B$2:$B$5001,MATCH(表格模板!C2686,设备类型!$A$2:$A$5001,0),COLUMN(A2686))","v":{"$error":"#N/A"}}]
[null,{"$f":"INDEX(建筑!$B$2:$B$5001,MATCH(表格模板!A2687,建筑!$A$2:$A$5001,0),COLUMN(A2687))","v":{"$error":"#N/A"}},null,{"$f":"INDEX(设备类型!$B$2:$B$5001,MATCH(表格模板!C2687,设备类型!$A$2:$A$5001,0),COLUMN(A2687))","v":{"$error":"#N/A"}}]
[null,{"$f":"INDEX(建筑!$B$2:$B$5001,MATCH(表格模板!A2688,建筑!$A$2:$A$5001,0),COLUMN(A2688))","v":{"$error":"#N/A"}},null,{"$f":"INDEX(设备类型!$B$2:$B$5001,MATCH(表格模板!C2688,设备类型!$A$2:$A$5001,0),COLUMN(A2688))","v":{"$error":"#N/A"}}]
[null,{"$f":"INDEX(建筑!$B$2:$B$5001,MATCH(表格模板!A2689,建筑!$A$2:$A$5001,0),COLUMN(A2689))","v":{"$error":"#N/A"}},null,{"$f":"INDEX(设备类型!$B$2:$B$5001,MATCH(表格模板!C2689,设备类型!$A$2:$A$5001,0),COLUMN(A2689))","v":{"$error":"#N/A"}}]
[null,{"$f":"INDEX(建筑!$B$2:$B$5001,MATCH(表格模板!A2690,建筑!$A$2:$A$5001,0),COLUMN(A2690))","v":{"$error":"#N/A"}},null,{"$f":"INDEX(设备类型!$B$2:$B$5001,MATCH(表格模板!C2690,设备类型!$A$2:$A$5001,0),COLUMN(A2690))","v":{"$error":"#N/A"}}]
[null,{"$f":"INDEX(建筑!$B$2:$B$5001,MATCH(表格模板!A2691,建筑!$A$2:$A$5001,0),COLUMN(A2691))","v":{"$error":"#N/A"}},null,{"$f":"INDEX(设备类型!$B$2:$B$5001,MATCH(表格模板!C2691,设备类型!$A$2:$A$5001,0),COLUMN(A2691))","v":{"$error":"#N/A"}}]
[null,{"$f":"INDEX(建筑!$B$2:$B$5001,MATCH(表格模板!A2692,建筑!$A$2:$A$5001,0),COLUMN(A2692))","v":{"$error":"#N/A"}},null,{"$f":"INDEX(设备类型!$B$2:$B$5001,MATCH(表格模板!C2692,设备类型!$A$2:$A$5001,0),COLUMN(A2692))","v":{"$error":"#N/A"}}]
[null,{"$f":"INDEX(建筑!$B$2:$B$5001,MATCH(表格模板!A2693,建筑!$A$2:$A$5001,0),COLUMN(A2693))","v":{"$error":"#N/A"}},null,{"$f":"INDEX(设备类型!$B$2:$B$5001,MATCH(表格模板!C2693,设备类型!$A$2:$A$5001,0),COLUMN(A2693))","v":{"$error":"#N/A"}}]
[null,{"$f":"INDEX(建筑!$B$2:$B$5001,MATCH(表格模板!A2694,建筑!$A$2:$A$5001,0),COLUMN(A2694))","v":{"$error":"#N/A"}},null,{"$f":"INDEX(设备类型!$B$2:$B$5001,MATCH(表格模板!C2694,设备类型!$A$2:$A$5001,0),COLUMN(A2694))","v":{"$error":"#N/A"}}]
[null,{"$f":"INDEX(建筑!$B$2:$B$5001,MATCH(表格模板!A2695,建筑!$A$2:$A$5001,0),COLUMN(A2695))","v":{"$error":"#N/A"}},null,{"$f":"INDEX(设备类型!$B$2:$B$5001,MATCH(表格模板!C2695,设备类型!$A$2:$A$5001,0),COLUMN(A2695))","v":{"$error":"#N/A"}}]
[null,{"$f":"INDEX(建筑!$B$2:$B$5001,MATCH(表格模板!A2696,建筑!$A$2:$A$5001,0),COLUMN(A2696))","v":{"$error":"#N/A"}},null,{"$f":"INDEX(设备类型!$B$2:$B$5001,MATCH(表格模板!C2696,设备类型!$A$2:$A$5001,0),COLUMN(A2696))","v":{"$error":"#N/A"}}]
[null,{"$f":"INDEX(建筑!$B$2:$B$5001,MATCH(表格模板!A2697,建筑!$A$2:$A$5001,0),COLUMN(A2697))","v":{"$error":"#N/A"}},null,{"$f":"INDEX(设备类型!$B$2:$B$5001,MATCH(表格模板!C2697,设备类型!$A$2:$A$5001,0),COLUMN(A2697))","v":{"$error":"#N/A"}}]
[null,{"$f":"INDEX(建筑!$B$2:$B$5001,MATCH(表格模板!A2698,建筑!$A$2:$A$5001,0),COLUMN(A2698))","v":{"$error":"#N/A"}},null,{"$f":"INDEX(设备类型!$B$2:$B$5001,MATCH(表格模板!C2698,设备类型!$A$2:$A$5001,0),COLUMN(A2698))","v":{"$error":"#N/A"}}]
[null,{"$f":"INDEX(建筑!$B$2:$B$5001,MATCH(表格模板!A2699,建筑!$A$2:$A$5001,0),COLUMN(A2699))","v":{"$error":"#N/A"}},null,{"$f":"INDEX(设备类型!$B$2:$B$5001,MATCH(表格模板!C2699,设备类型!$A$2:$A$5001,0),COLUMN(A2699))","v":{"$error":"#N/A"}}]
[null,{"$f":"INDEX(建筑!$B$2:$B$5001,MATCH(表格模板!A2700,建筑!$A$2:$A$5001,0),COLUMN(A2700))","v":{"$error":"#N/A"}},null,{"$f":"INDEX(设备类型!$B$2:$B$5001,MATCH(表格模板!C2700,设备类型!$A$2:$A$5001,0),COLUMN(A2700))","v":{"$error":"#N/A"}}]
[null,{"$f":"INDEX(建筑!$B$2:$B$5001,MATCH(表格模板!A2701,建筑!$A$2:$A$5001,0),COLUMN(A2701))","v":{"$error":"#N/A"}},null,{"$f":"INDEX(设备类型!$B$2:$B$5001,MATCH(表格模板!C2701,设备类型!$A$2:$A$5001,0),COLUMN(A2701))","v":{"$error":"#N/A"}}]
[null,{"$f":"INDEX(建筑!$B$2:$B$5001,MATCH(表格模板!A2702,建筑!$A$2:$A$5001,0),COLUMN(A2702))","v":{"$error":"#N/A"}},null,{"$f":"INDEX(设备类型!$B$2:$B$5001,MATCH(表格模板!C2702,设备类型!$A$2:$A$5001,0),COLUMN(A2702))","v":{"$error":"#N/A"}}]
[null,{"$f":"INDEX(建筑!$B$2:$B$5001,MATCH(表格模板!A2703,建筑!$A$2:$A$5001,0),COLUMN(A2703))","v":{"$error":"#N/A"}},null,{"$f":"INDEX(设备类型!$B$2:$B$5001,MATCH(表格模板!C2703,设备类型!$A$2:$A$5001,0),COLUMN(A2703))","v":{"$error":"#N/A"}}]
[null,{"$f":"INDEX(建筑!$B$2:$B$5001,MATCH(表格模板!A2704,建筑!$A$2:$A$5001,0),COLUMN(A2704))","v":{"$error":"#N/A"}},null,{"$f":"INDEX(设备类型!$B$2:$B$5001,MATCH(表格模板!C2704,设备类型!$A$2:$A$5001,0),COLUMN(A2704))","v":{"$error":"#N/A"}}]
[null,{"$f":"INDEX(建筑!$B$2:$B$5001,MATCH(表格模板!A2705,建筑!$A$2:$A$5001,0),COLUMN(A2705))","v":{"$error":"#N/A"}},null,{"$f":"INDEX(设备类型!$B$2:$B$5001,MATCH(表格模板!C2705,设备类型!$A$2:$A$5001,0),COLUMN(A2705))","v":{"$error":"#N/A"}}]
[null,{"$f":"INDEX(建筑!$B$2:$B$5001,MATCH(表格模板!A2706,建筑!$A$2:$A$5001,0),COLUMN(A2706))","v":{"$error":"#N/A"}},null,{"$f":"INDEX(设备类型!$B$2:$B$5001,MATCH(表格模板!C2706,设备类型!$A$2:$A$5001,0),COLUMN(A2706))","v":{"$error":"#N/A"}}]
[null,{"$f":"INDEX(建筑!$B$2:$B$5001,MATCH(表格模板!A2707,建筑!$A$2:$A$5001,0),COLUMN(A2707))","v":{"$error":"#N/A"}},null,{"$f":"INDEX(设备类型!$B$2:$B$5001,MATCH(表格模板!C2707,设备类型!$A$2:$A$5001,0),COLUMN(A2707))","v":{"$error":"#N/A"}}]
[null,{"$f":"INDEX(建筑!$B$2:$B$5001,MATCH(表格模板!A2708,建筑!$A$2:$A$5001,0),COLUMN(A2708))","v":{"$error":"#N/A"}},null,{"$f":"INDEX(设备类型!$B$2:$B$5001,MATCH(表格模板!C2708,设备类型!$A$2:$A$5001,0),COLUMN(A2708))","v":{"$error":"#N/A"}}]
[null,{"$f":"INDEX(建筑!$B$2:$B$5001,MATCH(表格模板!A2709,建筑!$A$2:$A$5001,0),COLUMN(A2709))","v":{"$error":"#N/A"}},null,{"$f":"INDEX(设备类型!$B$2:$B$5001,MATCH(表格模板!C2709,设备类型!$A$2:$A$5001,0),COLUMN(A2709))","v":{"$error":"#N/A"}}]
[null,{"$f":"INDEX(建筑!$B$2:$B$5001,MATCH(表格模板!A2710,建筑!$A$2:$A$5001,0),COLUMN(A2710))","v":{"$error":"#N/A"}},null,{"$f":"INDEX(设备类型!$B$2:$B$5001,MATCH(表格模板!C2710,设备类型!$A$2:$A$5001,0),COLUMN(A2710))","v":{"$error":"#N/A"}}]
[null,{"$f":"INDEX(建筑!$B$2:$B$5001,MATCH(表格模板!A2711,建筑!$A$2:$A$5001,0),COLUMN(A2711))","v":{"$error":"#N/A"}},null,{"$f":"INDEX(设备类型!$B$2:$B$5001,MATCH(表格模板!C2711,设备类型!$A$2:$A$5001,0),COLUMN(A2711))","v":{"$error":"#N/A"}}]
[null,{"$f":"INDEX(建筑!$B$2:$B$5001,MATCH(表格模板!A2712,建筑!$A$2:$A$5001,0),COLUMN(A2712))","v":{"$error":"#N/A"}},null,{"$f":"INDEX(设备类型!$B$2:$B$5001,MATCH(表格模板!C2712,设备类型!$A$2:$A$5001,0),COLUMN(A2712))","v":{"$error":"#N/A"}}]
[null,{"$f":"INDEX(建筑!$B$2:$B$5001,MATCH(表格模板!A2713,建筑!$A$2:$A$5001,0),COLUMN(A2713))","v":{"$error":"#N/A"}},null,{"$f":"INDEX(设备类型!$B$2:$B$5001,MATCH(表格模板!C2713,设备类型!$A$2:$A$5001,0),COLUMN(A2713))","v":{"$error":"#N/A"}}]
[null,{"$f":"INDEX(建筑!$B$2:$B$5001,MATCH(表格模板!A2714,建筑!$A$2:$A$5001,0),COLUMN(A2714))","v":{"$error":"#N/A"}},null,{"$f":"INDEX(设备类型!$B$2:$B$5001,MATCH(表格模板!C2714,设备类型!$A$2:$A$5001,0),COLUMN(A2714))","v":{"$error":"#N/A"}}]
[null,{"$f":"INDEX(建筑!$B$2:$B$5001,MATCH(表格模板!A2715,建筑!$A$2:$A$5001,0),COLUMN(A2715))","v":{"$error":"#N/A"}},null,{"$f":"INDEX(设备类型!$B$2:$B$5001,MATCH(表格模板!C2715,设备类型!$A$2:$A$5001,0),COLUMN(A2715))","v":{"$error":"#N/A"}}]
[null,{"$f":"INDEX(建筑!$B$2:$B$5001,MATCH(表格模板!A2716,建筑!$A$2:$A$5001,0),COLUMN(A2716))","v":{"$error":"#N/A"}},null,{"$f":"INDEX(设备类型!$B$2:$B$5001,MATCH(表格模板!C2716,设备类型!$A$2:$A$5001,0),COLUMN(A2716))","v":{"$error":"#N/A"}}]
[null,{"$f":"INDEX(建筑!$B$2:$B$5001,MATCH(表格模板!A2717,建筑!$A$2:$A$5001,0),COLUMN(A2717))","v":{"$error":"#N/A"}},null,{"$f":"INDEX(设备类型!$B$2:$B$5001,MATCH(表格模板!C2717,设备类型!$A$2:$A$5001,0),COLUMN(A2717))","v":{"$error":"#N/A"}}]
[null,{"$f":"INDEX(建筑!$B$2:$B$5001,MATCH(表格模板!A2718,建筑!$A$2:$A$5001,0),COLUMN(A2718))","v":{"$error":"#N/A"}},null,{"$f":"INDEX(设备类型!$B$2:$B$5001,MATCH(表格模板!C2718,设备类型!$A$2:$A$5001,0),COLUMN(A2718))","v":{"$error":"#N/A"}}]
[null,{"$f":"INDEX(建筑!$B$2:$B$5001,MATCH(表格模板!A2719,建筑!$A$2:$A$5001,0),COLUMN(A2719))","v":{"$error":"#N/A"}},null,{"$f":"INDEX(设备类型!$B$2:$B$5001,MATCH(表格模板!C2719,设备类型!$A$2:$A$5001,0),COLUMN(A2719))","v":{"$error":"#N/A"}}]
[null,{"$f":"INDEX(建筑!$B$2:$B$5001,MATCH(表格模板!A2720,建筑!$A$2:$A$5001,0),COLUMN(A2720))","v":{"$error":"#N/A"}},null,{"$f":"INDEX(设备类型!$B$2:$B$5001,MATCH(表格模板!C2720,设备类型!$A$2:$A$5001,0),COLUMN(A2720))","v":{"$error":"#N/A"}}]
[null,{"$f":"INDEX(建筑!$B$2:$B$5001,MATCH(表格模板!A2721,建筑!$A$2:$A$5001,0),COLUMN(A2721))","v":{"$error":"#N/A"}},null,{"$f":"INDEX(设备类型!$B$2:$B$5001,MATCH(表格模板!C2721,设备类型!$A$2:$A$5001,0),COLUMN(A2721))","v":{"$error":"#N/A"}}]
[null,{"$f":"INDEX(建筑!$B$2:$B$5001,MATCH(表格模板!A2722,建筑!$A$2:$A$5001,0),COLUMN(A2722))","v":{"$error":"#N/A"}},null,{"$f":"INDEX(设备类型!$B$2:$B$5001,MATCH(表格模板!C2722,设备类型!$A$2:$A$5001,0),COLUMN(A2722))","v":{"$error":"#N/A"}}]
[null,{"$f":"INDEX(建筑!$B$2:$B$5001,MATCH(表格模板!A2723,建筑!$A$2:$A$5001,0),COLUMN(A2723))","v":{"$error":"#N/A"}},null,{"$f":"INDEX(设备类型!$B$2:$B$5001,MATCH(表格模板!C2723,设备类型!$A$2:$A$5001,0),COLUMN(A2723))","v":{"$error":"#N/A"}}]
[null,{"$f":"INDEX(建筑!$B$2:$B$5001,MATCH(表格模板!A2724,建筑!$A$2:$A$5001,0),COLUMN(A2724))","v":{"$error":"#N/A"}},null,{"$f":"INDEX(设备类型!$B$2:$B$5001,MATCH(表格模板!C2724,设备类型!$A$2:$A$5001,0),COLUMN(A2724))","v":{"$error":"#N/A"}}]
[null,{"$f":"INDEX(建筑!$B$2:$B$5001,MATCH(表格模板!A2725,建筑!$A$2:$A$5001,0),COLUMN(A2725))","v":{"$error":"#N/A"}},null,{"$f":"INDEX(设备类型!$B$2:$B$5001,MATCH(表格模板!C2725,设备类型!$A$2:$A$5001,0),COLUMN(A2725))","v":{"$error":"#N/A"}}]
[null,{"$f":"INDEX(建筑!$B$2:$B$5001,MATCH(表格模板!A2726,建筑!$A$2:$A$5001,0),COLUMN(A2726))","v":{"$error":"#N/A"}},null,{"$f":"INDEX(设备类型!$B$2:$B$5001,MATCH(表格模板!C2726,设备类型!$A$2:$A$5001,0),COLUMN(A2726))","v":{"$error":"#N/A"}}]
[null,{"$f":"INDEX(建筑!$B$2:$B$5001,MATCH(表格模板!A2727,建筑!$A$2:$A$5001,0),COLUMN(A2727))","v":{"$error":"#N/A"}},null,{"$f":"INDEX(设备类型!$B$2:$B$5001,MATCH(表格模板!C2727,设备类型!$A$2:$A$5001,0),COLUMN(A2727))","v":{"$error":"#N/A"}}]
[null,{"$f":"INDEX(建筑!$B$2:$B$5001,MATCH(表格模板!A2728,建筑!$A$2:$A$5001,0),COLUMN(A2728))","v":{"$error":"#N/A"}},null,{"$f":"INDEX(设备类型!$B$2:$B$5001,MATCH(表格模板!C2728,设备类型!$A$2:$A$5001,0),COLUMN(A2728))","v":{"$error":"#N/A"}}]
[null,{"$f":"INDEX(建筑!$B$2:$B$5001,MATCH(表格模板!A2729,建筑!$A$2:$A$5001,0),COLUMN(A2729))","v":{"$error":"#N/A"}},null,{"$f":"INDEX(设备类型!$B$2:$B$5001,MATCH(表格模板!C2729,设备类型!$A$2:$A$5001,0),COLUMN(A2729))","v":{"$error":"#N/A"}}]
[null,{"$f":"INDEX(建筑!$B$2:$B$5001,MATCH(表格模板!A2730,建筑!$A$2:$A$5001,0),COLUMN(A2730))","v":{"$error":"#N/A"}},null,{"$f":"INDEX(设备类型!$B$2:$B$5001,MATCH(表格模板!C2730,设备类型!$A$2:$A$5001,0),COLUMN(A2730))","v":{"$error":"#N/A"}}]
[null,{"$f":"INDEX(建筑!$B$2:$B$5001,MATCH(表格模板!A2731,建筑!$A$2:$A$5001,0),COLUMN(A2731))","v":{"$error":"#N/A"}},null,{"$f":"INDEX(设备类型!$B$2:$B$5001,MATCH(表格模板!C2731,设备类型!$A$2:$A$5001,0),COLUMN(A2731))","v":{"$error":"#N/A"}}]
[null,{"$f":"INDEX(建筑!$B$2:$B$5001,MATCH(表格模板!A2732,建筑!$A$2:$A$5001,0),COLUMN(A2732))","v":{"$error":"#N/A"}},null,{"$f":"INDEX(设备类型!$B$2:$B$5001,MATCH(表格模板!C2732,设备类型!$A$2:$A$5001,0),COLUMN(A2732))","v":{"$error":"#N/A"}}]
[null,{"$f":"INDEX(建筑!$B$2:$B$5001,MATCH(表格模板!A2733,建筑!$A$2:$A$5001,0),COLUMN(A2733))","v":{"$error":"#N/A"}},null,{"$f":"INDEX(设备类型!$B$2:$B$5001,MATCH(表格模板!C2733,设备类型!$A$2:$A$5001,0),COLUMN(A2733))","v":{"$error":"#N/A"}}]
[null,{"$f":"INDEX(建筑!$B$2:$B$5001,MATCH(表格模板!A2734,建筑!$A$2:$A$5001,0),COLUMN(A2734))","v":{"$error":"#N/A"}},null,{"$f":"INDEX(设备类型!$B$2:$B$5001,MATCH(表格模板!C2734,设备类型!$A$2:$A$5001,0),COLUMN(A2734))","v":{"$error":"#N/A"}}]
[null,{"$f":"INDEX(建筑!$B$2:$B$5001,MATCH(表格模板!A2735,建筑!$A$2:$A$5001,0),COLUMN(A2735))","v":{"$error":"#N/A"}},null,{"$f":"INDEX(设备类型!$B$2:$B$5001,MATCH(表格模板!C2735,设备类型!$A$2:$A$5001,0),COLUMN(A2735))","v":{"$error":"#N/A"}}]
[null,{"$f":"INDEX(建筑!$B$2:$B$5001,MATCH(表格模板!A2736,建筑!$A$2:$A$5001,0),COLUMN(A2736))","v":{"$error":"#N/A"}},null,{"$f":"INDEX(设备类型!$B$2:$B$5001,MATCH(表格模板!C2736,设备类型!$A$2:$A$5001,0),COLUMN(A2736))","v":{"$error":"#N/A"}}]
[null,{"$f":"INDEX(建筑!$B$2:$B$5001,MATCH(表格模板!A2737,建筑!$A$2:$A$5001,0),COLUMN(A2737))","v":{"$error":"#N/A"}},null,{"$f":"INDEX(设备类型!$B$2:$B$5001,MATCH(表格模板!C2737,设备类型!$A$2:$A$5001,0),COLUMN(A2737))","v":{"$error":"#N/A"}}]
[null,{"$f":"INDEX(建筑!$B$2:$B$5001,MATCH(表格模板!A2738,建筑!$A$2:$A$5001,0),COLUMN(A2738))","v":{"$error":"#N/A"}},null,{"$f":"INDEX(设备类型!$B$2:$B$5001,MATCH(表格模板!C2738,设备类型!$A$2:$A$5001,0),COLUMN(A2738))","v":{"$error":"#N/A"}}]
[null,{"$f":"INDEX(建筑!$B$2:$B$5001,MATCH(表格模板!A2739,建筑!$A$2:$A$5001,0),COLUMN(A2739))","v":{"$error":"#N/A"}},null,{"$f":"INDEX(设备类型!$B$2:$B$5001,MATCH(表格模板!C2739,设备类型!$A$2:$A$5001,0),COLUMN(A2739))","v":{"$error":"#N/A"}}]
[null,{"$f":"INDEX(建筑!$B$2:$B$5001,MATCH(表格模板!A2740,建筑!$A$2:$A$5001,0),COLUMN(A2740))","v":{"$error":"#N/A"}},null,{"$f":"INDEX(设备类型!$B$2:$B$5001,MATCH(表格模板!C2740,设备类型!$A$2:$A$5001,0),COLUMN(A2740))","v":{"$error":"#N/A"}}]
[null,{"$f":"INDEX(建筑!$B$2:$B$5001,MATCH(表格模板!A2741,建筑!$A$2:$A$5001,0),COLUMN(A2741))","v":{"$error":"#N/A"}},null,{"$f":"INDEX(设备类型!$B$2:$B$5001,MATCH(表格模板!C2741,设备类型!$A$2:$A$5001,0),COLUMN(A2741))","v":{"$error":"#N/A"}}]
[null,{"$f":"INDEX(建筑!$B$2:$B$5001,MATCH(表格模板!A2742,建筑!$A$2:$A$5001,0),COLUMN(A2742))","v":{"$error":"#N/A"}},null,{"$f":"INDEX(设备类型!$B$2:$B$5001,MATCH(表格模板!C2742,设备类型!$A$2:$A$5001,0),COLUMN(A2742))","v":{"$error":"#N/A"}}]
[null,{"$f":"INDEX(建筑!$B$2:$B$5001,MATCH(表格模板!A2743,建筑!$A$2:$A$5001,0),COLUMN(A2743))","v":{"$error":"#N/A"}},null,{"$f":"INDEX(设备类型!$B$2:$B$5001,MATCH(表格模板!C2743,设备类型!$A$2:$A$5001,0),COLUMN(A2743))","v":{"$error":"#N/A"}}]
[null,{"$f":"INDEX(建筑!$B$2:$B$5001,MATCH(表格模板!A2744,建筑!$A$2:$A$5001,0),COLUMN(A2744))","v":{"$error":"#N/A"}},null,{"$f":"INDEX(设备类型!$B$2:$B$5001,MATCH(表格模板!C2744,设备类型!$A$2:$A$5001,0),COLUMN(A2744))","v":{"$error":"#N/A"}}]
[null,{"$f":"INDEX(建筑!$B$2:$B$5001,MATCH(表格模板!A2745,建筑!$A$2:$A$5001,0),COLUMN(A2745))","v":{"$error":"#N/A"}},null,{"$f":"INDEX(设备类型!$B$2:$B$5001,MATCH(表格模板!C2745,设备类型!$A$2:$A$5001,0),COLUMN(A2745))","v":{"$error":"#N/A"}}]
[null,{"$f":"INDEX(建筑!$B$2:$B$5001,MATCH(表格模板!A2746,建筑!$A$2:$A$5001,0),COLUMN(A2746))","v":{"$error":"#N/A"}},null,{"$f":"INDEX(设备类型!$B$2:$B$5001,MATCH(表格模板!C2746,设备类型!$A$2:$A$5001,0),COLUMN(A2746))","v":{"$error":"#N/A"}}]
[null,{"$f":"INDEX(建筑!$B$2:$B$5001,MATCH(表格模板!A2747,建筑!$A$2:$A$5001,0),COLUMN(A2747))","v":{"$error":"#N/A"}},null,{"$f":"INDEX(设备类型!$B$2:$B$5001,MATCH(表格模板!C2747,设备类型!$A$2:$A$5001,0),COLUMN(A2747))","v":{"$error":"#N/A"}}]
[null,{"$f":"INDEX(建筑!$B$2:$B$5001,MATCH(表格模板!A2748,建筑!$A$2:$A$5001,0),COLUMN(A2748))","v":{"$error":"#N/A"}},null,{"$f":"INDEX(设备类型!$B$2:$B$5001,MATCH(表格模板!C2748,设备类型!$A$2:$A$5001,0),COLUMN(A2748))","v":{"$error":"#N/A"}}]
[null,{"$f":"INDEX(建筑!$B$2:$B$5001,MATCH(表格模板!A2749,建筑!$A$2:$A$5001,0),COLUMN(A2749))","v":{"$error":"#N/A"}},null,{"$f":"INDEX(设备类型!$B$2:$B$5001,MATCH(表格模板!C2749,设备类型!$A$2:$A$5001,0),COLUMN(A2749))","v":{"$error":"#N/A"}}]
[null,{"$f":"INDEX(建筑!$B$2:$B$5001,MATCH(表格模板!A2750,建筑!$A$2:$A$5001,0),COLUMN(A2750))","v":{"$error":"#N/A"}},null,{"$f":"INDEX(设备类型!$B$2:$B$5001,MATCH(表格模板!C2750,设备类型!$A$2:$A$5001,0),COLUMN(A2750))","v":{"$error":"#N/A"}}]
[null,{"$f":"INDEX(建筑!$B$2:$B$5001,MATCH(表格模板!A2751,建筑!$A$2:$A$5001,0),COLUMN(A2751))","v":{"$error":"#N/A"}},null,{"$f":"INDEX(设备类型!$B$2:$B$5001,MATCH(表格模板!C2751,设备类型!$A$2:$A$5001,0),COLUMN(A2751))","v":{"$error":"#N/A"}}]
[null,{"$f":"INDEX(建筑!$B$2:$B$5001,MATCH(表格模板!A2752,建筑!$A$2:$A$5001,0),COLUMN(A2752))","v":{"$error":"#N/A"}},null,{"$f":"INDEX(设备类型!$B$2:$B$5001,MATCH(表格模板!C2752,设备类型!$A$2:$A$5001,0),COLUMN(A2752))","v":{"$error":"#N/A"}}]
[null,{"$f":"INDEX(建筑!$B$2:$B$5001,MATCH(表格模板!A2753,建筑!$A$2:$A$5001,0),COLUMN(A2753))","v":{"$error":"#N/A"}},null,{"$f":"INDEX(设备类型!$B$2:$B$5001,MATCH(表格模板!C2753,设备类型!$A$2:$A$5001,0),COLUMN(A2753))","v":{"$error":"#N/A"}}]
[null,{"$f":"INDEX(建筑!$B$2:$B$5001,MATCH(表格模板!A2754,建筑!$A$2:$A$5001,0),COLUMN(A2754))","v":{"$error":"#N/A"}},null,{"$f":"INDEX(设备类型!$B$2:$B$5001,MATCH(表格模板!C2754,设备类型!$A$2:$A$5001,0),COLUMN(A2754))","v":{"$error":"#N/A"}}]
[null,{"$f":"INDEX(建筑!$B$2:$B$5001,MATCH(表格模板!A2755,建筑!$A$2:$A$5001,0),COLUMN(A2755))","v":{"$error":"#N/A"}},null,{"$f":"INDEX(设备类型!$B$2:$B$5001,MATCH(表格模板!C2755,设备类型!$A$2:$A$5001,0),COLUMN(A2755))","v":{"$error":"#N/A"}}]
[null,{"$f":"INDEX(建筑!$B$2:$B$5001,MATCH(表格模板!A2756,建筑!$A$2:$A$5001,0),COLUMN(A2756))","v":{"$error":"#N/A"}},null,{"$f":"INDEX(设备类型!$B$2:$B$5001,MATCH(表格模板!C2756,设备类型!$A$2:$A$5001,0),COLUMN(A2756))","v":{"$error":"#N/A"}}]
[null,{"$f":"INDEX(建筑!$B$2:$B$5001,MATCH(表格模板!A2757,建筑!$A$2:$A$5001,0),COLUMN(A2757))","v":{"$error":"#N/A"}},null,{"$f":"INDEX(设备类型!$B$2:$B$5001,MATCH(表格模板!C2757,设备类型!$A$2:$A$5001,0),COLUMN(A2757))","v":{"$error":"#N/A"}}]
[null,{"$f":"INDEX(建筑!$B$2:$B$5001,MATCH(表格模板!A2758,建筑!$A$2:$A$5001,0),COLUMN(A2758))","v":{"$error":"#N/A"}},null,{"$f":"INDEX(设备类型!$B$2:$B$5001,MATCH(表格模板!C2758,设备类型!$A$2:$A$5001,0),COLUMN(A2758))","v":{"$error":"#N/A"}}]
[null,{"$f":"INDEX(建筑!$B$2:$B$5001,MATCH(表格模板!A2759,建筑!$A$2:$A$5001,0),COLUMN(A2759))","v":{"$error":"#N/A"}},null,{"$f":"INDEX(设备类型!$B$2:$B$5001,MATCH(表格模板!C2759,设备类型!$A$2:$A$5001,0),COLUMN(A2759))","v":{"$error":"#N/A"}}]
[null,{"$f":"INDEX(建筑!$B$2:$B$5001,MATCH(表格模板!A2760,建筑!$A$2:$A$5001,0),COLUMN(A2760))","v":{"$error":"#N/A"}},null,{"$f":"INDEX(设备类型!$B$2:$B$5001,MATCH(表格模板!C2760,设备类型!$A$2:$A$5001,0),COLUMN(A2760))","v":{"$error":"#N/A"}}]
[null,{"$f":"INDEX(建筑!$B$2:$B$5001,MATCH(表格模板!A2761,建筑!$A$2:$A$5001,0),COLUMN(A2761))","v":{"$error":"#N/A"}},null,{"$f":"INDEX(设备类型!$B$2:$B$5001,MATCH(表格模板!C2761,设备类型!$A$2:$A$5001,0),COLUMN(A2761))","v":{"$error":"#N/A"}}]
[null,{"$f":"INDEX(建筑!$B$2:$B$5001,MATCH(表格模板!A2762,建筑!$A$2:$A$5001,0),COLUMN(A2762))","v":{"$error":"#N/A"}},null,{"$f":"INDEX(设备类型!$B$2:$B$5001,MATCH(表格模板!C2762,设备类型!$A$2:$A$5001,0),COLUMN(A2762))","v":{"$error":"#N/A"}}]
[null,{"$f":"INDEX(建筑!$B$2:$B$5001,MATCH(表格模板!A2763,建筑!$A$2:$A$5001,0),COLUMN(A2763))","v":{"$error":"#N/A"}},null,{"$f":"INDEX(设备类型!$B$2:$B$5001,MATCH(表格模板!C2763,设备类型!$A$2:$A$5001,0),COLUMN(A2763))","v":{"$error":"#N/A"}}]
[null,{"$f":"INDEX(建筑!$B$2:$B$5001,MATCH(表格模板!A2764,建筑!$A$2:$A$5001,0),COLUMN(A2764))","v":{"$error":"#N/A"}},null,{"$f":"INDEX(设备类型!$B$2:$B$5001,MATCH(表格模板!C2764,设备类型!$A$2:$A$5001,0),COLUMN(A2764))","v":{"$error":"#N/A"}}]
[null,{"$f":"INDEX(建筑!$B$2:$B$5001,MATCH(表格模板!A2765,建筑!$A$2:$A$5001,0),COLUMN(A2765))","v":{"$error":"#N/A"}},null,{"$f":"INDEX(设备类型!$B$2:$B$5001,MATCH(表格模板!C2765,设备类型!$A$2:$A$5001,0),COLUMN(A2765))","v":{"$error":"#N/A"}}]
[null,{"$f":"INDEX(建筑!$B$2:$B$5001,MATCH(表格模板!A2766,建筑!$A$2:$A$5001,0),COLUMN(A2766))","v":{"$error":"#N/A"}},null,{"$f":"INDEX(设备类型!$B$2:$B$5001,MATCH(表格模板!C2766,设备类型!$A$2:$A$5001,0),COLUMN(A2766))","v":{"$error":"#N/A"}}]
[null,{"$f":"INDEX(建筑!$B$2:$B$5001,MATCH(表格模板!A2767,建筑!$A$2:$A$5001,0),COLUMN(A2767))","v":{"$error":"#N/A"}},null,{"$f":"INDEX(设备类型!$B$2:$B$5001,MATCH(表格模板!C2767,设备类型!$A$2:$A$5001,0),COLUMN(A2767))","v":{"$error":"#N/A"}}]
[null,{"$f":"INDEX(建筑!$B$2:$B$5001,MATCH(表格模板!A2768,建筑!$A$2:$A$5001,0),COLUMN(A2768))","v":{"$error":"#N/A"}},null,{"$f":"INDEX(设备类型!$B$2:$B$5001,MATCH(表格模板!C2768,设备类型!$A$2:$A$5001,0),COLUMN(A2768))","v":{"$error":"#N/A"}}]
[null,{"$f":"INDEX(建筑!$B$2:$B$5001,MATCH(表格模板!A2769,建筑!$A$2:$A$5001,0),COLUMN(A2769))","v":{"$error":"#N/A"}},null,{"$f":"INDEX(设备类型!$B$2:$B$5001,MATCH(表格模板!C2769,设备类型!$A$2:$A$5001,0),COLUMN(A2769))","v":{"$error":"#N/A"}}]
[null,{"$f":"INDEX(建筑!$B$2:$B$5001,MATCH(表格模板!A2770,建筑!$A$2:$A$5001,0),COLUMN(A2770))","v":{"$error":"#N/A"}},null,{"$f":"INDEX(设备类型!$B$2:$B$5001,MATCH(表格模板!C2770,设备类型!$A$2:$A$5001,0),COLUMN(A2770))","v":{"$error":"#N/A"}}]
[null,{"$f":"INDEX(建筑!$B$2:$B$5001,MATCH(表格模板!A2771,建筑!$A$2:$A$5001,0),COLUMN(A2771))","v":{"$error":"#N/A"}},null,{"$f":"INDEX(设备类型!$B$2:$B$5001,MATCH(表格模板!C2771,设备类型!$A$2:$A$5001,0),COLUMN(A2771))","v":{"$error":"#N/A"}}]
[null,{"$f":"INDEX(建筑!$B$2:$B$5001,MATCH(表格模板!A2772,建筑!$A$2:$A$5001,0),COLUMN(A2772))","v":{"$error":"#N/A"}},null,{"$f":"INDEX(设备类型!$B$2:$B$5001,MATCH(表格模板!C2772,设备类型!$A$2:$A$5001,0),COLUMN(A2772))","v":{"$error":"#N/A"}}]
[null,{"$f":"INDEX(建筑!$B$2:$B$5001,MATCH(表格模板!A2773,建筑!$A$2:$A$5001,0),COLUMN(A2773))","v":{"$error":"#N/A"}},null,{"$f":"INDEX(设备类型!$B$2:$B$5001,MATCH(表格模板!C2773,设备类型!$A$2:$A$5001,0),COLUMN(A2773))","v":{"$error":"#N/A"}}]
[null,{"$f":"INDEX(建筑!$B$2:$B$5001,MATCH(表格模板!A2774,建筑!$A$2:$A$5001,0),COLUMN(A2774))","v":{"$error":"#N/A"}},null,{"$f":"INDEX(设备类型!$B$2:$B$5001,MATCH(表格模板!C2774,设备类型!$A$2:$A$5001,0),COLUMN(A2774))","v":{"$error":"#N/A"}}]
[null,{"$f":"INDEX(建筑!$B$2:$B$5001,MATCH(表格模板!A2775,建筑!$A$2:$A$5001,0),COLUMN(A2775))","v":{"$error":"#N/A"}},null,{"$f":"INDEX(设备类型!$B$2:$B$5001,MATCH(表格模板!C2775,设备类型!$A$2:$A$5001,0),COLUMN(A2775))","v":{"$error":"#N/A"}}]
[null,{"$f":"INDEX(建筑!$B$2:$B$5001,MATCH(表格模板!A2776,建筑!$A$2:$A$5001,0),COLUMN(A2776))","v":{"$error":"#N/A"}},null,{"$f":"INDEX(设备类型!$B$2:$B$5001,MATCH(表格模板!C2776,设备类型!$A$2:$A$5001,0),COLUMN(A2776))","v":{"$error":"#N/A"}}]
[null,{"$f":"INDEX(建筑!$B$2:$B$5001,MATCH(表格模板!A2777,建筑!$A$2:$A$5001,0),COLUMN(A2777))","v":{"$error":"#N/A"}},null,{"$f":"INDEX(设备类型!$B$2:$B$5001,MATCH(表格模板!C2777,设备类型!$A$2:$A$5001,0),COLUMN(A2777))","v":{"$error":"#N/A"}}]
[null,{"$f":"INDEX(建筑!$B$2:$B$5001,MATCH(表格模板!A2778,建筑!$A$2:$A$5001,0),COLUMN(A2778))","v":{"$error":"#N/A"}},null,{"$f":"INDEX(设备类型!$B$2:$B$5001,MATCH(表格模板!C2778,设备类型!$A$2:$A$5001,0),COLUMN(A2778))","v":{"$error":"#N/A"}}]
[null,{"$f":"INDEX(建筑!$B$2:$B$5001,MATCH(表格模板!A2779,建筑!$A$2:$A$5001,0),COLUMN(A2779))","v":{"$error":"#N/A"}},null,{"$f":"INDEX(设备类型!$B$2:$B$5001,MATCH(表格模板!C2779,设备类型!$A$2:$A$5001,0),COLUMN(A2779))","v":{"$error":"#N/A"}}]
[null,{"$f":"INDEX(建筑!$B$2:$B$5001,MATCH(表格模板!A2780,建筑!$A$2:$A$5001,0),COLUMN(A2780))","v":{"$error":"#N/A"}},null,{"$f":"INDEX(设备类型!$B$2:$B$5001,MATCH(表格模板!C2780,设备类型!$A$2:$A$5001,0),COLUMN(A2780))","v":{"$error":"#N/A"}}]
[null,{"$f":"INDEX(建筑!$B$2:$B$5001,MATCH(表格模板!A2781,建筑!$A$2:$A$5001,0),COLUMN(A2781))","v":{"$error":"#N/A"}},null,{"$f":"INDEX(设备类型!$B$2:$B$5001,MATCH(表格模板!C2781,设备类型!$A$2:$A$5001,0),COLUMN(A2781))","v":{"$error":"#N/A"}}]
[null,{"$f":"INDEX(建筑!$B$2:$B$5001,MATCH(表格模板!A2782,建筑!$A$2:$A$5001,0),COLUMN(A2782))","v":{"$error":"#N/A"}},null,{"$f":"INDEX(设备类型!$B$2:$B$5001,MATCH(表格模板!C2782,设备类型!$A$2:$A$5001,0),COLUMN(A2782))","v":{"$error":"#N/A"}}]
[null,{"$f":"INDEX(建筑!$B$2:$B$5001,MATCH(表格模板!A2783,建筑!$A$2:$A$5001,0),COLUMN(A2783))","v":{"$error":"#N/A"}},null,{"$f":"INDEX(设备类型!$B$2:$B$5001,MATCH(表格模板!C2783,设备类型!$A$2:$A$5001,0),COLUMN(A2783))","v":{"$error":"#N/A"}}]
[null,{"$f":"INDEX(建筑!$B$2:$B$5001,MATCH(表格模板!A2784,建筑!$A$2:$A$5001,0),COLUMN(A2784))","v":{"$error":"#N/A"}},null,{"$f":"INDEX(设备类型!$B$2:$B$5001,MATCH(表格模板!C2784,设备类型!$A$2:$A$5001,0),COLUMN(A2784))","v":{"$error":"#N/A"}}]
[null,{"$f":"INDEX(建筑!$B$2:$B$5001,MATCH(表格模板!A2785,建筑!$A$2:$A$5001,0),COLUMN(A2785))","v":{"$error":"#N/A"}},null,{"$f":"INDEX(设备类型!$B$2:$B$5001,MATCH(表格模板!C2785,设备类型!$A$2:$A$5001,0),COLUMN(A2785))","v":{"$error":"#N/A"}}]
[null,{"$f":"INDEX(建筑!$B$2:$B$5001,MATCH(表格模板!A2786,建筑!$A$2:$A$5001,0),COLUMN(A2786))","v":{"$error":"#N/A"}},null,{"$f":"INDEX(设备类型!$B$2:$B$5001,MATCH(表格模板!C2786,设备类型!$A$2:$A$5001,0),COLUMN(A2786))","v":{"$error":"#N/A"}}]
[null,{"$f":"INDEX(建筑!$B$2:$B$5001,MATCH(表格模板!A2787,建筑!$A$2:$A$5001,0),COLUMN(A2787))","v":{"$error":"#N/A"}},null,{"$f":"INDEX(设备类型!$B$2:$B$5001,MATCH(表格模板!C2787,设备类型!$A$2:$A$5001,0),COLUMN(A2787))","v":{"$error":"#N/A"}}]
[null,{"$f":"INDEX(建筑!$B$2:$B$5001,MATCH(表格模板!A2788,建筑!$A$2:$A$5001,0),COLUMN(A2788))","v":{"$error":"#N/A"}},null,{"$f":"INDEX(设备类型!$B$2:$B$5001,MATCH(表格模板!C2788,设备类型!$A$2:$A$5001,0),COLUMN(A2788))","v":{"$error":"#N/A"}}]
[null,{"$f":"INDEX(建筑!$B$2:$B$5001,MATCH(表格模板!A2789,建筑!$A$2:$A$5001,0),COLUMN(A2789))","v":{"$error":"#N/A"}},null,{"$f":"INDEX(设备类型!$B$2:$B$5001,MATCH(表格模板!C2789,设备类型!$A$2:$A$5001,0),COLUMN(A2789))","v":{"$error":"#N/A"}}]
[null,{"$f":"INDEX(建筑!$B$2:$B$5001,MATCH(表格模板!A2790,建筑!$A$2:$A$5001,0),COLUMN(A2790))","v":{"$error":"#N/A"}},null,{"$f":"INDEX(设备类型!$B$2:$B$5001,MATCH(表格模板!C2790,设备类型!$A$2:$A$5001,0),COLUMN(A2790))","v":{"$error":"#N/A"}}]
[null,{"$f":"INDEX(建筑!$B$2:$B$5001,MATCH(表格模板!A2791,建筑!$A$2:$A$5001,0),COLUMN(A2791))","v":{"$error":"#N/A"}},null,{"$f":"INDEX(设备类型!$B$2:$B$5001,MATCH(表格模板!C2791,设备类型!$A$2:$A$5001,0),COLUMN(A2791))","v":{"$error":"#N/A"}}]
[null,{"$f":"INDEX(建筑!$B$2:$B$5001,MATCH(表格模板!A2792,建筑!$A$2:$A$5001,0),COLUMN(A2792))","v":{"$error":"#N/A"}},null,{"$f":"INDEX(设备类型!$B$2:$B$5001,MATCH(表格模板!C2792,设备类型!$A$2:$A$5001,0),COLUMN(A2792))","v":{"$error":"#N/A"}}]
[null,{"$f":"INDEX(建筑!$B$2:$B$5001,MATCH(表格模板!A2793,建筑!$A$2:$A$5001,0),COLUMN(A2793))","v":{"$error":"#N/A"}},null,{"$f":"INDEX(设备类型!$B$2:$B$5001,MATCH(表格模板!C2793,设备类型!$A$2:$A$5001,0),COLUMN(A2793))","v":{"$error":"#N/A"}}]
[null,{"$f":"INDEX(建筑!$B$2:$B$5001,MATCH(表格模板!A2794,建筑!$A$2:$A$5001,0),COLUMN(A2794))","v":{"$error":"#N/A"}},null,{"$f":"INDEX(设备类型!$B$2:$B$5001,MATCH(表格模板!C2794,设备类型!$A$2:$A$5001,0),COLUMN(A2794))","v":{"$error":"#N/A"}}]
[null,{"$f":"INDEX(建筑!$B$2:$B$5001,MATCH(表格模板!A2795,建筑!$A$2:$A$5001,0),COLUMN(A2795))","v":{"$error":"#N/A"}},null,{"$f":"INDEX(设备类型!$B$2:$B$5001,MATCH(表格模板!C2795,设备类型!$A$2:$A$5001,0),COLUMN(A2795))","v":{"$error":"#N/A"}}]
[null,{"$f":"INDEX(建筑!$B$2:$B$5001,MATCH(表格模板!A2796,建筑!$A$2:$A$5001,0),COLUMN(A2796))","v":{"$error":"#N/A"}},null,{"$f":"INDEX(设备类型!$B$2:$B$5001,MATCH(表格模板!C2796,设备类型!$A$2:$A$5001,0),COLUMN(A2796))","v":{"$error":"#N/A"}}]
[null,{"$f":"INDEX(建筑!$B$2:$B$5001,MATCH(表格模板!A2797,建筑!$A$2:$A$5001,0),COLUMN(A2797))","v":{"$error":"#N/A"}},null,{"$f":"INDEX(设备类型!$B$2:$B$5001,MATCH(表格模板!C2797,设备类型!$A$2:$A$5001,0),COLUMN(A2797))","v":{"$error":"#N/A"}}]
[null,{"$f":"INDEX(建筑!$B$2:$B$5001,MATCH(表格模板!A2798,建筑!$A$2:$A$5001,0),COLUMN(A2798))","v":{"$error":"#N/A"}},null,{"$f":"INDEX(设备类型!$B$2:$B$5001,MATCH(表格模板!C2798,设备类型!$A$2:$A$5001,0),COLUMN(A2798))","v":{"$error":"#N/A"}}]
[null,{"$f":"INDEX(建筑!$B$2:$B$5001,MATCH(表格模板!A2799,建筑!$A$2:$A$5001,0),COLUMN(A2799))","v":{"$error":"#N/A"}},null,{"$f":"INDEX(设备类型!$B$2:$B$5001,MATCH(表格模板!C2799,设备类型!$A$2:$A$5001,0),COLUMN(A2799))","v":{"$error":"#N/A"}}]
[null,{"$f":"INDEX(建筑!$B$2:$B$5001,MATCH(表格模板!A2800,建筑!$A$2:$A$5001,0),COLUMN(A2800))","v":{"$error":"#N/A"}},null,{"$f":"INDEX(设备类型!$B$2:$B$5001,MATCH(表格模板!C2800,设备类型!$A$2:$A$5001,0),COLUMN(A2800))","v":{"$error":"#N/A"}}]
[null,{"$f":"INDEX(建筑!$B$2:$B$5001,MATCH(表格模板!A2801,建筑!$A$2:$A$5001,0),COLUMN(A2801))","v":{"$error":"#N/A"}},null,{"$f":"INDEX(设备类型!$B$2:$B$5001,MATCH(表格模板!C2801,设备类型!$A$2:$A$5001,0),COLUMN(A2801))","v":{"$error":"#N/A"}}]
[null,{"$f":"INDEX(建筑!$B$2:$B$5001,MATCH(表格模板!A2802,建筑!$A$2:$A$5001,0),COLUMN(A2802))","v":{"$error":"#N/A"}},null,{"$f":"INDEX(设备类型!$B$2:$B$5001,MATCH(表格模板!C2802,设备类型!$A$2:$A$5001,0),COLUMN(A2802))","v":{"$error":"#N/A"}}]
[null,{"$f":"INDEX(建筑!$B$2:$B$5001,MATCH(表格模板!A2803,建筑!$A$2:$A$5001,0),COLUMN(A2803))","v":{"$error":"#N/A"}},null,{"$f":"INDEX(设备类型!$B$2:$B$5001,MATCH(表格模板!C2803,设备类型!$A$2:$A$5001,0),COLUMN(A2803))","v":{"$error":"#N/A"}}]
[null,{"$f":"INDEX(建筑!$B$2:$B$5001,MATCH(表格模板!A2804,建筑!$A$2:$A$5001,0),COLUMN(A2804))","v":{"$error":"#N/A"}},null,{"$f":"INDEX(设备类型!$B$2:$B$5001,MATCH(表格模板!C2804,设备类型!$A$2:$A$5001,0),COLUMN(A2804))","v":{"$error":"#N/A"}}]
[null,{"$f":"INDEX(建筑!$B$2:$B$5001,MATCH(表格模板!A2805,建筑!$A$2:$A$5001,0),COLUMN(A2805))","v":{"$error":"#N/A"}},null,{"$f":"INDEX(设备类型!$B$2:$B$5001,MATCH(表格模板!C2805,设备类型!$A$2:$A$5001,0),COLUMN(A2805))","v":{"$error":"#N/A"}}]
[null,{"$f":"INDEX(建筑!$B$2:$B$5001,MATCH(表格模板!A2806,建筑!$A$2:$A$5001,0),COLUMN(A2806))","v":{"$error":"#N/A"}},null,{"$f":"INDEX(设备类型!$B$2:$B$5001,MATCH(表格模板!C2806,设备类型!$A$2:$A$5001,0),COLUMN(A2806))","v":{"$error":"#N/A"}}]
[null,{"$f":"INDEX(建筑!$B$2:$B$5001,MATCH(表格模板!A2807,建筑!$A$2:$A$5001,0),COLUMN(A2807))","v":{"$error":"#N/A"}},null,{"$f":"INDEX(设备类型!$B$2:$B$5001,MATCH(表格模板!C2807,设备类型!$A$2:$A$5001,0),COLUMN(A2807))","v":{"$error":"#N/A"}}]
[null,{"$f":"INDEX(建筑!$B$2:$B$5001,MATCH(表格模板!A2808,建筑!$A$2:$A$5001,0),COLUMN(A2808))","v":{"$error":"#N/A"}},null,{"$f":"INDEX(设备类型!$B$2:$B$5001,MATCH(表格模板!C2808,设备类型!$A$2:$A$5001,0),COLUMN(A2808))","v":{"$error":"#N/A"}}]
[null,{"$f":"INDEX(建筑!$B$2:$B$5001,MATCH(表格模板!A2809,建筑!$A$2:$A$5001,0),COLUMN(A2809))","v":{"$error":"#N/A"}},null,{"$f":"INDEX(设备类型!$B$2:$B$5001,MATCH(表格模板!C2809,设备类型!$A$2:$A$5001,0),COLUMN(A2809))","v":{"$error":"#N/A"}}]
[null,{"$f":"INDEX(建筑!$B$2:$B$5001,MATCH(表格模板!A2810,建筑!$A$2:$A$5001,0),COLUMN(A2810))","v":{"$error":"#N/A"}},null,{"$f":"INDEX(设备类型!$B$2:$B$5001,MATCH(表格模板!C2810,设备类型!$A$2:$A$5001,0),COLUMN(A2810))","v":{"$error":"#N/A"}}]
[null,{"$f":"INDEX(建筑!$B$2:$B$5001,MATCH(表格模板!A2811,建筑!$A$2:$A$5001,0),COLUMN(A2811))","v":{"$error":"#N/A"}},null,{"$f":"INDEX(设备类型!$B$2:$B$5001,MATCH(表格模板!C2811,设备类型!$A$2:$A$5001,0),COLUMN(A2811))","v":{"$error":"#N/A"}}]
[null,{"$f":"INDEX(建筑!$B$2:$B$5001,MATCH(表格模板!A2812,建筑!$A$2:$A$5001,0),COLUMN(A2812))","v":{"$error":"#N/A"}},null,{"$f":"INDEX(设备类型!$B$2:$B$5001,MATCH(表格模板!C2812,设备类型!$A$2:$A$5001,0),COLUMN(A2812))","v":{"$error":"#N/A"}}]
[null,{"$f":"INDEX(建筑!$B$2:$B$5001,MATCH(表格模板!A2813,建筑!$A$2:$A$5001,0),COLUMN(A2813))","v":{"$error":"#N/A"}},null,{"$f":"INDEX(设备类型!$B$2:$B$5001,MATCH(表格模板!C2813,设备类型!$A$2:$A$5001,0),COLUMN(A2813))","v":{"$error":"#N/A"}}]
[null,{"$f":"INDEX(建筑!$B$2:$B$5001,MATCH(表格模板!A2814,建筑!$A$2:$A$5001,0),COLUMN(A2814))","v":{"$error":"#N/A"}},null,{"$f":"INDEX(设备类型!$B$2:$B$5001,MATCH(表格模板!C2814,设备类型!$A$2:$A$5001,0),COLUMN(A2814))","v":{"$error":"#N/A"}}]
[null,{"$f":"INDEX(建筑!$B$2:$B$5001,MATCH(表格模板!A2815,建筑!$A$2:$A$5001,0),COLUMN(A2815))","v":{"$error":"#N/A"}},null,{"$f":"INDEX(设备类型!$B$2:$B$5001,MATCH(表格模板!C2815,设备类型!$A$2:$A$5001,0),COLUMN(A2815))","v":{"$error":"#N/A"}}]
[null,{"$f":"INDEX(建筑!$B$2:$B$5001,MATCH(表格模板!A2816,建筑!$A$2:$A$5001,0),COLUMN(A2816))","v":{"$error":"#N/A"}},null,{"$f":"INDEX(设备类型!$B$2:$B$5001,MATCH(表格模板!C2816,设备类型!$A$2:$A$5001,0),COLUMN(A2816))","v":{"$error":"#N/A"}}]
[null,{"$f":"INDEX(建筑!$B$2:$B$5001,MATCH(表格模板!A2817,建筑!$A$2:$A$5001,0),COLUMN(A2817))","v":{"$error":"#N/A"}},null,{"$f":"INDEX(设备类型!$B$2:$B$5001,MATCH(表格模板!C2817,设备类型!$A$2:$A$5001,0),COLUMN(A2817))","v":{"$error":"#N/A"}}]
[null,{"$f":"INDEX(建筑!$B$2:$B$5001,MATCH(表格模板!A2818,建筑!$A$2:$A$5001,0),COLUMN(A2818))","v":{"$error":"#N/A"}},null,{"$f":"INDEX(设备类型!$B$2:$B$5001,MATCH(表格模板!C2818,设备类型!$A$2:$A$5001,0),COLUMN(A2818))","v":{"$error":"#N/A"}}]
[null,{"$f":"INDEX(建筑!$B$2:$B$5001,MATCH(表格模板!A2819,建筑!$A$2:$A$5001,0),COLUMN(A2819))","v":{"$error":"#N/A"}},null,{"$f":"INDEX(设备类型!$B$2:$B$5001,MATCH(表格模板!C2819,设备类型!$A$2:$A$5001,0),COLUMN(A2819))","v":{"$error":"#N/A"}}]
[null,{"$f":"INDEX(建筑!$B$2:$B$5001,MATCH(表格模板!A2820,建筑!$A$2:$A$5001,0),COLUMN(A2820))","v":{"$error":"#N/A"}},null,{"$f":"INDEX(设备类型!$B$2:$B$5001,MATCH(表格模板!C2820,设备类型!$A$2:$A$5001,0),COLUMN(A2820))","v":{"$error":"#N/A"}}]
[null,{"$f":"INDEX(建筑!$B$2:$B$5001,MATCH(表格模板!A2821,建筑!$A$2:$A$5001,0),COLUMN(A2821))","v":{"$error":"#N/A"}},null,{"$f":"INDEX(设备类型!$B$2:$B$5001,MATCH(表格模板!C2821,设备类型!$A$2:$A$5001,0),COLUMN(A2821))","v":{"$error":"#N/A"}}]
[null,{"$f":"INDEX(建筑!$B$2:$B$5001,MATCH(表格模板!A2822,建筑!$A$2:$A$5001,0),COLUMN(A2822))","v":{"$error":"#N/A"}},null,{"$f":"INDEX(设备类型!$B$2:$B$5001,MATCH(表格模板!C2822,设备类型!$A$2:$A$5001,0),COLUMN(A2822))","v":{"$error":"#N/A"}}]
[null,{"$f":"INDEX(建筑!$B$2:$B$5001,MATCH(表格模板!A2823,建筑!$A$2:$A$5001,0),COLUMN(A2823))","v":{"$error":"#N/A"}},null,{"$f":"INDEX(设备类型!$B$2:$B$5001,MATCH(表格模板!C2823,设备类型!$A$2:$A$5001,0),COLUMN(A2823))","v":{"$error":"#N/A"}}]
[null,{"$f":"INDEX(建筑!$B$2:$B$5001,MATCH(表格模板!A2824,建筑!$A$2:$A$5001,0),COLUMN(A2824))","v":{"$error":"#N/A"}},null,{"$f":"INDEX(设备类型!$B$2:$B$5001,MATCH(表格模板!C2824,设备类型!$A$2:$A$5001,0),COLUMN(A2824))","v":{"$error":"#N/A"}}]
[null,{"$f":"INDEX(建筑!$B$2:$B$5001,MATCH(表格模板!A2825,建筑!$A$2:$A$5001,0),COLUMN(A2825))","v":{"$error":"#N/A"}},null,{"$f":"INDEX(设备类型!$B$2:$B$5001,MATCH(表格模板!C2825,设备类型!$A$2:$A$5001,0),COLUMN(A2825))","v":{"$error":"#N/A"}}]
[null,{"$f":"INDEX(建筑!$B$2:$B$5001,MATCH(表格模板!A2826,建筑!$A$2:$A$5001,0),COLUMN(A2826))","v":{"$error":"#N/A"}},null,{"$f":"INDEX(设备类型!$B$2:$B$5001,MATCH(表格模板!C2826,设备类型!$A$2:$A$5001,0),COLUMN(A2826))","v":{"$error":"#N/A"}}]
[null,{"$f":"INDEX(建筑!$B$2:$B$5001,MATCH(表格模板!A2827,建筑!$A$2:$A$5001,0),COLUMN(A2827))","v":{"$error":"#N/A"}},null,{"$f":"INDEX(设备类型!$B$2:$B$5001,MATCH(表格模板!C2827,设备类型!$A$2:$A$5001,0),COLUMN(A2827))","v":{"$error":"#N/A"}}]
[null,{"$f":"INDEX(建筑!$B$2:$B$5001,MATCH(表格模板!A2828,建筑!$A$2:$A$5001,0),COLUMN(A2828))","v":{"$error":"#N/A"}},null,{"$f":"INDEX(设备类型!$B$2:$B$5001,MATCH(表格模板!C2828,设备类型!$A$2:$A$5001,0),COLUMN(A2828))","v":{"$error":"#N/A"}}]
[null,{"$f":"INDEX(建筑!$B$2:$B$5001,MATCH(表格模板!A2829,建筑!$A$2:$A$5001,0),COLUMN(A2829))","v":{"$error":"#N/A"}},null,{"$f":"INDEX(设备类型!$B$2:$B$5001,MATCH(表格模板!C2829,设备类型!$A$2:$A$5001,0),COLUMN(A2829))","v":{"$error":"#N/A"}}]
[null,{"$f":"INDEX(建筑!$B$2:$B$5001,MATCH(表格模板!A2830,建筑!$A$2:$A$5001,0),COLUMN(A2830))","v":{"$error":"#N/A"}},null,{"$f":"INDEX(设备类型!$B$2:$B$5001,MATCH(表格模板!C2830,设备类型!$A$2:$A$5001,0),COLUMN(A2830))","v":{"$error":"#N/A"}}]
[null,{"$f":"INDEX(建筑!$B$2:$B$5001,MATCH(表格模板!A2831,建筑!$A$2:$A$5001,0),COLUMN(A2831))","v":{"$error":"#N/A"}},null,{"$f":"INDEX(设备类型!$B$2:$B$5001,MATCH(表格模板!C2831,设备类型!$A$2:$A$5001,0),COLUMN(A2831))","v":{"$error":"#N/A"}}]
[null,{"$f":"INDEX(建筑!$B$2:$B$5001,MATCH(表格模板!A2832,建筑!$A$2:$A$5001,0),COLUMN(A2832))","v":{"$error":"#N/A"}},null,{"$f":"INDEX(设备类型!$B$2:$B$5001,MATCH(表格模板!C2832,设备类型!$A$2:$A$5001,0),COLUMN(A2832))","v":{"$error":"#N/A"}}]
[null,{"$f":"INDEX(建筑!$B$2:$B$5001,MATCH(表格模板!A2833,建筑!$A$2:$A$5001,0),COLUMN(A2833))","v":{"$error":"#N/A"}},null,{"$f":"INDEX(设备类型!$B$2:$B$5001,MATCH(表格模板!C2833,设备类型!$A$2:$A$5001,0),COLUMN(A2833))","v":{"$error":"#N/A"}}]
[null,{"$f":"INDEX(建筑!$B$2:$B$5001,MATCH(表格模板!A2834,建筑!$A$2:$A$5001,0),COLUMN(A2834))","v":{"$error":"#N/A"}},null,{"$f":"INDEX(设备类型!$B$2:$B$5001,MATCH(表格模板!C2834,设备类型!$A$2:$A$5001,0),COLUMN(A2834))","v":{"$error":"#N/A"}}]
[null,{"$f":"INDEX(建筑!$B$2:$B$5001,MATCH(表格模板!A2835,建筑!$A$2:$A$5001,0),COLUMN(A2835))","v":{"$error":"#N/A"}},null,{"$f":"INDEX(设备类型!$B$2:$B$5001,MATCH(表格模板!C2835,设备类型!$A$2:$A$5001,0),COLUMN(A2835))","v":{"$error":"#N/A"}}]
[null,{"$f":"INDEX(建筑!$B$2:$B$5001,MATCH(表格模板!A2836,建筑!$A$2:$A$5001,0),COLUMN(A2836))","v":{"$error":"#N/A"}},null,{"$f":"INDEX(设备类型!$B$2:$B$5001,MATCH(表格模板!C2836,设备类型!$A$2:$A$5001,0),COLUMN(A2836))","v":{"$error":"#N/A"}}]
[null,{"$f":"INDEX(建筑!$B$2:$B$5001,MATCH(表格模板!A2837,建筑!$A$2:$A$5001,0),COLUMN(A2837))","v":{"$error":"#N/A"}},null,{"$f":"INDEX(设备类型!$B$2:$B$5001,MATCH(表格模板!C2837,设备类型!$A$2:$A$5001,0),COLUMN(A2837))","v":{"$error":"#N/A"}}]
[null,{"$f":"INDEX(建筑!$B$2:$B$5001,MATCH(表格模板!A2838,建筑!$A$2:$A$5001,0),COLUMN(A2838))","v":{"$error":"#N/A"}},null,{"$f":"INDEX(设备类型!$B$2:$B$5001,MATCH(表格模板!C2838,设备类型!$A$2:$A$5001,0),COLUMN(A2838))","v":{"$error":"#N/A"}}]
[null,{"$f":"INDEX(建筑!$B$2:$B$5001,MATCH(表格模板!A2839,建筑!$A$2:$A$5001,0),COLUMN(A2839))","v":{"$error":"#N/A"}},null,{"$f":"INDEX(设备类型!$B$2:$B$5001,MATCH(表格模板!C2839,设备类型!$A$2:$A$5001,0),COLUMN(A2839))","v":{"$error":"#N/A"}}]
[null,{"$f":"INDEX(建筑!$B$2:$B$5001,MATCH(表格模板!A2840,建筑!$A$2:$A$5001,0),COLUMN(A2840))","v":{"$error":"#N/A"}},null,{"$f":"INDEX(设备类型!$B$2:$B$5001,MATCH(表格模板!C2840,设备类型!$A$2:$A$5001,0),COLUMN(A2840))","v":{"$error":"#N/A"}}]
[null,{"$f":"INDEX(建筑!$B$2:$B$5001,MATCH(表格模板!A2841,建筑!$A$2:$A$5001,0),COLUMN(A2841))","v":{"$error":"#N/A"}},null,{"$f":"INDEX(设备类型!$B$2:$B$5001,MATCH(表格模板!C2841,设备类型!$A$2:$A$5001,0),COLUMN(A2841))","v":{"$error":"#N/A"}}]
[null,{"$f":"INDEX(建筑!$B$2:$B$5001,MATCH(表格模板!A2842,建筑!$A$2:$A$5001,0),COLUMN(A2842))","v":{"$error":"#N/A"}},null,{"$f":"INDEX(设备类型!$B$2:$B$5001,MATCH(表格模板!C2842,设备类型!$A$2:$A$5001,0),COLUMN(A2842))","v":{"$error":"#N/A"}}]
[null,{"$f":"INDEX(建筑!$B$2:$B$5001,MATCH(表格模板!A2843,建筑!$A$2:$A$5001,0),COLUMN(A2843))","v":{"$error":"#N/A"}},null,{"$f":"INDEX(设备类型!$B$2:$B$5001,MATCH(表格模板!C2843,设备类型!$A$2:$A$5001,0),COLUMN(A2843))","v":{"$error":"#N/A"}}]
[null,{"$f":"INDEX(建筑!$B$2:$B$5001,MATCH(表格模板!A2844,建筑!$A$2:$A$5001,0),COLUMN(A2844))","v":{"$error":"#N/A"}},null,{"$f":"INDEX(设备类型!$B$2:$B$5001,MATCH(表格模板!C2844,设备类型!$A$2:$A$5001,0),COLUMN(A2844))","v":{"$error":"#N/A"}}]
[null,{"$f":"INDEX(建筑!$B$2:$B$5001,MATCH(表格模板!A2845,建筑!$A$2:$A$5001,0),COLUMN(A2845))","v":{"$error":"#N/A"}},null,{"$f":"INDEX(设备类型!$B$2:$B$5001,MATCH(表格模板!C2845,设备类型!$A$2:$A$5001,0),COLUMN(A2845))","v":{"$error":"#N/A"}}]
[null,{"$f":"INDEX(建筑!$B$2:$B$5001,MATCH(表格模板!A2846,建筑!$A$2:$A$5001,0),COLUMN(A2846))","v":{"$error":"#N/A"}},null,{"$f":"INDEX(设备类型!$B$2:$B$5001,MATCH(表格模板!C2846,设备类型!$A$2:$A$5001,0),COLUMN(A2846))","v":{"$error":"#N/A"}}]
[null,{"$f":"INDEX(建筑!$B$2:$B$5001,MATCH(表格模板!A2847,建筑!$A$2:$A$5001,0),COLUMN(A2847))","v":{"$error":"#N/A"}},null,{"$f":"INDEX(设备类型!$B$2:$B$5001,MATCH(表格模板!C2847,设备类型!$A$2:$A$5001,0),COLUMN(A2847))","v":{"$error":"#N/A"}}]
[null,{"$f":"INDEX(建筑!$B$2:$B$5001,MATCH(表格模板!A2848,建筑!$A$2:$A$5001,0),COLUMN(A2848))","v":{"$error":"#N/A"}},null,{"$f":"INDEX(设备类型!$B$2:$B$5001,MATCH(表格模板!C2848,设备类型!$A$2:$A$5001,0),COLUMN(A2848))","v":{"$error":"#N/A"}}]
[null,{"$f":"INDEX(建筑!$B$2:$B$5001,MATCH(表格模板!A2849,建筑!$A$2:$A$5001,0),COLUMN(A2849))","v":{"$error":"#N/A"}},null,{"$f":"INDEX(设备类型!$B$2:$B$5001,MATCH(表格模板!C2849,设备类型!$A$2:$A$5001,0),COLUMN(A2849))","v":{"$error":"#N/A"}}]
[null,{"$f":"INDEX(建筑!$B$2:$B$5001,MATCH(表格模板!A2850,建筑!$A$2:$A$5001,0),COLUMN(A2850))","v":{"$error":"#N/A"}},null,{"$f":"INDEX(设备类型!$B$2:$B$5001,MATCH(表格模板!C2850,设备类型!$A$2:$A$5001,0),COLUMN(A2850))","v":{"$error":"#N/A"}}]
[null,{"$f":"INDEX(建筑!$B$2:$B$5001,MATCH(表格模板!A2851,建筑!$A$2:$A$5001,0),COLUMN(A2851))","v":{"$error":"#N/A"}},null,{"$f":"INDEX(设备类型!$B$2:$B$5001,MATCH(表格模板!C2851,设备类型!$A$2:$A$5001,0),COLUMN(A2851))","v":{"$error":"#N/A"}}]
[null,{"$f":"INDEX(建筑!$B$2:$B$5001,MATCH(表格模板!A2852,建筑!$A$2:$A$5001,0),COLUMN(A2852))","v":{"$error":"#N/A"}},null,{"$f":"INDEX(设备类型!$B$2:$B$5001,MATCH(表格模板!C2852,设备类型!$A$2:$A$5001,0),COLUMN(A2852))","v":{"$error":"#N/A"}}]
[null,{"$f":"INDEX(建筑!$B$2:$B$5001,MATCH(表格模板!A2853,建筑!$A$2:$A$5001,0),COLUMN(A2853))","v":{"$error":"#N/A"}},null,{"$f":"INDEX(设备类型!$B$2:$B$5001,MATCH(表格模板!C2853,设备类型!$A$2:$A$5001,0),COLUMN(A2853))","v":{"$error":"#N/A"}}]
[null,{"$f":"INDEX(建筑!$B$2:$B$5001,MATCH(表格模板!A2854,建筑!$A$2:$A$5001,0),COLUMN(A2854))","v":{"$error":"#N/A"}},null,{"$f":"INDEX(设备类型!$B$2:$B$5001,MATCH(表格模板!C2854,设备类型!$A$2:$A$5001,0),COLUMN(A2854))","v":{"$error":"#N/A"}}]
[null,{"$f":"INDEX(建筑!$B$2:$B$5001,MATCH(表格模板!A2855,建筑!$A$2:$A$5001,0),COLUMN(A2855))","v":{"$error":"#N/A"}},null,{"$f":"INDEX(设备类型!$B$2:$B$5001,MATCH(表格模板!C2855,设备类型!$A$2:$A$5001,0),COLUMN(A2855))","v":{"$error":"#N/A"}}]
[null,{"$f":"INDEX(建筑!$B$2:$B$5001,MATCH(表格模板!A2856,建筑!$A$2:$A$5001,0),COLUMN(A2856))","v":{"$error":"#N/A"}},null,{"$f":"INDEX(设备类型!$B$2:$B$5001,MATCH(表格模板!C2856,设备类型!$A$2:$A$5001,0),COLUMN(A2856))","v":{"$error":"#N/A"}}]
[null,{"$f":"INDEX(建筑!$B$2:$B$5001,MATCH(表格模板!A2857,建筑!$A$2:$A$5001,0),COLUMN(A2857))","v":{"$error":"#N/A"}},null,{"$f":"INDEX(设备类型!$B$2:$B$5001,MATCH(表格模板!C2857,设备类型!$A$2:$A$5001,0),COLUMN(A2857))","v":{"$error":"#N/A"}}]
[null,{"$f":"INDEX(建筑!$B$2:$B$5001,MATCH(表格模板!A2858,建筑!$A$2:$A$5001,0),COLUMN(A2858))","v":{"$error":"#N/A"}},null,{"$f":"INDEX(设备类型!$B$2:$B$5001,MATCH(表格模板!C2858,设备类型!$A$2:$A$5001,0),COLUMN(A2858))","v":{"$error":"#N/A"}}]
[null,{"$f":"INDEX(建筑!$B$2:$B$5001,MATCH(表格模板!A2859,建筑!$A$2:$A$5001,0),COLUMN(A2859))","v":{"$error":"#N/A"}},null,{"$f":"INDEX(设备类型!$B$2:$B$5001,MATCH(表格模板!C2859,设备类型!$A$2:$A$5001,0),COLUMN(A2859))","v":{"$error":"#N/A"}}]
[null,{"$f":"INDEX(建筑!$B$2:$B$5001,MATCH(表格模板!A2860,建筑!$A$2:$A$5001,0),COLUMN(A2860))","v":{"$error":"#N/A"}},null,{"$f":"INDEX(设备类型!$B$2:$B$5001,MATCH(表格模板!C2860,设备类型!$A$2:$A$5001,0),COLUMN(A2860))","v":{"$error":"#N/A"}}]
[null,{"$f":"INDEX(建筑!$B$2:$B$5001,MATCH(表格模板!A2861,建筑!$A$2:$A$5001,0),COLUMN(A2861))","v":{"$error":"#N/A"}},null,{"$f":"INDEX(设备类型!$B$2:$B$5001,MATCH(表格模板!C2861,设备类型!$A$2:$A$5001,0),COLUMN(A2861))","v":{"$error":"#N/A"}}]
[null,{"$f":"INDEX(建筑!$B$2:$B$5001,MATCH(表格模板!A2862,建筑!$A$2:$A$5001,0),COLUMN(A2862))","v":{"$error":"#N/A"}},null,{"$f":"INDEX(设备类型!$B$2:$B$5001,MATCH(表格模板!C2862,设备类型!$A$2:$A$5001,0),COLUMN(A2862))","v":{"$error":"#N/A"}}]
[null,{"$f":"INDEX(建筑!$B$2:$B$5001,MATCH(表格模板!A2863,建筑!$A$2:$A$5001,0),COLUMN(A2863))","v":{"$error":"#N/A"}},null,{"$f":"INDEX(设备类型!$B$2:$B$5001,MATCH(表格模板!C2863,设备类型!$A$2:$A$5001,0),COLUMN(A2863))","v":{"$error":"#N/A"}}]
[null,{"$f":"INDEX(建筑!$B$2:$B$5001,MATCH(表格模板!A2864,建筑!$A$2:$A$5001,0),COLUMN(A2864))","v":{"$error":"#N/A"}},null,{"$f":"INDEX(设备类型!$B$2:$B$5001,MATCH(表格模板!C2864,设备类型!$A$2:$A$5001,0),COLUMN(A2864))","v":{"$error":"#N/A"}}]
[null,{"$f":"INDEX(建筑!$B$2:$B$5001,MATCH(表格模板!A2865,建筑!$A$2:$A$5001,0),COLUMN(A2865))","v":{"$error":"#N/A"}},null,{"$f":"INDEX(设备类型!$B$2:$B$5001,MATCH(表格模板!C2865,设备类型!$A$2:$A$5001,0),COLUMN(A2865))","v":{"$error":"#N/A"}}]
[null,{"$f":"INDEX(建筑!$B$2:$B$5001,MATCH(表格模板!A2866,建筑!$A$2:$A$5001,0),COLUMN(A2866))","v":{"$error":"#N/A"}},null,{"$f":"INDEX(设备类型!$B$2:$B$5001,MATCH(表格模板!C2866,设备类型!$A$2:$A$5001,0),COLUMN(A2866))","v":{"$error":"#N/A"}}]
[null,{"$f":"INDEX(建筑!$B$2:$B$5001,MATCH(表格模板!A2867,建筑!$A$2:$A$5001,0),COLUMN(A2867))","v":{"$error":"#N/A"}},null,{"$f":"INDEX(设备类型!$B$2:$B$5001,MATCH(表格模板!C2867,设备类型!$A$2:$A$5001,0),COLUMN(A2867))","v":{"$error":"#N/A"}}]
[null,{"$f":"INDEX(建筑!$B$2:$B$5001,MATCH(表格模板!A2868,建筑!$A$2:$A$5001,0),COLUMN(A2868))","v":{"$error":"#N/A"}},null,{"$f":"INDEX(设备类型!$B$2:$B$5001,MATCH(表格模板!C2868,设备类型!$A$2:$A$5001,0),COLUMN(A2868))","v":{"$error":"#N/A"}}]
[null,{"$f":"INDEX(建筑!$B$2:$B$5001,MATCH(表格模板!A2869,建筑!$A$2:$A$5001,0),COLUMN(A2869))","v":{"$error":"#N/A"}},null,{"$f":"INDEX(设备类型!$B$2:$B$5001,MATCH(表格模板!C2869,设备类型!$A$2:$A$5001,0),COLUMN(A2869))","v":{"$error":"#N/A"}}]
[null,{"$f":"INDEX(建筑!$B$2:$B$5001,MATCH(表格模板!A2870,建筑!$A$2:$A$5001,0),COLUMN(A2870))","v":{"$error":"#N/A"}},null,{"$f":"INDEX(设备类型!$B$2:$B$5001,MATCH(表格模板!C2870,设备类型!$A$2:$A$5001,0),COLUMN(A2870))","v":{"$error":"#N/A"}}]
[null,{"$f":"INDEX(建筑!$B$2:$B$5001,MATCH(表格模板!A2871,建筑!$A$2:$A$5001,0),COLUMN(A2871))","v":{"$error":"#N/A"}},null,{"$f":"INDEX(设备类型!$B$2:$B$5001,MATCH(表格模板!C2871,设备类型!$A$2:$A$5001,0),COLUMN(A2871))","v":{"$error":"#N/A"}}]
[null,{"$f":"INDEX(建筑!$B$2:$B$5001,MATCH(表格模板!A2872,建筑!$A$2:$A$5001,0),COLUMN(A2872))","v":{"$error":"#N/A"}},null,{"$f":"INDEX(设备类型!$B$2:$B$5001,MATCH(表格模板!C2872,设备类型!$A$2:$A$5001,0),COLUMN(A2872))","v":{"$error":"#N/A"}}]
[null,{"$f":"INDEX(建筑!$B$2:$B$5001,MATCH(表格模板!A2873,建筑!$A$2:$A$5001,0),COLUMN(A2873))","v":{"$error":"#N/A"}},null,{"$f":"INDEX(设备类型!$B$2:$B$5001,MATCH(表格模板!C2873,设备类型!$A$2:$A$5001,0),COLUMN(A2873))","v":{"$error":"#N/A"}}]
[null,{"$f":"INDEX(建筑!$B$2:$B$5001,MATCH(表格模板!A2874,建筑!$A$2:$A$5001,0),COLUMN(A2874))","v":{"$error":"#N/A"}},null,{"$f":"INDEX(设备类型!$B$2:$B$5001,MATCH(表格模板!C2874,设备类型!$A$2:$A$5001,0),COLUMN(A2874))","v":{"$error":"#N/A"}}]
[null,{"$f":"INDEX(建筑!$B$2:$B$5001,MATCH(表格模板!A2875,建筑!$A$2:$A$5001,0),COLUMN(A2875))","v":{"$error":"#N/A"}},null,{"$f":"INDEX(设备类型!$B$2:$B$5001,MATCH(表格模板!C2875,设备类型!$A$2:$A$5001,0),COLUMN(A2875))","v":{"$error":"#N/A"}}]
[null,{"$f":"INDEX(建筑!$B$2:$B$5001,MATCH(表格模板!A2876,建筑!$A$2:$A$5001,0),COLUMN(A2876))","v":{"$error":"#N/A"}},null,{"$f":"INDEX(设备类型!$B$2:$B$5001,MATCH(表格模板!C2876,设备类型!$A$2:$A$5001,0),COLUMN(A2876))","v":{"$error":"#N/A"}}]
[null,{"$f":"INDEX(建筑!$B$2:$B$5001,MATCH(表格模板!A2877,建筑!$A$2:$A$5001,0),COLUMN(A2877))","v":{"$error":"#N/A"}},null,{"$f":"INDEX(设备类型!$B$2:$B$5001,MATCH(表格模板!C2877,设备类型!$A$2:$A$5001,0),COLUMN(A2877))","v":{"$error":"#N/A"}}]
[null,{"$f":"INDEX(建筑!$B$2:$B$5001,MATCH(表格模板!A2878,建筑!$A$2:$A$5001,0),COLUMN(A2878))","v":{"$error":"#N/A"}},null,{"$f":"INDEX(设备类型!$B$2:$B$5001,MATCH(表格模板!C2878,设备类型!$A$2:$A$5001,0),COLUMN(A2878))","v":{"$error":"#N/A"}}]
[null,{"$f":"INDEX(建筑!$B$2:$B$5001,MATCH(表格模板!A2879,建筑!$A$2:$A$5001,0),COLUMN(A2879))","v":{"$error":"#N/A"}},null,{"$f":"INDEX(设备类型!$B$2:$B$5001,MATCH(表格模板!C2879,设备类型!$A$2:$A$5001,0),COLUMN(A2879))","v":{"$error":"#N/A"}}]
[null,{"$f":"INDEX(建筑!$B$2:$B$5001,MATCH(表格模板!A2880,建筑!$A$2:$A$5001,0),COLUMN(A2880))","v":{"$error":"#N/A"}},null,{"$f":"INDEX(设备类型!$B$2:$B$5001,MATCH(表格模板!C2880,设备类型!$A$2:$A$5001,0),COLUMN(A2880))","v":{"$error":"#N/A"}}]
[null,{"$f":"INDEX(建筑!$B$2:$B$5001,MATCH(表格模板!A2881,建筑!$A$2:$A$5001,0),COLUMN(A2881))","v":{"$error":"#N/A"}},null,{"$f":"INDEX(设备类型!$B$2:$B$5001,MATCH(表格模板!C2881,设备类型!$A$2:$A$5001,0),COLUMN(A2881))","v":{"$error":"#N/A"}}]
[null,{"$f":"INDEX(建筑!$B$2:$B$5001,MATCH(表格模板!A2882,建筑!$A$2:$A$5001,0),COLUMN(A2882))","v":{"$error":"#N/A"}},null,{"$f":"INDEX(设备类型!$B$2:$B$5001,MATCH(表格模板!C2882,设备类型!$A$2:$A$5001,0),COLUMN(A2882))","v":{"$error":"#N/A"}}]
[null,{"$f":"INDEX(建筑!$B$2:$B$5001,MATCH(表格模板!A2883,建筑!$A$2:$A$5001,0),COLUMN(A2883))","v":{"$error":"#N/A"}},null,{"$f":"INDEX(设备类型!$B$2:$B$5001,MATCH(表格模板!C2883,设备类型!$A$2:$A$5001,0),COLUMN(A2883))","v":{"$error":"#N/A"}}]
[null,{"$f":"INDEX(建筑!$B$2:$B$5001,MATCH(表格模板!A2884,建筑!$A$2:$A$5001,0),COLUMN(A2884))","v":{"$error":"#N/A"}},null,{"$f":"INDEX(设备类型!$B$2:$B$5001,MATCH(表格模板!C2884,设备类型!$A$2:$A$5001,0),COLUMN(A2884))","v":{"$error":"#N/A"}}]
[null,{"$f":"INDEX(建筑!$B$2:$B$5001,MATCH(表格模板!A2885,建筑!$A$2:$A$5001,0),COLUMN(A2885))","v":{"$error":"#N/A"}},null,{"$f":"INDEX(设备类型!$B$2:$B$5001,MATCH(表格模板!C2885,设备类型!$A$2:$A$5001,0),COLUMN(A2885))","v":{"$error":"#N/A"}}]
[null,{"$f":"INDEX(建筑!$B$2:$B$5001,MATCH(表格模板!A2886,建筑!$A$2:$A$5001,0),COLUMN(A2886))","v":{"$error":"#N/A"}},null,{"$f":"INDEX(设备类型!$B$2:$B$5001,MATCH(表格模板!C2886,设备类型!$A$2:$A$5001,0),COLUMN(A2886))","v":{"$error":"#N/A"}}]
[null,{"$f":"INDEX(建筑!$B$2:$B$5001,MATCH(表格模板!A2887,建筑!$A$2:$A$5001,0),COLUMN(A2887))","v":{"$error":"#N/A"}},null,{"$f":"INDEX(设备类型!$B$2:$B$5001,MATCH(表格模板!C2887,设备类型!$A$2:$A$5001,0),COLUMN(A2887))","v":{"$error":"#N/A"}}]
[null,{"$f":"INDEX(建筑!$B$2:$B$5001,MATCH(表格模板!A2888,建筑!$A$2:$A$5001,0),COLUMN(A2888))","v":{"$error":"#N/A"}},null,{"$f":"INDEX(设备类型!$B$2:$B$5001,MATCH(表格模板!C2888,设备类型!$A$2:$A$5001,0),COLUMN(A2888))","v":{"$error":"#N/A"}}]
[null,{"$f":"INDEX(建筑!$B$2:$B$5001,MATCH(表格模板!A2889,建筑!$A$2:$A$5001,0),COLUMN(A2889))","v":{"$error":"#N/A"}},null,{"$f":"INDEX(设备类型!$B$2:$B$5001,MATCH(表格模板!C2889,设备类型!$A$2:$A$5001,0),COLUMN(A2889))","v":{"$error":"#N/A"}}]
[null,{"$f":"INDEX(建筑!$B$2:$B$5001,MATCH(表格模板!A2890,建筑!$A$2:$A$5001,0),COLUMN(A2890))","v":{"$error":"#N/A"}},null,{"$f":"INDEX(设备类型!$B$2:$B$5001,MATCH(表格模板!C2890,设备类型!$A$2:$A$5001,0),COLUMN(A2890))","v":{"$error":"#N/A"}}]
[null,{"$f":"INDEX(建筑!$B$2:$B$5001,MATCH(表格模板!A2891,建筑!$A$2:$A$5001,0),COLUMN(A2891))","v":{"$error":"#N/A"}},null,{"$f":"INDEX(设备类型!$B$2:$B$5001,MATCH(表格模板!C2891,设备类型!$A$2:$A$5001,0),COLUMN(A2891))","v":{"$error":"#N/A"}}]
[null,{"$f":"INDEX(建筑!$B$2:$B$5001,MATCH(表格模板!A2892,建筑!$A$2:$A$5001,0),COLUMN(A2892))","v":{"$error":"#N/A"}},null,{"$f":"INDEX(设备类型!$B$2:$B$5001,MATCH(表格模板!C2892,设备类型!$A$2:$A$5001,0),COLUMN(A2892))","v":{"$error":"#N/A"}}]
[null,{"$f":"INDEX(建筑!$B$2:$B$5001,MATCH(表格模板!A2893,建筑!$A$2:$A$5001,0),COLUMN(A2893))","v":{"$error":"#N/A"}},null,{"$f":"INDEX(设备类型!$B$2:$B$5001,MATCH(表格模板!C2893,设备类型!$A$2:$A$5001,0),COLUMN(A2893))","v":{"$error":"#N/A"}}]
[null,{"$f":"INDEX(建筑!$B$2:$B$5001,MATCH(表格模板!A2894,建筑!$A$2:$A$5001,0),COLUMN(A2894))","v":{"$error":"#N/A"}},null,{"$f":"INDEX(设备类型!$B$2:$B$5001,MATCH(表格模板!C2894,设备类型!$A$2:$A$5001,0),COLUMN(A2894))","v":{"$error":"#N/A"}}]
[null,{"$f":"INDEX(建筑!$B$2:$B$5001,MATCH(表格模板!A2895,建筑!$A$2:$A$5001,0),COLUMN(A2895))","v":{"$error":"#N/A"}},null,{"$f":"INDEX(设备类型!$B$2:$B$5001,MATCH(表格模板!C2895,设备类型!$A$2:$A$5001,0),COLUMN(A2895))","v":{"$error":"#N/A"}}]
[null,{"$f":"INDEX(建筑!$B$2:$B$5001,MATCH(表格模板!A2896,建筑!$A$2:$A$5001,0),COLUMN(A2896))","v":{"$error":"#N/A"}},null,{"$f":"INDEX(设备类型!$B$2:$B$5001,MATCH(表格模板!C2896,设备类型!$A$2:$A$5001,0),COLUMN(A2896))","v":{"$error":"#N/A"}}]
[null,{"$f":"INDEX(建筑!$B$2:$B$5001,MATCH(表格模板!A2897,建筑!$A$2:$A$5001,0),COLUMN(A2897))","v":{"$error":"#N/A"}},null,{"$f":"INDEX(设备类型!$B$2:$B$5001,MATCH(表格模板!C2897,设备类型!$A$2:$A$5001,0),COLUMN(A2897))","v":{"$error":"#N/A"}}]
[null,{"$f":"INDEX(建筑!$B$2:$B$5001,MATCH(表格模板!A2898,建筑!$A$2:$A$5001,0),COLUMN(A2898))","v":{"$error":"#N/A"}},null,{"$f":"INDEX(设备类型!$B$2:$B$5001,MATCH(表格模板!C2898,设备类型!$A$2:$A$5001,0),COLUMN(A2898))","v":{"$error":"#N/A"}}]
[null,{"$f":"INDEX(建筑!$B$2:$B$5001,MATCH(表格模板!A2899,建筑!$A$2:$A$5001,0),COLUMN(A2899))","v":{"$error":"#N/A"}},null,{"$f":"INDEX(设备类型!$B$2:$B$5001,MATCH(表格模板!C2899,设备类型!$A$2:$A$5001,0),COLUMN(A2899))","v":{"$error":"#N/A"}}]
[null,{"$f":"INDEX(建筑!$B$2:$B$5001,MATCH(表格模板!A2900,建筑!$A$2:$A$5001,0),COLUMN(A2900))","v":{"$error":"#N/A"}},null,{"$f":"INDEX(设备类型!$B$2:$B$5001,MATCH(表格模板!C2900,设备类型!$A$2:$A$5001,0),COLUMN(A2900))","v":{"$error":"#N/A"}}]
[null,{"$f":"INDEX(建筑!$B$2:$B$5001,MATCH(表格模板!A2901,建筑!$A$2:$A$5001,0),COLUMN(A2901))","v":{"$error":"#N/A"}},null,{"$f":"INDEX(设备类型!$B$2:$B$5001,MATCH(表格模板!C2901,设备类型!$A$2:$A$5001,0),COLUMN(A2901))","v":{"$error":"#N/A"}}]
[null,{"$f":"INDEX(建筑!$B$2:$B$5001,MATCH(表格模板!A2902,建筑!$A$2:$A$5001,0),COLUMN(A2902))","v":{"$error":"#N/A"}},null,{"$f":"INDEX(设备类型!$B$2:$B$5001,MATCH(表格模板!C2902,设备类型!$A$2:$A$5001,0),COLUMN(A2902))","v":{"$error":"#N/A"}}]
[null,{"$f":"INDEX(建筑!$B$2:$B$5001,MATCH(表格模板!A2903,建筑!$A$2:$A$5001,0),COLUMN(A2903))","v":{"$error":"#N/A"}},null,{"$f":"INDEX(设备类型!$B$2:$B$5001,MATCH(表格模板!C2903,设备类型!$A$2:$A$5001,0),COLUMN(A2903))","v":{"$error":"#N/A"}}]
[null,{"$f":"INDEX(建筑!$B$2:$B$5001,MATCH(表格模板!A2904,建筑!$A$2:$A$5001,0),COLUMN(A2904))","v":{"$error":"#N/A"}},null,{"$f":"INDEX(设备类型!$B$2:$B$5001,MATCH(表格模板!C2904,设备类型!$A$2:$A$5001,0),COLUMN(A2904))","v":{"$error":"#N/A"}}]
[null,{"$f":"INDEX(建筑!$B$2:$B$5001,MATCH(表格模板!A2905,建筑!$A$2:$A$5001,0),COLUMN(A2905))","v":{"$error":"#N/A"}},null,{"$f":"INDEX(设备类型!$B$2:$B$5001,MATCH(表格模板!C2905,设备类型!$A$2:$A$5001,0),COLUMN(A2905))","v":{"$error":"#N/A"}}]
[null,{"$f":"INDEX(建筑!$B$2:$B$5001,MATCH(表格模板!A2906,建筑!$A$2:$A$5001,0),COLUMN(A2906))","v":{"$error":"#N/A"}},null,{"$f":"INDEX(设备类型!$B$2:$B$5001,MATCH(表格模板!C2906,设备类型!$A$2:$A$5001,0),COLUMN(A2906))","v":{"$error":"#N/A"}}]
[null,{"$f":"INDEX(建筑!$B$2:$B$5001,MATCH(表格模板!A2907,建筑!$A$2:$A$5001,0),COLUMN(A2907))","v":{"$error":"#N/A"}},null,{"$f":"INDEX(设备类型!$B$2:$B$5001,MATCH(表格模板!C2907,设备类型!$A$2:$A$5001,0),COLUMN(A2907))","v":{"$error":"#N/A"}}]
[null,{"$f":"INDEX(建筑!$B$2:$B$5001,MATCH(表格模板!A2908,建筑!$A$2:$A$5001,0),COLUMN(A2908))","v":{"$error":"#N/A"}},null,{"$f":"INDEX(设备类型!$B$2:$B$5001,MATCH(表格模板!C2908,设备类型!$A$2:$A$5001,0),COLUMN(A2908))","v":{"$error":"#N/A"}}]
[null,{"$f":"INDEX(建筑!$B$2:$B$5001,MATCH(表格模板!A2909,建筑!$A$2:$A$5001,0),COLUMN(A2909))","v":{"$error":"#N/A"}},null,{"$f":"INDEX(设备类型!$B$2:$B$5001,MATCH(表格模板!C2909,设备类型!$A$2:$A$5001,0),COLUMN(A2909))","v":{"$error":"#N/A"}}]
[null,{"$f":"INDEX(建筑!$B$2:$B$5001,MATCH(表格模板!A2910,建筑!$A$2:$A$5001,0),COLUMN(A2910))","v":{"$error":"#N/A"}},null,{"$f":"INDEX(设备类型!$B$2:$B$5001,MATCH(表格模板!C2910,设备类型!$A$2:$A$5001,0),COLUMN(A2910))","v":{"$error":"#N/A"}}]
[null,{"$f":"INDEX(建筑!$B$2:$B$5001,MATCH(表格模板!A2911,建筑!$A$2:$A$5001,0),COLUMN(A2911))","v":{"$error":"#N/A"}},null,{"$f":"INDEX(设备类型!$B$2:$B$5001,MATCH(表格模板!C2911,设备类型!$A$2:$A$5001,0),COLUMN(A2911))","v":{"$error":"#N/A"}}]
[null,{"$f":"INDEX(建筑!$B$2:$B$5001,MATCH(表格模板!A2912,建筑!$A$2:$A$5001,0),COLUMN(A2912))","v":{"$error":"#N/A"}},null,{"$f":"INDEX(设备类型!$B$2:$B$5001,MATCH(表格模板!C2912,设备类型!$A$2:$A$5001,0),COLUMN(A2912))","v":{"$error":"#N/A"}}]
[null,{"$f":"INDEX(建筑!$B$2:$B$5001,MATCH(表格模板!A2913,建筑!$A$2:$A$5001,0),COLUMN(A2913))","v":{"$error":"#N/A"}},null,{"$f":"INDEX(设备类型!$B$2:$B$5001,MATCH(表格模板!C2913,设备类型!$A$2:$A$5001,0),COLUMN(A2913))","v":{"$error":"#N/A"}}]
[null,{"$f":"INDEX(建筑!$B$2:$B$5001,MATCH(表格模板!A2914,建筑!$A$2:$A$5001,0),COLUMN(A2914))","v":{"$error":"#N/A"}},null,{"$f":"INDEX(设备类型!$B$2:$B$5001,MATCH(表格模板!C2914,设备类型!$A$2:$A$5001,0),COLUMN(A2914))","v":{"$error":"#N/A"}}]
[null,{"$f":"INDEX(建筑!$B$2:$B$5001,MATCH(表格模板!A2915,建筑!$A$2:$A$5001,0),COLUMN(A2915))","v":{"$error":"#N/A"}},null,{"$f":"INDEX(设备类型!$B$2:$B$5001,MATCH(表格模板!C2915,设备类型!$A$2:$A$5001,0),COLUMN(A2915))","v":{"$error":"#N/A"}}]
[null,{"$f":"INDEX(建筑!$B$2:$B$5001,MATCH(表格模板!A2916,建筑!$A$2:$A$5001,0),COLUMN(A2916))","v":{"$error":"#N/A"}},null,{"$f":"INDEX(设备类型!$B$2:$B$5001,MATCH(表格模板!C2916,设备类型!$A$2:$A$5001,0),COLUMN(A2916))","v":{"$error":"#N/A"}}]
[null,{"$f":"INDEX(建筑!$B$2:$B$5001,MATCH(表格模板!A2917,建筑!$A$2:$A$5001,0),COLUMN(A2917))","v":{"$error":"#N/A"}},null,{"$f":"INDEX(设备类型!$B$2:$B$5001,MATCH(表格模板!C2917,设备类型!$A$2:$A$5001,0),COLUMN(A2917))","v":{"$error":"#N/A"}}]
[null,{"$f":"INDEX(建筑!$B$2:$B$5001,MATCH(表格模板!A2918,建筑!$A$2:$A$5001,0),COLUMN(A2918))","v":{"$error":"#N/A"}},null,{"$f":"INDEX(设备类型!$B$2:$B$5001,MATCH(表格模板!C2918,设备类型!$A$2:$A$5001,0),COLUMN(A2918))","v":{"$error":"#N/A"}}]
[null,{"$f":"INDEX(建筑!$B$2:$B$5001,MATCH(表格模板!A2919,建筑!$A$2:$A$5001,0),COLUMN(A2919))","v":{"$error":"#N/A"}},null,{"$f":"INDEX(设备类型!$B$2:$B$5001,MATCH(表格模板!C2919,设备类型!$A$2:$A$5001,0),COLUMN(A2919))","v":{"$error":"#N/A"}}]
[null,{"$f":"INDEX(建筑!$B$2:$B$5001,MATCH(表格模板!A2920,建筑!$A$2:$A$5001,0),COLUMN(A2920))","v":{"$error":"#N/A"}},null,{"$f":"INDEX(设备类型!$B$2:$B$5001,MATCH(表格模板!C2920,设备类型!$A$2:$A$5001,0),COLUMN(A2920))","v":{"$error":"#N/A"}}]
[null,{"$f":"INDEX(建筑!$B$2:$B$5001,MATCH(表格模板!A2921,建筑!$A$2:$A$5001,0),COLUMN(A2921))","v":{"$error":"#N/A"}},null,{"$f":"INDEX(设备类型!$B$2:$B$5001,MATCH(表格模板!C2921,设备类型!$A$2:$A$5001,0),COLUMN(A2921))","v":{"$error":"#N/A"}}]
[null,{"$f":"INDEX(建筑!$B$2:$B$5001,MATCH(表格模板!A2922,建筑!$A$2:$A$5001,0),COLUMN(A2922))","v":{"$error":"#N/A"}},null,{"$f":"INDEX(设备类型!$B$2:$B$5001,MATCH(表格模板!C2922,设备类型!$A$2:$A$5001,0),COLUMN(A2922))","v":{"$error":"#N/A"}}]
[null,{"$f":"INDEX(建筑!$B$2:$B$5001,MATCH(表格模板!A2923,建筑!$A$2:$A$5001,0),COLUMN(A2923))","v":{"$error":"#N/A"}},null,{"$f":"INDEX(设备类型!$B$2:$B$5001,MATCH(表格模板!C2923,设备类型!$A$2:$A$5001,0),COLUMN(A2923))","v":{"$error":"#N/A"}}]
[null,{"$f":"INDEX(建筑!$B$2:$B$5001,MATCH(表格模板!A2924,建筑!$A$2:$A$5001,0),COLUMN(A2924))","v":{"$error":"#N/A"}},null,{"$f":"INDEX(设备类型!$B$2:$B$5001,MATCH(表格模板!C2924,设备类型!$A$2:$A$5001,0),COLUMN(A2924))","v":{"$error":"#N/A"}}]
[null,{"$f":"INDEX(建筑!$B$2:$B$5001,MATCH(表格模板!A2925,建筑!$A$2:$A$5001,0),COLUMN(A2925))","v":{"$error":"#N/A"}},null,{"$f":"INDEX(设备类型!$B$2:$B$5001,MATCH(表格模板!C2925,设备类型!$A$2:$A$5001,0),COLUMN(A2925))","v":{"$error":"#N/A"}}]
[null,{"$f":"INDEX(建筑!$B$2:$B$5001,MATCH(表格模板!A2926,建筑!$A$2:$A$5001,0),COLUMN(A2926))","v":{"$error":"#N/A"}},null,{"$f":"INDEX(设备类型!$B$2:$B$5001,MATCH(表格模板!C2926,设备类型!$A$2:$A$5001,0),COLUMN(A2926))","v":{"$error":"#N/A"}}]
[null,{"$f":"INDEX(建筑!$B$2:$B$5001,MATCH(表格模板!A2927,建筑!$A$2:$A$5001,0),COLUMN(A2927))","v":{"$error":"#N/A"}},null,{"$f":"INDEX(设备类型!$B$2:$B$5001,MATCH(表格模板!C2927,设备类型!$A$2:$A$5001,0),COLUMN(A2927))","v":{"$error":"#N/A"}}]
[null,{"$f":"INDEX(建筑!$B$2:$B$5001,MATCH(表格模板!A2928,建筑!$A$2:$A$5001,0),COLUMN(A2928))","v":{"$error":"#N/A"}},null,{"$f":"INDEX(设备类型!$B$2:$B$5001,MATCH(表格模板!C2928,设备类型!$A$2:$A$5001,0),COLUMN(A2928))","v":{"$error":"#N/A"}}]
[null,{"$f":"INDEX(建筑!$B$2:$B$5001,MATCH(表格模板!A2929,建筑!$A$2:$A$5001,0),COLUMN(A2929))","v":{"$error":"#N/A"}},null,{"$f":"INDEX(设备类型!$B$2:$B$5001,MATCH(表格模板!C2929,设备类型!$A$2:$A$5001,0),COLUMN(A2929))","v":{"$error":"#N/A"}}]
[null,{"$f":"INDEX(建筑!$B$2:$B$5001,MATCH(表格模板!A2930,建筑!$A$2:$A$5001,0),COLUMN(A2930))","v":{"$error":"#N/A"}},null,{"$f":"INDEX(设备类型!$B$2:$B$5001,MATCH(表格模板!C2930,设备类型!$A$2:$A$5001,0),COLUMN(A2930))","v":{"$error":"#N/A"}}]
[null,{"$f":"INDEX(建筑!$B$2:$B$5001,MATCH(表格模板!A2931,建筑!$A$2:$A$5001,0),COLUMN(A2931))","v":{"$error":"#N/A"}},null,{"$f":"INDEX(设备类型!$B$2:$B$5001,MATCH(表格模板!C2931,设备类型!$A$2:$A$5001,0),COLUMN(A2931))","v":{"$error":"#N/A"}}]
[null,{"$f":"INDEX(建筑!$B$2:$B$5001,MATCH(表格模板!A2932,建筑!$A$2:$A$5001,0),COLUMN(A2932))","v":{"$error":"#N/A"}},null,{"$f":"INDEX(设备类型!$B$2:$B$5001,MATCH(表格模板!C2932,设备类型!$A$2:$A$5001,0),COLUMN(A2932))","v":{"$error":"#N/A"}}]
[null,{"$f":"INDEX(建筑!$B$2:$B$5001,MATCH(表格模板!A2933,建筑!$A$2:$A$5001,0),COLUMN(A2933))","v":{"$error":"#N/A"}},null,{"$f":"INDEX(设备类型!$B$2:$B$5001,MATCH(表格模板!C2933,设备类型!$A$2:$A$5001,0),COLUMN(A2933))","v":{"$error":"#N/A"}}]
[null,{"$f":"INDEX(建筑!$B$2:$B$5001,MATCH(表格模板!A2934,建筑!$A$2:$A$5001,0),COLUMN(A2934))","v":{"$error":"#N/A"}},null,{"$f":"INDEX(设备类型!$B$2:$B$5001,MATCH(表格模板!C2934,设备类型!$A$2:$A$5001,0),COLUMN(A2934))","v":{"$error":"#N/A"}}]
[null,{"$f":"INDEX(建筑!$B$2:$B$5001,MATCH(表格模板!A2935,建筑!$A$2:$A$5001,0),COLUMN(A2935))","v":{"$error":"#N/A"}},null,{"$f":"INDEX(设备类型!$B$2:$B$5001,MATCH(表格模板!C2935,设备类型!$A$2:$A$5001,0),COLUMN(A2935))","v":{"$error":"#N/A"}}]
[null,{"$f":"INDEX(建筑!$B$2:$B$5001,MATCH(表格模板!A2936,建筑!$A$2:$A$5001,0),COLUMN(A2936))","v":{"$error":"#N/A"}},null,{"$f":"INDEX(设备类型!$B$2:$B$5001,MATCH(表格模板!C2936,设备类型!$A$2:$A$5001,0),COLUMN(A2936))","v":{"$error":"#N/A"}}]
[null,{"$f":"INDEX(建筑!$B$2:$B$5001,MATCH(表格模板!A2937,建筑!$A$2:$A$5001,0),COLUMN(A2937))","v":{"$error":"#N/A"}},null,{"$f":"INDEX(设备类型!$B$2:$B$5001,MATCH(表格模板!C2937,设备类型!$A$2:$A$5001,0),COLUMN(A2937))","v":{"$error":"#N/A"}}]
[null,{"$f":"INDEX(建筑!$B$2:$B$5001,MATCH(表格模板!A2938,建筑!$A$2:$A$5001,0),COLUMN(A2938))","v":{"$error":"#N/A"}},null,{"$f":"INDEX(设备类型!$B$2:$B$5001,MATCH(表格模板!C2938,设备类型!$A$2:$A$5001,0),COLUMN(A2938))","v":{"$error":"#N/A"}}]
[null,{"$f":"INDEX(建筑!$B$2:$B$5001,MATCH(表格模板!A2939,建筑!$A$2:$A$5001,0),COLUMN(A2939))","v":{"$error":"#N/A"}},null,{"$f":"INDEX(设备类型!$B$2:$B$5001,MATCH(表格模板!C2939,设备类型!$A$2:$A$5001,0),COLUMN(A2939))","v":{"$error":"#N/A"}}]
[null,{"$f":"INDEX(建筑!$B$2:$B$5001,MATCH(表格模板!A2940,建筑!$A$2:$A$5001,0),COLUMN(A2940))","v":{"$error":"#N/A"}},null,{"$f":"INDEX(设备类型!$B$2:$B$5001,MATCH(表格模板!C2940,设备类型!$A$2:$A$5001,0),COLUMN(A2940))","v":{"$error":"#N/A"}}]
[null,{"$f":"INDEX(建筑!$B$2:$B$5001,MATCH(表格模板!A2941,建筑!$A$2:$A$5001,0),COLUMN(A2941))","v":{"$error":"#N/A"}},null,{"$f":"INDEX(设备类型!$B$2:$B$5001,MATCH(表格模板!C2941,设备类型!$A$2:$A$5001,0),COLUMN(A2941))","v":{"$error":"#N/A"}}]
[null,{"$f":"INDEX(建筑!$B$2:$B$5001,MATCH(表格模板!A2942,建筑!$A$2:$A$5001,0),COLUMN(A2942))","v":{"$error":"#N/A"}},null,{"$f":"INDEX(设备类型!$B$2:$B$5001,MATCH(表格模板!C2942,设备类型!$A$2:$A$5001,0),COLUMN(A2942))","v":{"$error":"#N/A"}}]
[null,{"$f":"INDEX(建筑!$B$2:$B$5001,MATCH(表格模板!A2943,建筑!$A$2:$A$5001,0),COLUMN(A2943))","v":{"$error":"#N/A"}},null,{"$f":"INDEX(设备类型!$B$2:$B$5001,MATCH(表格模板!C2943,设备类型!$A$2:$A$5001,0),COLUMN(A2943))","v":{"$error":"#N/A"}}]
[null,{"$f":"INDEX(建筑!$B$2:$B$5001,MATCH(表格模板!A2944,建筑!$A$2:$A$5001,0),COLUMN(A2944))","v":{"$error":"#N/A"}},null,{"$f":"INDEX(设备类型!$B$2:$B$5001,MATCH(表格模板!C2944,设备类型!$A$2:$A$5001,0),COLUMN(A2944))","v":{"$error":"#N/A"}}]
[null,{"$f":"INDEX(建筑!$B$2:$B$5001,MATCH(表格模板!A2945,建筑!$A$2:$A$5001,0),COLUMN(A2945))","v":{"$error":"#N/A"}},null,{"$f":"INDEX(设备类型!$B$2:$B$5001,MATCH(表格模板!C2945,设备类型!$A$2:$A$5001,0),COLUMN(A2945))","v":{"$error":"#N/A"}}]
[null,{"$f":"INDEX(建筑!$B$2:$B$5001,MATCH(表格模板!A2946,建筑!$A$2:$A$5001,0),COLUMN(A2946))","v":{"$error":"#N/A"}},null,{"$f":"INDEX(设备类型!$B$2:$B$5001,MATCH(表格模板!C2946,设备类型!$A$2:$A$5001,0),COLUMN(A2946))","v":{"$error":"#N/A"}}]
[null,{"$f":"INDEX(建筑!$B$2:$B$5001,MATCH(表格模板!A2947,建筑!$A$2:$A$5001,0),COLUMN(A2947))","v":{"$error":"#N/A"}},null,{"$f":"INDEX(设备类型!$B$2:$B$5001,MATCH(表格模板!C2947,设备类型!$A$2:$A$5001,0),COLUMN(A2947))","v":{"$error":"#N/A"}}]
[null,{"$f":"INDEX(建筑!$B$2:$B$5001,MATCH(表格模板!A2948,建筑!$A$2:$A$5001,0),COLUMN(A2948))","v":{"$error":"#N/A"}},null,{"$f":"INDEX(设备类型!$B$2:$B$5001,MATCH(表格模板!C2948,设备类型!$A$2:$A$5001,0),COLUMN(A2948))","v":{"$error":"#N/A"}}]
[null,{"$f":"INDEX(建筑!$B$2:$B$5001,MATCH(表格模板!A2949,建筑!$A$2:$A$5001,0),COLUMN(A2949))","v":{"$error":"#N/A"}},null,{"$f":"INDEX(设备类型!$B$2:$B$5001,MATCH(表格模板!C2949,设备类型!$A$2:$A$5001,0),COLUMN(A2949))","v":{"$error":"#N/A"}}]
[null,{"$f":"INDEX(建筑!$B$2:$B$5001,MATCH(表格模板!A2950,建筑!$A$2:$A$5001,0),COLUMN(A2950))","v":{"$error":"#N/A"}},null,{"$f":"INDEX(设备类型!$B$2:$B$5001,MATCH(表格模板!C2950,设备类型!$A$2:$A$5001,0),COLUMN(A2950))","v":{"$error":"#N/A"}}]
[null,{"$f":"INDEX(建筑!$B$2:$B$5001,MATCH(表格模板!A2951,建筑!$A$2:$A$5001,0),COLUMN(A2951))","v":{"$error":"#N/A"}},null,{"$f":"INDEX(设备类型!$B$2:$B$5001,MATCH(表格模板!C2951,设备类型!$A$2:$A$5001,0),COLUMN(A2951))","v":{"$error":"#N/A"}}]
[null,{"$f":"INDEX(建筑!$B$2:$B$5001,MATCH(表格模板!A2952,建筑!$A$2:$A$5001,0),COLUMN(A2952))","v":{"$error":"#N/A"}},null,{"$f":"INDEX(设备类型!$B$2:$B$5001,MATCH(表格模板!C2952,设备类型!$A$2:$A$5001,0),COLUMN(A2952))","v":{"$error":"#N/A"}}]
[null,{"$f":"INDEX(建筑!$B$2:$B$5001,MATCH(表格模板!A2953,建筑!$A$2:$A$5001,0),COLUMN(A2953))","v":{"$error":"#N/A"}},null,{"$f":"INDEX(设备类型!$B$2:$B$5001,MATCH(表格模板!C2953,设备类型!$A$2:$A$5001,0),COLUMN(A2953))","v":{"$error":"#N/A"}}]
[null,{"$f":"INDEX(建筑!$B$2:$B$5001,MATCH(表格模板!A2954,建筑!$A$2:$A$5001,0),COLUMN(A2954))","v":{"$error":"#N/A"}},null,{"$f":"INDEX(设备类型!$B$2:$B$5001,MATCH(表格模板!C2954,设备类型!$A$2:$A$5001,0),COLUMN(A2954))","v":{"$error":"#N/A"}}]
[null,{"$f":"INDEX(建筑!$B$2:$B$5001,MATCH(表格模板!A2955,建筑!$A$2:$A$5001,0),COLUMN(A2955))","v":{"$error":"#N/A"}},null,{"$f":"INDEX(设备类型!$B$2:$B$5001,MATCH(表格模板!C2955,设备类型!$A$2:$A$5001,0),COLUMN(A2955))","v":{"$error":"#N/A"}}]
[null,{"$f":"INDEX(建筑!$B$2:$B$5001,MATCH(表格模板!A2956,建筑!$A$2:$A$5001,0),COLUMN(A2956))","v":{"$error":"#N/A"}},null,{"$f":"INDEX(设备类型!$B$2:$B$5001,MATCH(表格模板!C2956,设备类型!$A$2:$A$5001,0),COLUMN(A2956))","v":{"$error":"#N/A"}}]
[null,{"$f":"INDEX(建筑!$B$2:$B$5001,MATCH(表格模板!A2957,建筑!$A$2:$A$5001,0),COLUMN(A2957))","v":{"$error":"#N/A"}},null,{"$f":"INDEX(设备类型!$B$2:$B$5001,MATCH(表格模板!C2957,设备类型!$A$2:$A$5001,0),COLUMN(A2957))","v":{"$error":"#N/A"}}]
[null,{"$f":"INDEX(建筑!$B$2:$B$5001,MATCH(表格模板!A2958,建筑!$A$2:$A$5001,0),COLUMN(A2958))","v":{"$error":"#N/A"}},null,{"$f":"INDEX(设备类型!$B$2:$B$5001,MATCH(表格模板!C2958,设备类型!$A$2:$A$5001,0),COLUMN(A2958))","v":{"$error":"#N/A"}}]
[null,{"$f":"INDEX(建筑!$B$2:$B$5001,MATCH(表格模板!A2959,建筑!$A$2:$A$5001,0),COLUMN(A2959))","v":{"$error":"#N/A"}},null,{"$f":"INDEX(设备类型!$B$2:$B$5001,MATCH(表格模板!C2959,设备类型!$A$2:$A$5001,0),COLUMN(A2959))","v":{"$error":"#N/A"}}]
[null,{"$f":"INDEX(建筑!$B$2:$B$5001,MATCH(表格模板!A2960,建筑!$A$2:$A$5001,0),COLUMN(A2960))","v":{"$error":"#N/A"}},null,{"$f":"INDEX(设备类型!$B$2:$B$5001,MATCH(表格模板!C2960,设备类型!$A$2:$A$5001,0),COLUMN(A2960))","v":{"$error":"#N/A"}}]
[null,{"$f":"INDEX(建筑!$B$2:$B$5001,MATCH(表格模板!A2961,建筑!$A$2:$A$5001,0),COLUMN(A2961))","v":{"$error":"#N/A"}},null,{"$f":"INDEX(设备类型!$B$2:$B$5001,MATCH(表格模板!C2961,设备类型!$A$2:$A$5001,0),COLUMN(A2961))","v":{"$error":"#N/A"}}]
[null,{"$f":"INDEX(建筑!$B$2:$B$5001,MATCH(表格模板!A2962,建筑!$A$2:$A$5001,0),COLUMN(A2962))","v":{"$error":"#N/A"}},null,{"$f":"INDEX(设备类型!$B$2:$B$5001,MATCH(表格模板!C2962,设备类型!$A$2:$A$5001,0),COLUMN(A2962))","v":{"$error":"#N/A"}}]
[null,{"$f":"INDEX(建筑!$B$2:$B$5001,MATCH(表格模板!A2963,建筑!$A$2:$A$5001,0),COLUMN(A2963))","v":{"$error":"#N/A"}},null,{"$f":"INDEX(设备类型!$B$2:$B$5001,MATCH(表格模板!C2963,设备类型!$A$2:$A$5001,0),COLUMN(A2963))","v":{"$error":"#N/A"}}]
[null,{"$f":"INDEX(建筑!$B$2:$B$5001,MATCH(表格模板!A2964,建筑!$A$2:$A$5001,0),COLUMN(A2964))","v":{"$error":"#N/A"}},null,{"$f":"INDEX(设备类型!$B$2:$B$5001,MATCH(表格模板!C2964,设备类型!$A$2:$A$5001,0),COLUMN(A2964))","v":{"$error":"#N/A"}}]
[null,{"$f":"INDEX(建筑!$B$2:$B$5001,MATCH(表格模板!A2965,建筑!$A$2:$A$5001,0),COLUMN(A2965))","v":{"$error":"#N/A"}},null,{"$f":"INDEX(设备类型!$B$2:$B$5001,MATCH(表格模板!C2965,设备类型!$A$2:$A$5001,0),COLUMN(A2965))","v":{"$error":"#N/A"}}]
[null,{"$f":"INDEX(建筑!$B$2:$B$5001,MATCH(表格模板!A2966,建筑!$A$2:$A$5001,0),COLUMN(A2966))","v":{"$error":"#N/A"}},null,{"$f":"INDEX(设备类型!$B$2:$B$5001,MATCH(表格模板!C2966,设备类型!$A$2:$A$5001,0),COLUMN(A2966))","v":{"$error":"#N/A"}}]
[null,{"$f":"INDEX(建筑!$B$2:$B$5001,MATCH(表格模板!A2967,建筑!$A$2:$A$5001,0),COLUMN(A2967))","v":{"$error":"#N/A"}},null,{"$f":"INDEX(设备类型!$B$2:$B$5001,MATCH(表格模板!C2967,设备类型!$A$2:$A$5001,0),COLUMN(A2967))","v":{"$error":"#N/A"}}]
[null,{"$f":"INDEX(建筑!$B$2:$B$5001,MATCH(表格模板!A2968,建筑!$A$2:$A$5001,0),COLUMN(A2968))","v":{"$error":"#N/A"}},null,{"$f":"INDEX(设备类型!$B$2:$B$5001,MATCH(表格模板!C2968,设备类型!$A$2:$A$5001,0),COLUMN(A2968))","v":{"$error":"#N/A"}}]
[null,{"$f":"INDEX(建筑!$B$2:$B$5001,MATCH(表格模板!A2969,建筑!$A$2:$A$5001,0),COLUMN(A2969))","v":{"$error":"#N/A"}},null,{"$f":"INDEX(设备类型!$B$2:$B$5001,MATCH(表格模板!C2969,设备类型!$A$2:$A$5001,0),COLUMN(A2969))","v":{"$error":"#N/A"}}]
[null,{"$f":"INDEX(建筑!$B$2:$B$5001,MATCH(表格模板!A2970,建筑!$A$2:$A$5001,0),COLUMN(A2970))","v":{"$error":"#N/A"}},null,{"$f":"INDEX(设备类型!$B$2:$B$5001,MATCH(表格模板!C2970,设备类型!$A$2:$A$5001,0),COLUMN(A2970))","v":{"$error":"#N/A"}}]
[null,{"$f":"INDEX(建筑!$B$2:$B$5001,MATCH(表格模板!A2971,建筑!$A$2:$A$5001,0),COLUMN(A2971))","v":{"$error":"#N/A"}},null,{"$f":"INDEX(设备类型!$B$2:$B$5001,MATCH(表格模板!C2971,设备类型!$A$2:$A$5001,0),COLUMN(A2971))","v":{"$error":"#N/A"}}]
[null,{"$f":"INDEX(建筑!$B$2:$B$5001,MATCH(表格模板!A2972,建筑!$A$2:$A$5001,0),COLUMN(A2972))","v":{"$error":"#N/A"}},null,{"$f":"INDEX(设备类型!$B$2:$B$5001,MATCH(表格模板!C2972,设备类型!$A$2:$A$5001,0),COLUMN(A2972))","v":{"$error":"#N/A"}}]
[null,{"$f":"INDEX(建筑!$B$2:$B$5001,MATCH(表格模板!A2973,建筑!$A$2:$A$5001,0),COLUMN(A2973))","v":{"$error":"#N/A"}},null,{"$f":"INDEX(设备类型!$B$2:$B$5001,MATCH(表格模板!C2973,设备类型!$A$2:$A$5001,0),COLUMN(A2973))","v":{"$error":"#N/A"}}]
[null,{"$f":"INDEX(建筑!$B$2:$B$5001,MATCH(表格模板!A2974,建筑!$A$2:$A$5001,0),COLUMN(A2974))","v":{"$error":"#N/A"}},null,{"$f":"INDEX(设备类型!$B$2:$B$5001,MATCH(表格模板!C2974,设备类型!$A$2:$A$5001,0),COLUMN(A2974))","v":{"$error":"#N/A"}}]
[null,{"$f":"INDEX(建筑!$B$2:$B$5001,MATCH(表格模板!A2975,建筑!$A$2:$A$5001,0),COLUMN(A2975))","v":{"$error":"#N/A"}},null,{"$f":"INDEX(设备类型!$B$2:$B$5001,MATCH(表格模板!C2975,设备类型!$A$2:$A$5001,0),COLUMN(A2975))","v":{"$error":"#N/A"}}]
[null,{"$f":"INDEX(建筑!$B$2:$B$5001,MATCH(表格模板!A2976,建筑!$A$2:$A$5001,0),COLUMN(A2976))","v":{"$error":"#N/A"}},null,{"$f":"INDEX(设备类型!$B$2:$B$5001,MATCH(表格模板!C2976,设备类型!$A$2:$A$5001,0),COLUMN(A2976))","v":{"$error":"#N/A"}}]
[null,{"$f":"INDEX(建筑!$B$2:$B$5001,MATCH(表格模板!A2977,建筑!$A$2:$A$5001,0),COLUMN(A2977))","v":{"$error":"#N/A"}},null,{"$f":"INDEX(设备类型!$B$2:$B$5001,MATCH(表格模板!C2977,设备类型!$A$2:$A$5001,0),COLUMN(A2977))","v":{"$error":"#N/A"}}]
[null,{"$f":"INDEX(建筑!$B$2:$B$5001,MATCH(表格模板!A2978,建筑!$A$2:$A$5001,0),COLUMN(A2978))","v":{"$error":"#N/A"}},null,{"$f":"INDEX(设备类型!$B$2:$B$5001,MATCH(表格模板!C2978,设备类型!$A$2:$A$5001,0),COLUMN(A2978))","v":{"$error":"#N/A"}}]
[null,{"$f":"INDEX(建筑!$B$2:$B$5001,MATCH(表格模板!A2979,建筑!$A$2:$A$5001,0),COLUMN(A2979))","v":{"$error":"#N/A"}},null,{"$f":"INDEX(设备类型!$B$2:$B$5001,MATCH(表格模板!C2979,设备类型!$A$2:$A$5001,0),COLUMN(A2979))","v":{"$error":"#N/A"}}]
[null,{"$f":"INDEX(建筑!$B$2:$B$5001,MATCH(表格模板!A2980,建筑!$A$2:$A$5001,0),COLUMN(A2980))","v":{"$error":"#N/A"}},null,{"$f":"INDEX(设备类型!$B$2:$B$5001,MATCH(表格模板!C2980,设备类型!$A$2:$A$5001,0),COLUMN(A2980))","v":{"$error":"#N/A"}}]
[null,{"$f":"INDEX(建筑!$B$2:$B$5001,MATCH(表格模板!A2981,建筑!$A$2:$A$5001,0),COLUMN(A2981))","v":{"$error":"#N/A"}},null,{"$f":"INDEX(设备类型!$B$2:$B$5001,MATCH(表格模板!C2981,设备类型!$A$2:$A$5001,0),COLUMN(A2981))","v":{"$error":"#N/A"}}]
[null,{"$f":"INDEX(建筑!$B$2:$B$5001,MATCH(表格模板!A2982,建筑!$A$2:$A$5001,0),COLUMN(A2982))","v":{"$error":"#N/A"}},null,{"$f":"INDEX(设备类型!$B$2:$B$5001,MATCH(表格模板!C2982,设备类型!$A$2:$A$5001,0),COLUMN(A2982))","v":{"$error":"#N/A"}}]
[null,{"$f":"INDEX(建筑!$B$2:$B$5001,MATCH(表格模板!A2983,建筑!$A$2:$A$5001,0),COLUMN(A2983))","v":{"$error":"#N/A"}},null,{"$f":"INDEX(设备类型!$B$2:$B$5001,MATCH(表格模板!C2983,设备类型!$A$2:$A$5001,0),COLUMN(A2983))","v":{"$error":"#N/A"}}]
[null,{"$f":"INDEX(建筑!$B$2:$B$5001,MATCH(表格模板!A2984,建筑!$A$2:$A$5001,0),COLUMN(A2984))","v":{"$error":"#N/A"}},null,{"$f":"INDEX(设备类型!$B$2:$B$5001,MATCH(表格模板!C2984,设备类型!$A$2:$A$5001,0),COLUMN(A2984))","v":{"$error":"#N/A"}}]
[null,{"$f":"INDEX(建筑!$B$2:$B$5001,MATCH(表格模板!A2985,建筑!$A$2:$A$5001,0),COLUMN(A2985))","v":{"$error":"#N/A"}},null,{"$f":"INDEX(设备类型!$B$2:$B$5001,MATCH(表格模板!C2985,设备类型!$A$2:$A$5001,0),COLUMN(A2985))","v":{"$error":"#N/A"}}]
[null,{"$f":"INDEX(建筑!$B$2:$B$5001,MATCH(表格模板!A2986,建筑!$A$2:$A$5001,0),COLUMN(A2986))","v":{"$error":"#N/A"}},null,{"$f":"INDEX(设备类型!$B$2:$B$5001,MATCH(表格模板!C2986,设备类型!$A$2:$A$5001,0),COLUMN(A2986))","v":{"$error":"#N/A"}}]
[null,{"$f":"INDEX(建筑!$B$2:$B$5001,MATCH(表格模板!A2987,建筑!$A$2:$A$5001,0),COLUMN(A2987))","v":{"$error":"#N/A"}},null,{"$f":"INDEX(设备类型!$B$2:$B$5001,MATCH(表格模板!C2987,设备类型!$A$2:$A$5001,0),COLUMN(A2987))","v":{"$error":"#N/A"}}]
[null,{"$f":"INDEX(建筑!$B$2:$B$5001,MATCH(表格模板!A2988,建筑!$A$2:$A$5001,0),COLUMN(A2988))","v":{"$error":"#N/A"}},null,{"$f":"INDEX(设备类型!$B$2:$B$5001,MATCH(表格模板!C2988,设备类型!$A$2:$A$5001,0),COLUMN(A2988))","v":{"$error":"#N/A"}}]
[null,{"$f":"INDEX(建筑!$B$2:$B$5001,MATCH(表格模板!A2989,建筑!$A$2:$A$5001,0),COLUMN(A2989))","v":{"$error":"#N/A"}},null,{"$f":"INDEX(设备类型!$B$2:$B$5001,MATCH(表格模板!C2989,设备类型!$A$2:$A$5001,0),COLUMN(A2989))","v":{"$error":"#N/A"}}]
[null,{"$f":"INDEX(建筑!$B$2:$B$5001,MATCH(表格模板!A2990,建筑!$A$2:$A$5001,0),COLUMN(A2990))","v":{"$error":"#N/A"}},null,{"$f":"INDEX(设备类型!$B$2:$B$5001,MATCH(表格模板!C2990,设备类型!$A$2:$A$5001,0),COLUMN(A2990))","v":{"$error":"#N/A"}}]
[null,{"$f":"INDEX(建筑!$B$2:$B$5001,MATCH(表格模板!A2991,建筑!$A$2:$A$5001,0),COLUMN(A2991))","v":{"$error":"#N/A"}},null,{"$f":"INDEX(设备类型!$B$2:$B$5001,MATCH(表格模板!C2991,设备类型!$A$2:$A$5001,0),COLUMN(A2991))","v":{"$error":"#N/A"}}]
[null,{"$f":"INDEX(建筑!$B$2:$B$5001,MATCH(表格模板!A2992,建筑!$A$2:$A$5001,0),COLUMN(A2992))","v":{"$error":"#N/A"}},null,{"$f":"INDEX(设备类型!$B$2:$B$5001,MATCH(表格模板!C2992,设备类型!$A$2:$A$5001,0),COLUMN(A2992))","v":{"$error":"#N/A"}}]
[null,{"$f":"INDEX(建筑!$B$2:$B$5001,MATCH(表格模板!A2993,建筑!$A$2:$A$5001,0),COLUMN(A2993))","v":{"$error":"#N/A"}},null,{"$f":"INDEX(设备类型!$B$2:$B$5001,MATCH(表格模板!C2993,设备类型!$A$2:$A$5001,0),COLUMN(A2993))","v":{"$error":"#N/A"}}]
[null,{"$f":"INDEX(建筑!$B$2:$B$5001,MATCH(表格模板!A2994,建筑!$A$2:$A$5001,0),COLUMN(A2994))","v":{"$error":"#N/A"}},null,{"$f":"INDEX(设备类型!$B$2:$B$5001,MATCH(表格模板!C2994,设备类型!$A$2:$A$5001,0),COLUMN(A2994))","v":{"$error":"#N/A"}}]
[null,{"$f":"INDEX(建筑!$B$2:$B$5001,MATCH(表格模板!A2995,建筑!$A$2:$A$5001,0),COLUMN(A2995))","v":{"$error":"#N/A"}},null,{"$f":"INDEX(设备类型!$B$2:$B$5001,MATCH(表格模板!C2995,设备类型!$A$2:$A$5001,0),COLUMN(A2995))","v":{"$error":"#N/A"}}]
[null,{"$f":"INDEX(建筑!$B$2:$B$5001,MATCH(表格模板!A2996,建筑!$A$2:$A$5001,0),COLUMN(A2996))","v":{"$error":"#N/A"}},null,{"$f":"INDEX(设备类型!$B$2:$B$5001,MATCH(表格模板!C2996,设备类型!$A$2:$A$5001,0),COLUMN(A2996))","v":{"$error":"#N/A"}}]
[null,{"$f":"INDEX(建筑!$B$2:$B$5001,MATCH(表格模板!A2997,建筑!$A$2:$A$5001,0),COLUMN(A2997))","v":{"$error":"#N/A"}},null,{"$f":"INDEX(设备类型!$B$2:$B$5001,MATCH(表格模板!C2997,设备类型!$A$2:$A$5001,0),COLUMN(A2997))","v":{"$error":"#N/A"}}]
[null,{"$f":"INDEX(建筑!$B$2:$B$5001,MATCH(表格模板!A2998,建筑!$A$2:$A$5001,0),COLUMN(A2998))","v":{"$error":"#N/A"}},null,{"$f":"INDEX(设备类型!$B$2:$B$5001,MATCH(表格模板!C2998,设备类型!$A$2:$A$5001,0),COLUMN(A2998))","v":{"$error":"#N/A"}}]
[null,{"$f":"INDEX(建筑!$B$2:$B$5001,MATCH(表格模板!A2999,建筑!$A$2:$A$5001,0),COLUMN(A2999))","v":{"$error":"#N/A"}},null,{"$f":"INDEX(设备类型!$B$2:$B$5001,MATCH(表格模板!C2999,设备类型!$A$2:$A$5001,0),COLUMN(A2999))","v":{"$error":"#N/A"}}]
[null,{"$f":"INDEX(建筑!$B$2:$B$5001,MATCH(表格模板!A3000,建筑!$A$2:$A$5001,0),COLUMN(A3000))","v":{"$error":"#N/A"}},null,{"$f":"INDEX(设备类型!$B$2:$B$5001,MATCH(表格模板!C3000,设备类型!$A$2:$A$5001,0),COLUMN(A3000))","v":{"$error":"#N/A"}}]
[null,{"$f":"INDEX(建筑!$B$2:$B$5001,MATCH(表格模板!A3001,建筑!$A$2:$A$5001,0),COLUMN(A3001))","v":{"$error":"#N/A"}},null,{"$f":"INDEX(设备类型!$B$2:$B$5001,MATCH(表格模板!C3001,设备类型!$A$2:$A$5001,0),COLUMN(A3001))","v":{"$error":"#N/A"}}]
[null,{"$f":"INDEX(建筑!$B$2:$B$5001,MATCH(表格模板!A3002,建筑!$A$2:$A$5001,0),COLUMN(A3002))","v":{"$error":"#N/A"}},null,{"$f":"INDEX(设备类型!$B$2:$B$5001,MATCH(表格模板!C3002,设备类型!$A$2:$A$5001,0),COLUMN(A3002))","v":{"$error":"#N/A"}}]
[null,{"$f":"INDEX(建筑!$B$2:$B$5001,MATCH(表格模板!A3003,建筑!$A$2:$A$5001,0),COLUMN(A3003))","v":{"$error":"#N/A"}},null,{"$f":"INDEX(设备类型!$B$2:$B$5001,MATCH(表格模板!C3003,设备类型!$A$2:$A$5001,0),COLUMN(A3003))","v":{"$error":"#N/A"}}]
[null,{"$f":"INDEX(建筑!$B$2:$B$5001,MATCH(表格模板!A3004,建筑!$A$2:$A$5001,0),COLUMN(A3004))","v":{"$error":"#N/A"}},null,{"$f":"INDEX(设备类型!$B$2:$B$5001,MATCH(表格模板!C3004,设备类型!$A$2:$A$5001,0),COLUMN(A3004))","v":{"$error":"#N/A"}}]
[null,{"$f":"INDEX(建筑!$B$2:$B$5001,MATCH(表格模板!A3005,建筑!$A$2:$A$5001,0),COLUMN(A3005))","v":{"$error":"#N/A"}},null,{"$f":"INDEX(设备类型!$B$2:$B$5001,MATCH(表格模板!C3005,设备类型!$A$2:$A$5001,0),COLUMN(A3005))","v":{"$error":"#N/A"}}]
[null,{"$f":"INDEX(建筑!$B$2:$B$5001,MATCH(表格模板!A3006,建筑!$A$2:$A$5001,0),COLUMN(A3006))","v":{"$error":"#N/A"}},null,{"$f":"INDEX(设备类型!$B$2:$B$5001,MATCH(表格模板!C3006,设备类型!$A$2:$A$5001,0),COLUMN(A3006))","v":{"$error":"#N/A"}}]
[null,{"$f":"INDEX(建筑!$B$2:$B$5001,MATCH(表格模板!A3007,建筑!$A$2:$A$5001,0),COLUMN(A3007))","v":{"$error":"#N/A"}},null,{"$f":"INDEX(设备类型!$B$2:$B$5001,MATCH(表格模板!C3007,设备类型!$A$2:$A$5001,0),COLUMN(A3007))","v":{"$error":"#N/A"}}]
[null,{"$f":"INDEX(建筑!$B$2:$B$5001,MATCH(表格模板!A3008,建筑!$A$2:$A$5001,0),COLUMN(A3008))","v":{"$error":"#N/A"}},null,{"$f":"INDEX(设备类型!$B$2:$B$5001,MATCH(表格模板!C3008,设备类型!$A$2:$A$5001,0),COLUMN(A3008))","v":{"$error":"#N/A"}}]
[null,{"$f":"INDEX(建筑!$B$2:$B$5001,MATCH(表格模板!A3009,建筑!$A$2:$A$5001,0),COLUMN(A3009))","v":{"$error":"#N/A"}},null,{"$f":"INDEX(设备类型!$B$2:$B$5001,MATCH(表格模板!C3009,设备类型!$A$2:$A$5001,0),COLUMN(A3009))","v":{"$error":"#N/A"}}]
[null,{"$f":"INDEX(建筑!$B$2:$B$5001,MATCH(表格模板!A3010,建筑!$A$2:$A$5001,0),COLUMN(A3010))","v":{"$error":"#N/A"}},null,{"$f":"INDEX(设备类型!$B$2:$B$5001,MATCH(表格模板!C3010,设备类型!$A$2:$A$5001,0),COLUMN(A3010))","v":{"$error":"#N/A"}}]
[null,{"$f":"INDEX(建筑!$B$2:$B$5001,MATCH(表格模板!A3011,建筑!$A$2:$A$5001,0),COLUMN(A3011))","v":{"$error":"#N/A"}},null,{"$f":"INDEX(设备类型!$B$2:$B$5001,MATCH(表格模板!C3011,设备类型!$A$2:$A$5001,0),COLUMN(A3011))","v":{"$error":"#N/A"}}]
[null,{"$f":"INDEX(建筑!$B$2:$B$5001,MATCH(表格模板!A3012,建筑!$A$2:$A$5001,0),COLUMN(A3012))","v":{"$error":"#N/A"}},null,{"$f":"INDEX(设备类型!$B$2:$B$5001,MATCH(表格模板!C3012,设备类型!$A$2:$A$5001,0),COLUMN(A3012))","v":{"$error":"#N/A"}}]
[null,{"$f":"INDEX(建筑!$B$2:$B$5001,MATCH(表格模板!A3013,建筑!$A$2:$A$5001,0),COLUMN(A3013))","v":{"$error":"#N/A"}},null,{"$f":"INDEX(设备类型!$B$2:$B$5001,MATCH(表格模板!C3013,设备类型!$A$2:$A$5001,0),COLUMN(A3013))","v":{"$error":"#N/A"}}]
[null,{"$f":"INDEX(建筑!$B$2:$B$5001,MATCH(表格模板!A3014,建筑!$A$2:$A$5001,0),COLUMN(A3014))","v":{"$error":"#N/A"}},null,{"$f":"INDEX(设备类型!$B$2:$B$5001,MATCH(表格模板!C3014,设备类型!$A$2:$A$5001,0),COLUMN(A3014))","v":{"$error":"#N/A"}}]
[null,{"$f":"INDEX(建筑!$B$2:$B$5001,MATCH(表格模板!A3015,建筑!$A$2:$A$5001,0),COLUMN(A3015))","v":{"$error":"#N/A"}},null,{"$f":"INDEX(设备类型!$B$2:$B$5001,MATCH(表格模板!C3015,设备类型!$A$2:$A$5001,0),COLUMN(A3015))","v":{"$error":"#N/A"}}]
[null,{"$f":"INDEX(建筑!$B$2:$B$5001,MATCH(表格模板!A3016,建筑!$A$2:$A$5001,0),COLUMN(A3016))","v":{"$error":"#N/A"}},null,{"$f":"INDEX(设备类型!$B$2:$B$5001,MATCH(表格模板!C3016,设备类型!$A$2:$A$5001,0),COLUMN(A3016))","v":{"$error":"#N/A"}}]
[null,{"$f":"INDEX(建筑!$B$2:$B$5001,MATCH(表格模板!A3017,建筑!$A$2:$A$5001,0),COLUMN(A3017))","v":{"$error":"#N/A"}},null,{"$f":"INDEX(设备类型!$B$2:$B$5001,MATCH(表格模板!C3017,设备类型!$A$2:$A$5001,0),COLUMN(A3017))","v":{"$error":"#N/A"}}]
[null,{"$f":"INDEX(建筑!$B$2:$B$5001,MATCH(表格模板!A3018,建筑!$A$2:$A$5001,0),COLUMN(A3018))","v":{"$error":"#N/A"}},null,{"$f":"INDEX(设备类型!$B$2:$B$5001,MATCH(表格模板!C3018,设备类型!$A$2:$A$5001,0),COLUMN(A3018))","v":{"$error":"#N/A"}}]
[null,{"$f":"INDEX(建筑!$B$2:$B$5001,MATCH(表格模板!A3019,建筑!$A$2:$A$5001,0),COLUMN(A3019))","v":{"$error":"#N/A"}},null,{"$f":"INDEX(设备类型!$B$2:$B$5001,MATCH(表格模板!C3019,设备类型!$A$2:$A$5001,0),COLUMN(A3019))","v":{"$error":"#N/A"}}]
[null,{"$f":"INDEX(建筑!$B$2:$B$5001,MATCH(表格模板!A3020,建筑!$A$2:$A$5001,0),COLUMN(A3020))","v":{"$error":"#N/A"}},null,{"$f":"INDEX(设备类型!$B$2:$B$5001,MATCH(表格模板!C3020,设备类型!$A$2:$A$5001,0),COLUMN(A3020))","v":{"$error":"#N/A"}}]
[null,{"$f":"INDEX(建筑!$B$2:$B$5001,MATCH(表格模板!A3021,建筑!$A$2:$A$5001,0),COLUMN(A3021))","v":{"$error":"#N/A"}},null,{"$f":"INDEX(设备类型!$B$2:$B$5001,MATCH(表格模板!C3021,设备类型!$A$2:$A$5001,0),COLUMN(A3021))","v":{"$error":"#N/A"}}]
[null,{"$f":"INDEX(建筑!$B$2:$B$5001,MATCH(表格模板!A3022,建筑!$A$2:$A$5001,0),COLUMN(A3022))","v":{"$error":"#N/A"}},null,{"$f":"INDEX(设备类型!$B$2:$B$5001,MATCH(表格模板!C3022,设备类型!$A$2:$A$5001,0),COLUMN(A3022))","v":{"$error":"#N/A"}}]
[null,{"$f":"INDEX(建筑!$B$2:$B$5001,MATCH(表格模板!A3023,建筑!$A$2:$A$5001,0),COLUMN(A3023))","v":{"$error":"#N/A"}},null,{"$f":"INDEX(设备类型!$B$2:$B$5001,MATCH(表格模板!C3023,设备类型!$A$2:$A$5001,0),COLUMN(A3023))","v":{"$error":"#N/A"}}]
[null,{"$f":"INDEX(建筑!$B$2:$B$5001,MATCH(表格模板!A3024,建筑!$A$2:$A$5001,0),COLUMN(A3024))","v":{"$error":"#N/A"}},null,{"$f":"INDEX(设备类型!$B$2:$B$5001,MATCH(表格模板!C3024,设备类型!$A$2:$A$5001,0),COLUMN(A3024))","v":{"$error":"#N/A"}}]
[null,{"$f":"INDEX(建筑!$B$2:$B$5001,MATCH(表格模板!A3025,建筑!$A$2:$A$5001,0),COLUMN(A3025))","v":{"$error":"#N/A"}},null,{"$f":"INDEX(设备类型!$B$2:$B$5001,MATCH(表格模板!C3025,设备类型!$A$2:$A$5001,0),COLUMN(A3025))","v":{"$error":"#N/A"}}]
[null,{"$f":"INDEX(建筑!$B$2:$B$5001,MATCH(表格模板!A3026,建筑!$A$2:$A$5001,0),COLUMN(A3026))","v":{"$error":"#N/A"}},null,{"$f":"INDEX(设备类型!$B$2:$B$5001,MATCH(表格模板!C3026,设备类型!$A$2:$A$5001,0),COLUMN(A3026))","v":{"$error":"#N/A"}}]
[null,{"$f":"INDEX(建筑!$B$2:$B$5001,MATCH(表格模板!A3027,建筑!$A$2:$A$5001,0),COLUMN(A3027))","v":{"$error":"#N/A"}},null,{"$f":"INDEX(设备类型!$B$2:$B$5001,MATCH(表格模板!C3027,设备类型!$A$2:$A$5001,0),COLUMN(A3027))","v":{"$error":"#N/A"}}]
[null,{"$f":"INDEX(建筑!$B$2:$B$5001,MATCH(表格模板!A3028,建筑!$A$2:$A$5001,0),COLUMN(A3028))","v":{"$error":"#N/A"}},null,{"$f":"INDEX(设备类型!$B$2:$B$5001,MATCH(表格模板!C3028,设备类型!$A$2:$A$5001,0),COLUMN(A3028))","v":{"$error":"#N/A"}}]
[null,{"$f":"INDEX(建筑!$B$2:$B$5001,MATCH(表格模板!A3029,建筑!$A$2:$A$5001,0),COLUMN(A3029))","v":{"$error":"#N/A"}},null,{"$f":"INDEX(设备类型!$B$2:$B$5001,MATCH(表格模板!C3029,设备类型!$A$2:$A$5001,0),COLUMN(A3029))","v":{"$error":"#N/A"}}]
[null,{"$f":"INDEX(建筑!$B$2:$B$5001,MATCH(表格模板!A3030,建筑!$A$2:$A$5001,0),COLUMN(A3030))","v":{"$error":"#N/A"}},null,{"$f":"INDEX(设备类型!$B$2:$B$5001,MATCH(表格模板!C3030,设备类型!$A$2:$A$5001,0),COLUMN(A3030))","v":{"$error":"#N/A"}}]
[null,{"$f":"INDEX(建筑!$B$2:$B$5001,MATCH(表格模板!A3031,建筑!$A$2:$A$5001,0),COLUMN(A3031))","v":{"$error":"#N/A"}},null,{"$f":"INDEX(设备类型!$B$2:$B$5001,MATCH(表格模板!C3031,设备类型!$A$2:$A$5001,0),COLUMN(A3031))","v":{"$error":"#N/A"}}]
[null,{"$f":"INDEX(建筑!$B$2:$B$5001,MATCH(表格模板!A3032,建筑!$A$2:$A$5001,0),COLUMN(A3032))","v":{"$error":"#N/A"}},null,{"$f":"INDEX(设备类型!$B$2:$B$5001,MATCH(表格模板!C3032,设备类型!$A$2:$A$5001,0),COLUMN(A3032))","v":{"$error":"#N/A"}}]
[null,{"$f":"INDEX(建筑!$B$2:$B$5001,MATCH(表格模板!A3033,建筑!$A$2:$A$5001,0),COLUMN(A3033))","v":{"$error":"#N/A"}},null,{"$f":"INDEX(设备类型!$B$2:$B$5001,MATCH(表格模板!C3033,设备类型!$A$2:$A$5001,0),COLUMN(A3033))","v":{"$error":"#N/A"}}]
[null,{"$f":"INDEX(建筑!$B$2:$B$5001,MATCH(表格模板!A3034,建筑!$A$2:$A$5001,0),COLUMN(A3034))","v":{"$error":"#N/A"}},null,{"$f":"INDEX(设备类型!$B$2:$B$5001,MATCH(表格模板!C3034,设备类型!$A$2:$A$5001,0),COLUMN(A3034))","v":{"$error":"#N/A"}}]
[null,{"$f":"INDEX(建筑!$B$2:$B$5001,MATCH(表格模板!A3035,建筑!$A$2:$A$5001,0),COLUMN(A3035))","v":{"$error":"#N/A"}},null,{"$f":"INDEX(设备类型!$B$2:$B$5001,MATCH(表格模板!C3035,设备类型!$A$2:$A$5001,0),COLUMN(A3035))","v":{"$error":"#N/A"}}]
[null,{"$f":"INDEX(建筑!$B$2:$B$5001,MATCH(表格模板!A3036,建筑!$A$2:$A$5001,0),COLUMN(A3036))","v":{"$error":"#N/A"}},null,{"$f":"INDEX(设备类型!$B$2:$B$5001,MATCH(表格模板!C3036,设备类型!$A$2:$A$5001,0),COLUMN(A3036))","v":{"$error":"#N/A"}}]
[null,{"$f":"INDEX(建筑!$B$2:$B$5001,MATCH(表格模板!A3037,建筑!$A$2:$A$5001,0),COLUMN(A3037))","v":{"$error":"#N/A"}},null,{"$f":"INDEX(设备类型!$B$2:$B$5001,MATCH(表格模板!C3037,设备类型!$A$2:$A$5001,0),COLUMN(A3037))","v":{"$error":"#N/A"}}]
[null,{"$f":"INDEX(建筑!$B$2:$B$5001,MATCH(表格模板!A3038,建筑!$A$2:$A$5001,0),COLUMN(A3038))","v":{"$error":"#N/A"}},null,{"$f":"INDEX(设备类型!$B$2:$B$5001,MATCH(表格模板!C3038,设备类型!$A$2:$A$5001,0),COLUMN(A3038))","v":{"$error":"#N/A"}}]
[null,{"$f":"INDEX(建筑!$B$2:$B$5001,MATCH(表格模板!A3039,建筑!$A$2:$A$5001,0),COLUMN(A3039))","v":{"$error":"#N/A"}},null,{"$f":"INDEX(设备类型!$B$2:$B$5001,MATCH(表格模板!C3039,设备类型!$A$2:$A$5001,0),COLUMN(A3039))","v":{"$error":"#N/A"}}]
[null,{"$f":"INDEX(建筑!$B$2:$B$5001,MATCH(表格模板!A3040,建筑!$A$2:$A$5001,0),COLUMN(A3040))","v":{"$error":"#N/A"}},null,{"$f":"INDEX(设备类型!$B$2:$B$5001,MATCH(表格模板!C3040,设备类型!$A$2:$A$5001,0),COLUMN(A3040))","v":{"$error":"#N/A"}}]
[null,{"$f":"INDEX(建筑!$B$2:$B$5001,MATCH(表格模板!A3041,建筑!$A$2:$A$5001,0),COLUMN(A3041))","v":{"$error":"#N/A"}},null,{"$f":"INDEX(设备类型!$B$2:$B$5001,MATCH(表格模板!C3041,设备类型!$A$2:$A$5001,0),COLUMN(A3041))","v":{"$error":"#N/A"}}]
[null,{"$f":"INDEX(建筑!$B$2:$B$5001,MATCH(表格模板!A3042,建筑!$A$2:$A$5001,0),COLUMN(A3042))","v":{"$error":"#N/A"}},null,{"$f":"INDEX(设备类型!$B$2:$B$5001,MATCH(表格模板!C3042,设备类型!$A$2:$A$5001,0),COLUMN(A3042))","v":{"$error":"#N/A"}}]
[null,{"$f":"INDEX(建筑!$B$2:$B$5001,MATCH(表格模板!A3043,建筑!$A$2:$A$5001,0),COLUMN(A3043))","v":{"$error":"#N/A"}},null,{"$f":"INDEX(设备类型!$B$2:$B$5001,MATCH(表格模板!C3043,设备类型!$A$2:$A$5001,0),COLUMN(A3043))","v":{"$error":"#N/A"}}]
[null,{"$f":"INDEX(建筑!$B$2:$B$5001,MATCH(表格模板!A3044,建筑!$A$2:$A$5001,0),COLUMN(A3044))","v":{"$error":"#N/A"}},null,{"$f":"INDEX(设备类型!$B$2:$B$5001,MATCH(表格模板!C3044,设备类型!$A$2:$A$5001,0),COLUMN(A3044))","v":{"$error":"#N/A"}}]
[null,{"$f":"INDEX(建筑!$B$2:$B$5001,MATCH(表格模板!A3045,建筑!$A$2:$A$5001,0),COLUMN(A3045))","v":{"$error":"#N/A"}},null,{"$f":"INDEX(设备类型!$B$2:$B$5001,MATCH(表格模板!C3045,设备类型!$A$2:$A$5001,0),COLUMN(A3045))","v":{"$error":"#N/A"}}]
[null,{"$f":"INDEX(建筑!$B$2:$B$5001,MATCH(表格模板!A3046,建筑!$A$2:$A$5001,0),COLUMN(A3046))","v":{"$error":"#N/A"}},null,{"$f":"INDEX(设备类型!$B$2:$B$5001,MATCH(表格模板!C3046,设备类型!$A$2:$A$5001,0),COLUMN(A3046))","v":{"$error":"#N/A"}}]
[null,{"$f":"INDEX(建筑!$B$2:$B$5001,MATCH(表格模板!A3047,建筑!$A$2:$A$5001,0),COLUMN(A3047))","v":{"$error":"#N/A"}},null,{"$f":"INDEX(设备类型!$B$2:$B$5001,MATCH(表格模板!C3047,设备类型!$A$2:$A$5001,0),COLUMN(A3047))","v":{"$error":"#N/A"}}]
[null,{"$f":"INDEX(建筑!$B$2:$B$5001,MATCH(表格模板!A3048,建筑!$A$2:$A$5001,0),COLUMN(A3048))","v":{"$error":"#N/A"}},null,{"$f":"INDEX(设备类型!$B$2:$B$5001,MATCH(表格模板!C3048,设备类型!$A$2:$A$5001,0),COLUMN(A3048))","v":{"$error":"#N/A"}}]
[null,{"$f":"INDEX(建筑!$B$2:$B$5001,MATCH(表格模板!A3049,建筑!$A$2:$A$5001,0),COLUMN(A3049))","v":{"$error":"#N/A"}},null,{"$f":"INDEX(设备类型!$B$2:$B$5001,MATCH(表格模板!C3049,设备类型!$A$2:$A$5001,0),COLUMN(A3049))","v":{"$error":"#N/A"}}]
[null,{"$f":"INDEX(建筑!$B$2:$B$5001,MATCH(表格模板!A3050,建筑!$A$2:$A$5001,0),COLUMN(A3050))","v":{"$error":"#N/A"}},null,{"$f":"INDEX(设备类型!$B$2:$B$5001,MATCH(表格模板!C3050,设备类型!$A$2:$A$5001,0),COLUMN(A3050))","v":{"$error":"#N/A"}}]
[null,{"$f":"INDEX(建筑!$B$2:$B$5001,MATCH(表格模板!A3051,建筑!$A$2:$A$5001,0),COLUMN(A3051))","v":{"$error":"#N/A"}},null,{"$f":"INDEX(设备类型!$B$2:$B$5001,MATCH(表格模板!C3051,设备类型!$A$2:$A$5001,0),COLUMN(A3051))","v":{"$error":"#N/A"}}]
[null,{"$f":"INDEX(建筑!$B$2:$B$5001,MATCH(表格模板!A3052,建筑!$A$2:$A$5001,0),COLUMN(A3052))","v":{"$error":"#N/A"}},null,{"$f":"INDEX(设备类型!$B$2:$B$5001,MATCH(表格模板!C3052,设备类型!$A$2:$A$5001,0),COLUMN(A3052))","v":{"$error":"#N/A"}}]
[null,{"$f":"INDEX(建筑!$B$2:$B$5001,MATCH(表格模板!A3053,建筑!$A$2:$A$5001,0),COLUMN(A3053))","v":{"$error":"#N/A"}},null,{"$f":"INDEX(设备类型!$B$2:$B$5001,MATCH(表格模板!C3053,设备类型!$A$2:$A$5001,0),COLUMN(A3053))","v":{"$error":"#N/A"}}]
[null,{"$f":"INDEX(建筑!$B$2:$B$5001,MATCH(表格模板!A3054,建筑!$A$2:$A$5001,0),COLUMN(A3054))","v":{"$error":"#N/A"}},null,{"$f":"INDEX(设备类型!$B$2:$B$5001,MATCH(表格模板!C3054,设备类型!$A$2:$A$5001,0),COLUMN(A3054))","v":{"$error":"#N/A"}}]
[null,{"$f":"INDEX(建筑!$B$2:$B$5001,MATCH(表格模板!A3055,建筑!$A$2:$A$5001,0),COLUMN(A3055))","v":{"$error":"#N/A"}},null,{"$f":"INDEX(设备类型!$B$2:$B$5001,MATCH(表格模板!C3055,设备类型!$A$2:$A$5001,0),COLUMN(A3055))","v":{"$error":"#N/A"}}]
[null,{"$f":"INDEX(建筑!$B$2:$B$5001,MATCH(表格模板!A3056,建筑!$A$2:$A$5001,0),COLUMN(A3056))","v":{"$error":"#N/A"}},null,{"$f":"INDEX(设备类型!$B$2:$B$5001,MATCH(表格模板!C3056,设备类型!$A$2:$A$5001,0),COLUMN(A3056))","v":{"$error":"#N/A"}}]
[null,{"$f":"INDEX(建筑!$B$2:$B$5001,MATCH(表格模板!A3057,建筑!$A$2:$A$5001,0),COLUMN(A3057))","v":{"$error":"#N/A"}},null,{"$f":"INDEX(设备类型!$B$2:$B$5001,MATCH(表格模板!C3057,设备类型!$A$2:$A$5001,0),COLUMN(A3057))","v":{"$error":"#N/A"}}]
[null,{"$f":"INDEX(建筑!$B$2:$B$5001,MATCH(表格模板!A3058,建筑!$A$2:$A$5001,0),COLUMN(A3058))","v":{"$error":"#N/A"}},null,{"$f":"INDEX(设备类型!$B$2:$B$5001,MATCH(表格模板!C3058,设备类型!$A$2:$A$5001,0),COLUMN(A3058))","v":{"$error":"#N/A"}}]
[null,{"$f":"INDEX(建筑!$B$2:$B$5001,MATCH(表格模板!A3059,建筑!$A$2:$A$5001,0),COLUMN(A3059))","v":{"$error":"#N/A"}},null,{"$f":"INDEX(设备类型!$B$2:$B$5001,MATCH(表格模板!C3059,设备类型!$A$2:$A$5001,0),COLUMN(A3059))","v":{"$error":"#N/A"}}]
[null,{"$f":"INDEX(建筑!$B$2:$B$5001,MATCH(表格模板!A3060,建筑!$A$2:$A$5001,0),COLUMN(A3060))","v":{"$error":"#N/A"}},null,{"$f":"INDEX(设备类型!$B$2:$B$5001,MATCH(表格模板!C3060,设备类型!$A$2:$A$5001,0),COLUMN(A3060))","v":{"$error":"#N/A"}}]
[null,{"$f":"INDEX(建筑!$B$2:$B$5001,MATCH(表格模板!A3061,建筑!$A$2:$A$5001,0),COLUMN(A3061))","v":{"$error":"#N/A"}},null,{"$f":"INDEX(设备类型!$B$2:$B$5001,MATCH(表格模板!C3061,设备类型!$A$2:$A$5001,0),COLUMN(A3061))","v":{"$error":"#N/A"}}]
[null,{"$f":"INDEX(建筑!$B$2:$B$5001,MATCH(表格模板!A3062,建筑!$A$2:$A$5001,0),COLUMN(A3062))","v":{"$error":"#N/A"}},null,{"$f":"INDEX(设备类型!$B$2:$B$5001,MATCH(表格模板!C3062,设备类型!$A$2:$A$5001,0),COLUMN(A3062))","v":{"$error":"#N/A"}}]
[null,{"$f":"INDEX(建筑!$B$2:$B$5001,MATCH(表格模板!A3063,建筑!$A$2:$A$5001,0),COLUMN(A3063))","v":{"$error":"#N/A"}},null,{"$f":"INDEX(设备类型!$B$2:$B$5001,MATCH(表格模板!C3063,设备类型!$A$2:$A$5001,0),COLUMN(A3063))","v":{"$error":"#N/A"}}]
[null,{"$f":"INDEX(建筑!$B$2:$B$5001,MATCH(表格模板!A3064,建筑!$A$2:$A$5001,0),COLUMN(A3064))","v":{"$error":"#N/A"}},null,{"$f":"INDEX(设备类型!$B$2:$B$5001,MATCH(表格模板!C3064,设备类型!$A$2:$A$5001,0),COLUMN(A3064))","v":{"$error":"#N/A"}}]
[null,{"$f":"INDEX(建筑!$B$2:$B$5001,MATCH(表格模板!A3065,建筑!$A$2:$A$5001,0),COLUMN(A3065))","v":{"$error":"#N/A"}},null,{"$f":"INDEX(设备类型!$B$2:$B$5001,MATCH(表格模板!C3065,设备类型!$A$2:$A$5001,0),COLUMN(A3065))","v":{"$error":"#N/A"}}]
[null,{"$f":"INDEX(建筑!$B$2:$B$5001,MATCH(表格模板!A3066,建筑!$A$2:$A$5001,0),COLUMN(A3066))","v":{"$error":"#N/A"}},null,{"$f":"INDEX(设备类型!$B$2:$B$5001,MATCH(表格模板!C3066,设备类型!$A$2:$A$5001,0),COLUMN(A3066))","v":{"$error":"#N/A"}}]
[null,{"$f":"INDEX(建筑!$B$2:$B$5001,MATCH(表格模板!A3067,建筑!$A$2:$A$5001,0),COLUMN(A3067))","v":{"$error":"#N/A"}},null,{"$f":"INDEX(设备类型!$B$2:$B$5001,MATCH(表格模板!C3067,设备类型!$A$2:$A$5001,0),COLUMN(A3067))","v":{"$error":"#N/A"}}]
[null,{"$f":"INDEX(建筑!$B$2:$B$5001,MATCH(表格模板!A3068,建筑!$A$2:$A$5001,0),COLUMN(A3068))","v":{"$error":"#N/A"}},null,{"$f":"INDEX(设备类型!$B$2:$B$5001,MATCH(表格模板!C3068,设备类型!$A$2:$A$5001,0),COLUMN(A3068))","v":{"$error":"#N/A"}}]
[null,{"$f":"INDEX(建筑!$B$2:$B$5001,MATCH(表格模板!A3069,建筑!$A$2:$A$5001,0),COLUMN(A3069))","v":{"$error":"#N/A"}},null,{"$f":"INDEX(设备类型!$B$2:$B$5001,MATCH(表格模板!C3069,设备类型!$A$2:$A$5001,0),COLUMN(A3069))","v":{"$error":"#N/A"}}]
[null,{"$f":"INDEX(建筑!$B$2:$B$5001,MATCH(表格模板!A3070,建筑!$A$2:$A$5001,0),COLUMN(A3070))","v":{"$error":"#N/A"}},null,{"$f":"INDEX(设备类型!$B$2:$B$5001,MATCH(表格模板!C3070,设备类型!$A$2:$A$5001,0),COLUMN(A3070))","v":{"$error":"#N/A"}}]
[null,{"$f":"INDEX(建筑!$B$2:$B$5001,MATCH(表格模板!A3071,建筑!$A$2:$A$5001,0),COLUMN(A3071))","v":{"$error":"#N/A"}},null,{"$f":"INDEX(设备类型!$B$2:$B$5001,MATCH(表格模板!C3071,设备类型!$A$2:$A$5001,0),COLUMN(A3071))","v":{"$error":"#N/A"}}]
[null,{"$f":"INDEX(建筑!$B$2:$B$5001,MATCH(表格模板!A3072,建筑!$A$2:$A$5001,0),COLUMN(A3072))","v":{"$error":"#N/A"}},null,{"$f":"INDEX(设备类型!$B$2:$B$5001,MATCH(表格模板!C3072,设备类型!$A$2:$A$5001,0),COLUMN(A3072))","v":{"$error":"#N/A"}}]
[null,{"$f":"INDEX(建筑!$B$2:$B$5001,MATCH(表格模板!A3073,建筑!$A$2:$A$5001,0),COLUMN(A3073))","v":{"$error":"#N/A"}},null,{"$f":"INDEX(设备类型!$B$2:$B$5001,MATCH(表格模板!C3073,设备类型!$A$2:$A$5001,0),COLUMN(A3073))","v":{"$error":"#N/A"}}]
[null,{"$f":"INDEX(建筑!$B$2:$B$5001,MATCH(表格模板!A3074,建筑!$A$2:$A$5001,0),COLUMN(A3074))","v":{"$error":"#N/A"}},null,{"$f":"INDEX(设备类型!$B$2:$B$5001,MATCH(表格模板!C3074,设备类型!$A$2:$A$5001,0),COLUMN(A3074))","v":{"$error":"#N/A"}}]
[null,{"$f":"INDEX(建筑!$B$2:$B$5001,MATCH(表格模板!A3075,建筑!$A$2:$A$5001,0),COLUMN(A3075))","v":{"$error":"#N/A"}},null,{"$f":"INDEX(设备类型!$B$2:$B$5001,MATCH(表格模板!C3075,设备类型!$A$2:$A$5001,0),COLUMN(A3075))","v":{"$error":"#N/A"}}]
[null,{"$f":"INDEX(建筑!$B$2:$B$5001,MATCH(表格模板!A3076,建筑!$A$2:$A$5001,0),COLUMN(A3076))","v":{"$error":"#N/A"}},null,{"$f":"INDEX(设备类型!$B$2:$B$5001,MATCH(表格模板!C3076,设备类型!$A$2:$A$5001,0),COLUMN(A3076))","v":{"$error":"#N/A"}}]
[null,{"$f":"INDEX(建筑!$B$2:$B$5001,MATCH(表格模板!A3077,建筑!$A$2:$A$5001,0),COLUMN(A3077))","v":{"$error":"#N/A"}},null,{"$f":"INDEX(设备类型!$B$2:$B$5001,MATCH(表格模板!C3077,设备类型!$A$2:$A$5001,0),COLUMN(A3077))","v":{"$error":"#N/A"}}]
[null,{"$f":"INDEX(建筑!$B$2:$B$5001,MATCH(表格模板!A3078,建筑!$A$2:$A$5001,0),COLUMN(A3078))","v":{"$error":"#N/A"}},null,{"$f":"INDEX(设备类型!$B$2:$B$5001,MATCH(表格模板!C3078,设备类型!$A$2:$A$5001,0),COLUMN(A3078))","v":{"$error":"#N/A"}}]
[null,{"$f":"INDEX(建筑!$B$2:$B$5001,MATCH(表格模板!A3079,建筑!$A$2:$A$5001,0),COLUMN(A3079))","v":{"$error":"#N/A"}},null,{"$f":"INDEX(设备类型!$B$2:$B$5001,MATCH(表格模板!C3079,设备类型!$A$2:$A$5001,0),COLUMN(A3079))","v":{"$error":"#N/A"}}]
[null,{"$f":"INDEX(建筑!$B$2:$B$5001,MATCH(表格模板!A3080,建筑!$A$2:$A$5001,0),COLUMN(A3080))","v":{"$error":"#N/A"}},null,{"$f":"INDEX(设备类型!$B$2:$B$5001,MATCH(表格模板!C3080,设备类型!$A$2:$A$5001,0),COLUMN(A3080))","v":{"$error":"#N/A"}}]
[null,{"$f":"INDEX(建筑!$B$2:$B$5001,MATCH(表格模板!A3081,建筑!$A$2:$A$5001,0),COLUMN(A3081))","v":{"$error":"#N/A"}},null,{"$f":"INDEX(设备类型!$B$2:$B$5001,MATCH(表格模板!C3081,设备类型!$A$2:$A$5001,0),COLUMN(A3081))","v":{"$error":"#N/A"}}]
[null,{"$f":"INDEX(建筑!$B$2:$B$5001,MATCH(表格模板!A3082,建筑!$A$2:$A$5001,0),COLUMN(A3082))","v":{"$error":"#N/A"}},null,{"$f":"INDEX(设备类型!$B$2:$B$5001,MATCH(表格模板!C3082,设备类型!$A$2:$A$5001,0),COLUMN(A3082))","v":{"$error":"#N/A"}}]
[null,{"$f":"INDEX(建筑!$B$2:$B$5001,MATCH(表格模板!A3083,建筑!$A$2:$A$5001,0),COLUMN(A3083))","v":{"$error":"#N/A"}},null,{"$f":"INDEX(设备类型!$B$2:$B$5001,MATCH(表格模板!C3083,设备类型!$A$2:$A$5001,0),COLUMN(A3083))","v":{"$error":"#N/A"}}]
[null,{"$f":"INDEX(建筑!$B$2:$B$5001,MATCH(表格模板!A3084,建筑!$A$2:$A$5001,0),COLUMN(A3084))","v":{"$error":"#N/A"}},null,{"$f":"INDEX(设备类型!$B$2:$B$5001,MATCH(表格模板!C3084,设备类型!$A$2:$A$5001,0),COLUMN(A3084))","v":{"$error":"#N/A"}}]
[null,{"$f":"INDEX(建筑!$B$2:$B$5001,MATCH(表格模板!A3085,建筑!$A$2:$A$5001,0),COLUMN(A3085))","v":{"$error":"#N/A"}},null,{"$f":"INDEX(设备类型!$B$2:$B$5001,MATCH(表格模板!C3085,设备类型!$A$2:$A$5001,0),COLUMN(A3085))","v":{"$error":"#N/A"}}]
[null,{"$f":"INDEX(建筑!$B$2:$B$5001,MATCH(表格模板!A3086,建筑!$A$2:$A$5001,0),COLUMN(A3086))","v":{"$error":"#N/A"}},null,{"$f":"INDEX(设备类型!$B$2:$B$5001,MATCH(表格模板!C3086,设备类型!$A$2:$A$5001,0),COLUMN(A3086))","v":{"$error":"#N/A"}}]
[null,{"$f":"INDEX(建筑!$B$2:$B$5001,MATCH(表格模板!A3087,建筑!$A$2:$A$5001,0),COLUMN(A3087))","v":{"$error":"#N/A"}},null,{"$f":"INDEX(设备类型!$B$2:$B$5001,MATCH(表格模板!C3087,设备类型!$A$2:$A$5001,0),COLUMN(A3087))","v":{"$error":"#N/A"}}]
[null,{"$f":"INDEX(建筑!$B$2:$B$5001,MATCH(表格模板!A3088,建筑!$A$2:$A$5001,0),COLUMN(A3088))","v":{"$error":"#N/A"}},null,{"$f":"INDEX(设备类型!$B$2:$B$5001,MATCH(表格模板!C3088,设备类型!$A$2:$A$5001,0),COLUMN(A3088))","v":{"$error":"#N/A"}}]
[null,{"$f":"INDEX(建筑!$B$2:$B$5001,MATCH(表格模板!A3089,建筑!$A$2:$A$5001,0),COLUMN(A3089))","v":{"$error":"#N/A"}},null,{"$f":"INDEX(设备类型!$B$2:$B$5001,MATCH(表格模板!C3089,设备类型!$A$2:$A$5001,0),COLUMN(A3089))","v":{"$error":"#N/A"}}]
[null,{"$f":"INDEX(建筑!$B$2:$B$5001,MATCH(表格模板!A3090,建筑!$A$2:$A$5001,0),COLUMN(A3090))","v":{"$error":"#N/A"}},null,{"$f":"INDEX(设备类型!$B$2:$B$5001,MATCH(表格模板!C3090,设备类型!$A$2:$A$5001,0),COLUMN(A3090))","v":{"$error":"#N/A"}}]
[null,{"$f":"INDEX(建筑!$B$2:$B$5001,MATCH(表格模板!A3091,建筑!$A$2:$A$5001,0),COLUMN(A3091))","v":{"$error":"#N/A"}},null,{"$f":"INDEX(设备类型!$B$2:$B$5001,MATCH(表格模板!C3091,设备类型!$A$2:$A$5001,0),COLUMN(A3091))","v":{"$error":"#N/A"}}]
[null,{"$f":"INDEX(建筑!$B$2:$B$5001,MATCH(表格模板!A3092,建筑!$A$2:$A$5001,0),COLUMN(A3092))","v":{"$error":"#N/A"}},null,{"$f":"INDEX(设备类型!$B$2:$B$5001,MATCH(表格模板!C3092,设备类型!$A$2:$A$5001,0),COLUMN(A3092))","v":{"$error":"#N/A"}}]
[null,{"$f":"INDEX(建筑!$B$2:$B$5001,MATCH(表格模板!A3093,建筑!$A$2:$A$5001,0),COLUMN(A3093))","v":{"$error":"#N/A"}},null,{"$f":"INDEX(设备类型!$B$2:$B$5001,MATCH(表格模板!C3093,设备类型!$A$2:$A$5001,0),COLUMN(A3093))","v":{"$error":"#N/A"}}]
[null,{"$f":"INDEX(建筑!$B$2:$B$5001,MATCH(表格模板!A3094,建筑!$A$2:$A$5001,0),COLUMN(A3094))","v":{"$error":"#N/A"}},null,{"$f":"INDEX(设备类型!$B$2:$B$5001,MATCH(表格模板!C3094,设备类型!$A$2:$A$5001,0),COLUMN(A3094))","v":{"$error":"#N/A"}}]
[null,{"$f":"INDEX(建筑!$B$2:$B$5001,MATCH(表格模板!A3095,建筑!$A$2:$A$5001,0),COLUMN(A3095))","v":{"$error":"#N/A"}},null,{"$f":"INDEX(设备类型!$B$2:$B$5001,MATCH(表格模板!C3095,设备类型!$A$2:$A$5001,0),COLUMN(A3095))","v":{"$error":"#N/A"}}]
[null,{"$f":"INDEX(建筑!$B$2:$B$5001,MATCH(表格模板!A3096,建筑!$A$2:$A$5001,0),COLUMN(A3096))","v":{"$error":"#N/A"}},null,{"$f":"INDEX(设备类型!$B$2:$B$5001,MATCH(表格模板!C3096,设备类型!$A$2:$A$5001,0),COLUMN(A3096))","v":{"$error":"#N/A"}}]
[null,{"$f":"INDEX(建筑!$B$2:$B$5001,MATCH(表格模板!A3097,建筑!$A$2:$A$5001,0),COLUMN(A3097))","v":{"$error":"#N/A"}},null,{"$f":"INDEX(设备类型!$B$2:$B$5001,MATCH(表格模板!C3097,设备类型!$A$2:$A$5001,0),COLUMN(A3097))","v":{"$error":"#N/A"}}]
[null,{"$f":"INDEX(建筑!$B$2:$B$5001,MATCH(表格模板!A3098,建筑!$A$2:$A$5001,0),COLUMN(A3098))","v":{"$error":"#N/A"}},null,{"$f":"INDEX(设备类型!$B$2:$B$5001,MATCH(表格模板!C3098,设备类型!$A$2:$A$5001,0),COLUMN(A3098))","v":{"$error":"#N/A"}}]
[null,{"$f":"INDEX(建筑!$B$2:$B$5001,MATCH(表格模板!A3099,建筑!$A$2:$A$5001,0),COLUMN(A3099))","v":{"$error":"#N/A"}},null,{"$f":"INDEX(设备类型!$B$2:$B$5001,MATCH(表格模板!C3099,设备类型!$A$2:$A$5001,0),COLUMN(A3099))","v":{"$error":"#N/A"}}]
[null,{"$f":"INDEX(建筑!$B$2:$B$5001,MATCH(表格模板!A3100,建筑!$A$2:$A$5001,0),COLUMN(A3100))","v":{"$error":"#N/A"}},null,{"$f":"INDEX(设备类型!$B$2:$B$5001,MATCH(表格模板!C3100,设备类型!$A$2:$A$5001,0),COLUMN(A3100))","v":{"$error":"#N/A"}}]
[null,{"$f":"INDEX(建筑!$B$2:$B$5001,MATCH(表格模板!A3101,建筑!$A$2:$A$5001,0),COLUMN(A3101))","v":{"$error":"#N/A"}},null,{"$f":"INDEX(设备类型!$B$2:$B$5001,MATCH(表格模板!C3101,设备类型!$A$2:$A$5001,0),COLUMN(A3101))","v":{"$error":"#N/A"}}]
[null,{"$f":"INDEX(建筑!$B$2:$B$5001,MATCH(表格模板!A3102,建筑!$A$2:$A$5001,0),COLUMN(A3102))","v":{"$error":"#N/A"}},null,{"$f":"INDEX(设备类型!$B$2:$B$5001,MATCH(表格模板!C3102,设备类型!$A$2:$A$5001,0),COLUMN(A3102))","v":{"$error":"#N/A"}}]
[null,{"$f":"INDEX(建筑!$B$2:$B$5001,MATCH(表格模板!A3103,建筑!$A$2:$A$5001,0),COLUMN(A3103))","v":{"$error":"#N/A"}},null,{"$f":"INDEX(设备类型!$B$2:$B$5001,MATCH(表格模板!C3103,设备类型!$A$2:$A$5001,0),COLUMN(A3103))","v":{"$error":"#N/A"}}]
[null,{"$f":"INDEX(建筑!$B$2:$B$5001,MATCH(表格模板!A3104,建筑!$A$2:$A$5001,0),COLUMN(A3104))","v":{"$error":"#N/A"}},null,{"$f":"INDEX(设备类型!$B$2:$B$5001,MATCH(表格模板!C3104,设备类型!$A$2:$A$5001,0),COLUMN(A3104))","v":{"$error":"#N/A"}}]
[null,{"$f":"INDEX(建筑!$B$2:$B$5001,MATCH(表格模板!A3105,建筑!$A$2:$A$5001,0),COLUMN(A3105))","v":{"$error":"#N/A"}},null,{"$f":"INDEX(设备类型!$B$2:$B$5001,MATCH(表格模板!C3105,设备类型!$A$2:$A$5001,0),COLUMN(A3105))","v":{"$error":"#N/A"}}]
[null,{"$f":"INDEX(建筑!$B$2:$B$5001,MATCH(表格模板!A3106,建筑!$A$2:$A$5001,0),COLUMN(A3106))","v":{"$error":"#N/A"}},null,{"$f":"INDEX(设备类型!$B$2:$B$5001,MATCH(表格模板!C3106,设备类型!$A$2:$A$5001,0),COLUMN(A3106))","v":{"$error":"#N/A"}}]
[null,{"$f":"INDEX(建筑!$B$2:$B$5001,MATCH(表格模板!A3107,建筑!$A$2:$A$5001,0),COLUMN(A3107))","v":{"$error":"#N/A"}},null,{"$f":"INDEX(设备类型!$B$2:$B$5001,MATCH(表格模板!C3107,设备类型!$A$2:$A$5001,0),COLUMN(A3107))","v":{"$error":"#N/A"}}]
[null,{"$f":"INDEX(建筑!$B$2:$B$5001,MATCH(表格模板!A3108,建筑!$A$2:$A$5001,0),COLUMN(A3108))","v":{"$error":"#N/A"}},null,{"$f":"INDEX(设备类型!$B$2:$B$5001,MATCH(表格模板!C3108,设备类型!$A$2:$A$5001,0),COLUMN(A3108))","v":{"$error":"#N/A"}}]
[null,{"$f":"INDEX(建筑!$B$2:$B$5001,MATCH(表格模板!A3109,建筑!$A$2:$A$5001,0),COLUMN(A3109))","v":{"$error":"#N/A"}},null,{"$f":"INDEX(设备类型!$B$2:$B$5001,MATCH(表格模板!C3109,设备类型!$A$2:$A$5001,0),COLUMN(A3109))","v":{"$error":"#N/A"}}]
[null,{"$f":"INDEX(建筑!$B$2:$B$5001,MATCH(表格模板!A3110,建筑!$A$2:$A$5001,0),COLUMN(A3110))","v":{"$error":"#N/A"}},null,{"$f":"INDEX(设备类型!$B$2:$B$5001,MATCH(表格模板!C3110,设备类型!$A$2:$A$5001,0),COLUMN(A3110))","v":{"$error":"#N/A"}}]
[null,{"$f":"INDEX(建筑!$B$2:$B$5001,MATCH(表格模板!A3111,建筑!$A$2:$A$5001,0),COLUMN(A3111))","v":{"$error":"#N/A"}},null,{"$f":"INDEX(设备类型!$B$2:$B$5001,MATCH(表格模板!C3111,设备类型!$A$2:$A$5001,0),COLUMN(A3111))","v":{"$error":"#N/A"}}]
[null,{"$f":"INDEX(建筑!$B$2:$B$5001,MATCH(表格模板!A3112,建筑!$A$2:$A$5001,0),COLUMN(A3112))","v":{"$error":"#N/A"}},null,{"$f":"INDEX(设备类型!$B$2:$B$5001,MATCH(表格模板!C3112,设备类型!$A$2:$A$5001,0),COLUMN(A3112))","v":{"$error":"#N/A"}}]
[null,{"$f":"INDEX(建筑!$B$2:$B$5001,MATCH(表格模板!A3113,建筑!$A$2:$A$5001,0),COLUMN(A3113))","v":{"$error":"#N/A"}},null,{"$f":"INDEX(设备类型!$B$2:$B$5001,MATCH(表格模板!C3113,设备类型!$A$2:$A$5001,0),COLUMN(A3113))","v":{"$error":"#N/A"}}]
[null,{"$f":"INDEX(建筑!$B$2:$B$5001,MATCH(表格模板!A3114,建筑!$A$2:$A$5001,0),COLUMN(A3114))","v":{"$error":"#N/A"}},null,{"$f":"INDEX(设备类型!$B$2:$B$5001,MATCH(表格模板!C3114,设备类型!$A$2:$A$5001,0),COLUMN(A3114))","v":{"$error":"#N/A"}}]
[null,{"$f":"INDEX(建筑!$B$2:$B$5001,MATCH(表格模板!A3115,建筑!$A$2:$A$5001,0),COLUMN(A3115))","v":{"$error":"#N/A"}},null,{"$f":"INDEX(设备类型!$B$2:$B$5001,MATCH(表格模板!C3115,设备类型!$A$2:$A$5001,0),COLUMN(A3115))","v":{"$error":"#N/A"}}]
[null,{"$f":"INDEX(建筑!$B$2:$B$5001,MATCH(表格模板!A3116,建筑!$A$2:$A$5001,0),COLUMN(A3116))","v":{"$error":"#N/A"}},null,{"$f":"INDEX(设备类型!$B$2:$B$5001,MATCH(表格模板!C3116,设备类型!$A$2:$A$5001,0),COLUMN(A3116))","v":{"$error":"#N/A"}}]
[null,{"$f":"INDEX(建筑!$B$2:$B$5001,MATCH(表格模板!A3117,建筑!$A$2:$A$5001,0),COLUMN(A3117))","v":{"$error":"#N/A"}},null,{"$f":"INDEX(设备类型!$B$2:$B$5001,MATCH(表格模板!C3117,设备类型!$A$2:$A$5001,0),COLUMN(A3117))","v":{"$error":"#N/A"}}]
[null,{"$f":"INDEX(建筑!$B$2:$B$5001,MATCH(表格模板!A3118,建筑!$A$2:$A$5001,0),COLUMN(A3118))","v":{"$error":"#N/A"}},null,{"$f":"INDEX(设备类型!$B$2:$B$5001,MATCH(表格模板!C3118,设备类型!$A$2:$A$5001,0),COLUMN(A3118))","v":{"$error":"#N/A"}}]
[null,{"$f":"INDEX(建筑!$B$2:$B$5001,MATCH(表格模板!A3119,建筑!$A$2:$A$5001,0),COLUMN(A3119))","v":{"$error":"#N/A"}},null,{"$f":"INDEX(设备类型!$B$2:$B$5001,MATCH(表格模板!C3119,设备类型!$A$2:$A$5001,0),COLUMN(A3119))","v":{"$error":"#N/A"}}]
[null,{"$f":"INDEX(建筑!$B$2:$B$5001,MATCH(表格模板!A3120,建筑!$A$2:$A$5001,0),COLUMN(A3120))","v":{"$error":"#N/A"}},null,{"$f":"INDEX(设备类型!$B$2:$B$5001,MATCH(表格模板!C3120,设备类型!$A$2:$A$5001,0),COLUMN(A3120))","v":{"$error":"#N/A"}}]
[null,{"$f":"INDEX(建筑!$B$2:$B$5001,MATCH(表格模板!A3121,建筑!$A$2:$A$5001,0),COLUMN(A3121))","v":{"$error":"#N/A"}},null,{"$f":"INDEX(设备类型!$B$2:$B$5001,MATCH(表格模板!C3121,设备类型!$A$2:$A$5001,0),COLUMN(A3121))","v":{"$error":"#N/A"}}]
[null,{"$f":"INDEX(建筑!$B$2:$B$5001,MATCH(表格模板!A3122,建筑!$A$2:$A$5001,0),COLUMN(A3122))","v":{"$error":"#N/A"}},null,{"$f":"INDEX(设备类型!$B$2:$B$5001,MATCH(表格模板!C3122,设备类型!$A$2:$A$5001,0),COLUMN(A3122))","v":{"$error":"#N/A"}}]
[null,{"$f":"INDEX(建筑!$B$2:$B$5001,MATCH(表格模板!A3123,建筑!$A$2:$A$5001,0),COLUMN(A3123))","v":{"$error":"#N/A"}},null,{"$f":"INDEX(设备类型!$B$2:$B$5001,MATCH(表格模板!C3123,设备类型!$A$2:$A$5001,0),COLUMN(A3123))","v":{"$error":"#N/A"}}]
[null,{"$f":"INDEX(建筑!$B$2:$B$5001,MATCH(表格模板!A3124,建筑!$A$2:$A$5001,0),COLUMN(A3124))","v":{"$error":"#N/A"}},null,{"$f":"INDEX(设备类型!$B$2:$B$5001,MATCH(表格模板!C3124,设备类型!$A$2:$A$5001,0),COLUMN(A3124))","v":{"$error":"#N/A"}}]
[null,{"$f":"INDEX(建筑!$B$2:$B$5001,MATCH(表格模板!A3125,建筑!$A$2:$A$5001,0),COLUMN(A3125))","v":{"$error":"#N/A"}},null,{"$f":"INDEX(设备类型!$B$2:$B$5001,MATCH(表格模板!C3125,设备类型!$A$2:$A$5001,0),COLUMN(A3125))","v":{"$error":"#N/A"}}]
[null,{"$f":"INDEX(建筑!$B$2:$B$5001,MATCH(表格模板!A3126,建筑!$A$2:$A$5001,0),COLUMN(A3126))","v":{"$error":"#N/A"}},null,{"$f":"INDEX(设备类型!$B$2:$B$5001,MATCH(表格模板!C3126,设备类型!$A$2:$A$5001,0),COLUMN(A3126))","v":{"$error":"#N/A"}}]
[null,{"$f":"INDEX(建筑!$B$2:$B$5001,MATCH(表格模板!A3127,建筑!$A$2:$A$5001,0),COLUMN(A3127))","v":{"$error":"#N/A"}},null,{"$f":"INDEX(设备类型!$B$2:$B$5001,MATCH(表格模板!C3127,设备类型!$A$2:$A$5001,0),COLUMN(A3127))","v":{"$error":"#N/A"}}]
[null,{"$f":"INDEX(建筑!$B$2:$B$5001,MATCH(表格模板!A3128,建筑!$A$2:$A$5001,0),COLUMN(A3128))","v":{"$error":"#N/A"}},null,{"$f":"INDEX(设备类型!$B$2:$B$5001,MATCH(表格模板!C3128,设备类型!$A$2:$A$5001,0),COLUMN(A3128))","v":{"$error":"#N/A"}}]
[null,{"$f":"INDEX(建筑!$B$2:$B$5001,MATCH(表格模板!A3129,建筑!$A$2:$A$5001,0),COLUMN(A3129))","v":{"$error":"#N/A"}},null,{"$f":"INDEX(设备类型!$B$2:$B$5001,MATCH(表格模板!C3129,设备类型!$A$2:$A$5001,0),COLUMN(A3129))","v":{"$error":"#N/A"}}]
[null,{"$f":"INDEX(建筑!$B$2:$B$5001,MATCH(表格模板!A3130,建筑!$A$2:$A$5001,0),COLUMN(A3130))","v":{"$error":"#N/A"}},null,{"$f":"INDEX(设备类型!$B$2:$B$5001,MATCH(表格模板!C3130,设备类型!$A$2:$A$5001,0),COLUMN(A3130))","v":{"$error":"#N/A"}}]
[null,{"$f":"INDEX(建筑!$B$2:$B$5001,MATCH(表格模板!A3131,建筑!$A$2:$A$5001,0),COLUMN(A3131))","v":{"$error":"#N/A"}},null,{"$f":"INDEX(设备类型!$B$2:$B$5001,MATCH(表格模板!C3131,设备类型!$A$2:$A$5001,0),COLUMN(A3131))","v":{"$error":"#N/A"}}]
[null,{"$f":"INDEX(建筑!$B$2:$B$5001,MATCH(表格模板!A3132,建筑!$A$2:$A$5001,0),COLUMN(A3132))","v":{"$error":"#N/A"}},null,{"$f":"INDEX(设备类型!$B$2:$B$5001,MATCH(表格模板!C3132,设备类型!$A$2:$A$5001,0),COLUMN(A3132))","v":{"$error":"#N/A"}}]
[null,{"$f":"INDEX(建筑!$B$2:$B$5001,MATCH(表格模板!A3133,建筑!$A$2:$A$5001,0),COLUMN(A3133))","v":{"$error":"#N/A"}},null,{"$f":"INDEX(设备类型!$B$2:$B$5001,MATCH(表格模板!C3133,设备类型!$A$2:$A$5001,0),COLUMN(A3133))","v":{"$error":"#N/A"}}]
[null,{"$f":"INDEX(建筑!$B$2:$B$5001,MATCH(表格模板!A3134,建筑!$A$2:$A$5001,0),COLUMN(A3134))","v":{"$error":"#N/A"}},null,{"$f":"INDEX(设备类型!$B$2:$B$5001,MATCH(表格模板!C3134,设备类型!$A$2:$A$5001,0),COLUMN(A3134))","v":{"$error":"#N/A"}}]
[null,{"$f":"INDEX(建筑!$B$2:$B$5001,MATCH(表格模板!A3135,建筑!$A$2:$A$5001,0),COLUMN(A3135))","v":{"$error":"#N/A"}},null,{"$f":"INDEX(设备类型!$B$2:$B$5001,MATCH(表格模板!C3135,设备类型!$A$2:$A$5001,0),COLUMN(A3135))","v":{"$error":"#N/A"}}]
[null,{"$f":"INDEX(建筑!$B$2:$B$5001,MATCH(表格模板!A3136,建筑!$A$2:$A$5001,0),COLUMN(A3136))","v":{"$error":"#N/A"}},null,{"$f":"INDEX(设备类型!$B$2:$B$5001,MATCH(表格模板!C3136,设备类型!$A$2:$A$5001,0),COLUMN(A3136))","v":{"$error":"#N/A"}}]
[null,{"$f":"INDEX(建筑!$B$2:$B$5001,MATCH(表格模板!A3137,建筑!$A$2:$A$5001,0),COLUMN(A3137))","v":{"$error":"#N/A"}},null,{"$f":"INDEX(设备类型!$B$2:$B$5001,MATCH(表格模板!C3137,设备类型!$A$2:$A$5001,0),COLUMN(A3137))","v":{"$error":"#N/A"}}]
[null,{"$f":"INDEX(建筑!$B$2:$B$5001,MATCH(表格模板!A3138,建筑!$A$2:$A$5001,0),COLUMN(A3138))","v":{"$error":"#N/A"}},null,{"$f":"INDEX(设备类型!$B$2:$B$5001,MATCH(表格模板!C3138,设备类型!$A$2:$A$5001,0),COLUMN(A3138))","v":{"$error":"#N/A"}}]
[null,{"$f":"INDEX(建筑!$B$2:$B$5001,MATCH(表格模板!A3139,建筑!$A$2:$A$5001,0),COLUMN(A3139))","v":{"$error":"#N/A"}},null,{"$f":"INDEX(设备类型!$B$2:$B$5001,MATCH(表格模板!C3139,设备类型!$A$2:$A$5001,0),COLUMN(A3139))","v":{"$error":"#N/A"}}]
[null,{"$f":"INDEX(建筑!$B$2:$B$5001,MATCH(表格模板!A3140,建筑!$A$2:$A$5001,0),COLUMN(A3140))","v":{"$error":"#N/A"}},null,{"$f":"INDEX(设备类型!$B$2:$B$5001,MATCH(表格模板!C3140,设备类型!$A$2:$A$5001,0),COLUMN(A3140))","v":{"$error":"#N/A"}}]
[null,{"$f":"INDEX(建筑!$B$2:$B$5001,MATCH(表格模板!A3141,建筑!$A$2:$A$5001,0),COLUMN(A3141))","v":{"$error":"#N/A"}},null,{"$f":"INDEX(设备类型!$B$2:$B$5001,MATCH(表格模板!C3141,设备类型!$A$2:$A$5001,0),COLUMN(A3141))","v":{"$error":"#N/A"}}]
[null,{"$f":"INDEX(建筑!$B$2:$B$5001,MATCH(表格模板!A3142,建筑!$A$2:$A$5001,0),COLUMN(A3142))","v":{"$error":"#N/A"}},null,{"$f":"INDEX(设备类型!$B$2:$B$5001,MATCH(表格模板!C3142,设备类型!$A$2:$A$5001,0),COLUMN(A3142))","v":{"$error":"#N/A"}}]
[null,{"$f":"INDEX(建筑!$B$2:$B$5001,MATCH(表格模板!A3143,建筑!$A$2:$A$5001,0),COLUMN(A3143))","v":{"$error":"#N/A"}},null,{"$f":"INDEX(设备类型!$B$2:$B$5001,MATCH(表格模板!C3143,设备类型!$A$2:$A$5001,0),COLUMN(A3143))","v":{"$error":"#N/A"}}]
[null,{"$f":"INDEX(建筑!$B$2:$B$5001,MATCH(表格模板!A3144,建筑!$A$2:$A$5001,0),COLUMN(A3144))","v":{"$error":"#N/A"}},null,{"$f":"INDEX(设备类型!$B$2:$B$5001,MATCH(表格模板!C3144,设备类型!$A$2:$A$5001,0),COLUMN(A3144))","v":{"$error":"#N/A"}}]
[null,{"$f":"INDEX(建筑!$B$2:$B$5001,MATCH(表格模板!A3145,建筑!$A$2:$A$5001,0),COLUMN(A3145))","v":{"$error":"#N/A"}},null,{"$f":"INDEX(设备类型!$B$2:$B$5001,MATCH(表格模板!C3145,设备类型!$A$2:$A$5001,0),COLUMN(A3145))","v":{"$error":"#N/A"}}]
[null,{"$f":"INDEX(建筑!$B$2:$B$5001,MATCH(表格模板!A3146,建筑!$A$2:$A$5001,0),COLUMN(A3146))","v":{"$error":"#N/A"}},null,{"$f":"INDEX(设备类型!$B$2:$B$5001,MATCH(表格模板!C3146,设备类型!$A$2:$A$5001,0),COLUMN(A3146))","v":{"$error":"#N/A"}}]
[null,{"$f":"INDEX(建筑!$B$2:$B$5001,MATCH(表格模板!A3147,建筑!$A$2:$A$5001,0),COLUMN(A3147))","v":{"$error":"#N/A"}},null,{"$f":"INDEX(设备类型!$B$2:$B$5001,MATCH(表格模板!C3147,设备类型!$A$2:$A$5001,0),COLUMN(A3147))","v":{"$error":"#N/A"}}]
[null,{"$f":"INDEX(建筑!$B$2:$B$5001,MATCH(表格模板!A3148,建筑!$A$2:$A$5001,0),COLUMN(A3148))","v":{"$error":"#N/A"}},null,{"$f":"INDEX(设备类型!$B$2:$B$5001,MATCH(表格模板!C3148,设备类型!$A$2:$A$5001,0),COLUMN(A3148))","v":{"$error":"#N/A"}}]
[null,{"$f":"INDEX(建筑!$B$2:$B$5001,MATCH(表格模板!A3149,建筑!$A$2:$A$5001,0),COLUMN(A3149))","v":{"$error":"#N/A"}},null,{"$f":"INDEX(设备类型!$B$2:$B$5001,MATCH(表格模板!C3149,设备类型!$A$2:$A$5001,0),COLUMN(A3149))","v":{"$error":"#N/A"}}]
[null,{"$f":"INDEX(建筑!$B$2:$B$5001,MATCH(表格模板!A3150,建筑!$A$2:$A$5001,0),COLUMN(A3150))","v":{"$error":"#N/A"}},null,{"$f":"INDEX(设备类型!$B$2:$B$5001,MATCH(表格模板!C3150,设备类型!$A$2:$A$5001,0),COLUMN(A3150))","v":{"$error":"#N/A"}}]
[null,{"$f":"INDEX(建筑!$B$2:$B$5001,MATCH(表格模板!A3151,建筑!$A$2:$A$5001,0),COLUMN(A3151))","v":{"$error":"#N/A"}},null,{"$f":"INDEX(设备类型!$B$2:$B$5001,MATCH(表格模板!C3151,设备类型!$A$2:$A$5001,0),COLUMN(A3151))","v":{"$error":"#N/A"}}]
[null,{"$f":"INDEX(建筑!$B$2:$B$5001,MATCH(表格模板!A3152,建筑!$A$2:$A$5001,0),COLUMN(A3152))","v":{"$error":"#N/A"}},null,{"$f":"INDEX(设备类型!$B$2:$B$5001,MATCH(表格模板!C3152,设备类型!$A$2:$A$5001,0),COLUMN(A3152))","v":{"$error":"#N/A"}}]
[null,{"$f":"INDEX(建筑!$B$2:$B$5001,MATCH(表格模板!A3153,建筑!$A$2:$A$5001,0),COLUMN(A3153))","v":{"$error":"#N/A"}},null,{"$f":"INDEX(设备类型!$B$2:$B$5001,MATCH(表格模板!C3153,设备类型!$A$2:$A$5001,0),COLUMN(A3153))","v":{"$error":"#N/A"}}]
[null,{"$f":"INDEX(建筑!$B$2:$B$5001,MATCH(表格模板!A3154,建筑!$A$2:$A$5001,0),COLUMN(A3154))","v":{"$error":"#N/A"}},null,{"$f":"INDEX(设备类型!$B$2:$B$5001,MATCH(表格模板!C3154,设备类型!$A$2:$A$5001,0),COLUMN(A3154))","v":{"$error":"#N/A"}}]
[null,{"$f":"INDEX(建筑!$B$2:$B$5001,MATCH(表格模板!A3155,建筑!$A$2:$A$5001,0),COLUMN(A3155))","v":{"$error":"#N/A"}},null,{"$f":"INDEX(设备类型!$B$2:$B$5001,MATCH(表格模板!C3155,设备类型!$A$2:$A$5001,0),COLUMN(A3155))","v":{"$error":"#N/A"}}]
[null,{"$f":"INDEX(建筑!$B$2:$B$5001,MATCH(表格模板!A3156,建筑!$A$2:$A$5001,0),COLUMN(A3156))","v":{"$error":"#N/A"}},null,{"$f":"INDEX(设备类型!$B$2:$B$5001,MATCH(表格模板!C3156,设备类型!$A$2:$A$5001,0),COLUMN(A3156))","v":{"$error":"#N/A"}}]
[null,{"$f":"INDEX(建筑!$B$2:$B$5001,MATCH(表格模板!A3157,建筑!$A$2:$A$5001,0),COLUMN(A3157))","v":{"$error":"#N/A"}},null,{"$f":"INDEX(设备类型!$B$2:$B$5001,MATCH(表格模板!C3157,设备类型!$A$2:$A$5001,0),COLUMN(A3157))","v":{"$error":"#N/A"}}]
[null,{"$f":"INDEX(建筑!$B$2:$B$5001,MATCH(表格模板!A3158,建筑!$A$2:$A$5001,0),COLUMN(A3158))","v":{"$error":"#N/A"}},null,{"$f":"INDEX(设备类型!$B$2:$B$5001,MATCH(表格模板!C3158,设备类型!$A$2:$A$5001,0),COLUMN(A3158))","v":{"$error":"#N/A"}}]
[null,{"$f":"INDEX(建筑!$B$2:$B$5001,MATCH(表格模板!A3159,建筑!$A$2:$A$5001,0),COLUMN(A3159))","v":{"$error":"#N/A"}},null,{"$f":"INDEX(设备类型!$B$2:$B$5001,MATCH(表格模板!C3159,设备类型!$A$2:$A$5001,0),COLUMN(A3159))","v":{"$error":"#N/A"}}]
[null,{"$f":"INDEX(建筑!$B$2:$B$5001,MATCH(表格模板!A3160,建筑!$A$2:$A$5001,0),COLUMN(A3160))","v":{"$error":"#N/A"}},null,{"$f":"INDEX(设备类型!$B$2:$B$5001,MATCH(表格模板!C3160,设备类型!$A$2:$A$5001,0),COLUMN(A3160))","v":{"$error":"#N/A"}}]
[null,{"$f":"INDEX(建筑!$B$2:$B$5001,MATCH(表格模板!A3161,建筑!$A$2:$A$5001,0),COLUMN(A3161))","v":{"$error":"#N/A"}},null,{"$f":"INDEX(设备类型!$B$2:$B$5001,MATCH(表格模板!C3161,设备类型!$A$2:$A$5001,0),COLUMN(A3161))","v":{"$error":"#N/A"}}]
[null,{"$f":"INDEX(建筑!$B$2:$B$5001,MATCH(表格模板!A3162,建筑!$A$2:$A$5001,0),COLUMN(A3162))","v":{"$error":"#N/A"}},null,{"$f":"INDEX(设备类型!$B$2:$B$5001,MATCH(表格模板!C3162,设备类型!$A$2:$A$5001,0),COLUMN(A3162))","v":{"$error":"#N/A"}}]
[null,{"$f":"INDEX(建筑!$B$2:$B$5001,MATCH(表格模板!A3163,建筑!$A$2:$A$5001,0),COLUMN(A3163))","v":{"$error":"#N/A"}},null,{"$f":"INDEX(设备类型!$B$2:$B$5001,MATCH(表格模板!C3163,设备类型!$A$2:$A$5001,0),COLUMN(A3163))","v":{"$error":"#N/A"}}]
[null,{"$f":"INDEX(建筑!$B$2:$B$5001,MATCH(表格模板!A3164,建筑!$A$2:$A$5001,0),COLUMN(A3164))","v":{"$error":"#N/A"}},null,{"$f":"INDEX(设备类型!$B$2:$B$5001,MATCH(表格模板!C3164,设备类型!$A$2:$A$5001,0),COLUMN(A3164))","v":{"$error":"#N/A"}}]
[null,{"$f":"INDEX(建筑!$B$2:$B$5001,MATCH(表格模板!A3165,建筑!$A$2:$A$5001,0),COLUMN(A3165))","v":{"$error":"#N/A"}},null,{"$f":"INDEX(设备类型!$B$2:$B$5001,MATCH(表格模板!C3165,设备类型!$A$2:$A$5001,0),COLUMN(A3165))","v":{"$error":"#N/A"}}]
[null,{"$f":"INDEX(建筑!$B$2:$B$5001,MATCH(表格模板!A3166,建筑!$A$2:$A$5001,0),COLUMN(A3166))","v":{"$error":"#N/A"}},null,{"$f":"INDEX(设备类型!$B$2:$B$5001,MATCH(表格模板!C3166,设备类型!$A$2:$A$5001,0),COLUMN(A3166))","v":{"$error":"#N/A"}}]
[null,{"$f":"INDEX(建筑!$B$2:$B$5001,MATCH(表格模板!A3167,建筑!$A$2:$A$5001,0),COLUMN(A3167))","v":{"$error":"#N/A"}},null,{"$f":"INDEX(设备类型!$B$2:$B$5001,MATCH(表格模板!C3167,设备类型!$A$2:$A$5001,0),COLUMN(A3167))","v":{"$error":"#N/A"}}]
[null,{"$f":"INDEX(建筑!$B$2:$B$5001,MATCH(表格模板!A3168,建筑!$A$2:$A$5001,0),COLUMN(A3168))","v":{"$error":"#N/A"}},null,{"$f":"INDEX(设备类型!$B$2:$B$5001,MATCH(表格模板!C3168,设备类型!$A$2:$A$5001,0),COLUMN(A3168))","v":{"$error":"#N/A"}}]
[null,{"$f":"INDEX(建筑!$B$2:$B$5001,MATCH(表格模板!A3169,建筑!$A$2:$A$5001,0),COLUMN(A3169))","v":{"$error":"#N/A"}},null,{"$f":"INDEX(设备类型!$B$2:$B$5001,MATCH(表格模板!C3169,设备类型!$A$2:$A$5001,0),COLUMN(A3169))","v":{"$error":"#N/A"}}]
[null,{"$f":"INDEX(建筑!$B$2:$B$5001,MATCH(表格模板!A3170,建筑!$A$2:$A$5001,0),COLUMN(A3170))","v":{"$error":"#N/A"}},null,{"$f":"INDEX(设备类型!$B$2:$B$5001,MATCH(表格模板!C3170,设备类型!$A$2:$A$5001,0),COLUMN(A3170))","v":{"$error":"#N/A"}}]
[null,{"$f":"INDEX(建筑!$B$2:$B$5001,MATCH(表格模板!A3171,建筑!$A$2:$A$5001,0),COLUMN(A3171))","v":{"$error":"#N/A"}},null,{"$f":"INDEX(设备类型!$B$2:$B$5001,MATCH(表格模板!C3171,设备类型!$A$2:$A$5001,0),COLUMN(A3171))","v":{"$error":"#N/A"}}]
[null,{"$f":"INDEX(建筑!$B$2:$B$5001,MATCH(表格模板!A3172,建筑!$A$2:$A$5001,0),COLUMN(A3172))","v":{"$error":"#N/A"}},null,{"$f":"INDEX(设备类型!$B$2:$B$5001,MATCH(表格模板!C3172,设备类型!$A$2:$A$5001,0),COLUMN(A3172))","v":{"$error":"#N/A"}}]
[null,{"$f":"INDEX(建筑!$B$2:$B$5001,MATCH(表格模板!A3173,建筑!$A$2:$A$5001,0),COLUMN(A3173))","v":{"$error":"#N/A"}},null,{"$f":"INDEX(设备类型!$B$2:$B$5001,MATCH(表格模板!C3173,设备类型!$A$2:$A$5001,0),COLUMN(A3173))","v":{"$error":"#N/A"}}]
[null,{"$f":"INDEX(建筑!$B$2:$B$5001,MATCH(表格模板!A3174,建筑!$A$2:$A$5001,0),COLUMN(A3174))","v":{"$error":"#N/A"}},null,{"$f":"INDEX(设备类型!$B$2:$B$5001,MATCH(表格模板!C3174,设备类型!$A$2:$A$5001,0),COLUMN(A3174))","v":{"$error":"#N/A"}}]
[null,{"$f":"INDEX(建筑!$B$2:$B$5001,MATCH(表格模板!A3175,建筑!$A$2:$A$5001,0),COLUMN(A3175))","v":{"$error":"#N/A"}},null,{"$f":"INDEX(设备类型!$B$2:$B$5001,MATCH(表格模板!C3175,设备类型!$A$2:$A$5001,0),COLUMN(A3175))","v":{"$error":"#N/A"}}]
[null,{"$f":"INDEX(建筑!$B$2:$B$5001,MATCH(表格模板!A3176,建筑!$A$2:$A$5001,0),COLUMN(A3176))","v":{"$error":"#N/A"}},null,{"$f":"INDEX(设备类型!$B$2:$B$5001,MATCH(表格模板!C3176,设备类型!$A$2:$A$5001,0),COLUMN(A3176))","v":{"$error":"#N/A"}}]
[null,{"$f":"INDEX(建筑!$B$2:$B$5001,MATCH(表格模板!A3177,建筑!$A$2:$A$5001,0),COLUMN(A3177))","v":{"$error":"#N/A"}},null,{"$f":"INDEX(设备类型!$B$2:$B$5001,MATCH(表格模板!C3177,设备类型!$A$2:$A$5001,0),COLUMN(A3177))","v":{"$error":"#N/A"}}]
[null,{"$f":"INDEX(建筑!$B$2:$B$5001,MATCH(表格模板!A3178,建筑!$A$2:$A$5001,0),COLUMN(A3178))","v":{"$error":"#N/A"}},null,{"$f":"INDEX(设备类型!$B$2:$B$5001,MATCH(表格模板!C3178,设备类型!$A$2:$A$5001,0),COLUMN(A3178))","v":{"$error":"#N/A"}}]
[null,{"$f":"INDEX(建筑!$B$2:$B$5001,MATCH(表格模板!A3179,建筑!$A$2:$A$5001,0),COLUMN(A3179))","v":{"$error":"#N/A"}},null,{"$f":"INDEX(设备类型!$B$2:$B$5001,MATCH(表格模板!C3179,设备类型!$A$2:$A$5001,0),COLUMN(A3179))","v":{"$error":"#N/A"}}]
[null,{"$f":"INDEX(建筑!$B$2:$B$5001,MATCH(表格模板!A3180,建筑!$A$2:$A$5001,0),COLUMN(A3180))","v":{"$error":"#N/A"}},null,{"$f":"INDEX(设备类型!$B$2:$B$5001,MATCH(表格模板!C3180,设备类型!$A$2:$A$5001,0),COLUMN(A3180))","v":{"$error":"#N/A"}}]
[null,{"$f":"INDEX(建筑!$B$2:$B$5001,MATCH(表格模板!A3181,建筑!$A$2:$A$5001,0),COLUMN(A3181))","v":{"$error":"#N/A"}},null,{"$f":"INDEX(设备类型!$B$2:$B$5001,MATCH(表格模板!C3181,设备类型!$A$2:$A$5001,0),COLUMN(A3181))","v":{"$error":"#N/A"}}]
[null,{"$f":"INDEX(建筑!$B$2:$B$5001,MATCH(表格模板!A3182,建筑!$A$2:$A$5001,0),COLUMN(A3182))","v":{"$error":"#N/A"}},null,{"$f":"INDEX(设备类型!$B$2:$B$5001,MATCH(表格模板!C3182,设备类型!$A$2:$A$5001,0),COLUMN(A3182))","v":{"$error":"#N/A"}}]
[null,{"$f":"INDEX(建筑!$B$2:$B$5001,MATCH(表格模板!A3183,建筑!$A$2:$A$5001,0),COLUMN(A3183))","v":{"$error":"#N/A"}},null,{"$f":"INDEX(设备类型!$B$2:$B$5001,MATCH(表格模板!C3183,设备类型!$A$2:$A$5001,0),COLUMN(A3183))","v":{"$error":"#N/A"}}]
[null,{"$f":"INDEX(建筑!$B$2:$B$5001,MATCH(表格模板!A3184,建筑!$A$2:$A$5001,0),COLUMN(A3184))","v":{"$error":"#N/A"}},null,{"$f":"INDEX(设备类型!$B$2:$B$5001,MATCH(表格模板!C3184,设备类型!$A$2:$A$5001,0),COLUMN(A3184))","v":{"$error":"#N/A"}}]
[null,{"$f":"INDEX(建筑!$B$2:$B$5001,MATCH(表格模板!A3185,建筑!$A$2:$A$5001,0),COLUMN(A3185))","v":{"$error":"#N/A"}},null,{"$f":"INDEX(设备类型!$B$2:$B$5001,MATCH(表格模板!C3185,设备类型!$A$2:$A$5001,0),COLUMN(A3185))","v":{"$error":"#N/A"}}]
[null,{"$f":"INDEX(建筑!$B$2:$B$5001,MATCH(表格模板!A3186,建筑!$A$2:$A$5001,0),COLUMN(A3186))","v":{"$error":"#N/A"}},null,{"$f":"INDEX(设备类型!$B$2:$B$5001,MATCH(表格模板!C3186,设备类型!$A$2:$A$5001,0),COLUMN(A3186))","v":{"$error":"#N/A"}}]
[null,{"$f":"INDEX(建筑!$B$2:$B$5001,MATCH(表格模板!A3187,建筑!$A$2:$A$5001,0),COLUMN(A3187))","v":{"$error":"#N/A"}},null,{"$f":"INDEX(设备类型!$B$2:$B$5001,MATCH(表格模板!C3187,设备类型!$A$2:$A$5001,0),COLUMN(A3187))","v":{"$error":"#N/A"}}]
[null,{"$f":"INDEX(建筑!$B$2:$B$5001,MATCH(表格模板!A3188,建筑!$A$2:$A$5001,0),COLUMN(A3188))","v":{"$error":"#N/A"}},null,{"$f":"INDEX(设备类型!$B$2:$B$5001,MATCH(表格模板!C3188,设备类型!$A$2:$A$5001,0),COLUMN(A3188))","v":{"$error":"#N/A"}}]
[null,{"$f":"INDEX(建筑!$B$2:$B$5001,MATCH(表格模板!A3189,建筑!$A$2:$A$5001,0),COLUMN(A3189))","v":{"$error":"#N/A"}},null,{"$f":"INDEX(设备类型!$B$2:$B$5001,MATCH(表格模板!C3189,设备类型!$A$2:$A$5001,0),COLUMN(A3189))","v":{"$error":"#N/A"}}]
[null,{"$f":"INDEX(建筑!$B$2:$B$5001,MATCH(表格模板!A3190,建筑!$A$2:$A$5001,0),COLUMN(A3190))","v":{"$error":"#N/A"}},null,{"$f":"INDEX(设备类型!$B$2:$B$5001,MATCH(表格模板!C3190,设备类型!$A$2:$A$5001,0),COLUMN(A3190))","v":{"$error":"#N/A"}}]
[null,{"$f":"INDEX(建筑!$B$2:$B$5001,MATCH(表格模板!A3191,建筑!$A$2:$A$5001,0),COLUMN(A3191))","v":{"$error":"#N/A"}},null,{"$f":"INDEX(设备类型!$B$2:$B$5001,MATCH(表格模板!C3191,设备类型!$A$2:$A$5001,0),COLUMN(A3191))","v":{"$error":"#N/A"}}]
[null,{"$f":"INDEX(建筑!$B$2:$B$5001,MATCH(表格模板!A3192,建筑!$A$2:$A$5001,0),COLUMN(A3192))","v":{"$error":"#N/A"}},null,{"$f":"INDEX(设备类型!$B$2:$B$5001,MATCH(表格模板!C3192,设备类型!$A$2:$A$5001,0),COLUMN(A3192))","v":{"$error":"#N/A"}}]
[null,{"$f":"INDEX(建筑!$B$2:$B$5001,MATCH(表格模板!A3193,建筑!$A$2:$A$5001,0),COLUMN(A3193))","v":{"$error":"#N/A"}},null,{"$f":"INDEX(设备类型!$B$2:$B$5001,MATCH(表格模板!C3193,设备类型!$A$2:$A$5001,0),COLUMN(A3193))","v":{"$error":"#N/A"}}]
[null,{"$f":"INDEX(建筑!$B$2:$B$5001,MATCH(表格模板!A3194,建筑!$A$2:$A$5001,0),COLUMN(A3194))","v":{"$error":"#N/A"}},null,{"$f":"INDEX(设备类型!$B$2:$B$5001,MATCH(表格模板!C3194,设备类型!$A$2:$A$5001,0),COLUMN(A3194))","v":{"$error":"#N/A"}}]
[null,{"$f":"INDEX(建筑!$B$2:$B$5001,MATCH(表格模板!A3195,建筑!$A$2:$A$5001,0),COLUMN(A3195))","v":{"$error":"#N/A"}},null,{"$f":"INDEX(设备类型!$B$2:$B$5001,MATCH(表格模板!C3195,设备类型!$A$2:$A$5001,0),COLUMN(A3195))","v":{"$error":"#N/A"}}]
[null,{"$f":"INDEX(建筑!$B$2:$B$5001,MATCH(表格模板!A3196,建筑!$A$2:$A$5001,0),COLUMN(A3196))","v":{"$error":"#N/A"}},null,{"$f":"INDEX(设备类型!$B$2:$B$5001,MATCH(表格模板!C3196,设备类型!$A$2:$A$5001,0),COLUMN(A3196))","v":{"$error":"#N/A"}}]
[null,{"$f":"INDEX(建筑!$B$2:$B$5001,MATCH(表格模板!A3197,建筑!$A$2:$A$5001,0),COLUMN(A3197))","v":{"$error":"#N/A"}},null,{"$f":"INDEX(设备类型!$B$2:$B$5001,MATCH(表格模板!C3197,设备类型!$A$2:$A$5001,0),COLUMN(A3197))","v":{"$error":"#N/A"}}]
[null,{"$f":"INDEX(建筑!$B$2:$B$5001,MATCH(表格模板!A3198,建筑!$A$2:$A$5001,0),COLUMN(A3198))","v":{"$error":"#N/A"}},null,{"$f":"INDEX(设备类型!$B$2:$B$5001,MATCH(表格模板!C3198,设备类型!$A$2:$A$5001,0),COLUMN(A3198))","v":{"$error":"#N/A"}}]
[null,{"$f":"INDEX(建筑!$B$2:$B$5001,MATCH(表格模板!A3199,建筑!$A$2:$A$5001,0),COLUMN(A3199))","v":{"$error":"#N/A"}},null,{"$f":"INDEX(设备类型!$B$2:$B$5001,MATCH(表格模板!C3199,设备类型!$A$2:$A$5001,0),COLUMN(A3199))","v":{"$error":"#N/A"}}]
[null,{"$f":"INDEX(建筑!$B$2:$B$5001,MATCH(表格模板!A3200,建筑!$A$2:$A$5001,0),COLUMN(A3200))","v":{"$error":"#N/A"}},null,{"$f":"INDEX(设备类型!$B$2:$B$5001,MATCH(表格模板!C3200,设备类型!$A$2:$A$5001,0),COLUMN(A3200))","v":{"$error":"#N/A"}}]
[null,{"$f":"INDEX(建筑!$B$2:$B$5001,MATCH(表格模板!A3201,建筑!$A$2:$A$5001,0),COLUMN(A3201))","v":{"$error":"#N/A"}},null,{"$f":"INDEX(设备类型!$B$2:$B$5001,MATCH(表格模板!C3201,设备类型!$A$2:$A$5001,0),COLUMN(A3201))","v":{"$error":"#N/A"}}]
[null,{"$f":"INDEX(建筑!$B$2:$B$5001,MATCH(表格模板!A3202,建筑!$A$2:$A$5001,0),COLUMN(A3202))","v":{"$error":"#N/A"}},null,{"$f":"INDEX(设备类型!$B$2:$B$5001,MATCH(表格模板!C3202,设备类型!$A$2:$A$5001,0),COLUMN(A3202))","v":{"$error":"#N/A"}}]
[null,{"$f":"INDEX(建筑!$B$2:$B$5001,MATCH(表格模板!A3203,建筑!$A$2:$A$5001,0),COLUMN(A3203))","v":{"$error":"#N/A"}},null,{"$f":"INDEX(设备类型!$B$2:$B$5001,MATCH(表格模板!C3203,设备类型!$A$2:$A$5001,0),COLUMN(A3203))","v":{"$error":"#N/A"}}]
[null,{"$f":"INDEX(建筑!$B$2:$B$5001,MATCH(表格模板!A3204,建筑!$A$2:$A$5001,0),COLUMN(A3204))","v":{"$error":"#N/A"}},null,{"$f":"INDEX(设备类型!$B$2:$B$5001,MATCH(表格模板!C3204,设备类型!$A$2:$A$5001,0),COLUMN(A3204))","v":{"$error":"#N/A"}}]
[null,{"$f":"INDEX(建筑!$B$2:$B$5001,MATCH(表格模板!A3205,建筑!$A$2:$A$5001,0),COLUMN(A3205))","v":{"$error":"#N/A"}},null,{"$f":"INDEX(设备类型!$B$2:$B$5001,MATCH(表格模板!C3205,设备类型!$A$2:$A$5001,0),COLUMN(A3205))","v":{"$error":"#N/A"}}]
[null,{"$f":"INDEX(建筑!$B$2:$B$5001,MATCH(表格模板!A3206,建筑!$A$2:$A$5001,0),COLUMN(A3206))","v":{"$error":"#N/A"}},null,{"$f":"INDEX(设备类型!$B$2:$B$5001,MATCH(表格模板!C3206,设备类型!$A$2:$A$5001,0),COLUMN(A3206))","v":{"$error":"#N/A"}}]
[null,{"$f":"INDEX(建筑!$B$2:$B$5001,MATCH(表格模板!A3207,建筑!$A$2:$A$5001,0),COLUMN(A3207))","v":{"$error":"#N/A"}},null,{"$f":"INDEX(设备类型!$B$2:$B$5001,MATCH(表格模板!C3207,设备类型!$A$2:$A$5001,0),COLUMN(A3207))","v":{"$error":"#N/A"}}]
[null,{"$f":"INDEX(建筑!$B$2:$B$5001,MATCH(表格模板!A3208,建筑!$A$2:$A$5001,0),COLUMN(A3208))","v":{"$error":"#N/A"}},null,{"$f":"INDEX(设备类型!$B$2:$B$5001,MATCH(表格模板!C3208,设备类型!$A$2:$A$5001,0),COLUMN(A3208))","v":{"$error":"#N/A"}}]
[null,{"$f":"INDEX(建筑!$B$2:$B$5001,MATCH(表格模板!A3209,建筑!$A$2:$A$5001,0),COLUMN(A3209))","v":{"$error":"#N/A"}},null,{"$f":"INDEX(设备类型!$B$2:$B$5001,MATCH(表格模板!C3209,设备类型!$A$2:$A$5001,0),COLUMN(A3209))","v":{"$error":"#N/A"}}]
[null,{"$f":"INDEX(建筑!$B$2:$B$5001,MATCH(表格模板!A3210,建筑!$A$2:$A$5001,0),COLUMN(A3210))","v":{"$error":"#N/A"}},null,{"$f":"INDEX(设备类型!$B$2:$B$5001,MATCH(表格模板!C3210,设备类型!$A$2:$A$5001,0),COLUMN(A3210))","v":{"$error":"#N/A"}}]
[null,{"$f":"INDEX(建筑!$B$2:$B$5001,MATCH(表格模板!A3211,建筑!$A$2:$A$5001,0),COLUMN(A3211))","v":{"$error":"#N/A"}},null,{"$f":"INDEX(设备类型!$B$2:$B$5001,MATCH(表格模板!C3211,设备类型!$A$2:$A$5001,0),COLUMN(A3211))","v":{"$error":"#N/A"}}]
[null,{"$f":"INDEX(建筑!$B$2:$B$5001,MATCH(表格模板!A3212,建筑!$A$2:$A$5001,0),COLUMN(A3212))","v":{"$error":"#N/A"}},null,{"$f":"INDEX(设备类型!$B$2:$B$5001,MATCH(表格模板!C3212,设备类型!$A$2:$A$5001,0),COLUMN(A3212))","v":{"$error":"#N/A"}}]
[null,{"$f":"INDEX(建筑!$B$2:$B$5001,MATCH(表格模板!A3213,建筑!$A$2:$A$5001,0),COLUMN(A3213))","v":{"$error":"#N/A"}},null,{"$f":"INDEX(设备类型!$B$2:$B$5001,MATCH(表格模板!C3213,设备类型!$A$2:$A$5001,0),COLUMN(A3213))","v":{"$error":"#N/A"}}]
[null,{"$f":"INDEX(建筑!$B$2:$B$5001,MATCH(表格模板!A3214,建筑!$A$2:$A$5001,0),COLUMN(A3214))","v":{"$error":"#N/A"}},null,{"$f":"INDEX(设备类型!$B$2:$B$5001,MATCH(表格模板!C3214,设备类型!$A$2:$A$5001,0),COLUMN(A3214))","v":{"$error":"#N/A"}}]
[null,{"$f":"INDEX(建筑!$B$2:$B$5001,MATCH(表格模板!A3215,建筑!$A$2:$A$5001,0),COLUMN(A3215))","v":{"$error":"#N/A"}},null,{"$f":"INDEX(设备类型!$B$2:$B$5001,MATCH(表格模板!C3215,设备类型!$A$2:$A$5001,0),COLUMN(A3215))","v":{"$error":"#N/A"}}]
[null,{"$f":"INDEX(建筑!$B$2:$B$5001,MATCH(表格模板!A3216,建筑!$A$2:$A$5001,0),COLUMN(A3216))","v":{"$error":"#N/A"}},null,{"$f":"INDEX(设备类型!$B$2:$B$5001,MATCH(表格模板!C3216,设备类型!$A$2:$A$5001,0),COLUMN(A3216))","v":{"$error":"#N/A"}}]
[null,{"$f":"INDEX(建筑!$B$2:$B$5001,MATCH(表格模板!A3217,建筑!$A$2:$A$5001,0),COLUMN(A3217))","v":{"$error":"#N/A"}},null,{"$f":"INDEX(设备类型!$B$2:$B$5001,MATCH(表格模板!C3217,设备类型!$A$2:$A$5001,0),COLUMN(A3217))","v":{"$error":"#N/A"}}]
[null,{"$f":"INDEX(建筑!$B$2:$B$5001,MATCH(表格模板!A3218,建筑!$A$2:$A$5001,0),COLUMN(A3218))","v":{"$error":"#N/A"}},null,{"$f":"INDEX(设备类型!$B$2:$B$5001,MATCH(表格模板!C3218,设备类型!$A$2:$A$5001,0),COLUMN(A3218))","v":{"$error":"#N/A"}}]
[null,{"$f":"INDEX(建筑!$B$2:$B$5001,MATCH(表格模板!A3219,建筑!$A$2:$A$5001,0),COLUMN(A3219))","v":{"$error":"#N/A"}},null,{"$f":"INDEX(设备类型!$B$2:$B$5001,MATCH(表格模板!C3219,设备类型!$A$2:$A$5001,0),COLUMN(A3219))","v":{"$error":"#N/A"}}]
[null,{"$f":"INDEX(建筑!$B$2:$B$5001,MATCH(表格模板!A3220,建筑!$A$2:$A$5001,0),COLUMN(A3220))","v":{"$error":"#N/A"}},null,{"$f":"INDEX(设备类型!$B$2:$B$5001,MATCH(表格模板!C3220,设备类型!$A$2:$A$5001,0),COLUMN(A3220))","v":{"$error":"#N/A"}}]
[null,{"$f":"INDEX(建筑!$B$2:$B$5001,MATCH(表格模板!A3221,建筑!$A$2:$A$5001,0),COLUMN(A3221))","v":{"$error":"#N/A"}},null,{"$f":"INDEX(设备类型!$B$2:$B$5001,MATCH(表格模板!C3221,设备类型!$A$2:$A$5001,0),COLUMN(A3221))","v":{"$error":"#N/A"}}]
[null,{"$f":"INDEX(建筑!$B$2:$B$5001,MATCH(表格模板!A3222,建筑!$A$2:$A$5001,0),COLUMN(A3222))","v":{"$error":"#N/A"}},null,{"$f":"INDEX(设备类型!$B$2:$B$5001,MATCH(表格模板!C3222,设备类型!$A$2:$A$5001,0),COLUMN(A3222))","v":{"$error":"#N/A"}}]
[null,{"$f":"INDEX(建筑!$B$2:$B$5001,MATCH(表格模板!A3223,建筑!$A$2:$A$5001,0),COLUMN(A3223))","v":{"$error":"#N/A"}},null,{"$f":"INDEX(设备类型!$B$2:$B$5001,MATCH(表格模板!C3223,设备类型!$A$2:$A$5001,0),COLUMN(A3223))","v":{"$error":"#N/A"}}]
[null,{"$f":"INDEX(建筑!$B$2:$B$5001,MATCH(表格模板!A3224,建筑!$A$2:$A$5001,0),COLUMN(A3224))","v":{"$error":"#N/A"}},null,{"$f":"INDEX(设备类型!$B$2:$B$5001,MATCH(表格模板!C3224,设备类型!$A$2:$A$5001,0),COLUMN(A3224))","v":{"$error":"#N/A"}}]
[null,{"$f":"INDEX(建筑!$B$2:$B$5001,MATCH(表格模板!A3225,建筑!$A$2:$A$5001,0),COLUMN(A3225))","v":{"$error":"#N/A"}},null,{"$f":"INDEX(设备类型!$B$2:$B$5001,MATCH(表格模板!C3225,设备类型!$A$2:$A$5001,0),COLUMN(A3225))","v":{"$error":"#N/A"}}]
[null,{"$f":"INDEX(建筑!$B$2:$B$5001,MATCH(表格模板!A3226,建筑!$A$2:$A$5001,0),COLUMN(A3226))","v":{"$error":"#N/A"}},null,{"$f":"INDEX(设备类型!$B$2:$B$5001,MATCH(表格模板!C3226,设备类型!$A$2:$A$5001,0),COLUMN(A3226))","v":{"$error":"#N/A"}}]
[null,{"$f":"INDEX(建筑!$B$2:$B$5001,MATCH(表格模板!A3227,建筑!$A$2:$A$5001,0),COLUMN(A3227))","v":{"$error":"#N/A"}},null,{"$f":"INDEX(设备类型!$B$2:$B$5001,MATCH(表格模板!C3227,设备类型!$A$2:$A$5001,0),COLUMN(A3227))","v":{"$error":"#N/A"}}]
[null,{"$f":"INDEX(建筑!$B$2:$B$5001,MATCH(表格模板!A3228,建筑!$A$2:$A$5001,0),COLUMN(A3228))","v":{"$error":"#N/A"}},null,{"$f":"INDEX(设备类型!$B$2:$B$5001,MATCH(表格模板!C3228,设备类型!$A$2:$A$5001,0),COLUMN(A3228))","v":{"$error":"#N/A"}}]
[null,{"$f":"INDEX(建筑!$B$2:$B$5001,MATCH(表格模板!A3229,建筑!$A$2:$A$5001,0),COLUMN(A3229))","v":{"$error":"#N/A"}},null,{"$f":"INDEX(设备类型!$B$2:$B$5001,MATCH(表格模板!C3229,设备类型!$A$2:$A$5001,0),COLUMN(A3229))","v":{"$error":"#N/A"}}]
[null,{"$f":"INDEX(建筑!$B$2:$B$5001,MATCH(表格模板!A3230,建筑!$A$2:$A$5001,0),COLUMN(A3230))","v":{"$error":"#N/A"}},null,{"$f":"INDEX(设备类型!$B$2:$B$5001,MATCH(表格模板!C3230,设备类型!$A$2:$A$5001,0),COLUMN(A3230))","v":{"$error":"#N/A"}}]
[null,{"$f":"INDEX(建筑!$B$2:$B$5001,MATCH(表格模板!A3231,建筑!$A$2:$A$5001,0),COLUMN(A3231))","v":{"$error":"#N/A"}},null,{"$f":"INDEX(设备类型!$B$2:$B$5001,MATCH(表格模板!C3231,设备类型!$A$2:$A$5001,0),COLUMN(A3231))","v":{"$error":"#N/A"}}]
[null,{"$f":"INDEX(建筑!$B$2:$B$5001,MATCH(表格模板!A3232,建筑!$A$2:$A$5001,0),COLUMN(A3232))","v":{"$error":"#N/A"}},null,{"$f":"INDEX(设备类型!$B$2:$B$5001,MATCH(表格模板!C3232,设备类型!$A$2:$A$5001,0),COLUMN(A3232))","v":{"$error":"#N/A"}}]
[null,{"$f":"INDEX(建筑!$B$2:$B$5001,MATCH(表格模板!A3233,建筑!$A$2:$A$5001,0),COLUMN(A3233))","v":{"$error":"#N/A"}},null,{"$f":"INDEX(设备类型!$B$2:$B$5001,MATCH(表格模板!C3233,设备类型!$A$2:$A$5001,0),COLUMN(A3233))","v":{"$error":"#N/A"}}]
[null,{"$f":"INDEX(建筑!$B$2:$B$5001,MATCH(表格模板!A3234,建筑!$A$2:$A$5001,0),COLUMN(A3234))","v":{"$error":"#N/A"}},null,{"$f":"INDEX(设备类型!$B$2:$B$5001,MATCH(表格模板!C3234,设备类型!$A$2:$A$5001,0),COLUMN(A3234))","v":{"$error":"#N/A"}}]
[null,{"$f":"INDEX(建筑!$B$2:$B$5001,MATCH(表格模板!A3235,建筑!$A$2:$A$5001,0),COLUMN(A3235))","v":{"$error":"#N/A"}},null,{"$f":"INDEX(设备类型!$B$2:$B$5001,MATCH(表格模板!C3235,设备类型!$A$2:$A$5001,0),COLUMN(A3235))","v":{"$error":"#N/A"}}]
[null,{"$f":"INDEX(建筑!$B$2:$B$5001,MATCH(表格模板!A3236,建筑!$A$2:$A$5001,0),COLUMN(A3236))","v":{"$error":"#N/A"}},null,{"$f":"INDEX(设备类型!$B$2:$B$5001,MATCH(表格模板!C3236,设备类型!$A$2:$A$5001,0),COLUMN(A3236))","v":{"$error":"#N/A"}}]
[null,{"$f":"INDEX(建筑!$B$2:$B$5001,MATCH(表格模板!A3237,建筑!$A$2:$A$5001,0),COLUMN(A3237))","v":{"$error":"#N/A"}},null,{"$f":"INDEX(设备类型!$B$2:$B$5001,MATCH(表格模板!C3237,设备类型!$A$2:$A$5001,0),COLUMN(A3237))","v":{"$error":"#N/A"}}]
[null,{"$f":"INDEX(建筑!$B$2:$B$5001,MATCH(表格模板!A3238,建筑!$A$2:$A$5001,0),COLUMN(A3238))","v":{"$error":"#N/A"}},null,{"$f":"INDEX(设备类型!$B$2:$B$5001,MATCH(表格模板!C3238,设备类型!$A$2:$A$5001,0),COLUMN(A3238))","v":{"$error":"#N/A"}}]
[null,{"$f":"INDEX(建筑!$B$2:$B$5001,MATCH(表格模板!A3239,建筑!$A$2:$A$5001,0),COLUMN(A3239))","v":{"$error":"#N/A"}},null,{"$f":"INDEX(设备类型!$B$2:$B$5001,MATCH(表格模板!C3239,设备类型!$A$2:$A$5001,0),COLUMN(A3239))","v":{"$error":"#N/A"}}]
[null,{"$f":"INDEX(建筑!$B$2:$B$5001,MATCH(表格模板!A3240,建筑!$A$2:$A$5001,0),COLUMN(A3240))","v":{"$error":"#N/A"}},null,{"$f":"INDEX(设备类型!$B$2:$B$5001,MATCH(表格模板!C3240,设备类型!$A$2:$A$5001,0),COLUMN(A3240))","v":{"$error":"#N/A"}}]
[null,{"$f":"INDEX(建筑!$B$2:$B$5001,MATCH(表格模板!A3241,建筑!$A$2:$A$5001,0),COLUMN(A3241))","v":{"$error":"#N/A"}},null,{"$f":"INDEX(设备类型!$B$2:$B$5001,MATCH(表格模板!C3241,设备类型!$A$2:$A$5001,0),COLUMN(A3241))","v":{"$error":"#N/A"}}]
[null,{"$f":"INDEX(建筑!$B$2:$B$5001,MATCH(表格模板!A3242,建筑!$A$2:$A$5001,0),COLUMN(A3242))","v":{"$error":"#N/A"}},null,{"$f":"INDEX(设备类型!$B$2:$B$5001,MATCH(表格模板!C3242,设备类型!$A$2:$A$5001,0),COLUMN(A3242))","v":{"$error":"#N/A"}}]
[null,{"$f":"INDEX(建筑!$B$2:$B$5001,MATCH(表格模板!A3243,建筑!$A$2:$A$5001,0),COLUMN(A3243))","v":{"$error":"#N/A"}},null,{"$f":"INDEX(设备类型!$B$2:$B$5001,MATCH(表格模板!C3243,设备类型!$A$2:$A$5001,0),COLUMN(A3243))","v":{"$error":"#N/A"}}]
[null,{"$f":"INDEX(建筑!$B$2:$B$5001,MATCH(表格模板!A3244,建筑!$A$2:$A$5001,0),COLUMN(A3244))","v":{"$error":"#N/A"}},null,{"$f":"INDEX(设备类型!$B$2:$B$5001,MATCH(表格模板!C3244,设备类型!$A$2:$A$5001,0),COLUMN(A3244))","v":{"$error":"#N/A"}}]
[null,{"$f":"INDEX(建筑!$B$2:$B$5001,MATCH(表格模板!A3245,建筑!$A$2:$A$5001,0),COLUMN(A3245))","v":{"$error":"#N/A"}},null,{"$f":"INDEX(设备类型!$B$2:$B$5001,MATCH(表格模板!C3245,设备类型!$A$2:$A$5001,0),COLUMN(A3245))","v":{"$error":"#N/A"}}]
[null,{"$f":"INDEX(建筑!$B$2:$B$5001,MATCH(表格模板!A3246,建筑!$A$2:$A$5001,0),COLUMN(A3246))","v":{"$error":"#N/A"}},null,{"$f":"INDEX(设备类型!$B$2:$B$5001,MATCH(表格模板!C3246,设备类型!$A$2:$A$5001,0),COLUMN(A3246))","v":{"$error":"#N/A"}}]
[null,{"$f":"INDEX(建筑!$B$2:$B$5001,MATCH(表格模板!A3247,建筑!$A$2:$A$5001,0),COLUMN(A3247))","v":{"$error":"#N/A"}},null,{"$f":"INDEX(设备类型!$B$2:$B$5001,MATCH(表格模板!C3247,设备类型!$A$2:$A$5001,0),COLUMN(A3247))","v":{"$error":"#N/A"}}]
[null,{"$f":"INDEX(建筑!$B$2:$B$5001,MATCH(表格模板!A3248,建筑!$A$2:$A$5001,0),COLUMN(A3248))","v":{"$error":"#N/A"}},null,{"$f":"INDEX(设备类型!$B$2:$B$5001,MATCH(表格模板!C3248,设备类型!$A$2:$A$5001,0),COLUMN(A3248))","v":{"$error":"#N/A"}}]
[null,{"$f":"INDEX(建筑!$B$2:$B$5001,MATCH(表格模板!A3249,建筑!$A$2:$A$5001,0),COLUMN(A3249))","v":{"$error":"#N/A"}},null,{"$f":"INDEX(设备类型!$B$2:$B$5001,MATCH(表格模板!C3249,设备类型!$A$2:$A$5001,0),COLUMN(A3249))","v":{"$error":"#N/A"}}]
[null,{"$f":"INDEX(建筑!$B$2:$B$5001,MATCH(表格模板!A3250,建筑!$A$2:$A$5001,0),COLUMN(A3250))","v":{"$error":"#N/A"}},null,{"$f":"INDEX(设备类型!$B$2:$B$5001,MATCH(表格模板!C3250,设备类型!$A$2:$A$5001,0),COLUMN(A3250))","v":{"$error":"#N/A"}}]
[null,{"$f":"INDEX(建筑!$B$2:$B$5001,MATCH(表格模板!A3251,建筑!$A$2:$A$5001,0),COLUMN(A3251))","v":{"$error":"#N/A"}},null,{"$f":"INDEX(设备类型!$B$2:$B$5001,MATCH(表格模板!C3251,设备类型!$A$2:$A$5001,0),COLUMN(A3251))","v":{"$error":"#N/A"}}]
[null,{"$f":"INDEX(建筑!$B$2:$B$5001,MATCH(表格模板!A3252,建筑!$A$2:$A$5001,0),COLUMN(A3252))","v":{"$error":"#N/A"}},null,{"$f":"INDEX(设备类型!$B$2:$B$5001,MATCH(表格模板!C3252,设备类型!$A$2:$A$5001,0),COLUMN(A3252))","v":{"$error":"#N/A"}}]
[null,{"$f":"INDEX(建筑!$B$2:$B$5001,MATCH(表格模板!A3253,建筑!$A$2:$A$5001,0),COLUMN(A3253))","v":{"$error":"#N/A"}},null,{"$f":"INDEX(设备类型!$B$2:$B$5001,MATCH(表格模板!C3253,设备类型!$A$2:$A$5001,0),COLUMN(A3253))","v":{"$error":"#N/A"}}]
[null,{"$f":"INDEX(建筑!$B$2:$B$5001,MATCH(表格模板!A3254,建筑!$A$2:$A$5001,0),COLUMN(A3254))","v":{"$error":"#N/A"}},null,{"$f":"INDEX(设备类型!$B$2:$B$5001,MATCH(表格模板!C3254,设备类型!$A$2:$A$5001,0),COLUMN(A3254))","v":{"$error":"#N/A"}}]
[null,{"$f":"INDEX(建筑!$B$2:$B$5001,MATCH(表格模板!A3255,建筑!$A$2:$A$5001,0),COLUMN(A3255))","v":{"$error":"#N/A"}},null,{"$f":"INDEX(设备类型!$B$2:$B$5001,MATCH(表格模板!C3255,设备类型!$A$2:$A$5001,0),COLUMN(A3255))","v":{"$error":"#N/A"}}]
[null,{"$f":"INDEX(建筑!$B$2:$B$5001,MATCH(表格模板!A3256,建筑!$A$2:$A$5001,0),COLUMN(A3256))","v":{"$error":"#N/A"}},null,{"$f":"INDEX(设备类型!$B$2:$B$5001,MATCH(表格模板!C3256,设备类型!$A$2:$A$5001,0),COLUMN(A3256))","v":{"$error":"#N/A"}}]
[null,{"$f":"INDEX(建筑!$B$2:$B$5001,MATCH(表格模板!A3257,建筑!$A$2:$A$5001,0),COLUMN(A3257))","v":{"$error":"#N/A"}},null,{"$f":"INDEX(设备类型!$B$2:$B$5001,MATCH(表格模板!C3257,设备类型!$A$2:$A$5001,0),COLUMN(A3257))","v":{"$error":"#N/A"}}]
[null,{"$f":"INDEX(建筑!$B$2:$B$5001,MATCH(表格模板!A3258,建筑!$A$2:$A$5001,0),COLUMN(A3258))","v":{"$error":"#N/A"}},null,{"$f":"INDEX(设备类型!$B$2:$B$5001,MATCH(表格模板!C3258,设备类型!$A$2:$A$5001,0),COLUMN(A3258))","v":{"$error":"#N/A"}}]
[null,{"$f":"INDEX(建筑!$B$2:$B$5001,MATCH(表格模板!A3259,建筑!$A$2:$A$5001,0),COLUMN(A3259))","v":{"$error":"#N/A"}},null,{"$f":"INDEX(设备类型!$B$2:$B$5001,MATCH(表格模板!C3259,设备类型!$A$2:$A$5001,0),COLUMN(A3259))","v":{"$error":"#N/A"}}]
[null,{"$f":"INDEX(建筑!$B$2:$B$5001,MATCH(表格模板!A3260,建筑!$A$2:$A$5001,0),COLUMN(A3260))","v":{"$error":"#N/A"}},null,{"$f":"INDEX(设备类型!$B$2:$B$5001,MATCH(表格模板!C3260,设备类型!$A$2:$A$5001,0),COLUMN(A3260))","v":{"$error":"#N/A"}}]
[null,{"$f":"INDEX(建筑!$B$2:$B$5001,MATCH(表格模板!A3261,建筑!$A$2:$A$5001,0),COLUMN(A3261))","v":{"$error":"#N/A"}},null,{"$f":"INDEX(设备类型!$B$2:$B$5001,MATCH(表格模板!C3261,设备类型!$A$2:$A$5001,0),COLUMN(A3261))","v":{"$error":"#N/A"}}]
[null,{"$f":"INDEX(建筑!$B$2:$B$5001,MATCH(表格模板!A3262,建筑!$A$2:$A$5001,0),COLUMN(A3262))","v":{"$error":"#N/A"}},null,{"$f":"INDEX(设备类型!$B$2:$B$5001,MATCH(表格模板!C3262,设备类型!$A$2:$A$5001,0),COLUMN(A3262))","v":{"$error":"#N/A"}}]
[null,{"$f":"INDEX(建筑!$B$2:$B$5001,MATCH(表格模板!A3263,建筑!$A$2:$A$5001,0),COLUMN(A3263))","v":{"$error":"#N/A"}},null,{"$f":"INDEX(设备类型!$B$2:$B$5001,MATCH(表格模板!C3263,设备类型!$A$2:$A$5001,0),COLUMN(A3263))","v":{"$error":"#N/A"}}]
[null,{"$f":"INDEX(建筑!$B$2:$B$5001,MATCH(表格模板!A3264,建筑!$A$2:$A$5001,0),COLUMN(A3264))","v":{"$error":"#N/A"}},null,{"$f":"INDEX(设备类型!$B$2:$B$5001,MATCH(表格模板!C3264,设备类型!$A$2:$A$5001,0),COLUMN(A3264))","v":{"$error":"#N/A"}}]
[null,{"$f":"INDEX(建筑!$B$2:$B$5001,MATCH(表格模板!A3265,建筑!$A$2:$A$5001,0),COLUMN(A3265))","v":{"$error":"#N/A"}},null,{"$f":"INDEX(设备类型!$B$2:$B$5001,MATCH(表格模板!C3265,设备类型!$A$2:$A$5001,0),COLUMN(A3265))","v":{"$error":"#N/A"}}]
[null,{"$f":"INDEX(建筑!$B$2:$B$5001,MATCH(表格模板!A3266,建筑!$A$2:$A$5001,0),COLUMN(A3266))","v":{"$error":"#N/A"}},null,{"$f":"INDEX(设备类型!$B$2:$B$5001,MATCH(表格模板!C3266,设备类型!$A$2:$A$5001,0),COLUMN(A3266))","v":{"$error":"#N/A"}}]
[null,{"$f":"INDEX(建筑!$B$2:$B$5001,MATCH(表格模板!A3267,建筑!$A$2:$A$5001,0),COLUMN(A3267))","v":{"$error":"#N/A"}},null,{"$f":"INDEX(设备类型!$B$2:$B$5001,MATCH(表格模板!C3267,设备类型!$A$2:$A$5001,0),COLUMN(A3267))","v":{"$error":"#N/A"}}]
[null,{"$f":"INDEX(建筑!$B$2:$B$5001,MATCH(表格模板!A3268,建筑!$A$2:$A$5001,0),COLUMN(A3268))","v":{"$error":"#N/A"}},null,{"$f":"INDEX(设备类型!$B$2:$B$5001,MATCH(表格模板!C3268,设备类型!$A$2:$A$5001,0),COLUMN(A3268))","v":{"$error":"#N/A"}}]
[null,{"$f":"INDEX(建筑!$B$2:$B$5001,MATCH(表格模板!A3269,建筑!$A$2:$A$5001,0),COLUMN(A3269))","v":{"$error":"#N/A"}},null,{"$f":"INDEX(设备类型!$B$2:$B$5001,MATCH(表格模板!C3269,设备类型!$A$2:$A$5001,0),COLUMN(A3269))","v":{"$error":"#N/A"}}]
[null,{"$f":"INDEX(建筑!$B$2:$B$5001,MATCH(表格模板!A3270,建筑!$A$2:$A$5001,0),COLUMN(A3270))","v":{"$error":"#N/A"}},null,{"$f":"INDEX(设备类型!$B$2:$B$5001,MATCH(表格模板!C3270,设备类型!$A$2:$A$5001,0),COLUMN(A3270))","v":{"$error":"#N/A"}}]
[null,{"$f":"INDEX(建筑!$B$2:$B$5001,MATCH(表格模板!A3271,建筑!$A$2:$A$5001,0),COLUMN(A3271))","v":{"$error":"#N/A"}},null,{"$f":"INDEX(设备类型!$B$2:$B$5001,MATCH(表格模板!C3271,设备类型!$A$2:$A$5001,0),COLUMN(A3271))","v":{"$error":"#N/A"}}]
[null,{"$f":"INDEX(建筑!$B$2:$B$5001,MATCH(表格模板!A3272,建筑!$A$2:$A$5001,0),COLUMN(A3272))","v":{"$error":"#N/A"}},null,{"$f":"INDEX(设备类型!$B$2:$B$5001,MATCH(表格模板!C3272,设备类型!$A$2:$A$5001,0),COLUMN(A3272))","v":{"$error":"#N/A"}}]
[null,{"$f":"INDEX(建筑!$B$2:$B$5001,MATCH(表格模板!A3273,建筑!$A$2:$A$5001,0),COLUMN(A3273))","v":{"$error":"#N/A"}},null,{"$f":"INDEX(设备类型!$B$2:$B$5001,MATCH(表格模板!C3273,设备类型!$A$2:$A$5001,0),COLUMN(A3273))","v":{"$error":"#N/A"}}]
[null,{"$f":"INDEX(建筑!$B$2:$B$5001,MATCH(表格模板!A3274,建筑!$A$2:$A$5001,0),COLUMN(A3274))","v":{"$error":"#N/A"}},null,{"$f":"INDEX(设备类型!$B$2:$B$5001,MATCH(表格模板!C3274,设备类型!$A$2:$A$5001,0),COLUMN(A3274))","v":{"$error":"#N/A"}}]
[null,{"$f":"INDEX(建筑!$B$2:$B$5001,MATCH(表格模板!A3275,建筑!$A$2:$A$5001,0),COLUMN(A3275))","v":{"$error":"#N/A"}},null,{"$f":"INDEX(设备类型!$B$2:$B$5001,MATCH(表格模板!C3275,设备类型!$A$2:$A$5001,0),COLUMN(A3275))","v":{"$error":"#N/A"}}]
[null,{"$f":"INDEX(建筑!$B$2:$B$5001,MATCH(表格模板!A3276,建筑!$A$2:$A$5001,0),COLUMN(A3276))","v":{"$error":"#N/A"}},null,{"$f":"INDEX(设备类型!$B$2:$B$5001,MATCH(表格模板!C3276,设备类型!$A$2:$A$5001,0),COLUMN(A3276))","v":{"$error":"#N/A"}}]
[null,{"$f":"INDEX(建筑!$B$2:$B$5001,MATCH(表格模板!A3277,建筑!$A$2:$A$5001,0),COLUMN(A3277))","v":{"$error":"#N/A"}},null,{"$f":"INDEX(设备类型!$B$2:$B$5001,MATCH(表格模板!C3277,设备类型!$A$2:$A$5001,0),COLUMN(A3277))","v":{"$error":"#N/A"}}]
[null,{"$f":"INDEX(建筑!$B$2:$B$5001,MATCH(表格模板!A3278,建筑!$A$2:$A$5001,0),COLUMN(A3278))","v":{"$error":"#N/A"}},null,{"$f":"INDEX(设备类型!$B$2:$B$5001,MATCH(表格模板!C3278,设备类型!$A$2:$A$5001,0),COLUMN(A3278))","v":{"$error":"#N/A"}}]
[null,{"$f":"INDEX(建筑!$B$2:$B$5001,MATCH(表格模板!A3279,建筑!$A$2:$A$5001,0),COLUMN(A3279))","v":{"$error":"#N/A"}},null,{"$f":"INDEX(设备类型!$B$2:$B$5001,MATCH(表格模板!C3279,设备类型!$A$2:$A$5001,0),COLUMN(A3279))","v":{"$error":"#N/A"}}]
[null,{"$f":"INDEX(建筑!$B$2:$B$5001,MATCH(表格模板!A3280,建筑!$A$2:$A$5001,0),COLUMN(A3280))","v":{"$error":"#N/A"}},null,{"$f":"INDEX(设备类型!$B$2:$B$5001,MATCH(表格模板!C3280,设备类型!$A$2:$A$5001,0),COLUMN(A3280))","v":{"$error":"#N/A"}}]
[null,{"$f":"INDEX(建筑!$B$2:$B$5001,MATCH(表格模板!A3281,建筑!$A$2:$A$5001,0),COLUMN(A3281))","v":{"$error":"#N/A"}},null,{"$f":"INDEX(设备类型!$B$2:$B$5001,MATCH(表格模板!C3281,设备类型!$A$2:$A$5001,0),COLUMN(A3281))","v":{"$error":"#N/A"}}]
[null,{"$f":"INDEX(建筑!$B$2:$B$5001,MATCH(表格模板!A3282,建筑!$A$2:$A$5001,0),COLUMN(A3282))","v":{"$error":"#N/A"}},null,{"$f":"INDEX(设备类型!$B$2:$B$5001,MATCH(表格模板!C3282,设备类型!$A$2:$A$5001,0),COLUMN(A3282))","v":{"$error":"#N/A"}}]
[null,{"$f":"INDEX(建筑!$B$2:$B$5001,MATCH(表格模板!A3283,建筑!$A$2:$A$5001,0),COLUMN(A3283))","v":{"$error":"#N/A"}},null,{"$f":"INDEX(设备类型!$B$2:$B$5001,MATCH(表格模板!C3283,设备类型!$A$2:$A$5001,0),COLUMN(A3283))","v":{"$error":"#N/A"}}]
[null,{"$f":"INDEX(建筑!$B$2:$B$5001,MATCH(表格模板!A3284,建筑!$A$2:$A$5001,0),COLUMN(A3284))","v":{"$error":"#N/A"}},null,{"$f":"INDEX(设备类型!$B$2:$B$5001,MATCH(表格模板!C3284,设备类型!$A$2:$A$5001,0),COLUMN(A3284))","v":{"$error":"#N/A"}}]
[null,{"$f":"INDEX(建筑!$B$2:$B$5001,MATCH(表格模板!A3285,建筑!$A$2:$A$5001,0),COLUMN(A3285))","v":{"$error":"#N/A"}},null,{"$f":"INDEX(设备类型!$B$2:$B$5001,MATCH(表格模板!C3285,设备类型!$A$2:$A$5001,0),COLUMN(A3285))","v":{"$error":"#N/A"}}]
[null,{"$f":"INDEX(建筑!$B$2:$B$5001,MATCH(表格模板!A3286,建筑!$A$2:$A$5001,0),COLUMN(A3286))","v":{"$error":"#N/A"}},null,{"$f":"INDEX(设备类型!$B$2:$B$5001,MATCH(表格模板!C3286,设备类型!$A$2:$A$5001,0),COLUMN(A3286))","v":{"$error":"#N/A"}}]
[null,{"$f":"INDEX(建筑!$B$2:$B$5001,MATCH(表格模板!A3287,建筑!$A$2:$A$5001,0),COLUMN(A3287))","v":{"$error":"#N/A"}},null,{"$f":"INDEX(设备类型!$B$2:$B$5001,MATCH(表格模板!C3287,设备类型!$A$2:$A$5001,0),COLUMN(A3287))","v":{"$error":"#N/A"}}]
[null,{"$f":"INDEX(建筑!$B$2:$B$5001,MATCH(表格模板!A3288,建筑!$A$2:$A$5001,0),COLUMN(A3288))","v":{"$error":"#N/A"}},null,{"$f":"INDEX(设备类型!$B$2:$B$5001,MATCH(表格模板!C3288,设备类型!$A$2:$A$5001,0),COLUMN(A3288))","v":{"$error":"#N/A"}}]
[null,{"$f":"INDEX(建筑!$B$2:$B$5001,MATCH(表格模板!A3289,建筑!$A$2:$A$5001,0),COLUMN(A3289))","v":{"$error":"#N/A"}},null,{"$f":"INDEX(设备类型!$B$2:$B$5001,MATCH(表格模板!C3289,设备类型!$A$2:$A$5001,0),COLUMN(A3289))","v":{"$error":"#N/A"}}]
[null,{"$f":"INDEX(建筑!$B$2:$B$5001,MATCH(表格模板!A3290,建筑!$A$2:$A$5001,0),COLUMN(A3290))","v":{"$error":"#N/A"}},null,{"$f":"INDEX(设备类型!$B$2:$B$5001,MATCH(表格模板!C3290,设备类型!$A$2:$A$5001,0),COLUMN(A3290))","v":{"$error":"#N/A"}}]
[null,{"$f":"INDEX(建筑!$B$2:$B$5001,MATCH(表格模板!A3291,建筑!$A$2:$A$5001,0),COLUMN(A3291))","v":{"$error":"#N/A"}},null,{"$f":"INDEX(设备类型!$B$2:$B$5001,MATCH(表格模板!C3291,设备类型!$A$2:$A$5001,0),COLUMN(A3291))","v":{"$error":"#N/A"}}]
[null,{"$f":"INDEX(建筑!$B$2:$B$5001,MATCH(表格模板!A3292,建筑!$A$2:$A$5001,0),COLUMN(A3292))","v":{"$error":"#N/A"}},null,{"$f":"INDEX(设备类型!$B$2:$B$5001,MATCH(表格模板!C3292,设备类型!$A$2:$A$5001,0),COLUMN(A3292))","v":{"$error":"#N/A"}}]
[null,{"$f":"INDEX(建筑!$B$2:$B$5001,MATCH(表格模板!A3293,建筑!$A$2:$A$5001,0),COLUMN(A3293))","v":{"$error":"#N/A"}},null,{"$f":"INDEX(设备类型!$B$2:$B$5001,MATCH(表格模板!C3293,设备类型!$A$2:$A$5001,0),COLUMN(A3293))","v":{"$error":"#N/A"}}]
[null,{"$f":"INDEX(建筑!$B$2:$B$5001,MATCH(表格模板!A3294,建筑!$A$2:$A$5001,0),COLUMN(A3294))","v":{"$error":"#N/A"}},null,{"$f":"INDEX(设备类型!$B$2:$B$5001,MATCH(表格模板!C3294,设备类型!$A$2:$A$5001,0),COLUMN(A3294))","v":{"$error":"#N/A"}}]
[null,{"$f":"INDEX(建筑!$B$2:$B$5001,MATCH(表格模板!A3295,建筑!$A$2:$A$5001,0),COLUMN(A3295))","v":{"$error":"#N/A"}},null,{"$f":"INDEX(设备类型!$B$2:$B$5001,MATCH(表格模板!C3295,设备类型!$A$2:$A$5001,0),COLUMN(A3295))","v":{"$error":"#N/A"}}]
[null,{"$f":"INDEX(建筑!$B$2:$B$5001,MATCH(表格模板!A3296,建筑!$A$2:$A$5001,0),COLUMN(A3296))","v":{"$error":"#N/A"}},null,{"$f":"INDEX(设备类型!$B$2:$B$5001,MATCH(表格模板!C3296,设备类型!$A$2:$A$5001,0),COLUMN(A3296))","v":{"$error":"#N/A"}}]
[null,{"$f":"INDEX(建筑!$B$2:$B$5001,MATCH(表格模板!A3297,建筑!$A$2:$A$5001,0),COLUMN(A3297))","v":{"$error":"#N/A"}},null,{"$f":"INDEX(设备类型!$B$2:$B$5001,MATCH(表格模板!C3297,设备类型!$A$2:$A$5001,0),COLUMN(A3297))","v":{"$error":"#N/A"}}]
[null,{"$f":"INDEX(建筑!$B$2:$B$5001,MATCH(表格模板!A3298,建筑!$A$2:$A$5001,0),COLUMN(A3298))","v":{"$error":"#N/A"}},null,{"$f":"INDEX(设备类型!$B$2:$B$5001,MATCH(表格模板!C3298,设备类型!$A$2:$A$5001,0),COLUMN(A3298))","v":{"$error":"#N/A"}}]
[null,{"$f":"INDEX(建筑!$B$2:$B$5001,MATCH(表格模板!A3299,建筑!$A$2:$A$5001,0),COLUMN(A3299))","v":{"$error":"#N/A"}},null,{"$f":"INDEX(设备类型!$B$2:$B$5001,MATCH(表格模板!C3299,设备类型!$A$2:$A$5001,0),COLUMN(A3299))","v":{"$error":"#N/A"}}]
[null,{"$f":"INDEX(建筑!$B$2:$B$5001,MATCH(表格模板!A3300,建筑!$A$2:$A$5001,0),COLUMN(A3300))","v":{"$error":"#N/A"}},null,{"$f":"INDEX(设备类型!$B$2:$B$5001,MATCH(表格模板!C3300,设备类型!$A$2:$A$5001,0),COLUMN(A3300))","v":{"$error":"#N/A"}}]
[null,{"$f":"INDEX(建筑!$B$2:$B$5001,MATCH(表格模板!A3301,建筑!$A$2:$A$5001,0),COLUMN(A3301))","v":{"$error":"#N/A"}},null,{"$f":"INDEX(设备类型!$B$2:$B$5001,MATCH(表格模板!C3301,设备类型!$A$2:$A$5001,0),COLUMN(A3301))","v":{"$error":"#N/A"}}]
[null,{"$f":"INDEX(建筑!$B$2:$B$5001,MATCH(表格模板!A3302,建筑!$A$2:$A$5001,0),COLUMN(A3302))","v":{"$error":"#N/A"}},null,{"$f":"INDEX(设备类型!$B$2:$B$5001,MATCH(表格模板!C3302,设备类型!$A$2:$A$5001,0),COLUMN(A3302))","v":{"$error":"#N/A"}}]
[null,{"$f":"INDEX(建筑!$B$2:$B$5001,MATCH(表格模板!A3303,建筑!$A$2:$A$5001,0),COLUMN(A3303))","v":{"$error":"#N/A"}},null,{"$f":"INDEX(设备类型!$B$2:$B$5001,MATCH(表格模板!C3303,设备类型!$A$2:$A$5001,0),COLUMN(A3303))","v":{"$error":"#N/A"}}]
[null,{"$f":"INDEX(建筑!$B$2:$B$5001,MATCH(表格模板!A3304,建筑!$A$2:$A$5001,0),COLUMN(A3304))","v":{"$error":"#N/A"}},null,{"$f":"INDEX(设备类型!$B$2:$B$5001,MATCH(表格模板!C3304,设备类型!$A$2:$A$5001,0),COLUMN(A3304))","v":{"$error":"#N/A"}}]
[null,{"$f":"INDEX(建筑!$B$2:$B$5001,MATCH(表格模板!A3305,建筑!$A$2:$A$5001,0),COLUMN(A3305))","v":{"$error":"#N/A"}},null,{"$f":"INDEX(设备类型!$B$2:$B$5001,MATCH(表格模板!C3305,设备类型!$A$2:$A$5001,0),COLUMN(A3305))","v":{"$error":"#N/A"}}]
[null,{"$f":"INDEX(建筑!$B$2:$B$5001,MATCH(表格模板!A3306,建筑!$A$2:$A$5001,0),COLUMN(A3306))","v":{"$error":"#N/A"}},null,{"$f":"INDEX(设备类型!$B$2:$B$5001,MATCH(表格模板!C3306,设备类型!$A$2:$A$5001,0),COLUMN(A3306))","v":{"$error":"#N/A"}}]
[null,{"$f":"INDEX(建筑!$B$2:$B$5001,MATCH(表格模板!A3307,建筑!$A$2:$A$5001,0),COLUMN(A3307))","v":{"$error":"#N/A"}},null,{"$f":"INDEX(设备类型!$B$2:$B$5001,MATCH(表格模板!C3307,设备类型!$A$2:$A$5001,0),COLUMN(A3307))","v":{"$error":"#N/A"}}]
[null,{"$f":"INDEX(建筑!$B$2:$B$5001,MATCH(表格模板!A3308,建筑!$A$2:$A$5001,0),COLUMN(A3308))","v":{"$error":"#N/A"}},null,{"$f":"INDEX(设备类型!$B$2:$B$5001,MATCH(表格模板!C3308,设备类型!$A$2:$A$5001,0),COLUMN(A3308))","v":{"$error":"#N/A"}}]
[null,{"$f":"INDEX(建筑!$B$2:$B$5001,MATCH(表格模板!A3309,建筑!$A$2:$A$5001,0),COLUMN(A3309))","v":{"$error":"#N/A"}},null,{"$f":"INDEX(设备类型!$B$2:$B$5001,MATCH(表格模板!C3309,设备类型!$A$2:$A$5001,0),COLUMN(A3309))","v":{"$error":"#N/A"}}]
[null,{"$f":"INDEX(建筑!$B$2:$B$5001,MATCH(表格模板!A3310,建筑!$A$2:$A$5001,0),COLUMN(A3310))","v":{"$error":"#N/A"}},null,{"$f":"INDEX(设备类型!$B$2:$B$5001,MATCH(表格模板!C3310,设备类型!$A$2:$A$5001,0),COLUMN(A3310))","v":{"$error":"#N/A"}}]
[null,{"$f":"INDEX(建筑!$B$2:$B$5001,MATCH(表格模板!A3311,建筑!$A$2:$A$5001,0),COLUMN(A3311))","v":{"$error":"#N/A"}},null,{"$f":"INDEX(设备类型!$B$2:$B$5001,MATCH(表格模板!C3311,设备类型!$A$2:$A$5001,0),COLUMN(A3311))","v":{"$error":"#N/A"}}]
[null,{"$f":"INDEX(建筑!$B$2:$B$5001,MATCH(表格模板!A3312,建筑!$A$2:$A$5001,0),COLUMN(A3312))","v":{"$error":"#N/A"}},null,{"$f":"INDEX(设备类型!$B$2:$B$5001,MATCH(表格模板!C3312,设备类型!$A$2:$A$5001,0),COLUMN(A3312))","v":{"$error":"#N/A"}}]
[null,{"$f":"INDEX(建筑!$B$2:$B$5001,MATCH(表格模板!A3313,建筑!$A$2:$A$5001,0),COLUMN(A3313))","v":{"$error":"#N/A"}},null,{"$f":"INDEX(设备类型!$B$2:$B$5001,MATCH(表格模板!C3313,设备类型!$A$2:$A$5001,0),COLUMN(A3313))","v":{"$error":"#N/A"}}]
[null,{"$f":"INDEX(建筑!$B$2:$B$5001,MATCH(表格模板!A3314,建筑!$A$2:$A$5001,0),COLUMN(A3314))","v":{"$error":"#N/A"}},null,{"$f":"INDEX(设备类型!$B$2:$B$5001,MATCH(表格模板!C3314,设备类型!$A$2:$A$5001,0),COLUMN(A3314))","v":{"$error":"#N/A"}}]
[null,{"$f":"INDEX(建筑!$B$2:$B$5001,MATCH(表格模板!A3315,建筑!$A$2:$A$5001,0),COLUMN(A3315))","v":{"$error":"#N/A"}},null,{"$f":"INDEX(设备类型!$B$2:$B$5001,MATCH(表格模板!C3315,设备类型!$A$2:$A$5001,0),COLUMN(A3315))","v":{"$error":"#N/A"}}]
[null,{"$f":"INDEX(建筑!$B$2:$B$5001,MATCH(表格模板!A3316,建筑!$A$2:$A$5001,0),COLUMN(A3316))","v":{"$error":"#N/A"}},null,{"$f":"INDEX(设备类型!$B$2:$B$5001,MATCH(表格模板!C3316,设备类型!$A$2:$A$5001,0),COLUMN(A3316))","v":{"$error":"#N/A"}}]
[null,{"$f":"INDEX(建筑!$B$2:$B$5001,MATCH(表格模板!A3317,建筑!$A$2:$A$5001,0),COLUMN(A3317))","v":{"$error":"#N/A"}},null,{"$f":"INDEX(设备类型!$B$2:$B$5001,MATCH(表格模板!C3317,设备类型!$A$2:$A$5001,0),COLUMN(A3317))","v":{"$error":"#N/A"}}]
[null,{"$f":"INDEX(建筑!$B$2:$B$5001,MATCH(表格模板!A3318,建筑!$A$2:$A$5001,0),COLUMN(A3318))","v":{"$error":"#N/A"}},null,{"$f":"INDEX(设备类型!$B$2:$B$5001,MATCH(表格模板!C3318,设备类型!$A$2:$A$5001,0),COLUMN(A3318))","v":{"$error":"#N/A"}}]
[null,{"$f":"INDEX(建筑!$B$2:$B$5001,MATCH(表格模板!A3319,建筑!$A$2:$A$5001,0),COLUMN(A3319))","v":{"$error":"#N/A"}},null,{"$f":"INDEX(设备类型!$B$2:$B$5001,MATCH(表格模板!C3319,设备类型!$A$2:$A$5001,0),COLUMN(A3319))","v":{"$error":"#N/A"}}]
[null,{"$f":"INDEX(建筑!$B$2:$B$5001,MATCH(表格模板!A3320,建筑!$A$2:$A$5001,0),COLUMN(A3320))","v":{"$error":"#N/A"}},null,{"$f":"INDEX(设备类型!$B$2:$B$5001,MATCH(表格模板!C3320,设备类型!$A$2:$A$5001,0),COLUMN(A3320))","v":{"$error":"#N/A"}}]
[null,{"$f":"INDEX(建筑!$B$2:$B$5001,MATCH(表格模板!A3321,建筑!$A$2:$A$5001,0),COLUMN(A3321))","v":{"$error":"#N/A"}},null,{"$f":"INDEX(设备类型!$B$2:$B$5001,MATCH(表格模板!C3321,设备类型!$A$2:$A$5001,0),COLUMN(A3321))","v":{"$error":"#N/A"}}]
[null,{"$f":"INDEX(建筑!$B$2:$B$5001,MATCH(表格模板!A3322,建筑!$A$2:$A$5001,0),COLUMN(A3322))","v":{"$error":"#N/A"}},null,{"$f":"INDEX(设备类型!$B$2:$B$5001,MATCH(表格模板!C3322,设备类型!$A$2:$A$5001,0),COLUMN(A3322))","v":{"$error":"#N/A"}}]
[null,{"$f":"INDEX(建筑!$B$2:$B$5001,MATCH(表格模板!A3323,建筑!$A$2:$A$5001,0),COLUMN(A3323))","v":{"$error":"#N/A"}},null,{"$f":"INDEX(设备类型!$B$2:$B$5001,MATCH(表格模板!C3323,设备类型!$A$2:$A$5001,0),COLUMN(A3323))","v":{"$error":"#N/A"}}]
[null,{"$f":"INDEX(建筑!$B$2:$B$5001,MATCH(表格模板!A3324,建筑!$A$2:$A$5001,0),COLUMN(A3324))","v":{"$error":"#N/A"}},null,{"$f":"INDEX(设备类型!$B$2:$B$5001,MATCH(表格模板!C3324,设备类型!$A$2:$A$5001,0),COLUMN(A3324))","v":{"$error":"#N/A"}}]
[null,{"$f":"INDEX(建筑!$B$2:$B$5001,MATCH(表格模板!A3325,建筑!$A$2:$A$5001,0),COLUMN(A3325))","v":{"$error":"#N/A"}},null,{"$f":"INDEX(设备类型!$B$2:$B$5001,MATCH(表格模板!C3325,设备类型!$A$2:$A$5001,0),COLUMN(A3325))","v":{"$error":"#N/A"}}]
[null,{"$f":"INDEX(建筑!$B$2:$B$5001,MATCH(表格模板!A3326,建筑!$A$2:$A$5001,0),COLUMN(A3326))","v":{"$error":"#N/A"}},null,{"$f":"INDEX(设备类型!$B$2:$B$5001,MATCH(表格模板!C3326,设备类型!$A$2:$A$5001,0),COLUMN(A3326))","v":{"$error":"#N/A"}}]
[null,{"$f":"INDEX(建筑!$B$2:$B$5001,MATCH(表格模板!A3327,建筑!$A$2:$A$5001,0),COLUMN(A3327))","v":{"$error":"#N/A"}},null,{"$f":"INDEX(设备类型!$B$2:$B$5001,MATCH(表格模板!C3327,设备类型!$A$2:$A$5001,0),COLUMN(A3327))","v":{"$error":"#N/A"}}]
[null,{"$f":"INDEX(建筑!$B$2:$B$5001,MATCH(表格模板!A3328,建筑!$A$2:$A$5001,0),COLUMN(A3328))","v":{"$error":"#N/A"}},null,{"$f":"INDEX(设备类型!$B$2:$B$5001,MATCH(表格模板!C3328,设备类型!$A$2:$A$5001,0),COLUMN(A3328))","v":{"$error":"#N/A"}}]
[null,{"$f":"INDEX(建筑!$B$2:$B$5001,MATCH(表格模板!A3329,建筑!$A$2:$A$5001,0),COLUMN(A3329))","v":{"$error":"#N/A"}},null,{"$f":"INDEX(设备类型!$B$2:$B$5001,MATCH(表格模板!C3329,设备类型!$A$2:$A$5001,0),COLUMN(A3329))","v":{"$error":"#N/A"}}]
[null,{"$f":"INDEX(建筑!$B$2:$B$5001,MATCH(表格模板!A3330,建筑!$A$2:$A$5001,0),COLUMN(A3330))","v":{"$error":"#N/A"}},null,{"$f":"INDEX(设备类型!$B$2:$B$5001,MATCH(表格模板!C3330,设备类型!$A$2:$A$5001,0),COLUMN(A3330))","v":{"$error":"#N/A"}}]
[null,{"$f":"INDEX(建筑!$B$2:$B$5001,MATCH(表格模板!A3331,建筑!$A$2:$A$5001,0),COLUMN(A3331))","v":{"$error":"#N/A"}},null,{"$f":"INDEX(设备类型!$B$2:$B$5001,MATCH(表格模板!C3331,设备类型!$A$2:$A$5001,0),COLUMN(A3331))","v":{"$error":"#N/A"}}]
[null,{"$f":"INDEX(建筑!$B$2:$B$5001,MATCH(表格模板!A3332,建筑!$A$2:$A$5001,0),COLUMN(A3332))","v":{"$error":"#N/A"}},null,{"$f":"INDEX(设备类型!$B$2:$B$5001,MATCH(表格模板!C3332,设备类型!$A$2:$A$5001,0),COLUMN(A3332))","v":{"$error":"#N/A"}}]
[null,{"$f":"INDEX(建筑!$B$2:$B$5001,MATCH(表格模板!A3333,建筑!$A$2:$A$5001,0),COLUMN(A3333))","v":{"$error":"#N/A"}},null,{"$f":"INDEX(设备类型!$B$2:$B$5001,MATCH(表格模板!C3333,设备类型!$A$2:$A$5001,0),COLUMN(A3333))","v":{"$error":"#N/A"}}]
[null,{"$f":"INDEX(建筑!$B$2:$B$5001,MATCH(表格模板!A3334,建筑!$A$2:$A$5001,0),COLUMN(A3334))","v":{"$error":"#N/A"}},null,{"$f":"INDEX(设备类型!$B$2:$B$5001,MATCH(表格模板!C3334,设备类型!$A$2:$A$5001,0),COLUMN(A3334))","v":{"$error":"#N/A"}}]
[null,{"$f":"INDEX(建筑!$B$2:$B$5001,MATCH(表格模板!A3335,建筑!$A$2:$A$5001,0),COLUMN(A3335))","v":{"$error":"#N/A"}},null,{"$f":"INDEX(设备类型!$B$2:$B$5001,MATCH(表格模板!C3335,设备类型!$A$2:$A$5001,0),COLUMN(A3335))","v":{"$error":"#N/A"}}]
[null,{"$f":"INDEX(建筑!$B$2:$B$5001,MATCH(表格模板!A3336,建筑!$A$2:$A$5001,0),COLUMN(A3336))","v":{"$error":"#N/A"}},null,{"$f":"INDEX(设备类型!$B$2:$B$5001,MATCH(表格模板!C3336,设备类型!$A$2:$A$5001,0),COLUMN(A3336))","v":{"$error":"#N/A"}}]
[null,{"$f":"INDEX(建筑!$B$2:$B$5001,MATCH(表格模板!A3337,建筑!$A$2:$A$5001,0),COLUMN(A3337))","v":{"$error":"#N/A"}},null,{"$f":"INDEX(设备类型!$B$2:$B$5001,MATCH(表格模板!C3337,设备类型!$A$2:$A$5001,0),COLUMN(A3337))","v":{"$error":"#N/A"}}]
[null,{"$f":"INDEX(建筑!$B$2:$B$5001,MATCH(表格模板!A3338,建筑!$A$2:$A$5001,0),COLUMN(A3338))","v":{"$error":"#N/A"}},null,{"$f":"INDEX(设备类型!$B$2:$B$5001,MATCH(表格模板!C3338,设备类型!$A$2:$A$5001,0),COLUMN(A3338))","v":{"$error":"#N/A"}}]
[null,{"$f":"INDEX(建筑!$B$2:$B$5001,MATCH(表格模板!A3339,建筑!$A$2:$A$5001,0),COLUMN(A3339))","v":{"$error":"#N/A"}},null,{"$f":"INDEX(设备类型!$B$2:$B$5001,MATCH(表格模板!C3339,设备类型!$A$2:$A$5001,0),COLUMN(A3339))","v":{"$error":"#N/A"}}]
[null,{"$f":"INDEX(建筑!$B$2:$B$5001,MATCH(表格模板!A3340,建筑!$A$2:$A$5001,0),COLUMN(A3340))","v":{"$error":"#N/A"}},null,{"$f":"INDEX(设备类型!$B$2:$B$5001,MATCH(表格模板!C3340,设备类型!$A$2:$A$5001,0),COLUMN(A3340))","v":{"$error":"#N/A"}}]
[null,{"$f":"INDEX(建筑!$B$2:$B$5001,MATCH(表格模板!A3341,建筑!$A$2:$A$5001,0),COLUMN(A3341))","v":{"$error":"#N/A"}},null,{"$f":"INDEX(设备类型!$B$2:$B$5001,MATCH(表格模板!C3341,设备类型!$A$2:$A$5001,0),COLUMN(A3341))","v":{"$error":"#N/A"}}]
[null,{"$f":"INDEX(建筑!$B$2:$B$5001,MATCH(表格模板!A3342,建筑!$A$2:$A$5001,0),COLUMN(A3342))","v":{"$error":"#N/A"}},null,{"$f":"INDEX(设备类型!$B$2:$B$5001,MATCH(表格模板!C3342,设备类型!$A$2:$A$5001,0),COLUMN(A3342))","v":{"$error":"#N/A"}}]
[null,{"$f":"INDEX(建筑!$B$2:$B$5001,MATCH(表格模板!A3343,建筑!$A$2:$A$5001,0),COLUMN(A3343))","v":{"$error":"#N/A"}},null,{"$f":"INDEX(设备类型!$B$2:$B$5001,MATCH(表格模板!C3343,设备类型!$A$2:$A$5001,0),COLUMN(A3343))","v":{"$error":"#N/A"}}]
[null,{"$f":"INDEX(建筑!$B$2:$B$5001,MATCH(表格模板!A3344,建筑!$A$2:$A$5001,0),COLUMN(A3344))","v":{"$error":"#N/A"}},null,{"$f":"INDEX(设备类型!$B$2:$B$5001,MATCH(表格模板!C3344,设备类型!$A$2:$A$5001,0),COLUMN(A3344))","v":{"$error":"#N/A"}}]
[null,{"$f":"INDEX(建筑!$B$2:$B$5001,MATCH(表格模板!A3345,建筑!$A$2:$A$5001,0),COLUMN(A3345))","v":{"$error":"#N/A"}},null,{"$f":"INDEX(设备类型!$B$2:$B$5001,MATCH(表格模板!C3345,设备类型!$A$2:$A$5001,0),COLUMN(A3345))","v":{"$error":"#N/A"}}]
[null,{"$f":"INDEX(建筑!$B$2:$B$5001,MATCH(表格模板!A3346,建筑!$A$2:$A$5001,0),COLUMN(A3346))","v":{"$error":"#N/A"}},null,{"$f":"INDEX(设备类型!$B$2:$B$5001,MATCH(表格模板!C3346,设备类型!$A$2:$A$5001,0),COLUMN(A3346))","v":{"$error":"#N/A"}}]
[null,{"$f":"INDEX(建筑!$B$2:$B$5001,MATCH(表格模板!A3347,建筑!$A$2:$A$5001,0),COLUMN(A3347))","v":{"$error":"#N/A"}},null,{"$f":"INDEX(设备类型!$B$2:$B$5001,MATCH(表格模板!C3347,设备类型!$A$2:$A$5001,0),COLUMN(A3347))","v":{"$error":"#N/A"}}]
[null,{"$f":"INDEX(建筑!$B$2:$B$5001,MATCH(表格模板!A3348,建筑!$A$2:$A$5001,0),COLUMN(A3348))","v":{"$error":"#N/A"}},null,{"$f":"INDEX(设备类型!$B$2:$B$5001,MATCH(表格模板!C3348,设备类型!$A$2:$A$5001,0),COLUMN(A3348))","v":{"$error":"#N/A"}}]
[null,{"$f":"INDEX(建筑!$B$2:$B$5001,MATCH(表格模板!A3349,建筑!$A$2:$A$5001,0),COLUMN(A3349))","v":{"$error":"#N/A"}},null,{"$f":"INDEX(设备类型!$B$2:$B$5001,MATCH(表格模板!C3349,设备类型!$A$2:$A$5001,0),COLUMN(A3349))","v":{"$error":"#N/A"}}]
[null,{"$f":"INDEX(建筑!$B$2:$B$5001,MATCH(表格模板!A3350,建筑!$A$2:$A$5001,0),COLUMN(A3350))","v":{"$error":"#N/A"}},null,{"$f":"INDEX(设备类型!$B$2:$B$5001,MATCH(表格模板!C3350,设备类型!$A$2:$A$5001,0),COLUMN(A3350))","v":{"$error":"#N/A"}}]
[null,{"$f":"INDEX(建筑!$B$2:$B$5001,MATCH(表格模板!A3351,建筑!$A$2:$A$5001,0),COLUMN(A3351))","v":{"$error":"#N/A"}},null,{"$f":"INDEX(设备类型!$B$2:$B$5001,MATCH(表格模板!C3351,设备类型!$A$2:$A$5001,0),COLUMN(A3351))","v":{"$error":"#N/A"}}]
[null,{"$f":"INDEX(建筑!$B$2:$B$5001,MATCH(表格模板!A3352,建筑!$A$2:$A$5001,0),COLUMN(A3352))","v":{"$error":"#N/A"}},null,{"$f":"INDEX(设备类型!$B$2:$B$5001,MATCH(表格模板!C3352,设备类型!$A$2:$A$5001,0),COLUMN(A3352))","v":{"$error":"#N/A"}}]
[null,{"$f":"INDEX(建筑!$B$2:$B$5001,MATCH(表格模板!A3353,建筑!$A$2:$A$5001,0),COLUMN(A3353))","v":{"$error":"#N/A"}},null,{"$f":"INDEX(设备类型!$B$2:$B$5001,MATCH(表格模板!C3353,设备类型!$A$2:$A$5001,0),COLUMN(A3353))","v":{"$error":"#N/A"}}]
[null,{"$f":"INDEX(建筑!$B$2:$B$5001,MATCH(表格模板!A3354,建筑!$A$2:$A$5001,0),COLUMN(A3354))","v":{"$error":"#N/A"}},null,{"$f":"INDEX(设备类型!$B$2:$B$5001,MATCH(表格模板!C3354,设备类型!$A$2:$A$5001,0),COLUMN(A3354))","v":{"$error":"#N/A"}}]
[null,{"$f":"INDEX(建筑!$B$2:$B$5001,MATCH(表格模板!A3355,建筑!$A$2:$A$5001,0),COLUMN(A3355))","v":{"$error":"#N/A"}},null,{"$f":"INDEX(设备类型!$B$2:$B$5001,MATCH(表格模板!C3355,设备类型!$A$2:$A$5001,0),COLUMN(A3355))","v":{"$error":"#N/A"}}]
[null,{"$f":"INDEX(建筑!$B$2:$B$5001,MATCH(表格模板!A3356,建筑!$A$2:$A$5001,0),COLUMN(A3356))","v":{"$error":"#N/A"}},null,{"$f":"INDEX(设备类型!$B$2:$B$5001,MATCH(表格模板!C3356,设备类型!$A$2:$A$5001,0),COLUMN(A3356))","v":{"$error":"#N/A"}}]
[null,{"$f":"INDEX(建筑!$B$2:$B$5001,MATCH(表格模板!A3357,建筑!$A$2:$A$5001,0),COLUMN(A3357))","v":{"$error":"#N/A"}},null,{"$f":"INDEX(设备类型!$B$2:$B$5001,MATCH(表格模板!C3357,设备类型!$A$2:$A$5001,0),COLUMN(A3357))","v":{"$error":"#N/A"}}]
[null,{"$f":"INDEX(建筑!$B$2:$B$5001,MATCH(表格模板!A3358,建筑!$A$2:$A$5001,0),COLUMN(A3358))","v":{"$error":"#N/A"}},null,{"$f":"INDEX(设备类型!$B$2:$B$5001,MATCH(表格模板!C3358,设备类型!$A$2:$A$5001,0),COLUMN(A3358))","v":{"$error":"#N/A"}}]
[null,{"$f":"INDEX(建筑!$B$2:$B$5001,MATCH(表格模板!A3359,建筑!$A$2:$A$5001,0),COLUMN(A3359))","v":{"$error":"#N/A"}},null,{"$f":"INDEX(设备类型!$B$2:$B$5001,MATCH(表格模板!C3359,设备类型!$A$2:$A$5001,0),COLUMN(A3359))","v":{"$error":"#N/A"}}]
[null,{"$f":"INDEX(建筑!$B$2:$B$5001,MATCH(表格模板!A3360,建筑!$A$2:$A$5001,0),COLUMN(A3360))","v":{"$error":"#N/A"}},null,{"$f":"INDEX(设备类型!$B$2:$B$5001,MATCH(表格模板!C3360,设备类型!$A$2:$A$5001,0),COLUMN(A3360))","v":{"$error":"#N/A"}}]
[null,{"$f":"INDEX(建筑!$B$2:$B$5001,MATCH(表格模板!A3361,建筑!$A$2:$A$5001,0),COLUMN(A3361))","v":{"$error":"#N/A"}},null,{"$f":"INDEX(设备类型!$B$2:$B$5001,MATCH(表格模板!C3361,设备类型!$A$2:$A$5001,0),COLUMN(A3361))","v":{"$error":"#N/A"}}]
[null,{"$f":"INDEX(建筑!$B$2:$B$5001,MATCH(表格模板!A3362,建筑!$A$2:$A$5001,0),COLUMN(A3362))","v":{"$error":"#N/A"}},null,{"$f":"INDEX(设备类型!$B$2:$B$5001,MATCH(表格模板!C3362,设备类型!$A$2:$A$5001,0),COLUMN(A3362))","v":{"$error":"#N/A"}}]
[null,{"$f":"INDEX(建筑!$B$2:$B$5001,MATCH(表格模板!A3363,建筑!$A$2:$A$5001,0),COLUMN(A3363))","v":{"$error":"#N/A"}},null,{"$f":"INDEX(设备类型!$B$2:$B$5001,MATCH(表格模板!C3363,设备类型!$A$2:$A$5001,0),COLUMN(A3363))","v":{"$error":"#N/A"}}]
[null,{"$f":"INDEX(建筑!$B$2:$B$5001,MATCH(表格模板!A3364,建筑!$A$2:$A$5001,0),COLUMN(A3364))","v":{"$error":"#N/A"}},null,{"$f":"INDEX(设备类型!$B$2:$B$5001,MATCH(表格模板!C3364,设备类型!$A$2:$A$5001,0),COLUMN(A3364))","v":{"$error":"#N/A"}}]
[null,{"$f":"INDEX(建筑!$B$2:$B$5001,MATCH(表格模板!A3365,建筑!$A$2:$A$5001,0),COLUMN(A3365))","v":{"$error":"#N/A"}},null,{"$f":"INDEX(设备类型!$B$2:$B$5001,MATCH(表格模板!C3365,设备类型!$A$2:$A$5001,0),COLUMN(A3365))","v":{"$error":"#N/A"}}]
[null,{"$f":"INDEX(建筑!$B$2:$B$5001,MATCH(表格模板!A3366,建筑!$A$2:$A$5001,0),COLUMN(A3366))","v":{"$error":"#N/A"}},null,{"$f":"INDEX(设备类型!$B$2:$B$5001,MATCH(表格模板!C3366,设备类型!$A$2:$A$5001,0),COLUMN(A3366))","v":{"$error":"#N/A"}}]
[null,{"$f":"INDEX(建筑!$B$2:$B$5001,MATCH(表格模板!A3367,建筑!$A$2:$A$5001,0),COLUMN(A3367))","v":{"$error":"#N/A"}},null,{"$f":"INDEX(设备类型!$B$2:$B$5001,MATCH(表格模板!C3367,设备类型!$A$2:$A$5001,0),COLUMN(A3367))","v":{"$error":"#N/A"}}]
[null,{"$f":"INDEX(建筑!$B$2:$B$5001,MATCH(表格模板!A3368,建筑!$A$2:$A$5001,0),COLUMN(A3368))","v":{"$error":"#N/A"}},null,{"$f":"INDEX(设备类型!$B$2:$B$5001,MATCH(表格模板!C3368,设备类型!$A$2:$A$5001,0),COLUMN(A3368))","v":{"$error":"#N/A"}}]
[null,{"$f":"INDEX(建筑!$B$2:$B$5001,MATCH(表格模板!A3369,建筑!$A$2:$A$5001,0),COLUMN(A3369))","v":{"$error":"#N/A"}},null,{"$f":"INDEX(设备类型!$B$2:$B$5001,MATCH(表格模板!C3369,设备类型!$A$2:$A$5001,0),COLUMN(A3369))","v":{"$error":"#N/A"}}]
[null,{"$f":"INDEX(建筑!$B$2:$B$5001,MATCH(表格模板!A3370,建筑!$A$2:$A$5001,0),COLUMN(A3370))","v":{"$error":"#N/A"}},null,{"$f":"INDEX(设备类型!$B$2:$B$5001,MATCH(表格模板!C3370,设备类型!$A$2:$A$5001,0),COLUMN(A3370))","v":{"$error":"#N/A"}}]
[null,{"$f":"INDEX(建筑!$B$2:$B$5001,MATCH(表格模板!A3371,建筑!$A$2:$A$5001,0),COLUMN(A3371))","v":{"$error":"#N/A"}},null,{"$f":"INDEX(设备类型!$B$2:$B$5001,MATCH(表格模板!C3371,设备类型!$A$2:$A$5001,0),COLUMN(A3371))","v":{"$error":"#N/A"}}]
[null,{"$f":"INDEX(建筑!$B$2:$B$5001,MATCH(表格模板!A3372,建筑!$A$2:$A$5001,0),COLUMN(A3372))","v":{"$error":"#N/A"}},null,{"$f":"INDEX(设备类型!$B$2:$B$5001,MATCH(表格模板!C3372,设备类型!$A$2:$A$5001,0),COLUMN(A3372))","v":{"$error":"#N/A"}}]
[null,{"$f":"INDEX(建筑!$B$2:$B$5001,MATCH(表格模板!A3373,建筑!$A$2:$A$5001,0),COLUMN(A3373))","v":{"$error":"#N/A"}},null,{"$f":"INDEX(设备类型!$B$2:$B$5001,MATCH(表格模板!C3373,设备类型!$A$2:$A$5001,0),COLUMN(A3373))","v":{"$error":"#N/A"}}]
[null,{"$f":"INDEX(建筑!$B$2:$B$5001,MATCH(表格模板!A3374,建筑!$A$2:$A$5001,0),COLUMN(A3374))","v":{"$error":"#N/A"}},null,{"$f":"INDEX(设备类型!$B$2:$B$5001,MATCH(表格模板!C3374,设备类型!$A$2:$A$5001,0),COLUMN(A3374))","v":{"$error":"#N/A"}}]
[null,{"$f":"INDEX(建筑!$B$2:$B$5001,MATCH(表格模板!A3375,建筑!$A$2:$A$5001,0),COLUMN(A3375))","v":{"$error":"#N/A"}},null,{"$f":"INDEX(设备类型!$B$2:$B$5001,MATCH(表格模板!C3375,设备类型!$A$2:$A$5001,0),COLUMN(A3375))","v":{"$error":"#N/A"}}]
[null,{"$f":"INDEX(建筑!$B$2:$B$5001,MATCH(表格模板!A3376,建筑!$A$2:$A$5001,0),COLUMN(A3376))","v":{"$error":"#N/A"}},null,{"$f":"INDEX(设备类型!$B$2:$B$5001,MATCH(表格模板!C3376,设备类型!$A$2:$A$5001,0),COLUMN(A3376))","v":{"$error":"#N/A"}}]
[null,{"$f":"INDEX(建筑!$B$2:$B$5001,MATCH(表格模板!A3377,建筑!$A$2:$A$5001,0),COLUMN(A3377))","v":{"$error":"#N/A"}},null,{"$f":"INDEX(设备类型!$B$2:$B$5001,MATCH(表格模板!C3377,设备类型!$A$2:$A$5001,0),COLUMN(A3377))","v":{"$error":"#N/A"}}]
[null,{"$f":"INDEX(建筑!$B$2:$B$5001,MATCH(表格模板!A3378,建筑!$A$2:$A$5001,0),COLUMN(A3378))","v":{"$error":"#N/A"}},null,{"$f":"INDEX(设备类型!$B$2:$B$5001,MATCH(表格模板!C3378,设备类型!$A$2:$A$5001,0),COLUMN(A3378))","v":{"$error":"#N/A"}}]
[null,{"$f":"INDEX(建筑!$B$2:$B$5001,MATCH(表格模板!A3379,建筑!$A$2:$A$5001,0),COLUMN(A3379))","v":{"$error":"#N/A"}},null,{"$f":"INDEX(设备类型!$B$2:$B$5001,MATCH(表格模板!C3379,设备类型!$A$2:$A$5001,0),COLUMN(A3379))","v":{"$error":"#N/A"}}]
[null,{"$f":"INDEX(建筑!$B$2:$B$5001,MATCH(表格模板!A3380,建筑!$A$2:$A$5001,0),COLUMN(A3380))","v":{"$error":"#N/A"}},null,{"$f":"INDEX(设备类型!$B$2:$B$5001,MATCH(表格模板!C3380,设备类型!$A$2:$A$5001,0),COLUMN(A3380))","v":{"$error":"#N/A"}}]
[null,{"$f":"INDEX(建筑!$B$2:$B$5001,MATCH(表格模板!A3381,建筑!$A$2:$A$5001,0),COLUMN(A3381))","v":{"$error":"#N/A"}},null,{"$f":"INDEX(设备类型!$B$2:$B$5001,MATCH(表格模板!C3381,设备类型!$A$2:$A$5001,0),COLUMN(A3381))","v":{"$error":"#N/A"}}]
[null,{"$f":"INDEX(建筑!$B$2:$B$5001,MATCH(表格模板!A3382,建筑!$A$2:$A$5001,0),COLUMN(A3382))","v":{"$error":"#N/A"}},null,{"$f":"INDEX(设备类型!$B$2:$B$5001,MATCH(表格模板!C3382,设备类型!$A$2:$A$5001,0),COLUMN(A3382))","v":{"$error":"#N/A"}}]
[null,{"$f":"INDEX(建筑!$B$2:$B$5001,MATCH(表格模板!A3383,建筑!$A$2:$A$5001,0),COLUMN(A3383))","v":{"$error":"#N/A"}},null,{"$f":"INDEX(设备类型!$B$2:$B$5001,MATCH(表格模板!C3383,设备类型!$A$2:$A$5001,0),COLUMN(A3383))","v":{"$error":"#N/A"}}]
[null,{"$f":"INDEX(建筑!$B$2:$B$5001,MATCH(表格模板!A3384,建筑!$A$2:$A$5001,0),COLUMN(A3384))","v":{"$error":"#N/A"}},null,{"$f":"INDEX(设备类型!$B$2:$B$5001,MATCH(表格模板!C3384,设备类型!$A$2:$A$5001,0),COLUMN(A3384))","v":{"$error":"#N/A"}}]
[null,{"$f":"INDEX(建筑!$B$2:$B$5001,MATCH(表格模板!A3385,建筑!$A$2:$A$5001,0),COLUMN(A3385))","v":{"$error":"#N/A"}},null,{"$f":"INDEX(设备类型!$B$2:$B$5001,MATCH(表格模板!C3385,设备类型!$A$2:$A$5001,0),COLUMN(A3385))","v":{"$error":"#N/A"}}]
[null,{"$f":"INDEX(建筑!$B$2:$B$5001,MATCH(表格模板!A3386,建筑!$A$2:$A$5001,0),COLUMN(A3386))","v":{"$error":"#N/A"}},null,{"$f":"INDEX(设备类型!$B$2:$B$5001,MATCH(表格模板!C3386,设备类型!$A$2:$A$5001,0),COLUMN(A3386))","v":{"$error":"#N/A"}}]
[null,{"$f":"INDEX(建筑!$B$2:$B$5001,MATCH(表格模板!A3387,建筑!$A$2:$A$5001,0),COLUMN(A3387))","v":{"$error":"#N/A"}},null,{"$f":"INDEX(设备类型!$B$2:$B$5001,MATCH(表格模板!C3387,设备类型!$A$2:$A$5001,0),COLUMN(A3387))","v":{"$error":"#N/A"}}]
[null,{"$f":"INDEX(建筑!$B$2:$B$5001,MATCH(表格模板!A3388,建筑!$A$2:$A$5001,0),COLUMN(A3388))","v":{"$error":"#N/A"}},null,{"$f":"INDEX(设备类型!$B$2:$B$5001,MATCH(表格模板!C3388,设备类型!$A$2:$A$5001,0),COLUMN(A3388))","v":{"$error":"#N/A"}}]
[null,{"$f":"INDEX(建筑!$B$2:$B$5001,MATCH(表格模板!A3389,建筑!$A$2:$A$5001,0),COLUMN(A3389))","v":{"$error":"#N/A"}},null,{"$f":"INDEX(设备类型!$B$2:$B$5001,MATCH(表格模板!C3389,设备类型!$A$2:$A$5001,0),COLUMN(A3389))","v":{"$error":"#N/A"}}]
[null,{"$f":"INDEX(建筑!$B$2:$B$5001,MATCH(表格模板!A3390,建筑!$A$2:$A$5001,0),COLUMN(A3390))","v":{"$error":"#N/A"}},null,{"$f":"INDEX(设备类型!$B$2:$B$5001,MATCH(表格模板!C3390,设备类型!$A$2:$A$5001,0),COLUMN(A3390))","v":{"$error":"#N/A"}}]
[null,{"$f":"INDEX(建筑!$B$2:$B$5001,MATCH(表格模板!A3391,建筑!$A$2:$A$5001,0),COLUMN(A3391))","v":{"$error":"#N/A"}},null,{"$f":"INDEX(设备类型!$B$2:$B$5001,MATCH(表格模板!C3391,设备类型!$A$2:$A$5001,0),COLUMN(A3391))","v":{"$error":"#N/A"}}]
[null,{"$f":"INDEX(建筑!$B$2:$B$5001,MATCH(表格模板!A3392,建筑!$A$2:$A$5001,0),COLUMN(A3392))","v":{"$error":"#N/A"}},null,{"$f":"INDEX(设备类型!$B$2:$B$5001,MATCH(表格模板!C3392,设备类型!$A$2:$A$5001,0),COLUMN(A3392))","v":{"$error":"#N/A"}}]
[null,{"$f":"INDEX(建筑!$B$2:$B$5001,MATCH(表格模板!A3393,建筑!$A$2:$A$5001,0),COLUMN(A3393))","v":{"$error":"#N/A"}},null,{"$f":"INDEX(设备类型!$B$2:$B$5001,MATCH(表格模板!C3393,设备类型!$A$2:$A$5001,0),COLUMN(A3393))","v":{"$error":"#N/A"}}]
[null,{"$f":"INDEX(建筑!$B$2:$B$5001,MATCH(表格模板!A3394,建筑!$A$2:$A$5001,0),COLUMN(A3394))","v":{"$error":"#N/A"}},null,{"$f":"INDEX(设备类型!$B$2:$B$5001,MATCH(表格模板!C3394,设备类型!$A$2:$A$5001,0),COLUMN(A3394))","v":{"$error":"#N/A"}}]
[null,{"$f":"INDEX(建筑!$B$2:$B$5001,MATCH(表格模板!A3395,建筑!$A$2:$A$5001,0),COLUMN(A3395))","v":{"$error":"#N/A"}},null,{"$f":"INDEX(设备类型!$B$2:$B$5001,MATCH(表格模板!C3395,设备类型!$A$2:$A$5001,0),COLUMN(A3395))","v":{"$error":"#N/A"}}]
[null,{"$f":"INDEX(建筑!$B$2:$B$5001,MATCH(表格模板!A3396,建筑!$A$2:$A$5001,0),COLUMN(A3396))","v":{"$error":"#N/A"}},null,{"$f":"INDEX(设备类型!$B$2:$B$5001,MATCH(表格模板!C3396,设备类型!$A$2:$A$5001,0),COLUMN(A3396))","v":{"$error":"#N/A"}}]
[null,{"$f":"INDEX(建筑!$B$2:$B$5001,MATCH(表格模板!A3397,建筑!$A$2:$A$5001,0),COLUMN(A3397))","v":{"$error":"#N/A"}},null,{"$f":"INDEX(设备类型!$B$2:$B$5001,MATCH(表格模板!C3397,设备类型!$A$2:$A$5001,0),COLUMN(A3397))","v":{"$error":"#N/A"}}]
[null,{"$f":"INDEX(建筑!$B$2:$B$5001,MATCH(表格模板!A3398,建筑!$A$2:$A$5001,0),COLUMN(A3398))","v":{"$error":"#N/A"}},null,{"$f":"INDEX(设备类型!$B$2:$B$5001,MATCH(表格模板!C3398,设备类型!$A$2:$A$5001,0),COLUMN(A3398))","v":{"$error":"#N/A"}}]
[null,{"$f":"INDEX(建筑!$B$2:$B$5001,MATCH(表格模板!A3399,建筑!$A$2:$A$5001,0),COLUMN(A3399))","v":{"$error":"#N/A"}},null,{"$f":"INDEX(设备类型!$B$2:$B$5001,MATCH(表格模板!C3399,设备类型!$A$2:$A$5001,0),COLUMN(A3399))","v":{"$error":"#N/A"}}]
[null,{"$f":"INDEX(建筑!$B$2:$B$5001,MATCH(表格模板!A3400,建筑!$A$2:$A$5001,0),COLUMN(A3400))","v":{"$error":"#N/A"}},null,{"$f":"INDEX(设备类型!$B$2:$B$5001,MATCH(表格模板!C3400,设备类型!$A$2:$A$5001,0),COLUMN(A3400))","v":{"$error":"#N/A"}}]
[null,{"$f":"INDEX(建筑!$B$2:$B$5001,MATCH(表格模板!A3401,建筑!$A$2:$A$5001,0),COLUMN(A3401))","v":{"$error":"#N/A"}},null,{"$f":"INDEX(设备类型!$B$2:$B$5001,MATCH(表格模板!C3401,设备类型!$A$2:$A$5001,0),COLUMN(A3401))","v":{"$error":"#N/A"}}]
[null,{"$f":"INDEX(建筑!$B$2:$B$5001,MATCH(表格模板!A3402,建筑!$A$2:$A$5001,0),COLUMN(A3402))","v":{"$error":"#N/A"}},null,{"$f":"INDEX(设备类型!$B$2:$B$5001,MATCH(表格模板!C3402,设备类型!$A$2:$A$5001,0),COLUMN(A3402))","v":{"$error":"#N/A"}}]
[null,{"$f":"INDEX(建筑!$B$2:$B$5001,MATCH(表格模板!A3403,建筑!$A$2:$A$5001,0),COLUMN(A3403))","v":{"$error":"#N/A"}},null,{"$f":"INDEX(设备类型!$B$2:$B$5001,MATCH(表格模板!C3403,设备类型!$A$2:$A$5001,0),COLUMN(A3403))","v":{"$error":"#N/A"}}]
[null,{"$f":"INDEX(建筑!$B$2:$B$5001,MATCH(表格模板!A3404,建筑!$A$2:$A$5001,0),COLUMN(A3404))","v":{"$error":"#N/A"}},null,{"$f":"INDEX(设备类型!$B$2:$B$5001,MATCH(表格模板!C3404,设备类型!$A$2:$A$5001,0),COLUMN(A3404))","v":{"$error":"#N/A"}}]
[null,{"$f":"INDEX(建筑!$B$2:$B$5001,MATCH(表格模板!A3405,建筑!$A$2:$A$5001,0),COLUMN(A3405))","v":{"$error":"#N/A"}},null,{"$f":"INDEX(设备类型!$B$2:$B$5001,MATCH(表格模板!C3405,设备类型!$A$2:$A$5001,0),COLUMN(A3405))","v":{"$error":"#N/A"}}]
[null,{"$f":"INDEX(建筑!$B$2:$B$5001,MATCH(表格模板!A3406,建筑!$A$2:$A$5001,0),COLUMN(A3406))","v":{"$error":"#N/A"}},null,{"$f":"INDEX(设备类型!$B$2:$B$5001,MATCH(表格模板!C3406,设备类型!$A$2:$A$5001,0),COLUMN(A3406))","v":{"$error":"#N/A"}}]
[null,{"$f":"INDEX(建筑!$B$2:$B$5001,MATCH(表格模板!A3407,建筑!$A$2:$A$5001,0),COLUMN(A3407))","v":{"$error":"#N/A"}},null,{"$f":"INDEX(设备类型!$B$2:$B$5001,MATCH(表格模板!C3407,设备类型!$A$2:$A$5001,0),COLUMN(A3407))","v":{"$error":"#N/A"}}]
[null,{"$f":"INDEX(建筑!$B$2:$B$5001,MATCH(表格模板!A3408,建筑!$A$2:$A$5001,0),COLUMN(A3408))","v":{"$error":"#N/A"}},null,{"$f":"INDEX(设备类型!$B$2:$B$5001,MATCH(表格模板!C3408,设备类型!$A$2:$A$5001,0),COLUMN(A3408))","v":{"$error":"#N/A"}}]
[null,{"$f":"INDEX(建筑!$B$2:$B$5001,MATCH(表格模板!A3409,建筑!$A$2:$A$5001,0),COLUMN(A3409))","v":{"$error":"#N/A"}},null,{"$f":"INDEX(设备类型!$B$2:$B$5001,MATCH(表格模板!C3409,设备类型!$A$2:$A$5001,0),COLUMN(A3409))","v":{"$error":"#N/A"}}]
[null,{"$f":"INDEX(建筑!$B$2:$B$5001,MATCH(表格模板!A3410,建筑!$A$2:$A$5001,0),COLUMN(A3410))","v":{"$error":"#N/A"}},null,{"$f":"INDEX(设备类型!$B$2:$B$5001,MATCH(表格模板!C3410,设备类型!$A$2:$A$5001,0),COLUMN(A3410))","v":{"$error":"#N/A"}}]
[null,{"$f":"INDEX(建筑!$B$2:$B$5001,MATCH(表格模板!A3411,建筑!$A$2:$A$5001,0),COLUMN(A3411))","v":{"$error":"#N/A"}},null,{"$f":"INDEX(设备类型!$B$2:$B$5001,MATCH(表格模板!C3411,设备类型!$A$2:$A$5001,0),COLUMN(A3411))","v":{"$error":"#N/A"}}]
[null,{"$f":"INDEX(建筑!$B$2:$B$5001,MATCH(表格模板!A3412,建筑!$A$2:$A$5001,0),COLUMN(A3412))","v":{"$error":"#N/A"}},null,{"$f":"INDEX(设备类型!$B$2:$B$5001,MATCH(表格模板!C3412,设备类型!$A$2:$A$5001,0),COLUMN(A3412))","v":{"$error":"#N/A"}}]
[null,{"$f":"INDEX(建筑!$B$2:$B$5001,MATCH(表格模板!A3413,建筑!$A$2:$A$5001,0),COLUMN(A3413))","v":{"$error":"#N/A"}},null,{"$f":"INDEX(设备类型!$B$2:$B$5001,MATCH(表格模板!C3413,设备类型!$A$2:$A$5001,0),COLUMN(A3413))","v":{"$error":"#N/A"}}]
[null,{"$f":"INDEX(建筑!$B$2:$B$5001,MATCH(表格模板!A3414,建筑!$A$2:$A$5001,0),COLUMN(A3414))","v":{"$error":"#N/A"}},null,{"$f":"INDEX(设备类型!$B$2:$B$5001,MATCH(表格模板!C3414,设备类型!$A$2:$A$5001,0),COLUMN(A3414))","v":{"$error":"#N/A"}}]
[null,{"$f":"INDEX(建筑!$B$2:$B$5001,MATCH(表格模板!A3415,建筑!$A$2:$A$5001,0),COLUMN(A3415))","v":{"$error":"#N/A"}},null,{"$f":"INDEX(设备类型!$B$2:$B$5001,MATCH(表格模板!C3415,设备类型!$A$2:$A$5001,0),COLUMN(A3415))","v":{"$error":"#N/A"}}]
[null,{"$f":"INDEX(建筑!$B$2:$B$5001,MATCH(表格模板!A3416,建筑!$A$2:$A$5001,0),COLUMN(A3416))","v":{"$error":"#N/A"}},null,{"$f":"INDEX(设备类型!$B$2:$B$5001,MATCH(表格模板!C3416,设备类型!$A$2:$A$5001,0),COLUMN(A3416))","v":{"$error":"#N/A"}}]
[null,{"$f":"INDEX(建筑!$B$2:$B$5001,MATCH(表格模板!A3417,建筑!$A$2:$A$5001,0),COLUMN(A3417))","v":{"$error":"#N/A"}},null,{"$f":"INDEX(设备类型!$B$2:$B$5001,MATCH(表格模板!C3417,设备类型!$A$2:$A$5001,0),COLUMN(A3417))","v":{"$error":"#N/A"}}]
[null,{"$f":"INDEX(建筑!$B$2:$B$5001,MATCH(表格模板!A3418,建筑!$A$2:$A$5001,0),COLUMN(A3418))","v":{"$error":"#N/A"}},null,{"$f":"INDEX(设备类型!$B$2:$B$5001,MATCH(表格模板!C3418,设备类型!$A$2:$A$5001,0),COLUMN(A3418))","v":{"$error":"#N/A"}}]
[null,{"$f":"INDEX(建筑!$B$2:$B$5001,MATCH(表格模板!A3419,建筑!$A$2:$A$5001,0),COLUMN(A3419))","v":{"$error":"#N/A"}},null,{"$f":"INDEX(设备类型!$B$2:$B$5001,MATCH(表格模板!C3419,设备类型!$A$2:$A$5001,0),COLUMN(A3419))","v":{"$error":"#N/A"}}]
[null,{"$f":"INDEX(建筑!$B$2:$B$5001,MATCH(表格模板!A3420,建筑!$A$2:$A$5001,0),COLUMN(A3420))","v":{"$error":"#N/A"}},null,{"$f":"INDEX(设备类型!$B$2:$B$5001,MATCH(表格模板!C3420,设备类型!$A$2:$A$5001,0),COLUMN(A3420))","v":{"$error":"#N/A"}}]
[null,{"$f":"INDEX(建筑!$B$2:$B$5001,MATCH(表格模板!A3421,建筑!$A$2:$A$5001,0),COLUMN(A3421))","v":{"$error":"#N/A"}},null,{"$f":"INDEX(设备类型!$B$2:$B$5001,MATCH(表格模板!C3421,设备类型!$A$2:$A$5001,0),COLUMN(A3421))","v":{"$error":"#N/A"}}]
[null,{"$f":"INDEX(建筑!$B$2:$B$5001,MATCH(表格模板!A3422,建筑!$A$2:$A$5001,0),COLUMN(A3422))","v":{"$error":"#N/A"}},null,{"$f":"INDEX(设备类型!$B$2:$B$5001,MATCH(表格模板!C3422,设备类型!$A$2:$A$5001,0),COLUMN(A3422))","v":{"$error":"#N/A"}}]
[null,{"$f":"INDEX(建筑!$B$2:$B$5001,MATCH(表格模板!A3423,建筑!$A$2:$A$5001,0),COLUMN(A3423))","v":{"$error":"#N/A"}},null,{"$f":"INDEX(设备类型!$B$2:$B$5001,MATCH(表格模板!C3423,设备类型!$A$2:$A$5001,0),COLUMN(A3423))","v":{"$error":"#N/A"}}]
[null,{"$f":"INDEX(建筑!$B$2:$B$5001,MATCH(表格模板!A3424,建筑!$A$2:$A$5001,0),COLUMN(A3424))","v":{"$error":"#N/A"}},null,{"$f":"INDEX(设备类型!$B$2:$B$5001,MATCH(表格模板!C3424,设备类型!$A$2:$A$5001,0),COLUMN(A3424))","v":{"$error":"#N/A"}}]
[null,{"$f":"INDEX(建筑!$B$2:$B$5001,MATCH(表格模板!A3425,建筑!$A$2:$A$5001,0),COLUMN(A3425))","v":{"$error":"#N/A"}},null,{"$f":"INDEX(设备类型!$B$2:$B$5001,MATCH(表格模板!C3425,设备类型!$A$2:$A$5001,0),COLUMN(A3425))","v":{"$error":"#N/A"}}]
[null,{"$f":"INDEX(建筑!$B$2:$B$5001,MATCH(表格模板!A3426,建筑!$A$2:$A$5001,0),COLUMN(A3426))","v":{"$error":"#N/A"}},null,{"$f":"INDEX(设备类型!$B$2:$B$5001,MATCH(表格模板!C3426,设备类型!$A$2:$A$5001,0),COLUMN(A3426))","v":{"$error":"#N/A"}}]
[null,{"$f":"INDEX(建筑!$B$2:$B$5001,MATCH(表格模板!A3427,建筑!$A$2:$A$5001,0),COLUMN(A3427))","v":{"$error":"#N/A"}},null,{"$f":"INDEX(设备类型!$B$2:$B$5001,MATCH(表格模板!C3427,设备类型!$A$2:$A$5001,0),COLUMN(A3427))","v":{"$error":"#N/A"}}]
[null,{"$f":"INDEX(建筑!$B$2:$B$5001,MATCH(表格模板!A3428,建筑!$A$2:$A$5001,0),COLUMN(A3428))","v":{"$error":"#N/A"}},null,{"$f":"INDEX(设备类型!$B$2:$B$5001,MATCH(表格模板!C3428,设备类型!$A$2:$A$5001,0),COLUMN(A3428))","v":{"$error":"#N/A"}}]
[null,{"$f":"INDEX(建筑!$B$2:$B$5001,MATCH(表格模板!A3429,建筑!$A$2:$A$5001,0),COLUMN(A3429))","v":{"$error":"#N/A"}},null,{"$f":"INDEX(设备类型!$B$2:$B$5001,MATCH(表格模板!C3429,设备类型!$A$2:$A$5001,0),COLUMN(A3429))","v":{"$error":"#N/A"}}]
[null,{"$f":"INDEX(建筑!$B$2:$B$5001,MATCH(表格模板!A3430,建筑!$A$2:$A$5001,0),COLUMN(A3430))","v":{"$error":"#N/A"}},null,{"$f":"INDEX(设备类型!$B$2:$B$5001,MATCH(表格模板!C3430,设备类型!$A$2:$A$5001,0),COLUMN(A3430))","v":{"$error":"#N/A"}}]
[null,{"$f":"INDEX(建筑!$B$2:$B$5001,MATCH(表格模板!A3431,建筑!$A$2:$A$5001,0),COLUMN(A3431))","v":{"$error":"#N/A"}},null,{"$f":"INDEX(设备类型!$B$2:$B$5001,MATCH(表格模板!C3431,设备类型!$A$2:$A$5001,0),COLUMN(A3431))","v":{"$error":"#N/A"}}]
[null,{"$f":"INDEX(建筑!$B$2:$B$5001,MATCH(表格模板!A3432,建筑!$A$2:$A$5001,0),COLUMN(A3432))","v":{"$error":"#N/A"}},null,{"$f":"INDEX(设备类型!$B$2:$B$5001,MATCH(表格模板!C3432,设备类型!$A$2:$A$5001,0),COLUMN(A3432))","v":{"$error":"#N/A"}}]
[null,{"$f":"INDEX(建筑!$B$2:$B$5001,MATCH(表格模板!A3433,建筑!$A$2:$A$5001,0),COLUMN(A3433))","v":{"$error":"#N/A"}},null,{"$f":"INDEX(设备类型!$B$2:$B$5001,MATCH(表格模板!C3433,设备类型!$A$2:$A$5001,0),COLUMN(A3433))","v":{"$error":"#N/A"}}]
[null,{"$f":"INDEX(建筑!$B$2:$B$5001,MATCH(表格模板!A3434,建筑!$A$2:$A$5001,0),COLUMN(A3434))","v":{"$error":"#N/A"}},null,{"$f":"INDEX(设备类型!$B$2:$B$5001,MATCH(表格模板!C3434,设备类型!$A$2:$A$5001,0),COLUMN(A3434))","v":{"$error":"#N/A"}}]
[null,{"$f":"INDEX(建筑!$B$2:$B$5001,MATCH(表格模板!A3435,建筑!$A$2:$A$5001,0),COLUMN(A3435))","v":{"$error":"#N/A"}},null,{"$f":"INDEX(设备类型!$B$2:$B$5001,MATCH(表格模板!C3435,设备类型!$A$2:$A$5001,0),COLUMN(A3435))","v":{"$error":"#N/A"}}]
[null,{"$f":"INDEX(建筑!$B$2:$B$5001,MATCH(表格模板!A3436,建筑!$A$2:$A$5001,0),COLUMN(A3436))","v":{"$error":"#N/A"}},null,{"$f":"INDEX(设备类型!$B$2:$B$5001,MATCH(表格模板!C3436,设备类型!$A$2:$A$5001,0),COLUMN(A3436))","v":{"$error":"#N/A"}}]
[null,{"$f":"INDEX(建筑!$B$2:$B$5001,MATCH(表格模板!A3437,建筑!$A$2:$A$5001,0),COLUMN(A3437))","v":{"$error":"#N/A"}},null,{"$f":"INDEX(设备类型!$B$2:$B$5001,MATCH(表格模板!C3437,设备类型!$A$2:$A$5001,0),COLUMN(A3437))","v":{"$error":"#N/A"}}]
[null,{"$f":"INDEX(建筑!$B$2:$B$5001,MATCH(表格模板!A3438,建筑!$A$2:$A$5001,0),COLUMN(A3438))","v":{"$error":"#N/A"}},null,{"$f":"INDEX(设备类型!$B$2:$B$5001,MATCH(表格模板!C3438,设备类型!$A$2:$A$5001,0),COLUMN(A3438))","v":{"$error":"#N/A"}}]
[null,{"$f":"INDEX(建筑!$B$2:$B$5001,MATCH(表格模板!A3439,建筑!$A$2:$A$5001,0),COLUMN(A3439))","v":{"$error":"#N/A"}},null,{"$f":"INDEX(设备类型!$B$2:$B$5001,MATCH(表格模板!C3439,设备类型!$A$2:$A$5001,0),COLUMN(A3439))","v":{"$error":"#N/A"}}]
[null,{"$f":"INDEX(建筑!$B$2:$B$5001,MATCH(表格模板!A3440,建筑!$A$2:$A$5001,0),COLUMN(A3440))","v":{"$error":"#N/A"}},null,{"$f":"INDEX(设备类型!$B$2:$B$5001,MATCH(表格模板!C3440,设备类型!$A$2:$A$5001,0),COLUMN(A3440))","v":{"$error":"#N/A"}}]
[null,{"$f":"INDEX(建筑!$B$2:$B$5001,MATCH(表格模板!A3441,建筑!$A$2:$A$5001,0),COLUMN(A3441))","v":{"$error":"#N/A"}},null,{"$f":"INDEX(设备类型!$B$2:$B$5001,MATCH(表格模板!C3441,设备类型!$A$2:$A$5001,0),COLUMN(A3441))","v":{"$error":"#N/A"}}]
[null,{"$f":"INDEX(建筑!$B$2:$B$5001,MATCH(表格模板!A3442,建筑!$A$2:$A$5001,0),COLUMN(A3442))","v":{"$error":"#N/A"}},null,{"$f":"INDEX(设备类型!$B$2:$B$5001,MATCH(表格模板!C3442,设备类型!$A$2:$A$5001,0),COLUMN(A3442))","v":{"$error":"#N/A"}}]
[null,{"$f":"INDEX(建筑!$B$2:$B$5001,MATCH(表格模板!A3443,建筑!$A$2:$A$5001,0),COLUMN(A3443))","v":{"$error":"#N/A"}},null,{"$f":"INDEX(设备类型!$B$2:$B$5001,MATCH(表格模板!C3443,设备类型!$A$2:$A$5001,0),COLUMN(A3443))","v":{"$error":"#N/A"}}]
[null,{"$f":"INDEX(建筑!$B$2:$B$5001,MATCH(表格模板!A3444,建筑!$A$2:$A$5001,0),COLUMN(A3444))","v":{"$error":"#N/A"}},null,{"$f":"INDEX(设备类型!$B$2:$B$5001,MATCH(表格模板!C3444,设备类型!$A$2:$A$5001,0),COLUMN(A3444))","v":{"$error":"#N/A"}}]
[null,{"$f":"INDEX(建筑!$B$2:$B$5001,MATCH(表格模板!A3445,建筑!$A$2:$A$5001,0),COLUMN(A3445))","v":{"$error":"#N/A"}},null,{"$f":"INDEX(设备类型!$B$2:$B$5001,MATCH(表格模板!C3445,设备类型!$A$2:$A$5001,0),COLUMN(A3445))","v":{"$error":"#N/A"}}]
[null,{"$f":"INDEX(建筑!$B$2:$B$5001,MATCH(表格模板!A3446,建筑!$A$2:$A$5001,0),COLUMN(A3446))","v":{"$error":"#N/A"}},null,{"$f":"INDEX(设备类型!$B$2:$B$5001,MATCH(表格模板!C3446,设备类型!$A$2:$A$5001,0),COLUMN(A3446))","v":{"$error":"#N/A"}}]
[null,{"$f":"INDEX(建筑!$B$2:$B$5001,MATCH(表格模板!A3447,建筑!$A$2:$A$5001,0),COLUMN(A3447))","v":{"$error":"#N/A"}},null,{"$f":"INDEX(设备类型!$B$2:$B$5001,MATCH(表格模板!C3447,设备类型!$A$2:$A$5001,0),COLUMN(A3447))","v":{"$error":"#N/A"}}]
[null,{"$f":"INDEX(建筑!$B$2:$B$5001,MATCH(表格模板!A3448,建筑!$A$2:$A$5001,0),COLUMN(A3448))","v":{"$error":"#N/A"}},null,{"$f":"INDEX(设备类型!$B$2:$B$5001,MATCH(表格模板!C3448,设备类型!$A$2:$A$5001,0),COLUMN(A3448))","v":{"$error":"#N/A"}}]
[null,{"$f":"INDEX(建筑!$B$2:$B$5001,MATCH(表格模板!A3449,建筑!$A$2:$A$5001,0),COLUMN(A3449))","v":{"$error":"#N/A"}},null,{"$f":"INDEX(设备类型!$B$2:$B$5001,MATCH(表格模板!C3449,设备类型!$A$2:$A$5001,0),COLUMN(A3449))","v":{"$error":"#N/A"}}]
[null,{"$f":"INDEX(建筑!$B$2:$B$5001,MATCH(表格模板!A3450,建筑!$A$2:$A$5001,0),COLUMN(A3450))","v":{"$error":"#N/A"}},null,{"$f":"INDEX(设备类型!$B$2:$B$5001,MATCH(表格模板!C3450,设备类型!$A$2:$A$5001,0),COLUMN(A3450))","v":{"$error":"#N/A"}}]
[null,{"$f":"INDEX(建筑!$B$2:$B$5001,MATCH(表格模板!A3451,建筑!$A$2:$A$5001,0),COLUMN(A3451))","v":{"$error":"#N/A"}},null,{"$f":"INDEX(设备类型!$B$2:$B$5001,MATCH(表格模板!C3451,设备类型!$A$2:$A$5001,0),COLUMN(A3451))","v":{"$error":"#N/A"}}]
[null,{"$f":"INDEX(建筑!$B$2:$B$5001,MATCH(表格模板!A3452,建筑!$A$2:$A$5001,0),COLUMN(A3452))","v":{"$error":"#N/A"}},null,{"$f":"INDEX(设备类型!$B$2:$B$5001,MATCH(表格模板!C3452,设备类型!$A$2:$A$5001,0),COLUMN(A3452))","v":{"$error":"#N/A"}}]
[null,{"$f":"INDEX(建筑!$B$2:$B$5001,MATCH(表格模板!A3453,建筑!$A$2:$A$5001,0),COLUMN(A3453))","v":{"$error":"#N/A"}},null,{"$f":"INDEX(设备类型!$B$2:$B$5001,MATCH(表格模板!C3453,设备类型!$A$2:$A$5001,0),COLUMN(A3453))","v":{"$error":"#N/A"}}]
[null,{"$f":"INDEX(建筑!$B$2:$B$5001,MATCH(表格模板!A3454,建筑!$A$2:$A$5001,0),COLUMN(A3454))","v":{"$error":"#N/A"}},null,{"$f":"INDEX(设备类型!$B$2:$B$5001,MATCH(表格模板!C3454,设备类型!$A$2:$A$5001,0),COLUMN(A3454))","v":{"$error":"#N/A"}}]
[null,{"$f":"INDEX(建筑!$B$2:$B$5001,MATCH(表格模板!A3455,建筑!$A$2:$A$5001,0),COLUMN(A3455))","v":{"$error":"#N/A"}},null,{"$f":"INDEX(设备类型!$B$2:$B$5001,MATCH(表格模板!C3455,设备类型!$A$2:$A$5001,0),COLUMN(A3455))","v":{"$error":"#N/A"}}]
[null,{"$f":"INDEX(建筑!$B$2:$B$5001,MATCH(表格模板!A3456,建筑!$A$2:$A$5001,0),COLUMN(A3456))","v":{"$error":"#N/A"}},null,{"$f":"INDEX(设备类型!$B$2:$B$5001,MATCH(表格模板!C3456,设备类型!$A$2:$A$5001,0),COLUMN(A3456))","v":{"$error":"#N/A"}}]
[null,{"$f":"INDEX(建筑!$B$2:$B$5001,MATCH(表格模板!A3457,建筑!$A$2:$A$5001,0),COLUMN(A3457))","v":{"$error":"#N/A"}},null,{"$f":"INDEX(设备类型!$B$2:$B$5001,MATCH(表格模板!C3457,设备类型!$A$2:$A$5001,0),COLUMN(A3457))","v":{"$error":"#N/A"}}]
[null,{"$f":"INDEX(建筑!$B$2:$B$5001,MATCH(表格模板!A3458,建筑!$A$2:$A$5001,0),COLUMN(A3458))","v":{"$error":"#N/A"}},null,{"$f":"INDEX(设备类型!$B$2:$B$5001,MATCH(表格模板!C3458,设备类型!$A$2:$A$5001,0),COLUMN(A3458))","v":{"$error":"#N/A"}}]
[null,{"$f":"INDEX(建筑!$B$2:$B$5001,MATCH(表格模板!A3459,建筑!$A$2:$A$5001,0),COLUMN(A3459))","v":{"$error":"#N/A"}},null,{"$f":"INDEX(设备类型!$B$2:$B$5001,MATCH(表格模板!C3459,设备类型!$A$2:$A$5001,0),COLUMN(A3459))","v":{"$error":"#N/A"}}]
[null,{"$f":"INDEX(建筑!$B$2:$B$5001,MATCH(表格模板!A3460,建筑!$A$2:$A$5001,0),COLUMN(A3460))","v":{"$error":"#N/A"}},null,{"$f":"INDEX(设备类型!$B$2:$B$5001,MATCH(表格模板!C3460,设备类型!$A$2:$A$5001,0),COLUMN(A3460))","v":{"$error":"#N/A"}}]
[null,{"$f":"INDEX(建筑!$B$2:$B$5001,MATCH(表格模板!A3461,建筑!$A$2:$A$5001,0),COLUMN(A3461))","v":{"$error":"#N/A"}},null,{"$f":"INDEX(设备类型!$B$2:$B$5001,MATCH(表格模板!C3461,设备类型!$A$2:$A$5001,0),COLUMN(A3461))","v":{"$error":"#N/A"}}]
[null,{"$f":"INDEX(建筑!$B$2:$B$5001,MATCH(表格模板!A3462,建筑!$A$2:$A$5001,0),COLUMN(A3462))","v":{"$error":"#N/A"}},null,{"$f":"INDEX(设备类型!$B$2:$B$5001,MATCH(表格模板!C3462,设备类型!$A$2:$A$5001,0),COLUMN(A3462))","v":{"$error":"#N/A"}}]
[null,{"$f":"INDEX(建筑!$B$2:$B$5001,MATCH(表格模板!A3463,建筑!$A$2:$A$5001,0),COLUMN(A3463))","v":{"$error":"#N/A"}},null,{"$f":"INDEX(设备类型!$B$2:$B$5001,MATCH(表格模板!C3463,设备类型!$A$2:$A$5001,0),COLUMN(A3463))","v":{"$error":"#N/A"}}]
[null,{"$f":"INDEX(建筑!$B$2:$B$5001,MATCH(表格模板!A3464,建筑!$A$2:$A$5001,0),COLUMN(A3464))","v":{"$error":"#N/A"}},null,{"$f":"INDEX(设备类型!$B$2:$B$5001,MATCH(表格模板!C3464,设备类型!$A$2:$A$5001,0),COLUMN(A3464))","v":{"$error":"#N/A"}}]
[null,{"$f":"INDEX(建筑!$B$2:$B$5001,MATCH(表格模板!A3465,建筑!$A$2:$A$5001,0),COLUMN(A3465))","v":{"$error":"#N/A"}},null,{"$f":"INDEX(设备类型!$B$2:$B$5001,MATCH(表格模板!C3465,设备类型!$A$2:$A$5001,0),COLUMN(A3465))","v":{"$error":"#N/A"}}]
[null,{"$f":"INDEX(建筑!$B$2:$B$5001,MATCH(表格模板!A3466,建筑!$A$2:$A$5001,0),COLUMN(A3466))","v":{"$error":"#N/A"}},null,{"$f":"INDEX(设备类型!$B$2:$B$5001,MATCH(表格模板!C3466,设备类型!$A$2:$A$5001,0),COLUMN(A3466))","v":{"$error":"#N/A"}}]
[null,{"$f":"INDEX(建筑!$B$2:$B$5001,MATCH(表格模板!A3467,建筑!$A$2:$A$5001,0),COLUMN(A3467))","v":{"$error":"#N/A"}},null,{"$f":"INDEX(设备类型!$B$2:$B$5001,MATCH(表格模板!C3467,设备类型!$A$2:$A$5001,0),COLUMN(A3467))","v":{"$error":"#N/A"}}]
[null,{"$f":"INDEX(建筑!$B$2:$B$5001,MATCH(表格模板!A3468,建筑!$A$2:$A$5001,0),COLUMN(A3468))","v":{"$error":"#N/A"}},null,{"$f":"INDEX(设备类型!$B$2:$B$5001,MATCH(表格模板!C3468,设备类型!$A$2:$A$5001,0),COLUMN(A3468))","v":{"$error":"#N/A"}}]
[null,{"$f":"INDEX(建筑!$B$2:$B$5001,MATCH(表格模板!A3469,建筑!$A$2:$A$5001,0),COLUMN(A3469))","v":{"$error":"#N/A"}},null,{"$f":"INDEX(设备类型!$B$2:$B$5001,MATCH(表格模板!C3469,设备类型!$A$2:$A$5001,0),COLUMN(A3469))","v":{"$error":"#N/A"}}]
[null,{"$f":"INDEX(建筑!$B$2:$B$5001,MATCH(表格模板!A3470,建筑!$A$2:$A$5001,0),COLUMN(A3470))","v":{"$error":"#N/A"}},null,{"$f":"INDEX(设备类型!$B$2:$B$5001,MATCH(表格模板!C3470,设备类型!$A$2:$A$5001,0),COLUMN(A3470))","v":{"$error":"#N/A"}}]
[null,{"$f":"INDEX(建筑!$B$2:$B$5001,MATCH(表格模板!A3471,建筑!$A$2:$A$5001,0),COLUMN(A3471))","v":{"$error":"#N/A"}},null,{"$f":"INDEX(设备类型!$B$2:$B$5001,MATCH(表格模板!C3471,设备类型!$A$2:$A$5001,0),COLUMN(A3471))","v":{"$error":"#N/A"}}]
[null,{"$f":"INDEX(建筑!$B$2:$B$5001,MATCH(表格模板!A3472,建筑!$A$2:$A$5001,0),COLUMN(A3472))","v":{"$error":"#N/A"}},null,{"$f":"INDEX(设备类型!$B$2:$B$5001,MATCH(表格模板!C3472,设备类型!$A$2:$A$5001,0),COLUMN(A3472))","v":{"$error":"#N/A"}}]
[null,{"$f":"INDEX(建筑!$B$2:$B$5001,MATCH(表格模板!A3473,建筑!$A$2:$A$5001,0),COLUMN(A3473))","v":{"$error":"#N/A"}},null,{"$f":"INDEX(设备类型!$B$2:$B$5001,MATCH(表格模板!C3473,设备类型!$A$2:$A$5001,0),COLUMN(A3473))","v":{"$error":"#N/A"}}]
[null,{"$f":"INDEX(建筑!$B$2:$B$5001,MATCH(表格模板!A3474,建筑!$A$2:$A$5001,0),COLUMN(A3474))","v":{"$error":"#N/A"}},null,{"$f":"INDEX(设备类型!$B$2:$B$5001,MATCH(表格模板!C3474,设备类型!$A$2:$A$5001,0),COLUMN(A3474))","v":{"$error":"#N/A"}}]
[null,{"$f":"INDEX(建筑!$B$2:$B$5001,MATCH(表格模板!A3475,建筑!$A$2:$A$5001,0),COLUMN(A3475))","v":{"$error":"#N/A"}},null,{"$f":"INDEX(设备类型!$B$2:$B$5001,MATCH(表格模板!C3475,设备类型!$A$2:$A$5001,0),COLUMN(A3475))","v":{"$error":"#N/A"}}]
[null,{"$f":"INDEX(建筑!$B$2:$B$5001,MATCH(表格模板!A3476,建筑!$A$2:$A$5001,0),COLUMN(A3476))","v":{"$error":"#N/A"}},null,{"$f":"INDEX(设备类型!$B$2:$B$5001,MATCH(表格模板!C3476,设备类型!$A$2:$A$5001,0),COLUMN(A3476))","v":{"$error":"#N/A"}}]
[null,{"$f":"INDEX(建筑!$B$2:$B$5001,MATCH(表格模板!A3477,建筑!$A$2:$A$5001,0),COLUMN(A3477))","v":{"$error":"#N/A"}},null,{"$f":"INDEX(设备类型!$B$2:$B$5001,MATCH(表格模板!C3477,设备类型!$A$2:$A$5001,0),COLUMN(A3477))","v":{"$error":"#N/A"}}]
[null,{"$f":"INDEX(建筑!$B$2:$B$5001,MATCH(表格模板!A3478,建筑!$A$2:$A$5001,0),COLUMN(A3478))","v":{"$error":"#N/A"}},null,{"$f":"INDEX(设备类型!$B$2:$B$5001,MATCH(表格模板!C3478,设备类型!$A$2:$A$5001,0),COLUMN(A3478))","v":{"$error":"#N/A"}}]
[null,{"$f":"INDEX(建筑!$B$2:$B$5001,MATCH(表格模板!A3479,建筑!$A$2:$A$5001,0),COLUMN(A3479))","v":{"$error":"#N/A"}},null,{"$f":"INDEX(设备类型!$B$2:$B$5001,MATCH(表格模板!C3479,设备类型!$A$2:$A$5001,0),COLUMN(A3479))","v":{"$error":"#N/A"}}]
[null,{"$f":"INDEX(建筑!$B$2:$B$5001,MATCH(表格模板!A3480,建筑!$A$2:$A$5001,0),COLUMN(A3480))","v":{"$error":"#N/A"}},null,{"$f":"INDEX(设备类型!$B$2:$B$5001,MATCH(表格模板!C3480,设备类型!$A$2:$A$5001,0),COLUMN(A3480))","v":{"$error":"#N/A"}}]
[null,{"$f":"INDEX(建筑!$B$2:$B$5001,MATCH(表格模板!A3481,建筑!$A$2:$A$5001,0),COLUMN(A3481))","v":{"$error":"#N/A"}},null,{"$f":"INDEX(设备类型!$B$2:$B$5001,MATCH(表格模板!C3481,设备类型!$A$2:$A$5001,0),COLUMN(A3481))","v":{"$error":"#N/A"}}]
[null,{"$f":"INDEX(建筑!$B$2:$B$5001,MATCH(表格模板!A3482,建筑!$A$2:$A$5001,0),COLUMN(A3482))","v":{"$error":"#N/A"}},null,{"$f":"INDEX(设备类型!$B$2:$B$5001,MATCH(表格模板!C3482,设备类型!$A$2:$A$5001,0),COLUMN(A3482))","v":{"$error":"#N/A"}}]
[null,{"$f":"INDEX(建筑!$B$2:$B$5001,MATCH(表格模板!A3483,建筑!$A$2:$A$5001,0),COLUMN(A3483))","v":{"$error":"#N/A"}},null,{"$f":"INDEX(设备类型!$B$2:$B$5001,MATCH(表格模板!C3483,设备类型!$A$2:$A$5001,0),COLUMN(A3483))","v":{"$error":"#N/A"}}]
[null,{"$f":"INDEX(建筑!$B$2:$B$5001,MATCH(表格模板!A3484,建筑!$A$2:$A$5001,0),COLUMN(A3484))","v":{"$error":"#N/A"}},null,{"$f":"INDEX(设备类型!$B$2:$B$5001,MATCH(表格模板!C3484,设备类型!$A$2:$A$5001,0),COLUMN(A3484))","v":{"$error":"#N/A"}}]
[null,{"$f":"INDEX(建筑!$B$2:$B$5001,MATCH(表格模板!A3485,建筑!$A$2:$A$5001,0),COLUMN(A3485))","v":{"$error":"#N/A"}},null,{"$f":"INDEX(设备类型!$B$2:$B$5001,MATCH(表格模板!C3485,设备类型!$A$2:$A$5001,0),COLUMN(A3485))","v":{"$error":"#N/A"}}]
[null,{"$f":"INDEX(建筑!$B$2:$B$5001,MATCH(表格模板!A3486,建筑!$A$2:$A$5001,0),COLUMN(A3486))","v":{"$error":"#N/A"}},null,{"$f":"INDEX(设备类型!$B$2:$B$5001,MATCH(表格模板!C3486,设备类型!$A$2:$A$5001,0),COLUMN(A3486))","v":{"$error":"#N/A"}}]
[null,{"$f":"INDEX(建筑!$B$2:$B$5001,MATCH(表格模板!A3487,建筑!$A$2:$A$5001,0),COLUMN(A3487))","v":{"$error":"#N/A"}},null,{"$f":"INDEX(设备类型!$B$2:$B$5001,MATCH(表格模板!C3487,设备类型!$A$2:$A$5001,0),COLUMN(A3487))","v":{"$error":"#N/A"}}]
[null,{"$f":"INDEX(建筑!$B$2:$B$5001,MATCH(表格模板!A3488,建筑!$A$2:$A$5001,0),COLUMN(A3488))","v":{"$error":"#N/A"}},null,{"$f":"INDEX(设备类型!$B$2:$B$5001,MATCH(表格模板!C3488,设备类型!$A$2:$A$5001,0),COLUMN(A3488))","v":{"$error":"#N/A"}}]
[null,{"$f":"INDEX(建筑!$B$2:$B$5001,MATCH(表格模板!A3489,建筑!$A$2:$A$5001,0),COLUMN(A3489))","v":{"$error":"#N/A"}},null,{"$f":"INDEX(设备类型!$B$2:$B$5001,MATCH(表格模板!C3489,设备类型!$A$2:$A$5001,0),COLUMN(A3489))","v":{"$error":"#N/A"}}]
[null,{"$f":"INDEX(建筑!$B$2:$B$5001,MATCH(表格模板!A3490,建筑!$A$2:$A$5001,0),COLUMN(A3490))","v":{"$error":"#N/A"}},null,{"$f":"INDEX(设备类型!$B$2:$B$5001,MATCH(表格模板!C3490,设备类型!$A$2:$A$5001,0),COLUMN(A3490))","v":{"$error":"#N/A"}}]
[null,{"$f":"INDEX(建筑!$B$2:$B$5001,MATCH(表格模板!A3491,建筑!$A$2:$A$5001,0),COLUMN(A3491))","v":{"$error":"#N/A"}},null,{"$f":"INDEX(设备类型!$B$2:$B$5001,MATCH(表格模板!C3491,设备类型!$A$2:$A$5001,0),COLUMN(A3491))","v":{"$error":"#N/A"}}]
[null,{"$f":"INDEX(建筑!$B$2:$B$5001,MATCH(表格模板!A3492,建筑!$A$2:$A$5001,0),COLUMN(A3492))","v":{"$error":"#N/A"}},null,{"$f":"INDEX(设备类型!$B$2:$B$5001,MATCH(表格模板!C3492,设备类型!$A$2:$A$5001,0),COLUMN(A3492))","v":{"$error":"#N/A"}}]
[null,{"$f":"INDEX(建筑!$B$2:$B$5001,MATCH(表格模板!A3493,建筑!$A$2:$A$5001,0),COLUMN(A3493))","v":{"$error":"#N/A"}},null,{"$f":"INDEX(设备类型!$B$2:$B$5001,MATCH(表格模板!C3493,设备类型!$A$2:$A$5001,0),COLUMN(A3493))","v":{"$error":"#N/A"}}]
[null,{"$f":"INDEX(建筑!$B$2:$B$5001,MATCH(表格模板!A3494,建筑!$A$2:$A$5001,0),COLUMN(A3494))","v":{"$error":"#N/A"}},null,{"$f":"INDEX(设备类型!$B$2:$B$5001,MATCH(表格模板!C3494,设备类型!$A$2:$A$5001,0),COLUMN(A3494))","v":{"$error":"#N/A"}}]
[null,{"$f":"INDEX(建筑!$B$2:$B$5001,MATCH(表格模板!A3495,建筑!$A$2:$A$5001,0),COLUMN(A3495))","v":{"$error":"#N/A"}},null,{"$f":"INDEX(设备类型!$B$2:$B$5001,MATCH(表格模板!C3495,设备类型!$A$2:$A$5001,0),COLUMN(A3495))","v":{"$error":"#N/A"}}]
[null,{"$f":"INDEX(建筑!$B$2:$B$5001,MATCH(表格模板!A3496,建筑!$A$2:$A$5001,0),COLUMN(A3496))","v":{"$error":"#N/A"}},null,{"$f":"INDEX(设备类型!$B$2:$B$5001,MATCH(表格模板!C3496,设备类型!$A$2:$A$5001,0),COLUMN(A3496))","v":{"$error":"#N/A"}}]
[null,{"$f":"INDEX(建筑!$B$2:$B$5001,MATCH(表格模板!A3497,建筑!$A$2:$A$5001,0),COLUMN(A3497))","v":{"$error":"#N/A"}},null,{"$f":"INDEX(设备类型!$B$2:$B$5001,MATCH(表格模板!C3497,设备类型!$A$2:$A$5001,0),COLUMN(A3497))","v":{"$error":"#N/A"}}]
[null,{"$f":"INDEX(建筑!$B$2:$B$5001,MATCH(表格模板!A3498,建筑!$A$2:$A$5001,0),COLUMN(A3498))","v":{"$error":"#N/A"}},null,{"$f":"INDEX(设备类型!$B$2:$B$5001,MATCH(表格模板!C3498,设备类型!$A$2:$A$5001,0),COLUMN(A3498))","v":{"$error":"#N/A"}}]
[null,{"$f":"INDEX(建筑!$B$2:$B$5001,MATCH(表格模板!A3499,建筑!$A$2:$A$5001,0),COLUMN(A3499))","v":{"$error":"#N/A"}},null,{"$f":"INDEX(设备类型!$B$2:$B$5001,MATCH(表格模板!C3499,设备类型!$A$2:$A$5001,0),COLUMN(A3499))","v":{"$error":"#N/A"}}]
[null,{"$f":"INDEX(建筑!$B$2:$B$5001,MATCH(表格模板!A3500,建筑!$A$2:$A$5001,0),COLUMN(A3500))","v":{"$error":"#N/A"}},null,{"$f":"INDEX(设备类型!$B$2:$B$5001,MATCH(表格模板!C3500,设备类型!$A$2:$A$5001,0),COLUMN(A3500))","v":{"$error":"#N/A"}}]
[null,{"$f":"INDEX(建筑!$B$2:$B$5001,MATCH(表格模板!A3501,建筑!$A$2:$A$5001,0),COLUMN(A3501))","v":{"$error":"#N/A"}},null,{"$f":"INDEX(设备类型!$B$2:$B$5001,MATCH(表格模板!C3501,设备类型!$A$2:$A$5001,0),COLUMN(A3501))","v":{"$error":"#N/A"}}]
[null,{"$f":"INDEX(建筑!$B$2:$B$5001,MATCH(表格模板!A3502,建筑!$A$2:$A$5001,0),COLUMN(A3502))","v":{"$error":"#N/A"}},null,{"$f":"INDEX(设备类型!$B$2:$B$5001,MATCH(表格模板!C3502,设备类型!$A$2:$A$5001,0),COLUMN(A3502))","v":{"$error":"#N/A"}}]
[null,{"$f":"INDEX(建筑!$B$2:$B$5001,MATCH(表格模板!A3503,建筑!$A$2:$A$5001,0),COLUMN(A3503))","v":{"$error":"#N/A"}},null,{"$f":"INDEX(设备类型!$B$2:$B$5001,MATCH(表格模板!C3503,设备类型!$A$2:$A$5001,0),COLUMN(A3503))","v":{"$error":"#N/A"}}]
[null,{"$f":"INDEX(建筑!$B$2:$B$5001,MATCH(表格模板!A3504,建筑!$A$2:$A$5001,0),COLUMN(A3504))","v":{"$error":"#N/A"}},null,{"$f":"INDEX(设备类型!$B$2:$B$5001,MATCH(表格模板!C3504,设备类型!$A$2:$A$5001,0),COLUMN(A3504))","v":{"$error":"#N/A"}}]
[null,{"$f":"INDEX(建筑!$B$2:$B$5001,MATCH(表格模板!A3505,建筑!$A$2:$A$5001,0),COLUMN(A3505))","v":{"$error":"#N/A"}},null,{"$f":"INDEX(设备类型!$B$2:$B$5001,MATCH(表格模板!C3505,设备类型!$A$2:$A$5001,0),COLUMN(A3505))","v":{"$error":"#N/A"}}]
[null,{"$f":"INDEX(建筑!$B$2:$B$5001,MATCH(表格模板!A3506,建筑!$A$2:$A$5001,0),COLUMN(A3506))","v":{"$error":"#N/A"}},null,{"$f":"INDEX(设备类型!$B$2:$B$5001,MATCH(表格模板!C3506,设备类型!$A$2:$A$5001,0),COLUMN(A3506))","v":{"$error":"#N/A"}}]
[null,{"$f":"INDEX(建筑!$B$2:$B$5001,MATCH(表格模板!A3507,建筑!$A$2:$A$5001,0),COLUMN(A3507))","v":{"$error":"#N/A"}},null,{"$f":"INDEX(设备类型!$B$2:$B$5001,MATCH(表格模板!C3507,设备类型!$A$2:$A$5001,0),COLUMN(A3507))","v":{"$error":"#N/A"}}]
[null,{"$f":"INDEX(建筑!$B$2:$B$5001,MATCH(表格模板!A3508,建筑!$A$2:$A$5001,0),COLUMN(A3508))","v":{"$error":"#N/A"}},null,{"$f":"INDEX(设备类型!$B$2:$B$5001,MATCH(表格模板!C3508,设备类型!$A$2:$A$5001,0),COLUMN(A3508))","v":{"$error":"#N/A"}}]
[null,{"$f":"INDEX(建筑!$B$2:$B$5001,MATCH(表格模板!A3509,建筑!$A$2:$A$5001,0),COLUMN(A3509))","v":{"$error":"#N/A"}},null,{"$f":"INDEX(设备类型!$B$2:$B$5001,MATCH(表格模板!C3509,设备类型!$A$2:$A$5001,0),COLUMN(A3509))","v":{"$error":"#N/A"}}]
[null,{"$f":"INDEX(建筑!$B$2:$B$5001,MATCH(表格模板!A3510,建筑!$A$2:$A$5001,0),COLUMN(A3510))","v":{"$error":"#N/A"}},null,{"$f":"INDEX(设备类型!$B$2:$B$5001,MATCH(表格模板!C3510,设备类型!$A$2:$A$5001,0),COLUMN(A3510))","v":{"$error":"#N/A"}}]
[null,{"$f":"INDEX(建筑!$B$2:$B$5001,MATCH(表格模板!A3511,建筑!$A$2:$A$5001,0),COLUMN(A3511))","v":{"$error":"#N/A"}},null,{"$f":"INDEX(设备类型!$B$2:$B$5001,MATCH(表格模板!C3511,设备类型!$A$2:$A$5001,0),COLUMN(A3511))","v":{"$error":"#N/A"}}]
[null,{"$f":"INDEX(建筑!$B$2:$B$5001,MATCH(表格模板!A3512,建筑!$A$2:$A$5001,0),COLUMN(A3512))","v":{"$error":"#N/A"}},null,{"$f":"INDEX(设备类型!$B$2:$B$5001,MATCH(表格模板!C3512,设备类型!$A$2:$A$5001,0),COLUMN(A3512))","v":{"$error":"#N/A"}}]
[null,{"$f":"INDEX(建筑!$B$2:$B$5001,MATCH(表格模板!A3513,建筑!$A$2:$A$5001,0),COLUMN(A3513))","v":{"$error":"#N/A"}},null,{"$f":"INDEX(设备类型!$B$2:$B$5001,MATCH(表格模板!C3513,设备类型!$A$2:$A$5001,0),COLUMN(A3513))","v":{"$error":"#N/A"}}]
[null,{"$f":"INDEX(建筑!$B$2:$B$5001,MATCH(表格模板!A3514,建筑!$A$2:$A$5001,0),COLUMN(A3514))","v":{"$error":"#N/A"}},null,{"$f":"INDEX(设备类型!$B$2:$B$5001,MATCH(表格模板!C3514,设备类型!$A$2:$A$5001,0),COLUMN(A3514))","v":{"$error":"#N/A"}}]
[null,{"$f":"INDEX(建筑!$B$2:$B$5001,MATCH(表格模板!A3515,建筑!$A$2:$A$5001,0),COLUMN(A3515))","v":{"$error":"#N/A"}},null,{"$f":"INDEX(设备类型!$B$2:$B$5001,MATCH(表格模板!C3515,设备类型!$A$2:$A$5001,0),COLUMN(A3515))","v":{"$error":"#N/A"}}]
[null,{"$f":"INDEX(建筑!$B$2:$B$5001,MATCH(表格模板!A3516,建筑!$A$2:$A$5001,0),COLUMN(A3516))","v":{"$error":"#N/A"}},null,{"$f":"INDEX(设备类型!$B$2:$B$5001,MATCH(表格模板!C3516,设备类型!$A$2:$A$5001,0),COLUMN(A3516))","v":{"$error":"#N/A"}}]
[null,{"$f":"INDEX(建筑!$B$2:$B$5001,MATCH(表格模板!A3517,建筑!$A$2:$A$5001,0),COLUMN(A3517))","v":{"$error":"#N/A"}},null,{"$f":"INDEX(设备类型!$B$2:$B$5001,MATCH(表格模板!C3517,设备类型!$A$2:$A$5001,0),COLUMN(A3517))","v":{"$error":"#N/A"}}]
[null,{"$f":"INDEX(建筑!$B$2:$B$5001,MATCH(表格模板!A3518,建筑!$A$2:$A$5001,0),COLUMN(A3518))","v":{"$error":"#N/A"}},null,{"$f":"INDEX(设备类型!$B$2:$B$5001,MATCH(表格模板!C3518,设备类型!$A$2:$A$5001,0),COLUMN(A3518))","v":{"$error":"#N/A"}}]
[null,{"$f":"INDEX(建筑!$B$2:$B$5001,MATCH(表格模板!A3519,建筑!$A$2:$A$5001,0),COLUMN(A3519))","v":{"$error":"#N/A"}},null,{"$f":"INDEX(设备类型!$B$2:$B$5001,MATCH(表格模板!C3519,设备类型!$A$2:$A$5001,0),COLUMN(A3519))","v":{"$error":"#N/A"}}]
[null,{"$f":"INDEX(建筑!$B$2:$B$5001,MATCH(表格模板!A3520,建筑!$A$2:$A$5001,0),COLUMN(A3520))","v":{"$error":"#N/A"}},null,{"$f":"INDEX(设备类型!$B$2:$B$5001,MATCH(表格模板!C3520,设备类型!$A$2:$A$5001,0),COLUMN(A3520))","v":{"$error":"#N/A"}}]
[null,{"$f":"INDEX(建筑!$B$2:$B$5001,MATCH(表格模板!A3521,建筑!$A$2:$A$5001,0),COLUMN(A3521))","v":{"$error":"#N/A"}},null,{"$f":"INDEX(设备类型!$B$2:$B$5001,MATCH(表格模板!C3521,设备类型!$A$2:$A$5001,0),COLUMN(A3521))","v":{"$error":"#N/A"}}]
[null,{"$f":"INDEX(建筑!$B$2:$B$5001,MATCH(表格模板!A3522,建筑!$A$2:$A$5001,0),COLUMN(A3522))","v":{"$error":"#N/A"}},null,{"$f":"INDEX(设备类型!$B$2:$B$5001,MATCH(表格模板!C3522,设备类型!$A$2:$A$5001,0),COLUMN(A3522))","v":{"$error":"#N/A"}}]
[null,{"$f":"INDEX(建筑!$B$2:$B$5001,MATCH(表格模板!A3523,建筑!$A$2:$A$5001,0),COLUMN(A3523))","v":{"$error":"#N/A"}},null,{"$f":"INDEX(设备类型!$B$2:$B$5001,MATCH(表格模板!C3523,设备类型!$A$2:$A$5001,0),COLUMN(A3523))","v":{"$error":"#N/A"}}]
[null,{"$f":"INDEX(建筑!$B$2:$B$5001,MATCH(表格模板!A3524,建筑!$A$2:$A$5001,0),COLUMN(A3524))","v":{"$error":"#N/A"}},null,{"$f":"INDEX(设备类型!$B$2:$B$5001,MATCH(表格模板!C3524,设备类型!$A$2:$A$5001,0),COLUMN(A3524))","v":{"$error":"#N/A"}}]
[null,{"$f":"INDEX(建筑!$B$2:$B$5001,MATCH(表格模板!A3525,建筑!$A$2:$A$5001,0),COLUMN(A3525))","v":{"$error":"#N/A"}},null,{"$f":"INDEX(设备类型!$B$2:$B$5001,MATCH(表格模板!C3525,设备类型!$A$2:$A$5001,0),COLUMN(A3525))","v":{"$error":"#N/A"}}]
[null,{"$f":"INDEX(建筑!$B$2:$B$5001,MATCH(表格模板!A3526,建筑!$A$2:$A$5001,0),COLUMN(A3526))","v":{"$error":"#N/A"}},null,{"$f":"INDEX(设备类型!$B$2:$B$5001,MATCH(表格模板!C3526,设备类型!$A$2:$A$5001,0),COLUMN(A3526))","v":{"$error":"#N/A"}}]
[null,{"$f":"INDEX(建筑!$B$2:$B$5001,MATCH(表格模板!A3527,建筑!$A$2:$A$5001,0),COLUMN(A3527))","v":{"$error":"#N/A"}},null,{"$f":"INDEX(设备类型!$B$2:$B$5001,MATCH(表格模板!C3527,设备类型!$A$2:$A$5001,0),COLUMN(A3527))","v":{"$error":"#N/A"}}]
[null,{"$f":"INDEX(建筑!$B$2:$B$5001,MATCH(表格模板!A3528,建筑!$A$2:$A$5001,0),COLUMN(A3528))","v":{"$error":"#N/A"}},null,{"$f":"INDEX(设备类型!$B$2:$B$5001,MATCH(表格模板!C3528,设备类型!$A$2:$A$5001,0),COLUMN(A3528))","v":{"$error":"#N/A"}}]
[null,{"$f":"INDEX(建筑!$B$2:$B$5001,MATCH(表格模板!A3529,建筑!$A$2:$A$5001,0),COLUMN(A3529))","v":{"$error":"#N/A"}},null,{"$f":"INDEX(设备类型!$B$2:$B$5001,MATCH(表格模板!C3529,设备类型!$A$2:$A$5001,0),COLUMN(A3529))","v":{"$error":"#N/A"}}]
[null,{"$f":"INDEX(建筑!$B$2:$B$5001,MATCH(表格模板!A3530,建筑!$A$2:$A$5001,0),COLUMN(A3530))","v":{"$error":"#N/A"}},null,{"$f":"INDEX(设备类型!$B$2:$B$5001,MATCH(表格模板!C3530,设备类型!$A$2:$A$5001,0),COLUMN(A3530))","v":{"$error":"#N/A"}}]
[null,{"$f":"INDEX(建筑!$B$2:$B$5001,MATCH(表格模板!A3531,建筑!$A$2:$A$5001,0),COLUMN(A3531))","v":{"$error":"#N/A"}},null,{"$f":"INDEX(设备类型!$B$2:$B$5001,MATCH(表格模板!C3531,设备类型!$A$2:$A$5001,0),COLUMN(A3531))","v":{"$error":"#N/A"}}]
[null,{"$f":"INDEX(建筑!$B$2:$B$5001,MATCH(表格模板!A3532,建筑!$A$2:$A$5001,0),COLUMN(A3532))","v":{"$error":"#N/A"}},null,{"$f":"INDEX(设备类型!$B$2:$B$5001,MATCH(表格模板!C3532,设备类型!$A$2:$A$5001,0),COLUMN(A3532))","v":{"$error":"#N/A"}}]
[null,{"$f":"INDEX(建筑!$B$2:$B$5001,MATCH(表格模板!A3533,建筑!$A$2:$A$5001,0),COLUMN(A3533))","v":{"$error":"#N/A"}},null,{"$f":"INDEX(设备类型!$B$2:$B$5001,MATCH(表格模板!C3533,设备类型!$A$2:$A$5001,0),COLUMN(A3533))","v":{"$error":"#N/A"}}]
[null,{"$f":"INDEX(建筑!$B$2:$B$5001,MATCH(表格模板!A3534,建筑!$A$2:$A$5001,0),COLUMN(A3534))","v":{"$error":"#N/A"}},null,{"$f":"INDEX(设备类型!$B$2:$B$5001,MATCH(表格模板!C3534,设备类型!$A$2:$A$5001,0),COLUMN(A3534))","v":{"$error":"#N/A"}}]
[null,{"$f":"INDEX(建筑!$B$2:$B$5001,MATCH(表格模板!A3535,建筑!$A$2:$A$5001,0),COLUMN(A3535))","v":{"$error":"#N/A"}},null,{"$f":"INDEX(设备类型!$B$2:$B$5001,MATCH(表格模板!C3535,设备类型!$A$2:$A$5001,0),COLUMN(A3535))","v":{"$error":"#N/A"}}]
[null,{"$f":"INDEX(建筑!$B$2:$B$5001,MATCH(表格模板!A3536,建筑!$A$2:$A$5001,0),COLUMN(A3536))","v":{"$error":"#N/A"}},null,{"$f":"INDEX(设备类型!$B$2:$B$5001,MATCH(表格模板!C3536,设备类型!$A$2:$A$5001,0),COLUMN(A3536))","v":{"$error":"#N/A"}}]
[null,{"$f":"INDEX(建筑!$B$2:$B$5001,MATCH(表格模板!A3537,建筑!$A$2:$A$5001,0),COLUMN(A3537))","v":{"$error":"#N/A"}},null,{"$f":"INDEX(设备类型!$B$2:$B$5001,MATCH(表格模板!C3537,设备类型!$A$2:$A$5001,0),COLUMN(A3537))","v":{"$error":"#N/A"}}]
[null,{"$f":"INDEX(建筑!$B$2:$B$5001,MATCH(表格模板!A3538,建筑!$A$2:$A$5001,0),COLUMN(A3538))","v":{"$error":"#N/A"}},null,{"$f":"INDEX(设备类型!$B$2:$B$5001,MATCH(表格模板!C3538,设备类型!$A$2:$A$5001,0),COLUMN(A3538))","v":{"$error":"#N/A"}}]
[null,{"$f":"INDEX(建筑!$B$2:$B$5001,MATCH(表格模板!A3539,建筑!$A$2:$A$5001,0),COLUMN(A3539))","v":{"$error":"#N/A"}},null,{"$f":"INDEX(设备类型!$B$2:$B$5001,MATCH(表格模板!C3539,设备类型!$A$2:$A$5001,0),COLUMN(A3539))","v":{"$error":"#N/A"}}]
[null,{"$f":"INDEX(建筑!$B$2:$B$5001,MATCH(表格模板!A3540,建筑!$A$2:$A$5001,0),COLUMN(A3540))","v":{"$error":"#N/A"}},null,{"$f":"INDEX(设备类型!$B$2:$B$5001,MATCH(表格模板!C3540,设备类型!$A$2:$A$5001,0),COLUMN(A3540))","v":{"$error":"#N/A"}}]
[null,{"$f":"INDEX(建筑!$B$2:$B$5001,MATCH(表格模板!A3541,建筑!$A$2:$A$5001,0),COLUMN(A3541))","v":{"$error":"#N/A"}},null,{"$f":"INDEX(设备类型!$B$2:$B$5001,MATCH(表格模板!C3541,设备类型!$A$2:$A$5001,0),COLUMN(A3541))","v":{"$error":"#N/A"}}]
[null,{"$f":"INDEX(建筑!$B$2:$B$5001,MATCH(表格模板!A3542,建筑!$A$2:$A$5001,0),COLUMN(A3542))","v":{"$error":"#N/A"}},null,{"$f":"INDEX(设备类型!$B$2:$B$5001,MATCH(表格模板!C3542,设备类型!$A$2:$A$5001,0),COLUMN(A3542))","v":{"$error":"#N/A"}}]
[null,{"$f":"INDEX(建筑!$B$2:$B$5001,MATCH(表格模板!A3543,建筑!$A$2:$A$5001,0),COLUMN(A3543))","v":{"$error":"#N/A"}},null,{"$f":"INDEX(设备类型!$B$2:$B$5001,MATCH(表格模板!C3543,设备类型!$A$2:$A$5001,0),COLUMN(A3543))","v":{"$error":"#N/A"}}]
[null,{"$f":"INDEX(建筑!$B$2:$B$5001,MATCH(表格模板!A3544,建筑!$A$2:$A$5001,0),COLUMN(A3544))","v":{"$error":"#N/A"}},null,{"$f":"INDEX(设备类型!$B$2:$B$5001,MATCH(表格模板!C3544,设备类型!$A$2:$A$5001,0),COLUMN(A3544))","v":{"$error":"#N/A"}}]
[null,{"$f":"INDEX(建筑!$B$2:$B$5001,MATCH(表格模板!A3545,建筑!$A$2:$A$5001,0),COLUMN(A3545))","v":{"$error":"#N/A"}},null,{"$f":"INDEX(设备类型!$B$2:$B$5001,MATCH(表格模板!C3545,设备类型!$A$2:$A$5001,0),COLUMN(A3545))","v":{"$error":"#N/A"}}]
[null,{"$f":"INDEX(建筑!$B$2:$B$5001,MATCH(表格模板!A3546,建筑!$A$2:$A$5001,0),COLUMN(A3546))","v":{"$error":"#N/A"}},null,{"$f":"INDEX(设备类型!$B$2:$B$5001,MATCH(表格模板!C3546,设备类型!$A$2:$A$5001,0),COLUMN(A3546))","v":{"$error":"#N/A"}}]
[null,{"$f":"INDEX(建筑!$B$2:$B$5001,MATCH(表格模板!A3547,建筑!$A$2:$A$5001,0),COLUMN(A3547))","v":{"$error":"#N/A"}},null,{"$f":"INDEX(设备类型!$B$2:$B$5001,MATCH(表格模板!C3547,设备类型!$A$2:$A$5001,0),COLUMN(A3547))","v":{"$error":"#N/A"}}]
[null,{"$f":"INDEX(建筑!$B$2:$B$5001,MATCH(表格模板!A3548,建筑!$A$2:$A$5001,0),COLUMN(A3548))","v":{"$error":"#N/A"}},null,{"$f":"INDEX(设备类型!$B$2:$B$5001,MATCH(表格模板!C3548,设备类型!$A$2:$A$5001,0),COLUMN(A3548))","v":{"$error":"#N/A"}}]
[null,{"$f":"INDEX(建筑!$B$2:$B$5001,MATCH(表格模板!A3549,建筑!$A$2:$A$5001,0),COLUMN(A3549))","v":{"$error":"#N/A"}},null,{"$f":"INDEX(设备类型!$B$2:$B$5001,MATCH(表格模板!C3549,设备类型!$A$2:$A$5001,0),COLUMN(A3549))","v":{"$error":"#N/A"}}]
[null,{"$f":"INDEX(建筑!$B$2:$B$5001,MATCH(表格模板!A3550,建筑!$A$2:$A$5001,0),COLUMN(A3550))","v":{"$error":"#N/A"}},null,{"$f":"INDEX(设备类型!$B$2:$B$5001,MATCH(表格模板!C3550,设备类型!$A$2:$A$5001,0),COLUMN(A3550))","v":{"$error":"#N/A"}}]
[null,{"$f":"INDEX(建筑!$B$2:$B$5001,MATCH(表格模板!A3551,建筑!$A$2:$A$5001,0),COLUMN(A3551))","v":{"$error":"#N/A"}},null,{"$f":"INDEX(设备类型!$B$2:$B$5001,MATCH(表格模板!C3551,设备类型!$A$2:$A$5001,0),COLUMN(A3551))","v":{"$error":"#N/A"}}]
[null,{"$f":"INDEX(建筑!$B$2:$B$5001,MATCH(表格模板!A3552,建筑!$A$2:$A$5001,0),COLUMN(A3552))","v":{"$error":"#N/A"}},null,{"$f":"INDEX(设备类型!$B$2:$B$5001,MATCH(表格模板!C3552,设备类型!$A$2:$A$5001,0),COLUMN(A3552))","v":{"$error":"#N/A"}}]
[null,{"$f":"INDEX(建筑!$B$2:$B$5001,MATCH(表格模板!A3553,建筑!$A$2:$A$5001,0),COLUMN(A3553))","v":{"$error":"#N/A"}},null,{"$f":"INDEX(设备类型!$B$2:$B$5001,MATCH(表格模板!C3553,设备类型!$A$2:$A$5001,0),COLUMN(A3553))","v":{"$error":"#N/A"}}]
[null,{"$f":"INDEX(建筑!$B$2:$B$5001,MATCH(表格模板!A3554,建筑!$A$2:$A$5001,0),COLUMN(A3554))","v":{"$error":"#N/A"}},null,{"$f":"INDEX(设备类型!$B$2:$B$5001,MATCH(表格模板!C3554,设备类型!$A$2:$A$5001,0),COLUMN(A3554))","v":{"$error":"#N/A"}}]
[null,{"$f":"INDEX(建筑!$B$2:$B$5001,MATCH(表格模板!A3555,建筑!$A$2:$A$5001,0),COLUMN(A3555))","v":{"$error":"#N/A"}},null,{"$f":"INDEX(设备类型!$B$2:$B$5001,MATCH(表格模板!C3555,设备类型!$A$2:$A$5001,0),COLUMN(A3555))","v":{"$error":"#N/A"}}]
[null,{"$f":"INDEX(建筑!$B$2:$B$5001,MATCH(表格模板!A3556,建筑!$A$2:$A$5001,0),COLUMN(A3556))","v":{"$error":"#N/A"}},null,{"$f":"INDEX(设备类型!$B$2:$B$5001,MATCH(表格模板!C3556,设备类型!$A$2:$A$5001,0),COLUMN(A3556))","v":{"$error":"#N/A"}}]
[null,{"$f":"INDEX(建筑!$B$2:$B$5001,MATCH(表格模板!A3557,建筑!$A$2:$A$5001,0),COLUMN(A3557))","v":{"$error":"#N/A"}},null,{"$f":"INDEX(设备类型!$B$2:$B$5001,MATCH(表格模板!C3557,设备类型!$A$2:$A$5001,0),COLUMN(A3557))","v":{"$error":"#N/A"}}]
[null,{"$f":"INDEX(建筑!$B$2:$B$5001,MATCH(表格模板!A3558,建筑!$A$2:$A$5001,0),COLUMN(A3558))","v":{"$error":"#N/A"}},null,{"$f":"INDEX(设备类型!$B$2:$B$5001,MATCH(表格模板!C3558,设备类型!$A$2:$A$5001,0),COLUMN(A3558))","v":{"$error":"#N/A"}}]
[null,{"$f":"INDEX(建筑!$B$2:$B$5001,MATCH(表格模板!A3559,建筑!$A$2:$A$5001,0),COLUMN(A3559))","v":{"$error":"#N/A"}},null,{"$f":"INDEX(设备类型!$B$2:$B$5001,MATCH(表格模板!C3559,设备类型!$A$2:$A$5001,0),COLUMN(A3559))","v":{"$error":"#N/A"}}]
[null,{"$f":"INDEX(建筑!$B$2:$B$5001,MATCH(表格模板!A3560,建筑!$A$2:$A$5001,0),COLUMN(A3560))","v":{"$error":"#N/A"}},null,{"$f":"INDEX(设备类型!$B$2:$B$5001,MATCH(表格模板!C3560,设备类型!$A$2:$A$5001,0),COLUMN(A3560))","v":{"$error":"#N/A"}}]
[null,{"$f":"INDEX(建筑!$B$2:$B$5001,MATCH(表格模板!A3561,建筑!$A$2:$A$5001,0),COLUMN(A3561))","v":{"$error":"#N/A"}},null,{"$f":"INDEX(设备类型!$B$2:$B$5001,MATCH(表格模板!C3561,设备类型!$A$2:$A$5001,0),COLUMN(A3561))","v":{"$error":"#N/A"}}]
[null,{"$f":"INDEX(建筑!$B$2:$B$5001,MATCH(表格模板!A3562,建筑!$A$2:$A$5001,0),COLUMN(A3562))","v":{"$error":"#N/A"}},null,{"$f":"INDEX(设备类型!$B$2:$B$5001,MATCH(表格模板!C3562,设备类型!$A$2:$A$5001,0),COLUMN(A3562))","v":{"$error":"#N/A"}}]
[null,{"$f":"INDEX(建筑!$B$2:$B$5001,MATCH(表格模板!A3563,建筑!$A$2:$A$5001,0),COLUMN(A3563))","v":{"$error":"#N/A"}},null,{"$f":"INDEX(设备类型!$B$2:$B$5001,MATCH(表格模板!C3563,设备类型!$A$2:$A$5001,0),COLUMN(A3563))","v":{"$error":"#N/A"}}]
[null,{"$f":"INDEX(建筑!$B$2:$B$5001,MATCH(表格模板!A3564,建筑!$A$2:$A$5001,0),COLUMN(A3564))","v":{"$error":"#N/A"}},null,{"$f":"INDEX(设备类型!$B$2:$B$5001,MATCH(表格模板!C3564,设备类型!$A$2:$A$5001,0),COLUMN(A3564))","v":{"$error":"#N/A"}}]
[null,{"$f":"INDEX(建筑!$B$2:$B$5001,MATCH(表格模板!A3565,建筑!$A$2:$A$5001,0),COLUMN(A3565))","v":{"$error":"#N/A"}},null,{"$f":"INDEX(设备类型!$B$2:$B$5001,MATCH(表格模板!C3565,设备类型!$A$2:$A$5001,0),COLUMN(A3565))","v":{"$error":"#N/A"}}]
[null,{"$f":"INDEX(建筑!$B$2:$B$5001,MATCH(表格模板!A3566,建筑!$A$2:$A$5001,0),COLUMN(A3566))","v":{"$error":"#N/A"}},null,{"$f":"INDEX(设备类型!$B$2:$B$5001,MATCH(表格模板!C3566,设备类型!$A$2:$A$5001,0),COLUMN(A3566))","v":{"$error":"#N/A"}}]
[null,{"$f":"INDEX(建筑!$B$2:$B$5001,MATCH(表格模板!A3567,建筑!$A$2:$A$5001,0),COLUMN(A3567))","v":{"$error":"#N/A"}},null,{"$f":"INDEX(设备类型!$B$2:$B$5001,MATCH(表格模板!C3567,设备类型!$A$2:$A$5001,0),COLUMN(A3567))","v":{"$error":"#N/A"}}]
[null,{"$f":"INDEX(建筑!$B$2:$B$5001,MATCH(表格模板!A3568,建筑!$A$2:$A$5001,0),COLUMN(A3568))","v":{"$error":"#N/A"}},null,{"$f":"INDEX(设备类型!$B$2:$B$5001,MATCH(表格模板!C3568,设备类型!$A$2:$A$5001,0),COLUMN(A3568))","v":{"$error":"#N/A"}}]
[null,{"$f":"INDEX(建筑!$B$2:$B$5001,MATCH(表格模板!A3569,建筑!$A$2:$A$5001,0),COLUMN(A3569))","v":{"$error":"#N/A"}},null,{"$f":"INDEX(设备类型!$B$2:$B$5001,MATCH(表格模板!C3569,设备类型!$A$2:$A$5001,0),COLUMN(A3569))","v":{"$error":"#N/A"}}]
[null,{"$f":"INDEX(建筑!$B$2:$B$5001,MATCH(表格模板!A3570,建筑!$A$2:$A$5001,0),COLUMN(A3570))","v":{"$error":"#N/A"}},null,{"$f":"INDEX(设备类型!$B$2:$B$5001,MATCH(表格模板!C3570,设备类型!$A$2:$A$5001,0),COLUMN(A3570))","v":{"$error":"#N/A"}}]
[null,{"$f":"INDEX(建筑!$B$2:$B$5001,MATCH(表格模板!A3571,建筑!$A$2:$A$5001,0),COLUMN(A3571))","v":{"$error":"#N/A"}},null,{"$f":"INDEX(设备类型!$B$2:$B$5001,MATCH(表格模板!C3571,设备类型!$A$2:$A$5001,0),COLUMN(A3571))","v":{"$error":"#N/A"}}]
[null,{"$f":"INDEX(建筑!$B$2:$B$5001,MATCH(表格模板!A3572,建筑!$A$2:$A$5001,0),COLUMN(A3572))","v":{"$error":"#N/A"}},null,{"$f":"INDEX(设备类型!$B$2:$B$5001,MATCH(表格模板!C3572,设备类型!$A$2:$A$5001,0),COLUMN(A3572))","v":{"$error":"#N/A"}}]
[null,{"$f":"INDEX(建筑!$B$2:$B$5001,MATCH(表格模板!A3573,建筑!$A$2:$A$5001,0),COLUMN(A3573))","v":{"$error":"#N/A"}},null,{"$f":"INDEX(设备类型!$B$2:$B$5001,MATCH(表格模板!C3573,设备类型!$A$2:$A$5001,0),COLUMN(A3573))","v":{"$error":"#N/A"}}]
[null,{"$f":"INDEX(建筑!$B$2:$B$5001,MATCH(表格模板!A3574,建筑!$A$2:$A$5001,0),COLUMN(A3574))","v":{"$error":"#N/A"}},null,{"$f":"INDEX(设备类型!$B$2:$B$5001,MATCH(表格模板!C3574,设备类型!$A$2:$A$5001,0),COLUMN(A3574))","v":{"$error":"#N/A"}}]
[null,{"$f":"INDEX(建筑!$B$2:$B$5001,MATCH(表格模板!A3575,建筑!$A$2:$A$5001,0),COLUMN(A3575))","v":{"$error":"#N/A"}},null,{"$f":"INDEX(设备类型!$B$2:$B$5001,MATCH(表格模板!C3575,设备类型!$A$2:$A$5001,0),COLUMN(A3575))","v":{"$error":"#N/A"}}]
[null,{"$f":"INDEX(建筑!$B$2:$B$5001,MATCH(表格模板!A3576,建筑!$A$2:$A$5001,0),COLUMN(A3576))","v":{"$error":"#N/A"}},null,{"$f":"INDEX(设备类型!$B$2:$B$5001,MATCH(表格模板!C3576,设备类型!$A$2:$A$5001,0),COLUMN(A3576))","v":{"$error":"#N/A"}}]
[null,{"$f":"INDEX(建筑!$B$2:$B$5001,MATCH(表格模板!A3577,建筑!$A$2:$A$5001,0),COLUMN(A3577))","v":{"$error":"#N/A"}},null,{"$f":"INDEX(设备类型!$B$2:$B$5001,MATCH(表格模板!C3577,设备类型!$A$2:$A$5001,0),COLUMN(A3577))","v":{"$error":"#N/A"}}]
[null,{"$f":"INDEX(建筑!$B$2:$B$5001,MATCH(表格模板!A3578,建筑!$A$2:$A$5001,0),COLUMN(A3578))","v":{"$error":"#N/A"}},null,{"$f":"INDEX(设备类型!$B$2:$B$5001,MATCH(表格模板!C3578,设备类型!$A$2:$A$5001,0),COLUMN(A3578))","v":{"$error":"#N/A"}}]
[null,{"$f":"INDEX(建筑!$B$2:$B$5001,MATCH(表格模板!A3579,建筑!$A$2:$A$5001,0),COLUMN(A3579))","v":{"$error":"#N/A"}},null,{"$f":"INDEX(设备类型!$B$2:$B$5001,MATCH(表格模板!C3579,设备类型!$A$2:$A$5001,0),COLUMN(A3579))","v":{"$error":"#N/A"}}]
[null,{"$f":"INDEX(建筑!$B$2:$B$5001,MATCH(表格模板!A3580,建筑!$A$2:$A$5001,0),COLUMN(A3580))","v":{"$error":"#N/A"}},null,{"$f":"INDEX(设备类型!$B$2:$B$5001,MATCH(表格模板!C3580,设备类型!$A$2:$A$5001,0),COLUMN(A3580))","v":{"$error":"#N/A"}}]
[null,{"$f":"INDEX(建筑!$B$2:$B$5001,MATCH(表格模板!A3581,建筑!$A$2:$A$5001,0),COLUMN(A3581))","v":{"$error":"#N/A"}},null,{"$f":"INDEX(设备类型!$B$2:$B$5001,MATCH(表格模板!C3581,设备类型!$A$2:$A$5001,0),COLUMN(A3581))","v":{"$error":"#N/A"}}]
[null,{"$f":"INDEX(建筑!$B$2:$B$5001,MATCH(表格模板!A3582,建筑!$A$2:$A$5001,0),COLUMN(A3582))","v":{"$error":"#N/A"}},null,{"$f":"INDEX(设备类型!$B$2:$B$5001,MATCH(表格模板!C3582,设备类型!$A$2:$A$5001,0),COLUMN(A3582))","v":{"$error":"#N/A"}}]
[null,{"$f":"INDEX(建筑!$B$2:$B$5001,MATCH(表格模板!A3583,建筑!$A$2:$A$5001,0),COLUMN(A3583))","v":{"$error":"#N/A"}},null,{"$f":"INDEX(设备类型!$B$2:$B$5001,MATCH(表格模板!C3583,设备类型!$A$2:$A$5001,0),COLUMN(A3583))","v":{"$error":"#N/A"}}]
[null,{"$f":"INDEX(建筑!$B$2:$B$5001,MATCH(表格模板!A3584,建筑!$A$2:$A$5001,0),COLUMN(A3584))","v":{"$error":"#N/A"}},null,{"$f":"INDEX(设备类型!$B$2:$B$5001,MATCH(表格模板!C3584,设备类型!$A$2:$A$5001,0),COLUMN(A3584))","v":{"$error":"#N/A"}}]
[null,{"$f":"INDEX(建筑!$B$2:$B$5001,MATCH(表格模板!A3585,建筑!$A$2:$A$5001,0),COLUMN(A3585))","v":{"$error":"#N/A"}},null,{"$f":"INDEX(设备类型!$B$2:$B$5001,MATCH(表格模板!C3585,设备类型!$A$2:$A$5001,0),COLUMN(A3585))","v":{"$error":"#N/A"}}]
[null,{"$f":"INDEX(建筑!$B$2:$B$5001,MATCH(表格模板!A3586,建筑!$A$2:$A$5001,0),COLUMN(A3586))","v":{"$error":"#N/A"}},null,{"$f":"INDEX(设备类型!$B$2:$B$5001,MATCH(表格模板!C3586,设备类型!$A$2:$A$5001,0),COLUMN(A3586))","v":{"$error":"#N/A"}}]
[null,{"$f":"INDEX(建筑!$B$2:$B$5001,MATCH(表格模板!A3587,建筑!$A$2:$A$5001,0),COLUMN(A3587))","v":{"$error":"#N/A"}},null,{"$f":"INDEX(设备类型!$B$2:$B$5001,MATCH(表格模板!C3587,设备类型!$A$2:$A$5001,0),COLUMN(A3587))","v":{"$error":"#N/A"}}]
[null,{"$f":"INDEX(建筑!$B$2:$B$5001,MATCH(表格模板!A3588,建筑!$A$2:$A$5001,0),COLUMN(A3588))","v":{"$error":"#N/A"}},null,{"$f":"INDEX(设备类型!$B$2:$B$5001,MATCH(表格模板!C3588,设备类型!$A$2:$A$5001,0),COLUMN(A3588))","v":{"$error":"#N/A"}}]
[null,{"$f":"INDEX(建筑!$B$2:$B$5001,MATCH(表格模板!A3589,建筑!$A$2:$A$5001,0),COLUMN(A3589))","v":{"$error":"#N/A"}},null,{"$f":"INDEX(设备类型!$B$2:$B$5001,MATCH(表格模板!C3589,设备类型!$A$2:$A$5001,0),COLUMN(A3589))","v":{"$error":"#N/A"}}]
[null,{"$f":"INDEX(建筑!$B$2:$B$5001,MATCH(表格模板!A3590,建筑!$A$2:$A$5001,0),COLUMN(A3590))","v":{"$error":"#N/A"}},null,{"$f":"INDEX(设备类型!$B$2:$B$5001,MATCH(表格模板!C3590,设备类型!$A$2:$A$5001,0),COLUMN(A3590))","v":{"$error":"#N/A"}}]
[null,{"$f":"INDEX(建筑!$B$2:$B$5001,MATCH(表格模板!A3591,建筑!$A$2:$A$5001,0),COLUMN(A3591))","v":{"$error":"#N/A"}},null,{"$f":"INDEX(设备类型!$B$2:$B$5001,MATCH(表格模板!C3591,设备类型!$A$2:$A$5001,0),COLUMN(A3591))","v":{"$error":"#N/A"}}]
[null,{"$f":"INDEX(建筑!$B$2:$B$5001,MATCH(表格模板!A3592,建筑!$A$2:$A$5001,0),COLUMN(A3592))","v":{"$error":"#N/A"}},null,{"$f":"INDEX(设备类型!$B$2:$B$5001,MATCH(表格模板!C3592,设备类型!$A$2:$A$5001,0),COLUMN(A3592))","v":{"$error":"#N/A"}}]
[null,{"$f":"INDEX(建筑!$B$2:$B$5001,MATCH(表格模板!A3593,建筑!$A$2:$A$5001,0),COLUMN(A3593))","v":{"$error":"#N/A"}},null,{"$f":"INDEX(设备类型!$B$2:$B$5001,MATCH(表格模板!C3593,设备类型!$A$2:$A$5001,0),COLUMN(A3593))","v":{"$error":"#N/A"}}]
[null,{"$f":"INDEX(建筑!$B$2:$B$5001,MATCH(表格模板!A3594,建筑!$A$2:$A$5001,0),COLUMN(A3594))","v":{"$error":"#N/A"}},null,{"$f":"INDEX(设备类型!$B$2:$B$5001,MATCH(表格模板!C3594,设备类型!$A$2:$A$5001,0),COLUMN(A3594))","v":{"$error":"#N/A"}}]
[null,{"$f":"INDEX(建筑!$B$2:$B$5001,MATCH(表格模板!A3595,建筑!$A$2:$A$5001,0),COLUMN(A3595))","v":{"$error":"#N/A"}},null,{"$f":"INDEX(设备类型!$B$2:$B$5001,MATCH(表格模板!C3595,设备类型!$A$2:$A$5001,0),COLUMN(A3595))","v":{"$error":"#N/A"}}]
[null,{"$f":"INDEX(建筑!$B$2:$B$5001,MATCH(表格模板!A3596,建筑!$A$2:$A$5001,0),COLUMN(A3596))","v":{"$error":"#N/A"}},null,{"$f":"INDEX(设备类型!$B$2:$B$5001,MATCH(表格模板!C3596,设备类型!$A$2:$A$5001,0),COLUMN(A3596))","v":{"$error":"#N/A"}}]
[null,{"$f":"INDEX(建筑!$B$2:$B$5001,MATCH(表格模板!A3597,建筑!$A$2:$A$5001,0),COLUMN(A3597))","v":{"$error":"#N/A"}},null,{"$f":"INDEX(设备类型!$B$2:$B$5001,MATCH(表格模板!C3597,设备类型!$A$2:$A$5001,0),COLUMN(A3597))","v":{"$error":"#N/A"}}]
[null,{"$f":"INDEX(建筑!$B$2:$B$5001,MATCH(表格模板!A3598,建筑!$A$2:$A$5001,0),COLUMN(A3598))","v":{"$error":"#N/A"}},null,{"$f":"INDEX(设备类型!$B$2:$B$5001,MATCH(表格模板!C3598,设备类型!$A$2:$A$5001,0),COLUMN(A3598))","v":{"$error":"#N/A"}}]
[null,{"$f":"INDEX(建筑!$B$2:$B$5001,MATCH(表格模板!A3599,建筑!$A$2:$A$5001,0),COLUMN(A3599))","v":{"$error":"#N/A"}},null,{"$f":"INDEX(设备类型!$B$2:$B$5001,MATCH(表格模板!C3599,设备类型!$A$2:$A$5001,0),COLUMN(A3599))","v":{"$error":"#N/A"}}]
[null,{"$f":"INDEX(建筑!$B$2:$B$5001,MATCH(表格模板!A3600,建筑!$A$2:$A$5001,0),COLUMN(A3600))","v":{"$error":"#N/A"}},null,{"$f":"INDEX(设备类型!$B$2:$B$5001,MATCH(表格模板!C3600,设备类型!$A$2:$A$5001,0),COLUMN(A3600))","v":{"$error":"#N/A"}}]
[null,{"$f":"INDEX(建筑!$B$2:$B$5001,MATCH(表格模板!A3601,建筑!$A$2:$A$5001,0),COLUMN(A3601))","v":{"$error":"#N/A"}},null,{"$f":"INDEX(设备类型!$B$2:$B$5001,MATCH(表格模板!C3601,设备类型!$A$2:$A$5001,0),COLUMN(A3601))","v":{"$error":"#N/A"}}]
[null,{"$f":"INDEX(建筑!$B$2:$B$5001,MATCH(表格模板!A3602,建筑!$A$2:$A$5001,0),COLUMN(A3602))","v":{"$error":"#N/A"}},null,{"$f":"INDEX(设备类型!$B$2:$B$5001,MATCH(表格模板!C3602,设备类型!$A$2:$A$5001,0),COLUMN(A3602))","v":{"$error":"#N/A"}}]
[null,{"$f":"INDEX(建筑!$B$2:$B$5001,MATCH(表格模板!A3603,建筑!$A$2:$A$5001,0),COLUMN(A3603))","v":{"$error":"#N/A"}},null,{"$f":"INDEX(设备类型!$B$2:$B$5001,MATCH(表格模板!C3603,设备类型!$A$2:$A$5001,0),COLUMN(A3603))","v":{"$error":"#N/A"}}]
[null,{"$f":"INDEX(建筑!$B$2:$B$5001,MATCH(表格模板!A3604,建筑!$A$2:$A$5001,0),COLUMN(A3604))","v":{"$error":"#N/A"}},null,{"$f":"INDEX(设备类型!$B$2:$B$5001,MATCH(表格模板!C3604,设备类型!$A$2:$A$5001,0),COLUMN(A3604))","v":{"$error":"#N/A"}}]
[null,{"$f":"INDEX(建筑!$B$2:$B$5001,MATCH(表格模板!A3605,建筑!$A$2:$A$5001,0),COLUMN(A3605))","v":{"$error":"#N/A"}},null,{"$f":"INDEX(设备类型!$B$2:$B$5001,MATCH(表格模板!C3605,设备类型!$A$2:$A$5001,0),COLUMN(A3605))","v":{"$error":"#N/A"}}]
[null,{"$f":"INDEX(建筑!$B$2:$B$5001,MATCH(表格模板!A3606,建筑!$A$2:$A$5001,0),COLUMN(A3606))","v":{"$error":"#N/A"}},null,{"$f":"INDEX(设备类型!$B$2:$B$5001,MATCH(表格模板!C3606,设备类型!$A$2:$A$5001,0),COLUMN(A3606))","v":{"$error":"#N/A"}}]
[null,{"$f":"INDEX(建筑!$B$2:$B$5001,MATCH(表格模板!A3607,建筑!$A$2:$A$5001,0),COLUMN(A3607))","v":{"$error":"#N/A"}},null,{"$f":"INDEX(设备类型!$B$2:$B$5001,MATCH(表格模板!C3607,设备类型!$A$2:$A$5001,0),COLUMN(A3607))","v":{"$error":"#N/A"}}]
[null,{"$f":"INDEX(建筑!$B$2:$B$5001,MATCH(表格模板!A3608,建筑!$A$2:$A$5001,0),COLUMN(A3608))","v":{"$error":"#N/A"}},null,{"$f":"INDEX(设备类型!$B$2:$B$5001,MATCH(表格模板!C3608,设备类型!$A$2:$A$5001,0),COLUMN(A3608))","v":{"$error":"#N/A"}}]
[null,{"$f":"INDEX(建筑!$B$2:$B$5001,MATCH(表格模板!A3609,建筑!$A$2:$A$5001,0),COLUMN(A3609))","v":{"$error":"#N/A"}},null,{"$f":"INDEX(设备类型!$B$2:$B$5001,MATCH(表格模板!C3609,设备类型!$A$2:$A$5001,0),COLUMN(A3609))","v":{"$error":"#N/A"}}]
[null,{"$f":"INDEX(建筑!$B$2:$B$5001,MATCH(表格模板!A3610,建筑!$A$2:$A$5001,0),COLUMN(A3610))","v":{"$error":"#N/A"}},null,{"$f":"INDEX(设备类型!$B$2:$B$5001,MATCH(表格模板!C3610,设备类型!$A$2:$A$5001,0),COLUMN(A3610))","v":{"$error":"#N/A"}}]
[null,{"$f":"INDEX(建筑!$B$2:$B$5001,MATCH(表格模板!A3611,建筑!$A$2:$A$5001,0),COLUMN(A3611))","v":{"$error":"#N/A"}},null,{"$f":"INDEX(设备类型!$B$2:$B$5001,MATCH(表格模板!C3611,设备类型!$A$2:$A$5001,0),COLUMN(A3611))","v":{"$error":"#N/A"}}]
[null,{"$f":"INDEX(建筑!$B$2:$B$5001,MATCH(表格模板!A3612,建筑!$A$2:$A$5001,0),COLUMN(A3612))","v":{"$error":"#N/A"}},null,{"$f":"INDEX(设备类型!$B$2:$B$5001,MATCH(表格模板!C3612,设备类型!$A$2:$A$5001,0),COLUMN(A3612))","v":{"$error":"#N/A"}}]
[null,{"$f":"INDEX(建筑!$B$2:$B$5001,MATCH(表格模板!A3613,建筑!$A$2:$A$5001,0),COLUMN(A3613))","v":{"$error":"#N/A"}},null,{"$f":"INDEX(设备类型!$B$2:$B$5001,MATCH(表格模板!C3613,设备类型!$A$2:$A$5001,0),COLUMN(A3613))","v":{"$error":"#N/A"}}]
[null,{"$f":"INDEX(建筑!$B$2:$B$5001,MATCH(表格模板!A3614,建筑!$A$2:$A$5001,0),COLUMN(A3614))","v":{"$error":"#N/A"}},null,{"$f":"INDEX(设备类型!$B$2:$B$5001,MATCH(表格模板!C3614,设备类型!$A$2:$A$5001,0),COLUMN(A3614))","v":{"$error":"#N/A"}}]
[null,{"$f":"INDEX(建筑!$B$2:$B$5001,MATCH(表格模板!A3615,建筑!$A$2:$A$5001,0),COLUMN(A3615))","v":{"$error":"#N/A"}},null,{"$f":"INDEX(设备类型!$B$2:$B$5001,MATCH(表格模板!C3615,设备类型!$A$2:$A$5001,0),COLUMN(A3615))","v":{"$error":"#N/A"}}]
[null,{"$f":"INDEX(建筑!$B$2:$B$5001,MATCH(表格模板!A3616,建筑!$A$2:$A$5001,0),COLUMN(A3616))","v":{"$error":"#N/A"}},null,{"$f":"INDEX(设备类型!$B$2:$B$5001,MATCH(表格模板!C3616,设备类型!$A$2:$A$5001,0),COLUMN(A3616))","v":{"$error":"#N/A"}}]
[null,{"$f":"INDEX(建筑!$B$2:$B$5001,MATCH(表格模板!A3617,建筑!$A$2:$A$5001,0),COLUMN(A3617))","v":{"$error":"#N/A"}},null,{"$f":"INDEX(设备类型!$B$2:$B$5001,MATCH(表格模板!C3617,设备类型!$A$2:$A$5001,0),COLUMN(A3617))","v":{"$error":"#N/A"}}]
[null,{"$f":"INDEX(建筑!$B$2:$B$5001,MATCH(表格模板!A3618,建筑!$A$2:$A$5001,0),COLUMN(A3618))","v":{"$error":"#N/A"}},null,{"$f":"INDEX(设备类型!$B$2:$B$5001,MATCH(表格模板!C3618,设备类型!$A$2:$A$5001,0),COLUMN(A3618))","v":{"$error":"#N/A"}}]
[null,{"$f":"INDEX(建筑!$B$2:$B$5001,MATCH(表格模板!A3619,建筑!$A$2:$A$5001,0),COLUMN(A3619))","v":{"$error":"#N/A"}},null,{"$f":"INDEX(设备类型!$B$2:$B$5001,MATCH(表格模板!C3619,设备类型!$A$2:$A$5001,0),COLUMN(A3619))","v":{"$error":"#N/A"}}]
[null,{"$f":"INDEX(建筑!$B$2:$B$5001,MATCH(表格模板!A3620,建筑!$A$2:$A$5001,0),COLUMN(A3620))","v":{"$error":"#N/A"}},null,{"$f":"INDEX(设备类型!$B$2:$B$5001,MATCH(表格模板!C3620,设备类型!$A$2:$A$5001,0),COLUMN(A3620))","v":{"$error":"#N/A"}}]
[null,{"$f":"INDEX(建筑!$B$2:$B$5001,MATCH(表格模板!A3621,建筑!$A$2:$A$5001,0),COLUMN(A3621))","v":{"$error":"#N/A"}},null,{"$f":"INDEX(设备类型!$B$2:$B$5001,MATCH(表格模板!C3621,设备类型!$A$2:$A$5001,0),COLUMN(A3621))","v":{"$error":"#N/A"}}]
[null,{"$f":"INDEX(建筑!$B$2:$B$5001,MATCH(表格模板!A3622,建筑!$A$2:$A$5001,0),COLUMN(A3622))","v":{"$error":"#N/A"}},null,{"$f":"INDEX(设备类型!$B$2:$B$5001,MATCH(表格模板!C3622,设备类型!$A$2:$A$5001,0),COLUMN(A3622))","v":{"$error":"#N/A"}}]
[null,{"$f":"INDEX(建筑!$B$2:$B$5001,MATCH(表格模板!A3623,建筑!$A$2:$A$5001,0),COLUMN(A3623))","v":{"$error":"#N/A"}},null,{"$f":"INDEX(设备类型!$B$2:$B$5001,MATCH(表格模板!C3623,设备类型!$A$2:$A$5001,0),COLUMN(A3623))","v":{"$error":"#N/A"}}]
[null,{"$f":"INDEX(建筑!$B$2:$B$5001,MATCH(表格模板!A3624,建筑!$A$2:$A$5001,0),COLUMN(A3624))","v":{"$error":"#N/A"}},null,{"$f":"INDEX(设备类型!$B$2:$B$5001,MATCH(表格模板!C3624,设备类型!$A$2:$A$5001,0),COLUMN(A3624))","v":{"$error":"#N/A"}}]
[null,{"$f":"INDEX(建筑!$B$2:$B$5001,MATCH(表格模板!A3625,建筑!$A$2:$A$5001,0),COLUMN(A3625))","v":{"$error":"#N/A"}},null,{"$f":"INDEX(设备类型!$B$2:$B$5001,MATCH(表格模板!C3625,设备类型!$A$2:$A$5001,0),COLUMN(A3625))","v":{"$error":"#N/A"}}]
[null,{"$f":"INDEX(建筑!$B$2:$B$5001,MATCH(表格模板!A3626,建筑!$A$2:$A$5001,0),COLUMN(A3626))","v":{"$error":"#N/A"}},null,{"$f":"INDEX(设备类型!$B$2:$B$5001,MATCH(表格模板!C3626,设备类型!$A$2:$A$5001,0),COLUMN(A3626))","v":{"$error":"#N/A"}}]
[null,{"$f":"INDEX(建筑!$B$2:$B$5001,MATCH(表格模板!A3627,建筑!$A$2:$A$5001,0),COLUMN(A3627))","v":{"$error":"#N/A"}},null,{"$f":"INDEX(设备类型!$B$2:$B$5001,MATCH(表格模板!C3627,设备类型!$A$2:$A$5001,0),COLUMN(A3627))","v":{"$error":"#N/A"}}]
[null,{"$f":"INDEX(建筑!$B$2:$B$5001,MATCH(表格模板!A3628,建筑!$A$2:$A$5001,0),COLUMN(A3628))","v":{"$error":"#N/A"}},null,{"$f":"INDEX(设备类型!$B$2:$B$5001,MATCH(表格模板!C3628,设备类型!$A$2:$A$5001,0),COLUMN(A3628))","v":{"$error":"#N/A"}}]
[null,{"$f":"INDEX(建筑!$B$2:$B$5001,MATCH(表格模板!A3629,建筑!$A$2:$A$5001,0),COLUMN(A3629))","v":{"$error":"#N/A"}},null,{"$f":"INDEX(设备类型!$B$2:$B$5001,MATCH(表格模板!C3629,设备类型!$A$2:$A$5001,0),COLUMN(A3629))","v":{"$error":"#N/A"}}]
[null,{"$f":"INDEX(建筑!$B$2:$B$5001,MATCH(表格模板!A3630,建筑!$A$2:$A$5001,0),COLUMN(A3630))","v":{"$error":"#N/A"}},null,{"$f":"INDEX(设备类型!$B$2:$B$5001,MATCH(表格模板!C3630,设备类型!$A$2:$A$5001,0),COLUMN(A3630))","v":{"$error":"#N/A"}}]
[null,{"$f":"INDEX(建筑!$B$2:$B$5001,MATCH(表格模板!A3631,建筑!$A$2:$A$5001,0),COLUMN(A3631))","v":{"$error":"#N/A"}},null,{"$f":"INDEX(设备类型!$B$2:$B$5001,MATCH(表格模板!C3631,设备类型!$A$2:$A$5001,0),COLUMN(A3631))","v":{"$error":"#N/A"}}]
[null,{"$f":"INDEX(建筑!$B$2:$B$5001,MATCH(表格模板!A3632,建筑!$A$2:$A$5001,0),COLUMN(A3632))","v":{"$error":"#N/A"}},null,{"$f":"INDEX(设备类型!$B$2:$B$5001,MATCH(表格模板!C3632,设备类型!$A$2:$A$5001,0),COLUMN(A3632))","v":{"$error":"#N/A"}}]
[null,{"$f":"INDEX(建筑!$B$2:$B$5001,MATCH(表格模板!A3633,建筑!$A$2:$A$5001,0),COLUMN(A3633))","v":{"$error":"#N/A"}},null,{"$f":"INDEX(设备类型!$B$2:$B$5001,MATCH(表格模板!C3633,设备类型!$A$2:$A$5001,0),COLUMN(A3633))","v":{"$error":"#N/A"}}]
[null,{"$f":"INDEX(建筑!$B$2:$B$5001,MATCH(表格模板!A3634,建筑!$A$2:$A$5001,0),COLUMN(A3634))","v":{"$error":"#N/A"}},null,{"$f":"INDEX(设备类型!$B$2:$B$5001,MATCH(表格模板!C3634,设备类型!$A$2:$A$5001,0),COLUMN(A3634))","v":{"$error":"#N/A"}}]
[null,{"$f":"INDEX(建筑!$B$2:$B$5001,MATCH(表格模板!A3635,建筑!$A$2:$A$5001,0),COLUMN(A3635))","v":{"$error":"#N/A"}},null,{"$f":"INDEX(设备类型!$B$2:$B$5001,MATCH(表格模板!C3635,设备类型!$A$2:$A$5001,0),COLUMN(A3635))","v":{"$error":"#N/A"}}]
[null,{"$f":"INDEX(建筑!$B$2:$B$5001,MATCH(表格模板!A3636,建筑!$A$2:$A$5001,0),COLUMN(A3636))","v":{"$error":"#N/A"}},null,{"$f":"INDEX(设备类型!$B$2:$B$5001,MATCH(表格模板!C3636,设备类型!$A$2:$A$5001,0),COLUMN(A3636))","v":{"$error":"#N/A"}}]
[null,{"$f":"INDEX(建筑!$B$2:$B$5001,MATCH(表格模板!A3637,建筑!$A$2:$A$5001,0),COLUMN(A3637))","v":{"$error":"#N/A"}},null,{"$f":"INDEX(设备类型!$B$2:$B$5001,MATCH(表格模板!C3637,设备类型!$A$2:$A$5001,0),COLUMN(A3637))","v":{"$error":"#N/A"}}]
[null,{"$f":"INDEX(建筑!$B$2:$B$5001,MATCH(表格模板!A3638,建筑!$A$2:$A$5001,0),COLUMN(A3638))","v":{"$error":"#N/A"}},null,{"$f":"INDEX(设备类型!$B$2:$B$5001,MATCH(表格模板!C3638,设备类型!$A$2:$A$5001,0),COLUMN(A3638))","v":{"$error":"#N/A"}}]
[null,{"$f":"INDEX(建筑!$B$2:$B$5001,MATCH(表格模板!A3639,建筑!$A$2:$A$5001,0),COLUMN(A3639))","v":{"$error":"#N/A"}},null,{"$f":"INDEX(设备类型!$B$2:$B$5001,MATCH(表格模板!C3639,设备类型!$A$2:$A$5001,0),COLUMN(A3639))","v":{"$error":"#N/A"}}]
[null,{"$f":"INDEX(建筑!$B$2:$B$5001,MATCH(表格模板!A3640,建筑!$A$2:$A$5001,0),COLUMN(A3640))","v":{"$error":"#N/A"}},null,{"$f":"INDEX(设备类型!$B$2:$B$5001,MATCH(表格模板!C3640,设备类型!$A$2:$A$5001,0),COLUMN(A3640))","v":{"$error":"#N/A"}}]
[null,{"$f":"INDEX(建筑!$B$2:$B$5001,MATCH(表格模板!A3641,建筑!$A$2:$A$5001,0),COLUMN(A3641))","v":{"$error":"#N/A"}},null,{"$f":"INDEX(设备类型!$B$2:$B$5001,MATCH(表格模板!C3641,设备类型!$A$2:$A$5001,0),COLUMN(A3641))","v":{"$error":"#N/A"}}]
[null,{"$f":"INDEX(建筑!$B$2:$B$5001,MATCH(表格模板!A3642,建筑!$A$2:$A$5001,0),COLUMN(A3642))","v":{"$error":"#N/A"}},null,{"$f":"INDEX(设备类型!$B$2:$B$5001,MATCH(表格模板!C3642,设备类型!$A$2:$A$5001,0),COLUMN(A3642))","v":{"$error":"#N/A"}}]
[null,{"$f":"INDEX(建筑!$B$2:$B$5001,MATCH(表格模板!A3643,建筑!$A$2:$A$5001,0),COLUMN(A3643))","v":{"$error":"#N/A"}},null,{"$f":"INDEX(设备类型!$B$2:$B$5001,MATCH(表格模板!C3643,设备类型!$A$2:$A$5001,0),COLUMN(A3643))","v":{"$error":"#N/A"}}]
[null,{"$f":"INDEX(建筑!$B$2:$B$5001,MATCH(表格模板!A3644,建筑!$A$2:$A$5001,0),COLUMN(A3644))","v":{"$error":"#N/A"}},null,{"$f":"INDEX(设备类型!$B$2:$B$5001,MATCH(表格模板!C3644,设备类型!$A$2:$A$5001,0),COLUMN(A3644))","v":{"$error":"#N/A"}}]
[null,{"$f":"INDEX(建筑!$B$2:$B$5001,MATCH(表格模板!A3645,建筑!$A$2:$A$5001,0),COLUMN(A3645))","v":{"$error":"#N/A"}},null,{"$f":"INDEX(设备类型!$B$2:$B$5001,MATCH(表格模板!C3645,设备类型!$A$2:$A$5001,0),COLUMN(A3645))","v":{"$error":"#N/A"}}]
[null,{"$f":"INDEX(建筑!$B$2:$B$5001,MATCH(表格模板!A3646,建筑!$A$2:$A$5001,0),COLUMN(A3646))","v":{"$error":"#N/A"}},null,{"$f":"INDEX(设备类型!$B$2:$B$5001,MATCH(表格模板!C3646,设备类型!$A$2:$A$5001,0),COLUMN(A3646))","v":{"$error":"#N/A"}}]
[null,{"$f":"INDEX(建筑!$B$2:$B$5001,MATCH(表格模板!A3647,建筑!$A$2:$A$5001,0),COLUMN(A3647))","v":{"$error":"#N/A"}},null,{"$f":"INDEX(设备类型!$B$2:$B$5001,MATCH(表格模板!C3647,设备类型!$A$2:$A$5001,0),COLUMN(A3647))","v":{"$error":"#N/A"}}]
[null,{"$f":"INDEX(建筑!$B$2:$B$5001,MATCH(表格模板!A3648,建筑!$A$2:$A$5001,0),COLUMN(A3648))","v":{"$error":"#N/A"}},null,{"$f":"INDEX(设备类型!$B$2:$B$5001,MATCH(表格模板!C3648,设备类型!$A$2:$A$5001,0),COLUMN(A3648))","v":{"$error":"#N/A"}}]
[null,{"$f":"INDEX(建筑!$B$2:$B$5001,MATCH(表格模板!A3649,建筑!$A$2:$A$5001,0),COLUMN(A3649))","v":{"$error":"#N/A"}},null,{"$f":"INDEX(设备类型!$B$2:$B$5001,MATCH(表格模板!C3649,设备类型!$A$2:$A$5001,0),COLUMN(A3649))","v":{"$error":"#N/A"}}]
[null,{"$f":"INDEX(建筑!$B$2:$B$5001,MATCH(表格模板!A3650,建筑!$A$2:$A$5001,0),COLUMN(A3650))","v":{"$error":"#N/A"}},null,{"$f":"INDEX(设备类型!$B$2:$B$5001,MATCH(表格模板!C3650,设备类型!$A$2:$A$5001,0),COLUMN(A3650))","v":{"$error":"#N/A"}}]
[null,{"$f":"INDEX(建筑!$B$2:$B$5001,MATCH(表格模板!A3651,建筑!$A$2:$A$5001,0),COLUMN(A3651))","v":{"$error":"#N/A"}},null,{"$f":"INDEX(设备类型!$B$2:$B$5001,MATCH(表格模板!C3651,设备类型!$A$2:$A$5001,0),COLUMN(A3651))","v":{"$error":"#N/A"}}]
[null,{"$f":"INDEX(建筑!$B$2:$B$5001,MATCH(表格模板!A3652,建筑!$A$2:$A$5001,0),COLUMN(A3652))","v":{"$error":"#N/A"}},null,{"$f":"INDEX(设备类型!$B$2:$B$5001,MATCH(表格模板!C3652,设备类型!$A$2:$A$5001,0),COLUMN(A3652))","v":{"$error":"#N/A"}}]
[null,{"$f":"INDEX(建筑!$B$2:$B$5001,MATCH(表格模板!A3653,建筑!$A$2:$A$5001,0),COLUMN(A3653))","v":{"$error":"#N/A"}},null,{"$f":"INDEX(设备类型!$B$2:$B$5001,MATCH(表格模板!C3653,设备类型!$A$2:$A$5001,0),COLUMN(A3653))","v":{"$error":"#N/A"}}]
[null,{"$f":"INDEX(建筑!$B$2:$B$5001,MATCH(表格模板!A3654,建筑!$A$2:$A$5001,0),COLUMN(A3654))","v":{"$error":"#N/A"}},null,{"$f":"INDEX(设备类型!$B$2:$B$5001,MATCH(表格模板!C3654,设备类型!$A$2:$A$5001,0),COLUMN(A3654))","v":{"$error":"#N/A"}}]
[null,{"$f":"INDEX(建筑!$B$2:$B$5001,MATCH(表格模板!A3655,建筑!$A$2:$A$5001,0),COLUMN(A3655))","v":{"$error":"#N/A"}},null,{"$f":"INDEX(设备类型!$B$2:$B$5001,MATCH(表格模板!C3655,设备类型!$A$2:$A$5001,0),COLUMN(A3655))","v":{"$error":"#N/A"}}]
[null,{"$f":"INDEX(建筑!$B$2:$B$5001,MATCH(表格模板!A3656,建筑!$A$2:$A$5001,0),COLUMN(A3656))","v":{"$error":"#N/A"}},null,{"$f":"INDEX(设备类型!$B$2:$B$5001,MATCH(表格模板!C3656,设备类型!$A$2:$A$5001,0),COLUMN(A3656))","v":{"$error":"#N/A"}}]
[null,{"$f":"INDEX(建筑!$B$2:$B$5001,MATCH(表格模板!A3657,建筑!$A$2:$A$5001,0),COLUMN(A3657))","v":{"$error":"#N/A"}},null,{"$f":"INDEX(设备类型!$B$2:$B$5001,MATCH(表格模板!C3657,设备类型!$A$2:$A$5001,0),COLUMN(A3657))","v":{"$error":"#N/A"}}]
[null,{"$f":"INDEX(建筑!$B$2:$B$5001,MATCH(表格模板!A3658,建筑!$A$2:$A$5001,0),COLUMN(A3658))","v":{"$error":"#N/A"}},null,{"$f":"INDEX(设备类型!$B$2:$B$5001,MATCH(表格模板!C3658,设备类型!$A$2:$A$5001,0),COLUMN(A3658))","v":{"$error":"#N/A"}}]
[null,{"$f":"INDEX(建筑!$B$2:$B$5001,MATCH(表格模板!A3659,建筑!$A$2:$A$5001,0),COLUMN(A3659))","v":{"$error":"#N/A"}},null,{"$f":"INDEX(设备类型!$B$2:$B$5001,MATCH(表格模板!C3659,设备类型!$A$2:$A$5001,0),COLUMN(A3659))","v":{"$error":"#N/A"}}]
[null,{"$f":"INDEX(建筑!$B$2:$B$5001,MATCH(表格模板!A3660,建筑!$A$2:$A$5001,0),COLUMN(A3660))","v":{"$error":"#N/A"}},null,{"$f":"INDEX(设备类型!$B$2:$B$5001,MATCH(表格模板!C3660,设备类型!$A$2:$A$5001,0),COLUMN(A3660))","v":{"$error":"#N/A"}}]
[null,{"$f":"INDEX(建筑!$B$2:$B$5001,MATCH(表格模板!A3661,建筑!$A$2:$A$5001,0),COLUMN(A3661))","v":{"$error":"#N/A"}},null,{"$f":"INDEX(设备类型!$B$2:$B$5001,MATCH(表格模板!C3661,设备类型!$A$2:$A$5001,0),COLUMN(A3661))","v":{"$error":"#N/A"}}]
[null,{"$f":"INDEX(建筑!$B$2:$B$5001,MATCH(表格模板!A3662,建筑!$A$2:$A$5001,0),COLUMN(A3662))","v":{"$error":"#N/A"}},null,{"$f":"INDEX(设备类型!$B$2:$B$5001,MATCH(表格模板!C3662,设备类型!$A$2:$A$5001,0),COLUMN(A3662))","v":{"$error":"#N/A"}}]
[null,{"$f":"INDEX(建筑!$B$2:$B$5001,MATCH(表格模板!A3663,建筑!$A$2:$A$5001,0),COLUMN(A3663))","v":{"$error":"#N/A"}},null,{"$f":"INDEX(设备类型!$B$2:$B$5001,MATCH(表格模板!C3663,设备类型!$A$2:$A$5001,0),COLUMN(A3663))","v":{"$error":"#N/A"}}]
[null,{"$f":"INDEX(建筑!$B$2:$B$5001,MATCH(表格模板!A3664,建筑!$A$2:$A$5001,0),COLUMN(A3664))","v":{"$error":"#N/A"}},null,{"$f":"INDEX(设备类型!$B$2:$B$5001,MATCH(表格模板!C3664,设备类型!$A$2:$A$5001,0),COLUMN(A3664))","v":{"$error":"#N/A"}}]
[null,{"$f":"INDEX(建筑!$B$2:$B$5001,MATCH(表格模板!A3665,建筑!$A$2:$A$5001,0),COLUMN(A3665))","v":{"$error":"#N/A"}},null,{"$f":"INDEX(设备类型!$B$2:$B$5001,MATCH(表格模板!C3665,设备类型!$A$2:$A$5001,0),COLUMN(A3665))","v":{"$error":"#N/A"}}]
[null,{"$f":"INDEX(建筑!$B$2:$B$5001,MATCH(表格模板!A3666,建筑!$A$2:$A$5001,0),COLUMN(A3666))","v":{"$error":"#N/A"}},null,{"$f":"INDEX(设备类型!$B$2:$B$5001,MATCH(表格模板!C3666,设备类型!$A$2:$A$5001,0),COLUMN(A3666))","v":{"$error":"#N/A"}}]
[null,{"$f":"INDEX(建筑!$B$2:$B$5001,MATCH(表格模板!A3667,建筑!$A$2:$A$5001,0),COLUMN(A3667))","v":{"$error":"#N/A"}},null,{"$f":"INDEX(设备类型!$B$2:$B$5001,MATCH(表格模板!C3667,设备类型!$A$2:$A$5001,0),COLUMN(A3667))","v":{"$error":"#N/A"}}]
[null,{"$f":"INDEX(建筑!$B$2:$B$5001,MATCH(表格模板!A3668,建筑!$A$2:$A$5001,0),COLUMN(A3668))","v":{"$error":"#N/A"}},null,{"$f":"INDEX(设备类型!$B$2:$B$5001,MATCH(表格模板!C3668,设备类型!$A$2:$A$5001,0),COLUMN(A3668))","v":{"$error":"#N/A"}}]
[null,{"$f":"INDEX(建筑!$B$2:$B$5001,MATCH(表格模板!A3669,建筑!$A$2:$A$5001,0),COLUMN(A3669))","v":{"$error":"#N/A"}},null,{"$f":"INDEX(设备类型!$B$2:$B$5001,MATCH(表格模板!C3669,设备类型!$A$2:$A$5001,0),COLUMN(A3669))","v":{"$error":"#N/A"}}]
[null,{"$f":"INDEX(建筑!$B$2:$B$5001,MATCH(表格模板!A3670,建筑!$A$2:$A$5001,0),COLUMN(A3670))","v":{"$error":"#N/A"}},null,{"$f":"INDEX(设备类型!$B$2:$B$5001,MATCH(表格模板!C3670,设备类型!$A$2:$A$5001,0),COLUMN(A3670))","v":{"$error":"#N/A"}}]
[null,{"$f":"INDEX(建筑!$B$2:$B$5001,MATCH(表格模板!A3671,建筑!$A$2:$A$5001,0),COLUMN(A3671))","v":{"$error":"#N/A"}},null,{"$f":"INDEX(设备类型!$B$2:$B$5001,MATCH(表格模板!C3671,设备类型!$A$2:$A$5001,0),COLUMN(A3671))","v":{"$error":"#N/A"}}]
[null,{"$f":"INDEX(建筑!$B$2:$B$5001,MATCH(表格模板!A3672,建筑!$A$2:$A$5001,0),COLUMN(A3672))","v":{"$error":"#N/A"}},null,{"$f":"INDEX(设备类型!$B$2:$B$5001,MATCH(表格模板!C3672,设备类型!$A$2:$A$5001,0),COLUMN(A3672))","v":{"$error":"#N/A"}}]
[null,{"$f":"INDEX(建筑!$B$2:$B$5001,MATCH(表格模板!A3673,建筑!$A$2:$A$5001,0),COLUMN(A3673))","v":{"$error":"#N/A"}},null,{"$f":"INDEX(设备类型!$B$2:$B$5001,MATCH(表格模板!C3673,设备类型!$A$2:$A$5001,0),COLUMN(A3673))","v":{"$error":"#N/A"}}]
[null,{"$f":"INDEX(建筑!$B$2:$B$5001,MATCH(表格模板!A3674,建筑!$A$2:$A$5001,0),COLUMN(A3674))","v":{"$error":"#N/A"}},null,{"$f":"INDEX(设备类型!$B$2:$B$5001,MATCH(表格模板!C3674,设备类型!$A$2:$A$5001,0),COLUMN(A3674))","v":{"$error":"#N/A"}}]
[null,{"$f":"INDEX(建筑!$B$2:$B$5001,MATCH(表格模板!A3675,建筑!$A$2:$A$5001,0),COLUMN(A3675))","v":{"$error":"#N/A"}},null,{"$f":"INDEX(设备类型!$B$2:$B$5001,MATCH(表格模板!C3675,设备类型!$A$2:$A$5001,0),COLUMN(A3675))","v":{"$error":"#N/A"}}]
[null,{"$f":"INDEX(建筑!$B$2:$B$5001,MATCH(表格模板!A3676,建筑!$A$2:$A$5001,0),COLUMN(A3676))","v":{"$error":"#N/A"}},null,{"$f":"INDEX(设备类型!$B$2:$B$5001,MATCH(表格模板!C3676,设备类型!$A$2:$A$5001,0),COLUMN(A3676))","v":{"$error":"#N/A"}}]
[null,{"$f":"INDEX(建筑!$B$2:$B$5001,MATCH(表格模板!A3677,建筑!$A$2:$A$5001,0),COLUMN(A3677))","v":{"$error":"#N/A"}},null,{"$f":"INDEX(设备类型!$B$2:$B$5001,MATCH(表格模板!C3677,设备类型!$A$2:$A$5001,0),COLUMN(A3677))","v":{"$error":"#N/A"}}]
[null,{"$f":"INDEX(建筑!$B$2:$B$5001,MATCH(表格模板!A3678,建筑!$A$2:$A$5001,0),COLUMN(A3678))","v":{"$error":"#N/A"}},null,{"$f":"INDEX(设备类型!$B$2:$B$5001,MATCH(表格模板!C3678,设备类型!$A$2:$A$5001,0),COLUMN(A3678))","v":{"$error":"#N/A"}}]
[null,{"$f":"INDEX(建筑!$B$2:$B$5001,MATCH(表格模板!A3679,建筑!$A$2:$A$5001,0),COLUMN(A3679))","v":{"$error":"#N/A"}},null,{"$f":"INDEX(设备类型!$B$2:$B$5001,MATCH(表格模板!C3679,设备类型!$A$2:$A$5001,0),COLUMN(A3679))","v":{"$error":"#N/A"}}]
[null,{"$f":"INDEX(建筑!$B$2:$B$5001,MATCH(表格模板!A3680,建筑!$A$2:$A$5001,0),COLUMN(A3680))","v":{"$error":"#N/A"}},null,{"$f":"INDEX(设备类型!$B$2:$B$5001,MATCH(表格模板!C3680,设备类型!$A$2:$A$5001,0),COLUMN(A3680))","v":{"$error":"#N/A"}}]
[null,{"$f":"INDEX(建筑!$B$2:$B$5001,MATCH(表格模板!A3681,建筑!$A$2:$A$5001,0),COLUMN(A3681))","v":{"$error":"#N/A"}},null,{"$f":"INDEX(设备类型!$B$2:$B$5001,MATCH(表格模板!C3681,设备类型!$A$2:$A$5001,0),COLUMN(A3681))","v":{"$error":"#N/A"}}]
[null,{"$f":"INDEX(建筑!$B$2:$B$5001,MATCH(表格模板!A3682,建筑!$A$2:$A$5001,0),COLUMN(A3682))","v":{"$error":"#N/A"}},null,{"$f":"INDEX(设备类型!$B$2:$B$5001,MATCH(表格模板!C3682,设备类型!$A$2:$A$5001,0),COLUMN(A3682))","v":{"$error":"#N/A"}}]
[null,{"$f":"INDEX(建筑!$B$2:$B$5001,MATCH(表格模板!A3683,建筑!$A$2:$A$5001,0),COLUMN(A3683))","v":{"$error":"#N/A"}},null,{"$f":"INDEX(设备类型!$B$2:$B$5001,MATCH(表格模板!C3683,设备类型!$A$2:$A$5001,0),COLUMN(A3683))","v":{"$error":"#N/A"}}]
[null,{"$f":"INDEX(建筑!$B$2:$B$5001,MATCH(表格模板!A3684,建筑!$A$2:$A$5001,0),COLUMN(A3684))","v":{"$error":"#N/A"}},null,{"$f":"INDEX(设备类型!$B$2:$B$5001,MATCH(表格模板!C3684,设备类型!$A$2:$A$5001,0),COLUMN(A3684))","v":{"$error":"#N/A"}}]
[null,{"$f":"INDEX(建筑!$B$2:$B$5001,MATCH(表格模板!A3685,建筑!$A$2:$A$5001,0),COLUMN(A3685))","v":{"$error":"#N/A"}},null,{"$f":"INDEX(设备类型!$B$2:$B$5001,MATCH(表格模板!C3685,设备类型!$A$2:$A$5001,0),COLUMN(A3685))","v":{"$error":"#N/A"}}]
[null,{"$f":"INDEX(建筑!$B$2:$B$5001,MATCH(表格模板!A3686,建筑!$A$2:$A$5001,0),COLUMN(A3686))","v":{"$error":"#N/A"}},null,{"$f":"INDEX(设备类型!$B$2:$B$5001,MATCH(表格模板!C3686,设备类型!$A$2:$A$5001,0),COLUMN(A3686))","v":{"$error":"#N/A"}}]
[null,{"$f":"INDEX(建筑!$B$2:$B$5001,MATCH(表格模板!A3687,建筑!$A$2:$A$5001,0),COLUMN(A3687))","v":{"$error":"#N/A"}},null,{"$f":"INDEX(设备类型!$B$2:$B$5001,MATCH(表格模板!C3687,设备类型!$A$2:$A$5001,0),COLUMN(A3687))","v":{"$error":"#N/A"}}]
[null,{"$f":"INDEX(建筑!$B$2:$B$5001,MATCH(表格模板!A3688,建筑!$A$2:$A$5001,0),COLUMN(A3688))","v":{"$error":"#N/A"}},null,{"$f":"INDEX(设备类型!$B$2:$B$5001,MATCH(表格模板!C3688,设备类型!$A$2:$A$5001,0),COLUMN(A3688))","v":{"$error":"#N/A"}}]
[null,{"$f":"INDEX(建筑!$B$2:$B$5001,MATCH(表格模板!A3689,建筑!$A$2:$A$5001,0),COLUMN(A3689))","v":{"$error":"#N/A"}},null,{"$f":"INDEX(设备类型!$B$2:$B$5001,MATCH(表格模板!C3689,设备类型!$A$2:$A$5001,0),COLUMN(A3689))","v":{"$error":"#N/A"}}]
[null,{"$f":"INDEX(建筑!$B$2:$B$5001,MATCH(表格模板!A3690,建筑!$A$2:$A$5001,0),COLUMN(A3690))","v":{"$error":"#N/A"}},null,{"$f":"INDEX(设备类型!$B$2:$B$5001,MATCH(表格模板!C3690,设备类型!$A$2:$A$5001,0),COLUMN(A3690))","v":{"$error":"#N/A"}}]
[null,{"$f":"INDEX(建筑!$B$2:$B$5001,MATCH(表格模板!A3691,建筑!$A$2:$A$5001,0),COLUMN(A3691))","v":{"$error":"#N/A"}},null,{"$f":"INDEX(设备类型!$B$2:$B$5001,MATCH(表格模板!C3691,设备类型!$A$2:$A$5001,0),COLUMN(A3691))","v":{"$error":"#N/A"}}]
[null,{"$f":"INDEX(建筑!$B$2:$B$5001,MATCH(表格模板!A3692,建筑!$A$2:$A$5001,0),COLUMN(A3692))","v":{"$error":"#N/A"}},null,{"$f":"INDEX(设备类型!$B$2:$B$5001,MATCH(表格模板!C3692,设备类型!$A$2:$A$5001,0),COLUMN(A3692))","v":{"$error":"#N/A"}}]
[null,{"$f":"INDEX(建筑!$B$2:$B$5001,MATCH(表格模板!A3693,建筑!$A$2:$A$5001,0),COLUMN(A3693))","v":{"$error":"#N/A"}},null,{"$f":"INDEX(设备类型!$B$2:$B$5001,MATCH(表格模板!C3693,设备类型!$A$2:$A$5001,0),COLUMN(A3693))","v":{"$error":"#N/A"}}]
[null,{"$f":"INDEX(建筑!$B$2:$B$5001,MATCH(表格模板!A3694,建筑!$A$2:$A$5001,0),COLUMN(A3694))","v":{"$error":"#N/A"}},null,{"$f":"INDEX(设备类型!$B$2:$B$5001,MATCH(表格模板!C3694,设备类型!$A$2:$A$5001,0),COLUMN(A3694))","v":{"$error":"#N/A"}}]
[null,{"$f":"INDEX(建筑!$B$2:$B$5001,MATCH(表格模板!A3695,建筑!$A$2:$A$5001,0),COLUMN(A3695))","v":{"$error":"#N/A"}},null,{"$f":"INDEX(设备类型!$B$2:$B$5001,MATCH(表格模板!C3695,设备类型!$A$2:$A$5001,0),COLUMN(A3695))","v":{"$error":"#N/A"}}]
[null,{"$f":"INDEX(建筑!$B$2:$B$5001,MATCH(表格模板!A3696,建筑!$A$2:$A$5001,0),COLUMN(A3696))","v":{"$error":"#N/A"}},null,{"$f":"INDEX(设备类型!$B$2:$B$5001,MATCH(表格模板!C3696,设备类型!$A$2:$A$5001,0),COLUMN(A3696))","v":{"$error":"#N/A"}}]
[null,{"$f":"INDEX(建筑!$B$2:$B$5001,MATCH(表格模板!A3697,建筑!$A$2:$A$5001,0),COLUMN(A3697))","v":{"$error":"#N/A"}},null,{"$f":"INDEX(设备类型!$B$2:$B$5001,MATCH(表格模板!C3697,设备类型!$A$2:$A$5001,0),COLUMN(A3697))","v":{"$error":"#N/A"}}]
[null,{"$f":"INDEX(建筑!$B$2:$B$5001,MATCH(表格模板!A3698,建筑!$A$2:$A$5001,0),COLUMN(A3698))","v":{"$error":"#N/A"}},null,{"$f":"INDEX(设备类型!$B$2:$B$5001,MATCH(表格模板!C3698,设备类型!$A$2:$A$5001,0),COLUMN(A3698))","v":{"$error":"#N/A"}}]
[null,{"$f":"INDEX(建筑!$B$2:$B$5001,MATCH(表格模板!A3699,建筑!$A$2:$A$5001,0),COLUMN(A3699))","v":{"$error":"#N/A"}},null,{"$f":"INDEX(设备类型!$B$2:$B$5001,MATCH(表格模板!C3699,设备类型!$A$2:$A$5001,0),COLUMN(A3699))","v":{"$error":"#N/A"}}]
[null,{"$f":"INDEX(建筑!$B$2:$B$5001,MATCH(表格模板!A3700,建筑!$A$2:$A$5001,0),COLUMN(A3700))","v":{"$error":"#N/A"}},null,{"$f":"INDEX(设备类型!$B$2:$B$5001,MATCH(表格模板!C3700,设备类型!$A$2:$A$5001,0),COLUMN(A3700))","v":{"$error":"#N/A"}}]
[null,{"$f":"INDEX(建筑!$B$2:$B$5001,MATCH(表格模板!A3701,建筑!$A$2:$A$5001,0),COLUMN(A3701))","v":{"$error":"#N/A"}},null,{"$f":"INDEX(设备类型!$B$2:$B$5001,MATCH(表格模板!C3701,设备类型!$A$2:$A$5001,0),COLUMN(A3701))","v":{"$error":"#N/A"}}]
[null,{"$f":"INDEX(建筑!$B$2:$B$5001,MATCH(表格模板!A3702,建筑!$A$2:$A$5001,0),COLUMN(A3702))","v":{"$error":"#N/A"}},null,{"$f":"INDEX(设备类型!$B$2:$B$5001,MATCH(表格模板!C3702,设备类型!$A$2:$A$5001,0),COLUMN(A3702))","v":{"$error":"#N/A"}}]
[null,{"$f":"INDEX(建筑!$B$2:$B$5001,MATCH(表格模板!A3703,建筑!$A$2:$A$5001,0),COLUMN(A3703))","v":{"$error":"#N/A"}},null,{"$f":"INDEX(设备类型!$B$2:$B$5001,MATCH(表格模板!C3703,设备类型!$A$2:$A$5001,0),COLUMN(A3703))","v":{"$error":"#N/A"}}]
[null,{"$f":"INDEX(建筑!$B$2:$B$5001,MATCH(表格模板!A3704,建筑!$A$2:$A$5001,0),COLUMN(A3704))","v":{"$error":"#N/A"}},null,{"$f":"INDEX(设备类型!$B$2:$B$5001,MATCH(表格模板!C3704,设备类型!$A$2:$A$5001,0),COLUMN(A3704))","v":{"$error":"#N/A"}}]
[null,{"$f":"INDEX(建筑!$B$2:$B$5001,MATCH(表格模板!A3705,建筑!$A$2:$A$5001,0),COLUMN(A3705))","v":{"$error":"#N/A"}},null,{"$f":"INDEX(设备类型!$B$2:$B$5001,MATCH(表格模板!C3705,设备类型!$A$2:$A$5001,0),COLUMN(A3705))","v":{"$error":"#N/A"}}]
[null,{"$f":"INDEX(建筑!$B$2:$B$5001,MATCH(表格模板!A3706,建筑!$A$2:$A$5001,0),COLUMN(A3706))","v":{"$error":"#N/A"}},null,{"$f":"INDEX(设备类型!$B$2:$B$5001,MATCH(表格模板!C3706,设备类型!$A$2:$A$5001,0),COLUMN(A3706))","v":{"$error":"#N/A"}}]
[null,{"$f":"INDEX(建筑!$B$2:$B$5001,MATCH(表格模板!A3707,建筑!$A$2:$A$5001,0),COLUMN(A3707))","v":{"$error":"#N/A"}},null,{"$f":"INDEX(设备类型!$B$2:$B$5001,MATCH(表格模板!C3707,设备类型!$A$2:$A$5001,0),COLUMN(A3707))","v":{"$error":"#N/A"}}]
[null,{"$f":"INDEX(建筑!$B$2:$B$5001,MATCH(表格模板!A3708,建筑!$A$2:$A$5001,0),COLUMN(A3708))","v":{"$error":"#N/A"}},null,{"$f":"INDEX(设备类型!$B$2:$B$5001,MATCH(表格模板!C3708,设备类型!$A$2:$A$5001,0),COLUMN(A3708))","v":{"$error":"#N/A"}}]
[null,{"$f":"INDEX(建筑!$B$2:$B$5001,MATCH(表格模板!A3709,建筑!$A$2:$A$5001,0),COLUMN(A3709))","v":{"$error":"#N/A"}},null,{"$f":"INDEX(设备类型!$B$2:$B$5001,MATCH(表格模板!C3709,设备类型!$A$2:$A$5001,0),COLUMN(A3709))","v":{"$error":"#N/A"}}]
[null,{"$f":"INDEX(建筑!$B$2:$B$5001,MATCH(表格模板!A3710,建筑!$A$2:$A$5001,0),COLUMN(A3710))","v":{"$error":"#N/A"}},null,{"$f":"INDEX(设备类型!$B$2:$B$5001,MATCH(表格模板!C3710,设备类型!$A$2:$A$5001,0),COLUMN(A3710))","v":{"$error":"#N/A"}}]
[null,{"$f":"INDEX(建筑!$B$2:$B$5001,MATCH(表格模板!A3711,建筑!$A$2:$A$5001,0),COLUMN(A3711))","v":{"$error":"#N/A"}},null,{"$f":"INDEX(设备类型!$B$2:$B$5001,MATCH(表格模板!C3711,设备类型!$A$2:$A$5001,0),COLUMN(A3711))","v":{"$error":"#N/A"}}]
[null,{"$f":"INDEX(建筑!$B$2:$B$5001,MATCH(表格模板!A3712,建筑!$A$2:$A$5001,0),COLUMN(A3712))","v":{"$error":"#N/A"}},null,{"$f":"INDEX(设备类型!$B$2:$B$5001,MATCH(表格模板!C3712,设备类型!$A$2:$A$5001,0),COLUMN(A3712))","v":{"$error":"#N/A"}}]
[null,{"$f":"INDEX(建筑!$B$2:$B$5001,MATCH(表格模板!A3713,建筑!$A$2:$A$5001,0),COLUMN(A3713))","v":{"$error":"#N/A"}},null,{"$f":"INDEX(设备类型!$B$2:$B$5001,MATCH(表格模板!C3713,设备类型!$A$2:$A$5001,0),COLUMN(A3713))","v":{"$error":"#N/A"}}]
[null,{"$f":"INDEX(建筑!$B$2:$B$5001,MATCH(表格模板!A3714,建筑!$A$2:$A$5001,0),COLUMN(A3714))","v":{"$error":"#N/A"}},null,{"$f":"INDEX(设备类型!$B$2:$B$5001,MATCH(表格模板!C3714,设备类型!$A$2:$A$5001,0),COLUMN(A3714))","v":{"$error":"#N/A"}}]
[null,{"$f":"INDEX(建筑!$B$2:$B$5001,MATCH(表格模板!A3715,建筑!$A$2:$A$5001,0),COLUMN(A3715))","v":{"$error":"#N/A"}},null,{"$f":"INDEX(设备类型!$B$2:$B$5001,MATCH(表格模板!C3715,设备类型!$A$2:$A$5001,0),COLUMN(A3715))","v":{"$error":"#N/A"}}]
[null,{"$f":"INDEX(建筑!$B$2:$B$5001,MATCH(表格模板!A3716,建筑!$A$2:$A$5001,0),COLUMN(A3716))","v":{"$error":"#N/A"}},null,{"$f":"INDEX(设备类型!$B$2:$B$5001,MATCH(表格模板!C3716,设备类型!$A$2:$A$5001,0),COLUMN(A3716))","v":{"$error":"#N/A"}}]
[null,{"$f":"INDEX(建筑!$B$2:$B$5001,MATCH(表格模板!A3717,建筑!$A$2:$A$5001,0),COLUMN(A3717))","v":{"$error":"#N/A"}},null,{"$f":"INDEX(设备类型!$B$2:$B$5001,MATCH(表格模板!C3717,设备类型!$A$2:$A$5001,0),COLUMN(A3717))","v":{"$error":"#N/A"}}]
[null,{"$f":"INDEX(建筑!$B$2:$B$5001,MATCH(表格模板!A3718,建筑!$A$2:$A$5001,0),COLUMN(A3718))","v":{"$error":"#N/A"}},null,{"$f":"INDEX(设备类型!$B$2:$B$5001,MATCH(表格模板!C3718,设备类型!$A$2:$A$5001,0),COLUMN(A3718))","v":{"$error":"#N/A"}}]
[null,{"$f":"INDEX(建筑!$B$2:$B$5001,MATCH(表格模板!A3719,建筑!$A$2:$A$5001,0),COLUMN(A3719))","v":{"$error":"#N/A"}},null,{"$f":"INDEX(设备类型!$B$2:$B$5001,MATCH(表格模板!C3719,设备类型!$A$2:$A$5001,0),COLUMN(A3719))","v":{"$error":"#N/A"}}]
[null,{"$f":"INDEX(建筑!$B$2:$B$5001,MATCH(表格模板!A3720,建筑!$A$2:$A$5001,0),COLUMN(A3720))","v":{"$error":"#N/A"}},null,{"$f":"INDEX(设备类型!$B$2:$B$5001,MATCH(表格模板!C3720,设备类型!$A$2:$A$5001,0),COLUMN(A3720))","v":{"$error":"#N/A"}}]
[null,{"$f":"INDEX(建筑!$B$2:$B$5001,MATCH(表格模板!A3721,建筑!$A$2:$A$5001,0),COLUMN(A3721))","v":{"$error":"#N/A"}},null,{"$f":"INDEX(设备类型!$B$2:$B$5001,MATCH(表格模板!C3721,设备类型!$A$2:$A$5001,0),COLUMN(A3721))","v":{"$error":"#N/A"}}]
[null,{"$f":"INDEX(建筑!$B$2:$B$5001,MATCH(表格模板!A3722,建筑!$A$2:$A$5001,0),COLUMN(A3722))","v":{"$error":"#N/A"}},null,{"$f":"INDEX(设备类型!$B$2:$B$5001,MATCH(表格模板!C3722,设备类型!$A$2:$A$5001,0),COLUMN(A3722))","v":{"$error":"#N/A"}}]
[null,{"$f":"INDEX(建筑!$B$2:$B$5001,MATCH(表格模板!A3723,建筑!$A$2:$A$5001,0),COLUMN(A3723))","v":{"$error":"#N/A"}},null,{"$f":"INDEX(设备类型!$B$2:$B$5001,MATCH(表格模板!C3723,设备类型!$A$2:$A$5001,0),COLUMN(A3723))","v":{"$error":"#N/A"}}]
[null,{"$f":"INDEX(建筑!$B$2:$B$5001,MATCH(表格模板!A3724,建筑!$A$2:$A$5001,0),COLUMN(A3724))","v":{"$error":"#N/A"}},null,{"$f":"INDEX(设备类型!$B$2:$B$5001,MATCH(表格模板!C3724,设备类型!$A$2:$A$5001,0),COLUMN(A3724))","v":{"$error":"#N/A"}}]
[null,{"$f":"INDEX(建筑!$B$2:$B$5001,MATCH(表格模板!A3725,建筑!$A$2:$A$5001,0),COLUMN(A3725))","v":{"$error":"#N/A"}},null,{"$f":"INDEX(设备类型!$B$2:$B$5001,MATCH(表格模板!C3725,设备类型!$A$2:$A$5001,0),COLUMN(A3725))","v":{"$error":"#N/A"}}]
[null,{"$f":"INDEX(建筑!$B$2:$B$5001,MATCH(表格模板!A3726,建筑!$A$2:$A$5001,0),COLUMN(A3726))","v":{"$error":"#N/A"}},null,{"$f":"INDEX(设备类型!$B$2:$B$5001,MATCH(表格模板!C3726,设备类型!$A$2:$A$5001,0),COLUMN(A3726))","v":{"$error":"#N/A"}}]
[null,{"$f":"INDEX(建筑!$B$2:$B$5001,MATCH(表格模板!A3727,建筑!$A$2:$A$5001,0),COLUMN(A3727))","v":{"$error":"#N/A"}},null,{"$f":"INDEX(设备类型!$B$2:$B$5001,MATCH(表格模板!C3727,设备类型!$A$2:$A$5001,0),COLUMN(A3727))","v":{"$error":"#N/A"}}]
[null,{"$f":"INDEX(建筑!$B$2:$B$5001,MATCH(表格模板!A3728,建筑!$A$2:$A$5001,0),COLUMN(A3728))","v":{"$error":"#N/A"}},null,{"$f":"INDEX(设备类型!$B$2:$B$5001,MATCH(表格模板!C3728,设备类型!$A$2:$A$5001,0),COLUMN(A3728))","v":{"$error":"#N/A"}}]
[null,{"$f":"INDEX(建筑!$B$2:$B$5001,MATCH(表格模板!A3729,建筑!$A$2:$A$5001,0),COLUMN(A3729))","v":{"$error":"#N/A"}},null,{"$f":"INDEX(设备类型!$B$2:$B$5001,MATCH(表格模板!C3729,设备类型!$A$2:$A$5001,0),COLUMN(A3729))","v":{"$error":"#N/A"}}]
[null,{"$f":"INDEX(建筑!$B$2:$B$5001,MATCH(表格模板!A3730,建筑!$A$2:$A$5001,0),COLUMN(A3730))","v":{"$error":"#N/A"}},null,{"$f":"INDEX(设备类型!$B$2:$B$5001,MATCH(表格模板!C3730,设备类型!$A$2:$A$5001,0),COLUMN(A3730))","v":{"$error":"#N/A"}}]
[null,{"$f":"INDEX(建筑!$B$2:$B$5001,MATCH(表格模板!A3731,建筑!$A$2:$A$5001,0),COLUMN(A3731))","v":{"$error":"#N/A"}},null,{"$f":"INDEX(设备类型!$B$2:$B$5001,MATCH(表格模板!C3731,设备类型!$A$2:$A$5001,0),COLUMN(A3731))","v":{"$error":"#N/A"}}]
[null,{"$f":"INDEX(建筑!$B$2:$B$5001,MATCH(表格模板!A3732,建筑!$A$2:$A$5001,0),COLUMN(A3732))","v":{"$error":"#N/A"}},null,{"$f":"INDEX(设备类型!$B$2:$B$5001,MATCH(表格模板!C3732,设备类型!$A$2:$A$5001,0),COLUMN(A3732))","v":{"$error":"#N/A"}}]
[null,{"$f":"INDEX(建筑!$B$2:$B$5001,MATCH(表格模板!A3733,建筑!$A$2:$A$5001,0),COLUMN(A3733))","v":{"$error":"#N/A"}},null,{"$f":"INDEX(设备类型!$B$2:$B$5001,MATCH(表格模板!C3733,设备类型!$A$2:$A$5001,0),COLUMN(A3733))","v":{"$error":"#N/A"}}]
[null,{"$f":"INDEX(建筑!$B$2:$B$5001,MATCH(表格模板!A3734,建筑!$A$2:$A$5001,0),COLUMN(A3734))","v":{"$error":"#N/A"}},null,{"$f":"INDEX(设备类型!$B$2:$B$5001,MATCH(表格模板!C3734,设备类型!$A$2:$A$5001,0),COLUMN(A3734))","v":{"$error":"#N/A"}}]
[null,{"$f":"INDEX(建筑!$B$2:$B$5001,MATCH(表格模板!A3735,建筑!$A$2:$A$5001,0),COLUMN(A3735))","v":{"$error":"#N/A"}},null,{"$f":"INDEX(设备类型!$B$2:$B$5001,MATCH(表格模板!C3735,设备类型!$A$2:$A$5001,0),COLUMN(A3735))","v":{"$error":"#N/A"}}]
[null,{"$f":"INDEX(建筑!$B$2:$B$5001,MATCH(表格模板!A3736,建筑!$A$2:$A$5001,0),COLUMN(A3736))","v":{"$error":"#N/A"}},null,{"$f":"INDEX(设备类型!$B$2:$B$5001,MATCH(表格模板!C3736,设备类型!$A$2:$A$5001,0),COLUMN(A3736))","v":{"$error":"#N/A"}}]
[null,{"$f":"INDEX(建筑!$B$2:$B$5001,MATCH(表格模板!A3737,建筑!$A$2:$A$5001,0),COLUMN(A3737))","v":{"$error":"#N/A"}},null,{"$f":"INDEX(设备类型!$B$2:$B$5001,MATCH(表格模板!C3737,设备类型!$A$2:$A$5001,0),COLUMN(A3737))","v":{"$error":"#N/A"}}]
[null,{"$f":"INDEX(建筑!$B$2:$B$5001,MATCH(表格模板!A3738,建筑!$A$2:$A$5001,0),COLUMN(A3738))","v":{"$error":"#N/A"}},null,{"$f":"INDEX(设备类型!$B$2:$B$5001,MATCH(表格模板!C3738,设备类型!$A$2:$A$5001,0),COLUMN(A3738))","v":{"$error":"#N/A"}}]
[null,{"$f":"INDEX(建筑!$B$2:$B$5001,MATCH(表格模板!A3739,建筑!$A$2:$A$5001,0),COLUMN(A3739))","v":{"$error":"#N/A"}},null,{"$f":"INDEX(设备类型!$B$2:$B$5001,MATCH(表格模板!C3739,设备类型!$A$2:$A$5001,0),COLUMN(A3739))","v":{"$error":"#N/A"}}]
[null,{"$f":"INDEX(建筑!$B$2:$B$5001,MATCH(表格模板!A3740,建筑!$A$2:$A$5001,0),COLUMN(A3740))","v":{"$error":"#N/A"}},null,{"$f":"INDEX(设备类型!$B$2:$B$5001,MATCH(表格模板!C3740,设备类型!$A$2:$A$5001,0),COLUMN(A3740))","v":{"$error":"#N/A"}}]
[null,{"$f":"INDEX(建筑!$B$2:$B$5001,MATCH(表格模板!A3741,建筑!$A$2:$A$5001,0),COLUMN(A3741))","v":{"$error":"#N/A"}},null,{"$f":"INDEX(设备类型!$B$2:$B$5001,MATCH(表格模板!C3741,设备类型!$A$2:$A$5001,0),COLUMN(A3741))","v":{"$error":"#N/A"}}]
[null,{"$f":"INDEX(建筑!$B$2:$B$5001,MATCH(表格模板!A3742,建筑!$A$2:$A$5001,0),COLUMN(A3742))","v":{"$error":"#N/A"}},null,{"$f":"INDEX(设备类型!$B$2:$B$5001,MATCH(表格模板!C3742,设备类型!$A$2:$A$5001,0),COLUMN(A3742))","v":{"$error":"#N/A"}}]
[null,{"$f":"INDEX(建筑!$B$2:$B$5001,MATCH(表格模板!A3743,建筑!$A$2:$A$5001,0),COLUMN(A3743))","v":{"$error":"#N/A"}},null,{"$f":"INDEX(设备类型!$B$2:$B$5001,MATCH(表格模板!C3743,设备类型!$A$2:$A$5001,0),COLUMN(A3743))","v":{"$error":"#N/A"}}]
[null,{"$f":"INDEX(建筑!$B$2:$B$5001,MATCH(表格模板!A3744,建筑!$A$2:$A$5001,0),COLUMN(A3744))","v":{"$error":"#N/A"}},null,{"$f":"INDEX(设备类型!$B$2:$B$5001,MATCH(表格模板!C3744,设备类型!$A$2:$A$5001,0),COLUMN(A3744))","v":{"$error":"#N/A"}}]
[null,{"$f":"INDEX(建筑!$B$2:$B$5001,MATCH(表格模板!A3745,建筑!$A$2:$A$5001,0),COLUMN(A3745))","v":{"$error":"#N/A"}},null,{"$f":"INDEX(设备类型!$B$2:$B$5001,MATCH(表格模板!C3745,设备类型!$A$2:$A$5001,0),COLUMN(A3745))","v":{"$error":"#N/A"}}]
[null,{"$f":"INDEX(建筑!$B$2:$B$5001,MATCH(表格模板!A3746,建筑!$A$2:$A$5001,0),COLUMN(A3746))","v":{"$error":"#N/A"}},null,{"$f":"INDEX(设备类型!$B$2:$B$5001,MATCH(表格模板!C3746,设备类型!$A$2:$A$5001,0),COLUMN(A3746))","v":{"$error":"#N/A"}}]
[null,{"$f":"INDEX(建筑!$B$2:$B$5001,MATCH(表格模板!A3747,建筑!$A$2:$A$5001,0),COLUMN(A3747))","v":{"$error":"#N/A"}},null,{"$f":"INDEX(设备类型!$B$2:$B$5001,MATCH(表格模板!C3747,设备类型!$A$2:$A$5001,0),COLUMN(A3747))","v":{"$error":"#N/A"}}]
[null,{"$f":"INDEX(建筑!$B$2:$B$5001,MATCH(表格模板!A3748,建筑!$A$2:$A$5001,0),COLUMN(A3748))","v":{"$error":"#N/A"}},null,{"$f":"INDEX(设备类型!$B$2:$B$5001,MATCH(表格模板!C3748,设备类型!$A$2:$A$5001,0),COLUMN(A3748))","v":{"$error":"#N/A"}}]
[null,{"$f":"INDEX(建筑!$B$2:$B$5001,MATCH(表格模板!A3749,建筑!$A$2:$A$5001,0),COLUMN(A3749))","v":{"$error":"#N/A"}},null,{"$f":"INDEX(设备类型!$B$2:$B$5001,MATCH(表格模板!C3749,设备类型!$A$2:$A$5001,0),COLUMN(A3749))","v":{"$error":"#N/A"}}]
[null,{"$f":"INDEX(建筑!$B$2:$B$5001,MATCH(表格模板!A3750,建筑!$A$2:$A$5001,0),COLUMN(A3750))","v":{"$error":"#N/A"}},null,{"$f":"INDEX(设备类型!$B$2:$B$5001,MATCH(表格模板!C3750,设备类型!$A$2:$A$5001,0),COLUMN(A3750))","v":{"$error":"#N/A"}}]
[null,{"$f":"INDEX(建筑!$B$2:$B$5001,MATCH(表格模板!A3751,建筑!$A$2:$A$5001,0),COLUMN(A3751))","v":{"$error":"#N/A"}},null,{"$f":"INDEX(设备类型!$B$2:$B$5001,MATCH(表格模板!C3751,设备类型!$A$2:$A$5001,0),COLUMN(A3751))","v":{"$error":"#N/A"}}]
[null,{"$f":"INDEX(建筑!$B$2:$B$5001,MATCH(表格模板!A3752,建筑!$A$2:$A$5001,0),COLUMN(A3752))","v":{"$error":"#N/A"}},null,{"$f":"INDEX(设备类型!$B$2:$B$5001,MATCH(表格模板!C3752,设备类型!$A$2:$A$5001,0),COLUMN(A3752))","v":{"$error":"#N/A"}}]
[null,{"$f":"INDEX(建筑!$B$2:$B$5001,MATCH(表格模板!A3753,建筑!$A$2:$A$5001,0),COLUMN(A3753))","v":{"$error":"#N/A"}},null,{"$f":"INDEX(设备类型!$B$2:$B$5001,MATCH(表格模板!C3753,设备类型!$A$2:$A$5001,0),COLUMN(A3753))","v":{"$error":"#N/A"}}]
[null,{"$f":"INDEX(建筑!$B$2:$B$5001,MATCH(表格模板!A3754,建筑!$A$2:$A$5001,0),COLUMN(A3754))","v":{"$error":"#N/A"}},null,{"$f":"INDEX(设备类型!$B$2:$B$5001,MATCH(表格模板!C3754,设备类型!$A$2:$A$5001,0),COLUMN(A3754))","v":{"$error":"#N/A"}}]
[null,{"$f":"INDEX(建筑!$B$2:$B$5001,MATCH(表格模板!A3755,建筑!$A$2:$A$5001,0),COLUMN(A3755))","v":{"$error":"#N/A"}},null,{"$f":"INDEX(设备类型!$B$2:$B$5001,MATCH(表格模板!C3755,设备类型!$A$2:$A$5001,0),COLUMN(A3755))","v":{"$error":"#N/A"}}]
[null,{"$f":"INDEX(建筑!$B$2:$B$5001,MATCH(表格模板!A3756,建筑!$A$2:$A$5001,0),COLUMN(A3756))","v":{"$error":"#N/A"}},null,{"$f":"INDEX(设备类型!$B$2:$B$5001,MATCH(表格模板!C3756,设备类型!$A$2:$A$5001,0),COLUMN(A3756))","v":{"$error":"#N/A"}}]
[null,{"$f":"INDEX(建筑!$B$2:$B$5001,MATCH(表格模板!A3757,建筑!$A$2:$A$5001,0),COLUMN(A3757))","v":{"$error":"#N/A"}},null,{"$f":"INDEX(设备类型!$B$2:$B$5001,MATCH(表格模板!C3757,设备类型!$A$2:$A$5001,0),COLUMN(A3757))","v":{"$error":"#N/A"}}]
[null,{"$f":"INDEX(建筑!$B$2:$B$5001,MATCH(表格模板!A3758,建筑!$A$2:$A$5001,0),COLUMN(A3758))","v":{"$error":"#N/A"}},null,{"$f":"INDEX(设备类型!$B$2:$B$5001,MATCH(表格模板!C3758,设备类型!$A$2:$A$5001,0),COLUMN(A3758))","v":{"$error":"#N/A"}}]
[null,{"$f":"INDEX(建筑!$B$2:$B$5001,MATCH(表格模板!A3759,建筑!$A$2:$A$5001,0),COLUMN(A3759))","v":{"$error":"#N/A"}},null,{"$f":"INDEX(设备类型!$B$2:$B$5001,MATCH(表格模板!C3759,设备类型!$A$2:$A$5001,0),COLUMN(A3759))","v":{"$error":"#N/A"}}]
[null,{"$f":"INDEX(建筑!$B$2:$B$5001,MATCH(表格模板!A3760,建筑!$A$2:$A$5001,0),COLUMN(A3760))","v":{"$error":"#N/A"}},null,{"$f":"INDEX(设备类型!$B$2:$B$5001,MATCH(表格模板!C3760,设备类型!$A$2:$A$5001,0),COLUMN(A3760))","v":{"$error":"#N/A"}}]
[null,{"$f":"INDEX(建筑!$B$2:$B$5001,MATCH(表格模板!A3761,建筑!$A$2:$A$5001,0),COLUMN(A3761))","v":{"$error":"#N/A"}},null,{"$f":"INDEX(设备类型!$B$2:$B$5001,MATCH(表格模板!C3761,设备类型!$A$2:$A$5001,0),COLUMN(A3761))","v":{"$error":"#N/A"}}]
[null,{"$f":"INDEX(建筑!$B$2:$B$5001,MATCH(表格模板!A3762,建筑!$A$2:$A$5001,0),COLUMN(A3762))","v":{"$error":"#N/A"}},null,{"$f":"INDEX(设备类型!$B$2:$B$5001,MATCH(表格模板!C3762,设备类型!$A$2:$A$5001,0),COLUMN(A3762))","v":{"$error":"#N/A"}}]
[null,{"$f":"INDEX(建筑!$B$2:$B$5001,MATCH(表格模板!A3763,建筑!$A$2:$A$5001,0),COLUMN(A3763))","v":{"$error":"#N/A"}},null,{"$f":"INDEX(设备类型!$B$2:$B$5001,MATCH(表格模板!C3763,设备类型!$A$2:$A$5001,0),COLUMN(A3763))","v":{"$error":"#N/A"}}]
[null,{"$f":"INDEX(建筑!$B$2:$B$5001,MATCH(表格模板!A3764,建筑!$A$2:$A$5001,0),COLUMN(A3764))","v":{"$error":"#N/A"}},null,{"$f":"INDEX(设备类型!$B$2:$B$5001,MATCH(表格模板!C3764,设备类型!$A$2:$A$5001,0),COLUMN(A3764))","v":{"$error":"#N/A"}}]
[null,{"$f":"INDEX(建筑!$B$2:$B$5001,MATCH(表格模板!A3765,建筑!$A$2:$A$5001,0),COLUMN(A3765))","v":{"$error":"#N/A"}},null,{"$f":"INDEX(设备类型!$B$2:$B$5001,MATCH(表格模板!C3765,设备类型!$A$2:$A$5001,0),COLUMN(A3765))","v":{"$error":"#N/A"}}]
[null,{"$f":"INDEX(建筑!$B$2:$B$5001,MATCH(表格模板!A3766,建筑!$A$2:$A$5001,0),COLUMN(A3766))","v":{"$error":"#N/A"}},null,{"$f":"INDEX(设备类型!$B$2:$B$5001,MATCH(表格模板!C3766,设备类型!$A$2:$A$5001,0),COLUMN(A3766))","v":{"$error":"#N/A"}}]
[null,{"$f":"INDEX(建筑!$B$2:$B$5001,MATCH(表格模板!A3767,建筑!$A$2:$A$5001,0),COLUMN(A3767))","v":{"$error":"#N/A"}},null,{"$f":"INDEX(设备类型!$B$2:$B$5001,MATCH(表格模板!C3767,设备类型!$A$2:$A$5001,0),COLUMN(A3767))","v":{"$error":"#N/A"}}]
[null,{"$f":"INDEX(建筑!$B$2:$B$5001,MATCH(表格模板!A3768,建筑!$A$2:$A$5001,0),COLUMN(A3768))","v":{"$error":"#N/A"}},null,{"$f":"INDEX(设备类型!$B$2:$B$5001,MATCH(表格模板!C3768,设备类型!$A$2:$A$5001,0),COLUMN(A3768))","v":{"$error":"#N/A"}}]
[null,{"$f":"INDEX(建筑!$B$2:$B$5001,MATCH(表格模板!A3769,建筑!$A$2:$A$5001,0),COLUMN(A3769))","v":{"$error":"#N/A"}},null,{"$f":"INDEX(设备类型!$B$2:$B$5001,MATCH(表格模板!C3769,设备类型!$A$2:$A$5001,0),COLUMN(A3769))","v":{"$error":"#N/A"}}]
[null,{"$f":"INDEX(建筑!$B$2:$B$5001,MATCH(表格模板!A3770,建筑!$A$2:$A$5001,0),COLUMN(A3770))","v":{"$error":"#N/A"}},null,{"$f":"INDEX(设备类型!$B$2:$B$5001,MATCH(表格模板!C3770,设备类型!$A$2:$A$5001,0),COLUMN(A3770))","v":{"$error":"#N/A"}}]
[null,{"$f":"INDEX(建筑!$B$2:$B$5001,MATCH(表格模板!A3771,建筑!$A$2:$A$5001,0),COLUMN(A3771))","v":{"$error":"#N/A"}},null,{"$f":"INDEX(设备类型!$B$2:$B$5001,MATCH(表格模板!C3771,设备类型!$A$2:$A$5001,0),COLUMN(A3771))","v":{"$error":"#N/A"}}]
[null,{"$f":"INDEX(建筑!$B$2:$B$5001,MATCH(表格模板!A3772,建筑!$A$2:$A$5001,0),COLUMN(A3772))","v":{"$error":"#N/A"}},null,{"$f":"INDEX(设备类型!$B$2:$B$5001,MATCH(表格模板!C3772,设备类型!$A$2:$A$5001,0),COLUMN(A3772))","v":{"$error":"#N/A"}}]
[null,{"$f":"INDEX(建筑!$B$2:$B$5001,MATCH(表格模板!A3773,建筑!$A$2:$A$5001,0),COLUMN(A3773))","v":{"$error":"#N/A"}},null,{"$f":"INDEX(设备类型!$B$2:$B$5001,MATCH(表格模板!C3773,设备类型!$A$2:$A$5001,0),COLUMN(A3773))","v":{"$error":"#N/A"}}]
[null,{"$f":"INDEX(建筑!$B$2:$B$5001,MATCH(表格模板!A3774,建筑!$A$2:$A$5001,0),COLUMN(A3774))","v":{"$error":"#N/A"}},null,{"$f":"INDEX(设备类型!$B$2:$B$5001,MATCH(表格模板!C3774,设备类型!$A$2:$A$5001,0),COLUMN(A3774))","v":{"$error":"#N/A"}}]
[null,{"$f":"INDEX(建筑!$B$2:$B$5001,MATCH(表格模板!A3775,建筑!$A$2:$A$5001,0),COLUMN(A3775))","v":{"$error":"#N/A"}},null,{"$f":"INDEX(设备类型!$B$2:$B$5001,MATCH(表格模板!C3775,设备类型!$A$2:$A$5001,0),COLUMN(A3775))","v":{"$error":"#N/A"}}]
[null,{"$f":"INDEX(建筑!$B$2:$B$5001,MATCH(表格模板!A3776,建筑!$A$2:$A$5001,0),COLUMN(A3776))","v":{"$error":"#N/A"}},null,{"$f":"INDEX(设备类型!$B$2:$B$5001,MATCH(表格模板!C3776,设备类型!$A$2:$A$5001,0),COLUMN(A3776))","v":{"$error":"#N/A"}}]
[null,{"$f":"INDEX(建筑!$B$2:$B$5001,MATCH(表格模板!A3777,建筑!$A$2:$A$5001,0),COLUMN(A3777))","v":{"$error":"#N/A"}},null,{"$f":"INDEX(设备类型!$B$2:$B$5001,MATCH(表格模板!C3777,设备类型!$A$2:$A$5001,0),COLUMN(A3777))","v":{"$error":"#N/A"}}]
[null,{"$f":"INDEX(建筑!$B$2:$B$5001,MATCH(表格模板!A3778,建筑!$A$2:$A$5001,0),COLUMN(A3778))","v":{"$error":"#N/A"}},null,{"$f":"INDEX(设备类型!$B$2:$B$5001,MATCH(表格模板!C3778,设备类型!$A$2:$A$5001,0),COLUMN(A3778))","v":{"$error":"#N/A"}}]
[null,{"$f":"INDEX(建筑!$B$2:$B$5001,MATCH(表格模板!A3779,建筑!$A$2:$A$5001,0),COLUMN(A3779))","v":{"$error":"#N/A"}},null,{"$f":"INDEX(设备类型!$B$2:$B$5001,MATCH(表格模板!C3779,设备类型!$A$2:$A$5001,0),COLUMN(A3779))","v":{"$error":"#N/A"}}]
[null,{"$f":"INDEX(建筑!$B$2:$B$5001,MATCH(表格模板!A3780,建筑!$A$2:$A$5001,0),COLUMN(A3780))","v":{"$error":"#N/A"}},null,{"$f":"INDEX(设备类型!$B$2:$B$5001,MATCH(表格模板!C3780,设备类型!$A$2:$A$5001,0),COLUMN(A3780))","v":{"$error":"#N/A"}}]
[null,{"$f":"INDEX(建筑!$B$2:$B$5001,MATCH(表格模板!A3781,建筑!$A$2:$A$5001,0),COLUMN(A3781))","v":{"$error":"#N/A"}},null,{"$f":"INDEX(设备类型!$B$2:$B$5001,MATCH(表格模板!C3781,设备类型!$A$2:$A$5001,0),COLUMN(A3781))","v":{"$error":"#N/A"}}]
[null,{"$f":"INDEX(建筑!$B$2:$B$5001,MATCH(表格模板!A3782,建筑!$A$2:$A$5001,0),COLUMN(A3782))","v":{"$error":"#N/A"}},null,{"$f":"INDEX(设备类型!$B$2:$B$5001,MATCH(表格模板!C3782,设备类型!$A$2:$A$5001,0),COLUMN(A3782))","v":{"$error":"#N/A"}}]
[null,{"$f":"INDEX(建筑!$B$2:$B$5001,MATCH(表格模板!A3783,建筑!$A$2:$A$5001,0),COLUMN(A3783))","v":{"$error":"#N/A"}},null,{"$f":"INDEX(设备类型!$B$2:$B$5001,MATCH(表格模板!C3783,设备类型!$A$2:$A$5001,0),COLUMN(A3783))","v":{"$error":"#N/A"}}]
[null,{"$f":"INDEX(建筑!$B$2:$B$5001,MATCH(表格模板!A3784,建筑!$A$2:$A$5001,0),COLUMN(A3784))","v":{"$error":"#N/A"}},null,{"$f":"INDEX(设备类型!$B$2:$B$5001,MATCH(表格模板!C3784,设备类型!$A$2:$A$5001,0),COLUMN(A3784))","v":{"$error":"#N/A"}}]
[null,{"$f":"INDEX(建筑!$B$2:$B$5001,MATCH(表格模板!A3785,建筑!$A$2:$A$5001,0),COLUMN(A3785))","v":{"$error":"#N/A"}},null,{"$f":"INDEX(设备类型!$B$2:$B$5001,MATCH(表格模板!C3785,设备类型!$A$2:$A$5001,0),COLUMN(A3785))","v":{"$error":"#N/A"}}]
[null,{"$f":"INDEX(建筑!$B$2:$B$5001,MATCH(表格模板!A3786,建筑!$A$2:$A$5001,0),COLUMN(A3786))","v":{"$error":"#N/A"}},null,{"$f":"INDEX(设备类型!$B$2:$B$5001,MATCH(表格模板!C3786,设备类型!$A$2:$A$5001,0),COLUMN(A3786))","v":{"$error":"#N/A"}}]
[null,{"$f":"INDEX(建筑!$B$2:$B$5001,MATCH(表格模板!A3787,建筑!$A$2:$A$5001,0),COLUMN(A3787))","v":{"$error":"#N/A"}},null,{"$f":"INDEX(设备类型!$B$2:$B$5001,MATCH(表格模板!C3787,设备类型!$A$2:$A$5001,0),COLUMN(A3787))","v":{"$error":"#N/A"}}]
[null,{"$f":"INDEX(建筑!$B$2:$B$5001,MATCH(表格模板!A3788,建筑!$A$2:$A$5001,0),COLUMN(A3788))","v":{"$error":"#N/A"}},null,{"$f":"INDEX(设备类型!$B$2:$B$5001,MATCH(表格模板!C3788,设备类型!$A$2:$A$5001,0),COLUMN(A3788))","v":{"$error":"#N/A"}}]
[null,{"$f":"INDEX(建筑!$B$2:$B$5001,MATCH(表格模板!A3789,建筑!$A$2:$A$5001,0),COLUMN(A3789))","v":{"$error":"#N/A"}},null,{"$f":"INDEX(设备类型!$B$2:$B$5001,MATCH(表格模板!C3789,设备类型!$A$2:$A$5001,0),COLUMN(A3789))","v":{"$error":"#N/A"}}]
[null,{"$f":"INDEX(建筑!$B$2:$B$5001,MATCH(表格模板!A3790,建筑!$A$2:$A$5001,0),COLUMN(A3790))","v":{"$error":"#N/A"}},null,{"$f":"INDEX(设备类型!$B$2:$B$5001,MATCH(表格模板!C3790,设备类型!$A$2:$A$5001,0),COLUMN(A3790))","v":{"$error":"#N/A"}}]
[null,{"$f":"INDEX(建筑!$B$2:$B$5001,MATCH(表格模板!A3791,建筑!$A$2:$A$5001,0),COLUMN(A3791))","v":{"$error":"#N/A"}},null,{"$f":"INDEX(设备类型!$B$2:$B$5001,MATCH(表格模板!C3791,设备类型!$A$2:$A$5001,0),COLUMN(A3791))","v":{"$error":"#N/A"}}]
[null,{"$f":"INDEX(建筑!$B$2:$B$5001,MATCH(表格模板!A3792,建筑!$A$2:$A$5001,0),COLUMN(A3792))","v":{"$error":"#N/A"}},null,{"$f":"INDEX(设备类型!$B$2:$B$5001,MATCH(表格模板!C3792,设备类型!$A$2:$A$5001,0),COLUMN(A3792))","v":{"$error":"#N/A"}}]
[null,{"$f":"INDEX(建筑!$B$2:$B$5001,MATCH(表格模板!A3793,建筑!$A$2:$A$5001,0),COLUMN(A3793))","v":{"$error":"#N/A"}},null,{"$f":"INDEX(设备类型!$B$2:$B$5001,MATCH(表格模板!C3793,设备类型!$A$2:$A$5001,0),COLUMN(A3793))","v":{"$error":"#N/A"}}]
[null,{"$f":"INDEX(建筑!$B$2:$B$5001,MATCH(表格模板!A3794,建筑!$A$2:$A$5001,0),COLUMN(A3794))","v":{"$error":"#N/A"}},null,{"$f":"INDEX(设备类型!$B$2:$B$5001,MATCH(表格模板!C3794,设备类型!$A$2:$A$5001,0),COLUMN(A3794))","v":{"$error":"#N/A"}}]
[null,{"$f":"INDEX(建筑!$B$2:$B$5001,MATCH(表格模板!A3795,建筑!$A$2:$A$5001,0),COLUMN(A3795))","v":{"$error":"#N/A"}},null,{"$f":"INDEX(设备类型!$B$2:$B$5001,MATCH(表格模板!C3795,设备类型!$A$2:$A$5001,0),COLUMN(A3795))","v":{"$error":"#N/A"}}]
[null,{"$f":"INDEX(建筑!$B$2:$B$5001,MATCH(表格模板!A3796,建筑!$A$2:$A$5001,0),COLUMN(A3796))","v":{"$error":"#N/A"}},null,{"$f":"INDEX(设备类型!$B$2:$B$5001,MATCH(表格模板!C3796,设备类型!$A$2:$A$5001,0),COLUMN(A3796))","v":{"$error":"#N/A"}}]
[null,{"$f":"INDEX(建筑!$B$2:$B$5001,MATCH(表格模板!A3797,建筑!$A$2:$A$5001,0),COLUMN(A3797))","v":{"$error":"#N/A"}},null,{"$f":"INDEX(设备类型!$B$2:$B$5001,MATCH(表格模板!C3797,设备类型!$A$2:$A$5001,0),COLUMN(A3797))","v":{"$error":"#N/A"}}]
[null,{"$f":"INDEX(建筑!$B$2:$B$5001,MATCH(表格模板!A3798,建筑!$A$2:$A$5001,0),COLUMN(A3798))","v":{"$error":"#N/A"}},null,{"$f":"INDEX(设备类型!$B$2:$B$5001,MATCH(表格模板!C3798,设备类型!$A$2:$A$5001,0),COLUMN(A3798))","v":{"$error":"#N/A"}}]
[null,{"$f":"INDEX(建筑!$B$2:$B$5001,MATCH(表格模板!A3799,建筑!$A$2:$A$5001,0),COLUMN(A3799))","v":{"$error":"#N/A"}},null,{"$f":"INDEX(设备类型!$B$2:$B$5001,MATCH(表格模板!C3799,设备类型!$A$2:$A$5001,0),COLUMN(A3799))","v":{"$error":"#N/A"}}]
[null,{"$f":"INDEX(建筑!$B$2:$B$5001,MATCH(表格模板!A3800,建筑!$A$2:$A$5001,0),COLUMN(A3800))","v":{"$error":"#N/A"}},null,{"$f":"INDEX(设备类型!$B$2:$B$5001,MATCH(表格模板!C3800,设备类型!$A$2:$A$5001,0),COLUMN(A3800))","v":{"$error":"#N/A"}}]
[null,{"$f":"INDEX(建筑!$B$2:$B$5001,MATCH(表格模板!A3801,建筑!$A$2:$A$5001,0),COLUMN(A3801))","v":{"$error":"#N/A"}},null,{"$f":"INDEX(设备类型!$B$2:$B$5001,MATCH(表格模板!C3801,设备类型!$A$2:$A$5001,0),COLUMN(A3801))","v":{"$error":"#N/A"}}]
[null,{"$f":"INDEX(建筑!$B$2:$B$5001,MATCH(表格模板!A3802,建筑!$A$2:$A$5001,0),COLUMN(A3802))","v":{"$error":"#N/A"}},null,{"$f":"INDEX(设备类型!$B$2:$B$5001,MATCH(表格模板!C3802,设备类型!$A$2:$A$5001,0),COLUMN(A3802))","v":{"$error":"#N/A"}}]
[null,{"$f":"INDEX(建筑!$B$2:$B$5001,MATCH(表格模板!A3803,建筑!$A$2:$A$5001,0),COLUMN(A3803))","v":{"$error":"#N/A"}},null,{"$f":"INDEX(设备类型!$B$2:$B$5001,MATCH(表格模板!C3803,设备类型!$A$2:$A$5001,0),COLUMN(A3803))","v":{"$error":"#N/A"}}]
[null,{"$f":"INDEX(建筑!$B$2:$B$5001,MATCH(表格模板!A3804,建筑!$A$2:$A$5001,0),COLUMN(A3804))","v":{"$error":"#N/A"}},null,{"$f":"INDEX(设备类型!$B$2:$B$5001,MATCH(表格模板!C3804,设备类型!$A$2:$A$5001,0),COLUMN(A3804))","v":{"$error":"#N/A"}}]
[null,{"$f":"INDEX(建筑!$B$2:$B$5001,MATCH(表格模板!A3805,建筑!$A$2:$A$5001,0),COLUMN(A3805))","v":{"$error":"#N/A"}},null,{"$f":"INDEX(设备类型!$B$2:$B$5001,MATCH(表格模板!C3805,设备类型!$A$2:$A$5001,0),COLUMN(A3805))","v":{"$error":"#N/A"}}]
[null,{"$f":"INDEX(建筑!$B$2:$B$5001,MATCH(表格模板!A3806,建筑!$A$2:$A$5001,0),COLUMN(A3806))","v":{"$error":"#N/A"}},null,{"$f":"INDEX(设备类型!$B$2:$B$5001,MATCH(表格模板!C3806,设备类型!$A$2:$A$5001,0),COLUMN(A3806))","v":{"$error":"#N/A"}}]
[null,{"$f":"INDEX(建筑!$B$2:$B$5001,MATCH(表格模板!A3807,建筑!$A$2:$A$5001,0),COLUMN(A3807))","v":{"$error":"#N/A"}},null,{"$f":"INDEX(设备类型!$B$2:$B$5001,MATCH(表格模板!C3807,设备类型!$A$2:$A$5001,0),COLUMN(A3807))","v":{"$error":"#N/A"}}]
[null,{"$f":"INDEX(建筑!$B$2:$B$5001,MATCH(表格模板!A3808,建筑!$A$2:$A$5001,0),COLUMN(A3808))","v":{"$error":"#N/A"}},null,{"$f":"INDEX(设备类型!$B$2:$B$5001,MATCH(表格模板!C3808,设备类型!$A$2:$A$5001,0),COLUMN(A3808))","v":{"$error":"#N/A"}}]
[null,{"$f":"INDEX(建筑!$B$2:$B$5001,MATCH(表格模板!A3809,建筑!$A$2:$A$5001,0),COLUMN(A3809))","v":{"$error":"#N/A"}},null,{"$f":"INDEX(设备类型!$B$2:$B$5001,MATCH(表格模板!C3809,设备类型!$A$2:$A$5001,0),COLUMN(A3809))","v":{"$error":"#N/A"}}]
[null,{"$f":"INDEX(建筑!$B$2:$B$5001,MATCH(表格模板!A3810,建筑!$A$2:$A$5001,0),COLUMN(A3810))","v":{"$error":"#N/A"}},null,{"$f":"INDEX(设备类型!$B$2:$B$5001,MATCH(表格模板!C3810,设备类型!$A$2:$A$5001,0),COLUMN(A3810))","v":{"$error":"#N/A"}}]
[null,{"$f":"INDEX(建筑!$B$2:$B$5001,MATCH(表格模板!A3811,建筑!$A$2:$A$5001,0),COLUMN(A3811))","v":{"$error":"#N/A"}},null,{"$f":"INDEX(设备类型!$B$2:$B$5001,MATCH(表格模板!C3811,设备类型!$A$2:$A$5001,0),COLUMN(A3811))","v":{"$error":"#N/A"}}]
[null,{"$f":"INDEX(建筑!$B$2:$B$5001,MATCH(表格模板!A3812,建筑!$A$2:$A$5001,0),COLUMN(A3812))","v":{"$error":"#N/A"}},null,{"$f":"INDEX(设备类型!$B$2:$B$5001,MATCH(表格模板!C3812,设备类型!$A$2:$A$5001,0),COLUMN(A3812))","v":{"$error":"#N/A"}}]
[null,{"$f":"INDEX(建筑!$B$2:$B$5001,MATCH(表格模板!A3813,建筑!$A$2:$A$5001,0),COLUMN(A3813))","v":{"$error":"#N/A"}},null,{"$f":"INDEX(设备类型!$B$2:$B$5001,MATCH(表格模板!C3813,设备类型!$A$2:$A$5001,0),COLUMN(A3813))","v":{"$error":"#N/A"}}]
[null,{"$f":"INDEX(建筑!$B$2:$B$5001,MATCH(表格模板!A3814,建筑!$A$2:$A$5001,0),COLUMN(A3814))","v":{"$error":"#N/A"}},null,{"$f":"INDEX(设备类型!$B$2:$B$5001,MATCH(表格模板!C3814,设备类型!$A$2:$A$5001,0),COLUMN(A3814))","v":{"$error":"#N/A"}}]
[null,{"$f":"INDEX(建筑!$B$2:$B$5001,MATCH(表格模板!A3815,建筑!$A$2:$A$5001,0),COLUMN(A3815))","v":{"$error":"#N/A"}},null,{"$f":"INDEX(设备类型!$B$2:$B$5001,MATCH(表格模板!C3815,设备类型!$A$2:$A$5001,0),COLUMN(A3815))","v":{"$error":"#N/A"}}]
[null,{"$f":"INDEX(建筑!$B$2:$B$5001,MATCH(表格模板!A3816,建筑!$A$2:$A$5001,0),COLUMN(A3816))","v":{"$error":"#N/A"}},null,{"$f":"INDEX(设备类型!$B$2:$B$5001,MATCH(表格模板!C3816,设备类型!$A$2:$A$5001,0),COLUMN(A3816))","v":{"$error":"#N/A"}}]
[null,{"$f":"INDEX(建筑!$B$2:$B$5001,MATCH(表格模板!A3817,建筑!$A$2:$A$5001,0),COLUMN(A3817))","v":{"$error":"#N/A"}},null,{"$f":"INDEX(设备类型!$B$2:$B$5001,MATCH(表格模板!C3817,设备类型!$A$2:$A$5001,0),COLUMN(A3817))","v":{"$error":"#N/A"}}]
[null,{"$f":"INDEX(建筑!$B$2:$B$5001,MATCH(表格模板!A3818,建筑!$A$2:$A$5001,0),COLUMN(A3818))","v":{"$error":"#N/A"}},null,{"$f":"INDEX(设备类型!$B$2:$B$5001,MATCH(表格模板!C3818,设备类型!$A$2:$A$5001,0),COLUMN(A3818))","v":{"$error":"#N/A"}}]
[null,{"$f":"INDEX(建筑!$B$2:$B$5001,MATCH(表格模板!A3819,建筑!$A$2:$A$5001,0),COLUMN(A3819))","v":{"$error":"#N/A"}},null,{"$f":"INDEX(设备类型!$B$2:$B$5001,MATCH(表格模板!C3819,设备类型!$A$2:$A$5001,0),COLUMN(A3819))","v":{"$error":"#N/A"}}]
[null,{"$f":"INDEX(建筑!$B$2:$B$5001,MATCH(表格模板!A3820,建筑!$A$2:$A$5001,0),COLUMN(A3820))","v":{"$error":"#N/A"}},null,{"$f":"INDEX(设备类型!$B$2:$B$5001,MATCH(表格模板!C3820,设备类型!$A$2:$A$5001,0),COLUMN(A3820))","v":{"$error":"#N/A"}}]
[null,{"$f":"INDEX(建筑!$B$2:$B$5001,MATCH(表格模板!A3821,建筑!$A$2:$A$5001,0),COLUMN(A3821))","v":{"$error":"#N/A"}},null,{"$f":"INDEX(设备类型!$B$2:$B$5001,MATCH(表格模板!C3821,设备类型!$A$2:$A$5001,0),COLUMN(A3821))","v":{"$error":"#N/A"}}]
[null,{"$f":"INDEX(建筑!$B$2:$B$5001,MATCH(表格模板!A3822,建筑!$A$2:$A$5001,0),COLUMN(A3822))","v":{"$error":"#N/A"}},null,{"$f":"INDEX(设备类型!$B$2:$B$5001,MATCH(表格模板!C3822,设备类型!$A$2:$A$5001,0),COLUMN(A3822))","v":{"$error":"#N/A"}}]
[null,{"$f":"INDEX(建筑!$B$2:$B$5001,MATCH(表格模板!A3823,建筑!$A$2:$A$5001,0),COLUMN(A3823))","v":{"$error":"#N/A"}},null,{"$f":"INDEX(设备类型!$B$2:$B$5001,MATCH(表格模板!C3823,设备类型!$A$2:$A$5001,0),COLUMN(A3823))","v":{"$error":"#N/A"}}]
[null,{"$f":"INDEX(建筑!$B$2:$B$5001,MATCH(表格模板!A3824,建筑!$A$2:$A$5001,0),COLUMN(A3824))","v":{"$error":"#N/A"}},null,{"$f":"INDEX(设备类型!$B$2:$B$5001,MATCH(表格模板!C3824,设备类型!$A$2:$A$5001,0),COLUMN(A3824))","v":{"$error":"#N/A"}}]
[null,{"$f":"INDEX(建筑!$B$2:$B$5001,MATCH(表格模板!A3825,建筑!$A$2:$A$5001,0),COLUMN(A3825))","v":{"$error":"#N/A"}},null,{"$f":"INDEX(设备类型!$B$2:$B$5001,MATCH(表格模板!C3825,设备类型!$A$2:$A$5001,0),COLUMN(A3825))","v":{"$error":"#N/A"}}]
[null,{"$f":"INDEX(建筑!$B$2:$B$5001,MATCH(表格模板!A3826,建筑!$A$2:$A$5001,0),COLUMN(A3826))","v":{"$error":"#N/A"}},null,{"$f":"INDEX(设备类型!$B$2:$B$5001,MATCH(表格模板!C3826,设备类型!$A$2:$A$5001,0),COLUMN(A3826))","v":{"$error":"#N/A"}}]
[null,{"$f":"INDEX(建筑!$B$2:$B$5001,MATCH(表格模板!A3827,建筑!$A$2:$A$5001,0),COLUMN(A3827))","v":{"$error":"#N/A"}},null,{"$f":"INDEX(设备类型!$B$2:$B$5001,MATCH(表格模板!C3827,设备类型!$A$2:$A$5001,0),COLUMN(A3827))","v":{"$error":"#N/A"}}]
[null,{"$f":"INDEX(建筑!$B$2:$B$5001,MATCH(表格模板!A3828,建筑!$A$2:$A$5001,0),COLUMN(A3828))","v":{"$error":"#N/A"}},null,{"$f":"INDEX(设备类型!$B$2:$B$5001,MATCH(表格模板!C3828,设备类型!$A$2:$A$5001,0),COLUMN(A3828))","v":{"$error":"#N/A"}}]
[null,{"$f":"INDEX(建筑!$B$2:$B$5001,MATCH(表格模板!A3829,建筑!$A$2:$A$5001,0),COLUMN(A3829))","v":{"$error":"#N/A"}},null,{"$f":"INDEX(设备类型!$B$2:$B$5001,MATCH(表格模板!C3829,设备类型!$A$2:$A$5001,0),COLUMN(A3829))","v":{"$error":"#N/A"}}]
[null,{"$f":"INDEX(建筑!$B$2:$B$5001,MATCH(表格模板!A3830,建筑!$A$2:$A$5001,0),COLUMN(A3830))","v":{"$error":"#N/A"}},null,{"$f":"INDEX(设备类型!$B$2:$B$5001,MATCH(表格模板!C3830,设备类型!$A$2:$A$5001,0),COLUMN(A3830))","v":{"$error":"#N/A"}}]
[null,{"$f":"INDEX(建筑!$B$2:$B$5001,MATCH(表格模板!A3831,建筑!$A$2:$A$5001,0),COLUMN(A3831))","v":{"$error":"#N/A"}},null,{"$f":"INDEX(设备类型!$B$2:$B$5001,MATCH(表格模板!C3831,设备类型!$A$2:$A$5001,0),COLUMN(A3831))","v":{"$error":"#N/A"}}]
[null,{"$f":"INDEX(建筑!$B$2:$B$5001,MATCH(表格模板!A3832,建筑!$A$2:$A$5001,0),COLUMN(A3832))","v":{"$error":"#N/A"}},null,{"$f":"INDEX(设备类型!$B$2:$B$5001,MATCH(表格模板!C3832,设备类型!$A$2:$A$5001,0),COLUMN(A3832))","v":{"$error":"#N/A"}}]
[null,{"$f":"INDEX(建筑!$B$2:$B$5001,MATCH(表格模板!A3833,建筑!$A$2:$A$5001,0),COLUMN(A3833))","v":{"$error":"#N/A"}},null,{"$f":"INDEX(设备类型!$B$2:$B$5001,MATCH(表格模板!C3833,设备类型!$A$2:$A$5001,0),COLUMN(A3833))","v":{"$error":"#N/A"}}]
[null,{"$f":"INDEX(建筑!$B$2:$B$5001,MATCH(表格模板!A3834,建筑!$A$2:$A$5001,0),COLUMN(A3834))","v":{"$error":"#N/A"}},null,{"$f":"INDEX(设备类型!$B$2:$B$5001,MATCH(表格模板!C3834,设备类型!$A$2:$A$5001,0),COLUMN(A3834))","v":{"$error":"#N/A"}}]
[null,{"$f":"INDEX(建筑!$B$2:$B$5001,MATCH(表格模板!A3835,建筑!$A$2:$A$5001,0),COLUMN(A3835))","v":{"$error":"#N/A"}},null,{"$f":"INDEX(设备类型!$B$2:$B$5001,MATCH(表格模板!C3835,设备类型!$A$2:$A$5001,0),COLUMN(A3835))","v":{"$error":"#N/A"}}]
[null,{"$f":"INDEX(建筑!$B$2:$B$5001,MATCH(表格模板!A3836,建筑!$A$2:$A$5001,0),COLUMN(A3836))","v":{"$error":"#N/A"}},null,{"$f":"INDEX(设备类型!$B$2:$B$5001,MATCH(表格模板!C3836,设备类型!$A$2:$A$5001,0),COLUMN(A3836))","v":{"$error":"#N/A"}}]
[null,{"$f":"INDEX(建筑!$B$2:$B$5001,MATCH(表格模板!A3837,建筑!$A$2:$A$5001,0),COLUMN(A3837))","v":{"$error":"#N/A"}},null,{"$f":"INDEX(设备类型!$B$2:$B$5001,MATCH(表格模板!C3837,设备类型!$A$2:$A$5001,0),COLUMN(A3837))","v":{"$error":"#N/A"}}]
[null,{"$f":"INDEX(建筑!$B$2:$B$5001,MATCH(表格模板!A3838,建筑!$A$2:$A$5001,0),COLUMN(A3838))","v":{"$error":"#N/A"}},null,{"$f":"INDEX(设备类型!$B$2:$B$5001,MATCH(表格模板!C3838,设备类型!$A$2:$A$5001,0),COLUMN(A3838))","v":{"$error":"#N/A"}}]
[null,{"$f":"INDEX(建筑!$B$2:$B$5001,MATCH(表格模板!A3839,建筑!$A$2:$A$5001,0),COLUMN(A3839))","v":{"$error":"#N/A"}},null,{"$f":"INDEX(设备类型!$B$2:$B$5001,MATCH(表格模板!C3839,设备类型!$A$2:$A$5001,0),COLUMN(A3839))","v":{"$error":"#N/A"}}]
[null,{"$f":"INDEX(建筑!$B$2:$B$5001,MATCH(表格模板!A3840,建筑!$A$2:$A$5001,0),COLUMN(A3840))","v":{"$error":"#N/A"}},null,{"$f":"INDEX(设备类型!$B$2:$B$5001,MATCH(表格模板!C3840,设备类型!$A$2:$A$5001,0),COLUMN(A3840))","v":{"$error":"#N/A"}}]
[null,{"$f":"INDEX(建筑!$B$2:$B$5001,MATCH(表格模板!A3841,建筑!$A$2:$A$5001,0),COLUMN(A3841))","v":{"$error":"#N/A"}},null,{"$f":"INDEX(设备类型!$B$2:$B$5001,MATCH(表格模板!C3841,设备类型!$A$2:$A$5001,0),COLUMN(A3841))","v":{"$error":"#N/A"}}]
[null,{"$f":"INDEX(建筑!$B$2:$B$5001,MATCH(表格模板!A3842,建筑!$A$2:$A$5001,0),COLUMN(A3842))","v":{"$error":"#N/A"}},null,{"$f":"INDEX(设备类型!$B$2:$B$5001,MATCH(表格模板!C3842,设备类型!$A$2:$A$5001,0),COLUMN(A3842))","v":{"$error":"#N/A"}}]
[null,{"$f":"INDEX(建筑!$B$2:$B$5001,MATCH(表格模板!A3843,建筑!$A$2:$A$5001,0),COLUMN(A3843))","v":{"$error":"#N/A"}},null,{"$f":"INDEX(设备类型!$B$2:$B$5001,MATCH(表格模板!C3843,设备类型!$A$2:$A$5001,0),COLUMN(A3843))","v":{"$error":"#N/A"}}]
[null,{"$f":"INDEX(建筑!$B$2:$B$5001,MATCH(表格模板!A3844,建筑!$A$2:$A$5001,0),COLUMN(A3844))","v":{"$error":"#N/A"}},null,{"$f":"INDEX(设备类型!$B$2:$B$5001,MATCH(表格模板!C3844,设备类型!$A$2:$A$5001,0),COLUMN(A3844))","v":{"$error":"#N/A"}}]
[null,{"$f":"INDEX(建筑!$B$2:$B$5001,MATCH(表格模板!A3845,建筑!$A$2:$A$5001,0),COLUMN(A3845))","v":{"$error":"#N/A"}},null,{"$f":"INDEX(设备类型!$B$2:$B$5001,MATCH(表格模板!C3845,设备类型!$A$2:$A$5001,0),COLUMN(A3845))","v":{"$error":"#N/A"}}]
[null,{"$f":"INDEX(建筑!$B$2:$B$5001,MATCH(表格模板!A3846,建筑!$A$2:$A$5001,0),COLUMN(A3846))","v":{"$error":"#N/A"}},null,{"$f":"INDEX(设备类型!$B$2:$B$5001,MATCH(表格模板!C3846,设备类型!$A$2:$A$5001,0),COLUMN(A3846))","v":{"$error":"#N/A"}}]
[null,{"$f":"INDEX(建筑!$B$2:$B$5001,MATCH(表格模板!A3847,建筑!$A$2:$A$5001,0),COLUMN(A3847))","v":{"$error":"#N/A"}},null,{"$f":"INDEX(设备类型!$B$2:$B$5001,MATCH(表格模板!C3847,设备类型!$A$2:$A$5001,0),COLUMN(A3847))","v":{"$error":"#N/A"}}]
[null,{"$f":"INDEX(建筑!$B$2:$B$5001,MATCH(表格模板!A3848,建筑!$A$2:$A$5001,0),COLUMN(A3848))","v":{"$error":"#N/A"}},null,{"$f":"INDEX(设备类型!$B$2:$B$5001,MATCH(表格模板!C3848,设备类型!$A$2:$A$5001,0),COLUMN(A3848))","v":{"$error":"#N/A"}}]
[null,{"$f":"INDEX(建筑!$B$2:$B$5001,MATCH(表格模板!A3849,建筑!$A$2:$A$5001,0),COLUMN(A3849))","v":{"$error":"#N/A"}},null,{"$f":"INDEX(设备类型!$B$2:$B$5001,MATCH(表格模板!C3849,设备类型!$A$2:$A$5001,0),COLUMN(A3849))","v":{"$error":"#N/A"}}]
[null,{"$f":"INDEX(建筑!$B$2:$B$5001,MATCH(表格模板!A3850,建筑!$A$2:$A$5001,0),COLUMN(A3850))","v":{"$error":"#N/A"}},null,{"$f":"INDEX(设备类型!$B$2:$B$5001,MATCH(表格模板!C3850,设备类型!$A$2:$A$5001,0),COLUMN(A3850))","v":{"$error":"#N/A"}}]
[null,{"$f":"INDEX(建筑!$B$2:$B$5001,MATCH(表格模板!A3851,建筑!$A$2:$A$5001,0),COLUMN(A3851))","v":{"$error":"#N/A"}},null,{"$f":"INDEX(设备类型!$B$2:$B$5001,MATCH(表格模板!C3851,设备类型!$A$2:$A$5001,0),COLUMN(A3851))","v":{"$error":"#N/A"}}]
[null,{"$f":"INDEX(建筑!$B$2:$B$5001,MATCH(表格模板!A3852,建筑!$A$2:$A$5001,0),COLUMN(A3852))","v":{"$error":"#N/A"}},null,{"$f":"INDEX(设备类型!$B$2:$B$5001,MATCH(表格模板!C3852,设备类型!$A$2:$A$5001,0),COLUMN(A3852))","v":{"$error":"#N/A"}}]
[null,{"$f":"INDEX(建筑!$B$2:$B$5001,MATCH(表格模板!A3853,建筑!$A$2:$A$5001,0),COLUMN(A3853))","v":{"$error":"#N/A"}},null,{"$f":"INDEX(设备类型!$B$2:$B$5001,MATCH(表格模板!C3853,设备类型!$A$2:$A$5001,0),COLUMN(A3853))","v":{"$error":"#N/A"}}]
[null,{"$f":"INDEX(建筑!$B$2:$B$5001,MATCH(表格模板!A3854,建筑!$A$2:$A$5001,0),COLUMN(A3854))","v":{"$error":"#N/A"}},null,{"$f":"INDEX(设备类型!$B$2:$B$5001,MATCH(表格模板!C3854,设备类型!$A$2:$A$5001,0),COLUMN(A3854))","v":{"$error":"#N/A"}}]
[null,{"$f":"INDEX(建筑!$B$2:$B$5001,MATCH(表格模板!A3855,建筑!$A$2:$A$5001,0),COLUMN(A3855))","v":{"$error":"#N/A"}},null,{"$f":"INDEX(设备类型!$B$2:$B$5001,MATCH(表格模板!C3855,设备类型!$A$2:$A$5001,0),COLUMN(A3855))","v":{"$error":"#N/A"}}]
[null,{"$f":"INDEX(建筑!$B$2:$B$5001,MATCH(表格模板!A3856,建筑!$A$2:$A$5001,0),COLUMN(A3856))","v":{"$error":"#N/A"}},null,{"$f":"INDEX(设备类型!$B$2:$B$5001,MATCH(表格模板!C3856,设备类型!$A$2:$A$5001,0),COLUMN(A3856))","v":{"$error":"#N/A"}}]
[null,{"$f":"INDEX(建筑!$B$2:$B$5001,MATCH(表格模板!A3857,建筑!$A$2:$A$5001,0),COLUMN(A3857))","v":{"$error":"#N/A"}},null,{"$f":"INDEX(设备类型!$B$2:$B$5001,MATCH(表格模板!C3857,设备类型!$A$2:$A$5001,0),COLUMN(A3857))","v":{"$error":"#N/A"}}]
[null,{"$f":"INDEX(建筑!$B$2:$B$5001,MATCH(表格模板!A3858,建筑!$A$2:$A$5001,0),COLUMN(A3858))","v":{"$error":"#N/A"}},null,{"$f":"INDEX(设备类型!$B$2:$B$5001,MATCH(表格模板!C3858,设备类型!$A$2:$A$5001,0),COLUMN(A3858))","v":{"$error":"#N/A"}}]
[null,{"$f":"INDEX(建筑!$B$2:$B$5001,MATCH(表格模板!A3859,建筑!$A$2:$A$5001,0),COLUMN(A3859))","v":{"$error":"#N/A"}},null,{"$f":"INDEX(设备类型!$B$2:$B$5001,MATCH(表格模板!C3859,设备类型!$A$2:$A$5001,0),COLUMN(A3859))","v":{"$error":"#N/A"}}]
[null,{"$f":"INDEX(建筑!$B$2:$B$5001,MATCH(表格模板!A3860,建筑!$A$2:$A$5001,0),COLUMN(A3860))","v":{"$error":"#N/A"}},null,{"$f":"INDEX(设备类型!$B$2:$B$5001,MATCH(表格模板!C3860,设备类型!$A$2:$A$5001,0),COLUMN(A3860))","v":{"$error":"#N/A"}}]
[null,{"$f":"INDEX(建筑!$B$2:$B$5001,MATCH(表格模板!A3861,建筑!$A$2:$A$5001,0),COLUMN(A3861))","v":{"$error":"#N/A"}},null,{"$f":"INDEX(设备类型!$B$2:$B$5001,MATCH(表格模板!C3861,设备类型!$A$2:$A$5001,0),COLUMN(A3861))","v":{"$error":"#N/A"}}]
[null,{"$f":"INDEX(建筑!$B$2:$B$5001,MATCH(表格模板!A3862,建筑!$A$2:$A$5001,0),COLUMN(A3862))","v":{"$error":"#N/A"}},null,{"$f":"INDEX(设备类型!$B$2:$B$5001,MATCH(表格模板!C3862,设备类型!$A$2:$A$5001,0),COLUMN(A3862))","v":{"$error":"#N/A"}}]
[null,{"$f":"INDEX(建筑!$B$2:$B$5001,MATCH(表格模板!A3863,建筑!$A$2:$A$5001,0),COLUMN(A3863))","v":{"$error":"#N/A"}},null,{"$f":"INDEX(设备类型!$B$2:$B$5001,MATCH(表格模板!C3863,设备类型!$A$2:$A$5001,0),COLUMN(A3863))","v":{"$error":"#N/A"}}]
[null,{"$f":"INDEX(建筑!$B$2:$B$5001,MATCH(表格模板!A3864,建筑!$A$2:$A$5001,0),COLUMN(A3864))","v":{"$error":"#N/A"}},null,{"$f":"INDEX(设备类型!$B$2:$B$5001,MATCH(表格模板!C3864,设备类型!$A$2:$A$5001,0),COLUMN(A3864))","v":{"$error":"#N/A"}}]
[null,{"$f":"INDEX(建筑!$B$2:$B$5001,MATCH(表格模板!A3865,建筑!$A$2:$A$5001,0),COLUMN(A3865))","v":{"$error":"#N/A"}},null,{"$f":"INDEX(设备类型!$B$2:$B$5001,MATCH(表格模板!C3865,设备类型!$A$2:$A$5001,0),COLUMN(A3865))","v":{"$error":"#N/A"}}]
[null,{"$f":"INDEX(建筑!$B$2:$B$5001,MATCH(表格模板!A3866,建筑!$A$2:$A$5001,0),COLUMN(A3866))","v":{"$error":"#N/A"}},null,{"$f":"INDEX(设备类型!$B$2:$B$5001,MATCH(表格模板!C3866,设备类型!$A$2:$A$5001,0),COLUMN(A3866))","v":{"$error":"#N/A"}}]
[null,{"$f":"INDEX(建筑!$B$2:$B$5001,MATCH(表格模板!A3867,建筑!$A$2:$A$5001,0),COLUMN(A3867))","v":{"$error":"#N/A"}},null,{"$f":"INDEX(设备类型!$B$2:$B$5001,MATCH(表格模板!C3867,设备类型!$A$2:$A$5001,0),COLUMN(A3867))","v":{"$error":"#N/A"}}]
[null,{"$f":"INDEX(建筑!$B$2:$B$5001,MATCH(表格模板!A3868,建筑!$A$2:$A$5001,0),COLUMN(A3868))","v":{"$error":"#N/A"}},null,{"$f":"INDEX(设备类型!$B$2:$B$5001,MATCH(表格模板!C3868,设备类型!$A$2:$A$5001,0),COLUMN(A3868))","v":{"$error":"#N/A"}}]
[null,{"$f":"INDEX(建筑!$B$2:$B$5001,MATCH(表格模板!A3869,建筑!$A$2:$A$5001,0),COLUMN(A3869))","v":{"$error":"#N/A"}},null,{"$f":"INDEX(设备类型!$B$2:$B$5001,MATCH(表格模板!C3869,设备类型!$A$2:$A$5001,0),COLUMN(A3869))","v":{"$error":"#N/A"}}]
[null,{"$f":"INDEX(建筑!$B$2:$B$5001,MATCH(表格模板!A3870,建筑!$A$2:$A$5001,0),COLUMN(A3870))","v":{"$error":"#N/A"}},null,{"$f":"INDEX(设备类型!$B$2:$B$5001,MATCH(表格模板!C3870,设备类型!$A$2:$A$5001,0),COLUMN(A3870))","v":{"$error":"#N/A"}}]
[null,{"$f":"INDEX(建筑!$B$2:$B$5001,MATCH(表格模板!A3871,建筑!$A$2:$A$5001,0),COLUMN(A3871))","v":{"$error":"#N/A"}},null,{"$f":"INDEX(设备类型!$B$2:$B$5001,MATCH(表格模板!C3871,设备类型!$A$2:$A$5001,0),COLUMN(A3871))","v":{"$error":"#N/A"}}]
[null,{"$f":"INDEX(建筑!$B$2:$B$5001,MATCH(表格模板!A3872,建筑!$A$2:$A$5001,0),COLUMN(A3872))","v":{"$error":"#N/A"}},null,{"$f":"INDEX(设备类型!$B$2:$B$5001,MATCH(表格模板!C3872,设备类型!$A$2:$A$5001,0),COLUMN(A3872))","v":{"$error":"#N/A"}}]
[null,{"$f":"INDEX(建筑!$B$2:$B$5001,MATCH(表格模板!A3873,建筑!$A$2:$A$5001,0),COLUMN(A3873))","v":{"$error":"#N/A"}},null,{"$f":"INDEX(设备类型!$B$2:$B$5001,MATCH(表格模板!C3873,设备类型!$A$2:$A$5001,0),COLUMN(A3873))","v":{"$error":"#N/A"}}]
[null,{"$f":"INDEX(建筑!$B$2:$B$5001,MATCH(表格模板!A3874,建筑!$A$2:$A$5001,0),COLUMN(A3874))","v":{"$error":"#N/A"}},null,{"$f":"INDEX(设备类型!$B$2:$B$5001,MATCH(表格模板!C3874,设备类型!$A$2:$A$5001,0),COLUMN(A3874))","v":{"$error":"#N/A"}}]
[null,{"$f":"INDEX(建筑!$B$2:$B$5001,MATCH(表格模板!A3875,建筑!$A$2:$A$5001,0),COLUMN(A3875))","v":{"$error":"#N/A"}},null,{"$f":"INDEX(设备类型!$B$2:$B$5001,MATCH(表格模板!C3875,设备类型!$A$2:$A$5001,0),COLUMN(A3875))","v":{"$error":"#N/A"}}]
[null,{"$f":"INDEX(建筑!$B$2:$B$5001,MATCH(表格模板!A3876,建筑!$A$2:$A$5001,0),COLUMN(A3876))","v":{"$error":"#N/A"}},null,{"$f":"INDEX(设备类型!$B$2:$B$5001,MATCH(表格模板!C3876,设备类型!$A$2:$A$5001,0),COLUMN(A3876))","v":{"$error":"#N/A"}}]
[null,{"$f":"INDEX(建筑!$B$2:$B$5001,MATCH(表格模板!A3877,建筑!$A$2:$A$5001,0),COLUMN(A3877))","v":{"$error":"#N/A"}},null,{"$f":"INDEX(设备类型!$B$2:$B$5001,MATCH(表格模板!C3877,设备类型!$A$2:$A$5001,0),COLUMN(A3877))","v":{"$error":"#N/A"}}]
[null,{"$f":"INDEX(建筑!$B$2:$B$5001,MATCH(表格模板!A3878,建筑!$A$2:$A$5001,0),COLUMN(A3878))","v":{"$error":"#N/A"}},null,{"$f":"INDEX(设备类型!$B$2:$B$5001,MATCH(表格模板!C3878,设备类型!$A$2:$A$5001,0),COLUMN(A3878))","v":{"$error":"#N/A"}}]
[null,{"$f":"INDEX(建筑!$B$2:$B$5001,MATCH(表格模板!A3879,建筑!$A$2:$A$5001,0),COLUMN(A3879))","v":{"$error":"#N/A"}},null,{"$f":"INDEX(设备类型!$B$2:$B$5001,MATCH(表格模板!C3879,设备类型!$A$2:$A$5001,0),COLUMN(A3879))","v":{"$error":"#N/A"}}]
[null,{"$f":"INDEX(建筑!$B$2:$B$5001,MATCH(表格模板!A3880,建筑!$A$2:$A$5001,0),COLUMN(A3880))","v":{"$error":"#N/A"}},null,{"$f":"INDEX(设备类型!$B$2:$B$5001,MATCH(表格模板!C3880,设备类型!$A$2:$A$5001,0),COLUMN(A3880))","v":{"$error":"#N/A"}}]
[null,{"$f":"INDEX(建筑!$B$2:$B$5001,MATCH(表格模板!A3881,建筑!$A$2:$A$5001,0),COLUMN(A3881))","v":{"$error":"#N/A"}},null,{"$f":"INDEX(设备类型!$B$2:$B$5001,MATCH(表格模板!C3881,设备类型!$A$2:$A$5001,0),COLUMN(A3881))","v":{"$error":"#N/A"}}]
[null,{"$f":"INDEX(建筑!$B$2:$B$5001,MATCH(表格模板!A3882,建筑!$A$2:$A$5001,0),COLUMN(A3882))","v":{"$error":"#N/A"}},null,{"$f":"INDEX(设备类型!$B$2:$B$5001,MATCH(表格模板!C3882,设备类型!$A$2:$A$5001,0),COLUMN(A3882))","v":{"$error":"#N/A"}}]
[null,{"$f":"INDEX(建筑!$B$2:$B$5001,MATCH(表格模板!A3883,建筑!$A$2:$A$5001,0),COLUMN(A3883))","v":{"$error":"#N/A"}},null,{"$f":"INDEX(设备类型!$B$2:$B$5001,MATCH(表格模板!C3883,设备类型!$A$2:$A$5001,0),COLUMN(A3883))","v":{"$error":"#N/A"}}]
[null,{"$f":"INDEX(建筑!$B$2:$B$5001,MATCH(表格模板!A3884,建筑!$A$2:$A$5001,0),COLUMN(A3884))","v":{"$error":"#N/A"}},null,{"$f":"INDEX(设备类型!$B$2:$B$5001,MATCH(表格模板!C3884,设备类型!$A$2:$A$5001,0),COLUMN(A3884))","v":{"$error":"#N/A"}}]
[null,{"$f":"INDEX(建筑!$B$2:$B$5001,MATCH(表格模板!A3885,建筑!$A$2:$A$5001,0),COLUMN(A3885))","v":{"$error":"#N/A"}},null,{"$f":"INDEX(设备类型!$B$2:$B$5001,MATCH(表格模板!C3885,设备类型!$A$2:$A$5001,0),COLUMN(A3885))","v":{"$error":"#N/A"}}]
[null,{"$f":"INDEX(建筑!$B$2:$B$5001,MATCH(表格模板!A3886,建筑!$A$2:$A$5001,0),COLUMN(A3886))","v":{"$error":"#N/A"}},null,{"$f":"INDEX(设备类型!$B$2:$B$5001,MATCH(表格模板!C3886,设备类型!$A$2:$A$5001,0),COLUMN(A3886))","v":{"$error":"#N/A"}}]
[null,{"$f":"INDEX(建筑!$B$2:$B$5001,MATCH(表格模板!A3887,建筑!$A$2:$A$5001,0),COLUMN(A3887))","v":{"$error":"#N/A"}},null,{"$f":"INDEX(设备类型!$B$2:$B$5001,MATCH(表格模板!C3887,设备类型!$A$2:$A$5001,0),COLUMN(A3887))","v":{"$error":"#N/A"}}]
[null,{"$f":"INDEX(建筑!$B$2:$B$5001,MATCH(表格模板!A3888,建筑!$A$2:$A$5001,0),COLUMN(A3888))","v":{"$error":"#N/A"}},null,{"$f":"INDEX(设备类型!$B$2:$B$5001,MATCH(表格模板!C3888,设备类型!$A$2:$A$5001,0),COLUMN(A3888))","v":{"$error":"#N/A"}}]
[null,{"$f":"INDEX(建筑!$B$2:$B$5001,MATCH(表格模板!A3889,建筑!$A$2:$A$5001,0),COLUMN(A3889))","v":{"$error":"#N/A"}},null,{"$f":"INDEX(设备类型!$B$2:$B$5001,MATCH(表格模板!C3889,设备类型!$A$2:$A$5001,0),COLUMN(A3889))","v":{"$error":"#N/A"}}]
[null,{"$f":"INDEX(建筑!$B$2:$B$5001,MATCH(表格模板!A3890,建筑!$A$2:$A$5001,0),COLUMN(A3890))","v":{"$error":"#N/A"}},null,{"$f":"INDEX(设备类型!$B$2:$B$5001,MATCH(表格模板!C3890,设备类型!$A$2:$A$5001,0),COLUMN(A3890))","v":{"$error":"#N/A"}}]
[null,{"$f":"INDEX(建筑!$B$2:$B$5001,MATCH(表格模板!A3891,建筑!$A$2:$A$5001,0),COLUMN(A3891))","v":{"$error":"#N/A"}},null,{"$f":"INDEX(设备类型!$B$2:$B$5001,MATCH(表格模板!C3891,设备类型!$A$2:$A$5001,0),COLUMN(A3891))","v":{"$error":"#N/A"}}]
[null,{"$f":"INDEX(建筑!$B$2:$B$5001,MATCH(表格模板!A3892,建筑!$A$2:$A$5001,0),COLUMN(A3892))","v":{"$error":"#N/A"}},null,{"$f":"INDEX(设备类型!$B$2:$B$5001,MATCH(表格模板!C3892,设备类型!$A$2:$A$5001,0),COLUMN(A3892))","v":{"$error":"#N/A"}}]
[null,{"$f":"INDEX(建筑!$B$2:$B$5001,MATCH(表格模板!A3893,建筑!$A$2:$A$5001,0),COLUMN(A3893))","v":{"$error":"#N/A"}},null,{"$f":"INDEX(设备类型!$B$2:$B$5001,MATCH(表格模板!C3893,设备类型!$A$2:$A$5001,0),COLUMN(A3893))","v":{"$error":"#N/A"}}]
[null,{"$f":"INDEX(建筑!$B$2:$B$5001,MATCH(表格模板!A3894,建筑!$A$2:$A$5001,0),COLUMN(A3894))","v":{"$error":"#N/A"}},null,{"$f":"INDEX(设备类型!$B$2:$B$5001,MATCH(表格模板!C3894,设备类型!$A$2:$A$5001,0),COLUMN(A3894))","v":{"$error":"#N/A"}}]
[null,{"$f":"INDEX(建筑!$B$2:$B$5001,MATCH(表格模板!A3895,建筑!$A$2:$A$5001,0),COLUMN(A3895))","v":{"$error":"#N/A"}},null,{"$f":"INDEX(设备类型!$B$2:$B$5001,MATCH(表格模板!C3895,设备类型!$A$2:$A$5001,0),COLUMN(A3895))","v":{"$error":"#N/A"}}]
[null,{"$f":"INDEX(建筑!$B$2:$B$5001,MATCH(表格模板!A3896,建筑!$A$2:$A$5001,0),COLUMN(A3896))","v":{"$error":"#N/A"}},null,{"$f":"INDEX(设备类型!$B$2:$B$5001,MATCH(表格模板!C3896,设备类型!$A$2:$A$5001,0),COLUMN(A3896))","v":{"$error":"#N/A"}}]
[null,{"$f":"INDEX(建筑!$B$2:$B$5001,MATCH(表格模板!A3897,建筑!$A$2:$A$5001,0),COLUMN(A3897))","v":{"$error":"#N/A"}},null,{"$f":"INDEX(设备类型!$B$2:$B$5001,MATCH(表格模板!C3897,设备类型!$A$2:$A$5001,0),COLUMN(A3897))","v":{"$error":"#N/A"}}]
[null,{"$f":"INDEX(建筑!$B$2:$B$5001,MATCH(表格模板!A3898,建筑!$A$2:$A$5001,0),COLUMN(A3898))","v":{"$error":"#N/A"}},null,{"$f":"INDEX(设备类型!$B$2:$B$5001,MATCH(表格模板!C3898,设备类型!$A$2:$A$5001,0),COLUMN(A3898))","v":{"$error":"#N/A"}}]
[null,{"$f":"INDEX(建筑!$B$2:$B$5001,MATCH(表格模板!A3899,建筑!$A$2:$A$5001,0),COLUMN(A3899))","v":{"$error":"#N/A"}},null,{"$f":"INDEX(设备类型!$B$2:$B$5001,MATCH(表格模板!C3899,设备类型!$A$2:$A$5001,0),COLUMN(A3899))","v":{"$error":"#N/A"}}]
[null,{"$f":"INDEX(建筑!$B$2:$B$5001,MATCH(表格模板!A3900,建筑!$A$2:$A$5001,0),COLUMN(A3900))","v":{"$error":"#N/A"}},null,{"$f":"INDEX(设备类型!$B$2:$B$5001,MATCH(表格模板!C3900,设备类型!$A$2:$A$5001,0),COLUMN(A3900))","v":{"$error":"#N/A"}}]
[null,{"$f":"INDEX(建筑!$B$2:$B$5001,MATCH(表格模板!A3901,建筑!$A$2:$A$5001,0),COLUMN(A3901))","v":{"$error":"#N/A"}},null,{"$f":"INDEX(设备类型!$B$2:$B$5001,MATCH(表格模板!C3901,设备类型!$A$2:$A$5001,0),COLUMN(A3901))","v":{"$error":"#N/A"}}]
[null,{"$f":"INDEX(建筑!$B$2:$B$5001,MATCH(表格模板!A3902,建筑!$A$2:$A$5001,0),COLUMN(A3902))","v":{"$error":"#N/A"}},null,{"$f":"INDEX(设备类型!$B$2:$B$5001,MATCH(表格模板!C3902,设备类型!$A$2:$A$5001,0),COLUMN(A3902))","v":{"$error":"#N/A"}}]
[null,{"$f":"INDEX(建筑!$B$2:$B$5001,MATCH(表格模板!A3903,建筑!$A$2:$A$5001,0),COLUMN(A3903))","v":{"$error":"#N/A"}},null,{"$f":"INDEX(设备类型!$B$2:$B$5001,MATCH(表格模板!C3903,设备类型!$A$2:$A$5001,0),COLUMN(A3903))","v":{"$error":"#N/A"}}]
[null,{"$f":"INDEX(建筑!$B$2:$B$5001,MATCH(表格模板!A3904,建筑!$A$2:$A$5001,0),COLUMN(A3904))","v":{"$error":"#N/A"}},null,{"$f":"INDEX(设备类型!$B$2:$B$5001,MATCH(表格模板!C3904,设备类型!$A$2:$A$5001,0),COLUMN(A3904))","v":{"$error":"#N/A"}}]
[null,{"$f":"INDEX(建筑!$B$2:$B$5001,MATCH(表格模板!A3905,建筑!$A$2:$A$5001,0),COLUMN(A3905))","v":{"$error":"#N/A"}},null,{"$f":"INDEX(设备类型!$B$2:$B$5001,MATCH(表格模板!C3905,设备类型!$A$2:$A$5001,0),COLUMN(A3905))","v":{"$error":"#N/A"}}]
[null,{"$f":"INDEX(建筑!$B$2:$B$5001,MATCH(表格模板!A3906,建筑!$A$2:$A$5001,0),COLUMN(A3906))","v":{"$error":"#N/A"}},null,{"$f":"INDEX(设备类型!$B$2:$B$5001,MATCH(表格模板!C3906,设备类型!$A$2:$A$5001,0),COLUMN(A3906))","v":{"$error":"#N/A"}}]
[null,{"$f":"INDEX(建筑!$B$2:$B$5001,MATCH(表格模板!A3907,建筑!$A$2:$A$5001,0),COLUMN(A3907))","v":{"$error":"#N/A"}},null,{"$f":"INDEX(设备类型!$B$2:$B$5001,MATCH(表格模板!C3907,设备类型!$A$2:$A$5001,0),COLUMN(A3907))","v":{"$error":"#N/A"}}]
[null,{"$f":"INDEX(建筑!$B$2:$B$5001,MATCH(表格模板!A3908,建筑!$A$2:$A$5001,0),COLUMN(A3908))","v":{"$error":"#N/A"}},null,{"$f":"INDEX(设备类型!$B$2:$B$5001,MATCH(表格模板!C3908,设备类型!$A$2:$A$5001,0),COLUMN(A3908))","v":{"$error":"#N/A"}}]
[null,{"$f":"INDEX(建筑!$B$2:$B$5001,MATCH(表格模板!A3909,建筑!$A$2:$A$5001,0),COLUMN(A3909))","v":{"$error":"#N/A"}},null,{"$f":"INDEX(设备类型!$B$2:$B$5001,MATCH(表格模板!C3909,设备类型!$A$2:$A$5001,0),COLUMN(A3909))","v":{"$error":"#N/A"}}]
[null,{"$f":"INDEX(建筑!$B$2:$B$5001,MATCH(表格模板!A3910,建筑!$A$2:$A$5001,0),COLUMN(A3910))","v":{"$error":"#N/A"}},null,{"$f":"INDEX(设备类型!$B$2:$B$5001,MATCH(表格模板!C3910,设备类型!$A$2:$A$5001,0),COLUMN(A3910))","v":{"$error":"#N/A"}}]
[null,{"$f":"INDEX(建筑!$B$2:$B$5001,MATCH(表格模板!A3911,建筑!$A$2:$A$5001,0),COLUMN(A3911))","v":{"$error":"#N/A"}},null,{"$f":"INDEX(设备类型!$B$2:$B$5001,MATCH(表格模板!C3911,设备类型!$A$2:$A$5001,0),COLUMN(A3911))","v":{"$error":"#N/A"}}]
[null,{"$f":"INDEX(建筑!$B$2:$B$5001,MATCH(表格模板!A3912,建筑!$A$2:$A$5001,0),COLUMN(A3912))","v":{"$error":"#N/A"}},null,{"$f":"INDEX(设备类型!$B$2:$B$5001,MATCH(表格模板!C3912,设备类型!$A$2:$A$5001,0),COLUMN(A3912))","v":{"$error":"#N/A"}}]
[null,{"$f":"INDEX(建筑!$B$2:$B$5001,MATCH(表格模板!A3913,建筑!$A$2:$A$5001,0),COLUMN(A3913))","v":{"$error":"#N/A"}},null,{"$f":"INDEX(设备类型!$B$2:$B$5001,MATCH(表格模板!C3913,设备类型!$A$2:$A$5001,0),COLUMN(A3913))","v":{"$error":"#N/A"}}]
[null,{"$f":"INDEX(建筑!$B$2:$B$5001,MATCH(表格模板!A3914,建筑!$A$2:$A$5001,0),COLUMN(A3914))","v":{"$error":"#N/A"}},null,{"$f":"INDEX(设备类型!$B$2:$B$5001,MATCH(表格模板!C3914,设备类型!$A$2:$A$5001,0),COLUMN(A3914))","v":{"$error":"#N/A"}}]
[null,{"$f":"INDEX(建筑!$B$2:$B$5001,MATCH(表格模板!A3915,建筑!$A$2:$A$5001,0),COLUMN(A3915))","v":{"$error":"#N/A"}},null,{"$f":"INDEX(设备类型!$B$2:$B$5001,MATCH(表格模板!C3915,设备类型!$A$2:$A$5001,0),COLUMN(A3915))","v":{"$error":"#N/A"}}]
[null,{"$f":"INDEX(建筑!$B$2:$B$5001,MATCH(表格模板!A3916,建筑!$A$2:$A$5001,0),COLUMN(A3916))","v":{"$error":"#N/A"}},null,{"$f":"INDEX(设备类型!$B$2:$B$5001,MATCH(表格模板!C3916,设备类型!$A$2:$A$5001,0),COLUMN(A3916))","v":{"$error":"#N/A"}}]
[null,{"$f":"INDEX(建筑!$B$2:$B$5001,MATCH(表格模板!A3917,建筑!$A$2:$A$5001,0),COLUMN(A3917))","v":{"$error":"#N/A"}},null,{"$f":"INDEX(设备类型!$B$2:$B$5001,MATCH(表格模板!C3917,设备类型!$A$2:$A$5001,0),COLUMN(A3917))","v":{"$error":"#N/A"}}]
[null,{"$f":"INDEX(建筑!$B$2:$B$5001,MATCH(表格模板!A3918,建筑!$A$2:$A$5001,0),COLUMN(A3918))","v":{"$error":"#N/A"}},null,{"$f":"INDEX(设备类型!$B$2:$B$5001,MATCH(表格模板!C3918,设备类型!$A$2:$A$5001,0),COLUMN(A3918))","v":{"$error":"#N/A"}}]
[null,{"$f":"INDEX(建筑!$B$2:$B$5001,MATCH(表格模板!A3919,建筑!$A$2:$A$5001,0),COLUMN(A3919))","v":{"$error":"#N/A"}},null,{"$f":"INDEX(设备类型!$B$2:$B$5001,MATCH(表格模板!C3919,设备类型!$A$2:$A$5001,0),COLUMN(A3919))","v":{"$error":"#N/A"}}]
[null,{"$f":"INDEX(建筑!$B$2:$B$5001,MATCH(表格模板!A3920,建筑!$A$2:$A$5001,0),COLUMN(A3920))","v":{"$error":"#N/A"}},null,{"$f":"INDEX(设备类型!$B$2:$B$5001,MATCH(表格模板!C3920,设备类型!$A$2:$A$5001,0),COLUMN(A3920))","v":{"$error":"#N/A"}}]
[null,{"$f":"INDEX(建筑!$B$2:$B$5001,MATCH(表格模板!A3921,建筑!$A$2:$A$5001,0),COLUMN(A3921))","v":{"$error":"#N/A"}},null,{"$f":"INDEX(设备类型!$B$2:$B$5001,MATCH(表格模板!C3921,设备类型!$A$2:$A$5001,0),COLUMN(A3921))","v":{"$error":"#N/A"}}]
[null,{"$f":"INDEX(建筑!$B$2:$B$5001,MATCH(表格模板!A3922,建筑!$A$2:$A$5001,0),COLUMN(A3922))","v":{"$error":"#N/A"}},null,{"$f":"INDEX(设备类型!$B$2:$B$5001,MATCH(表格模板!C3922,设备类型!$A$2:$A$5001,0),COLUMN(A3922))","v":{"$error":"#N/A"}}]
[null,{"$f":"INDEX(建筑!$B$2:$B$5001,MATCH(表格模板!A3923,建筑!$A$2:$A$5001,0),COLUMN(A3923))","v":{"$error":"#N/A"}},null,{"$f":"INDEX(设备类型!$B$2:$B$5001,MATCH(表格模板!C3923,设备类型!$A$2:$A$5001,0),COLUMN(A3923))","v":{"$error":"#N/A"}}]
[null,{"$f":"INDEX(建筑!$B$2:$B$5001,MATCH(表格模板!A3924,建筑!$A$2:$A$5001,0),COLUMN(A3924))","v":{"$error":"#N/A"}},null,{"$f":"INDEX(设备类型!$B$2:$B$5001,MATCH(表格模板!C3924,设备类型!$A$2:$A$5001,0),COLUMN(A3924))","v":{"$error":"#N/A"}}]
[null,{"$f":"INDEX(建筑!$B$2:$B$5001,MATCH(表格模板!A3925,建筑!$A$2:$A$5001,0),COLUMN(A3925))","v":{"$error":"#N/A"}},null,{"$f":"INDEX(设备类型!$B$2:$B$5001,MATCH(表格模板!C3925,设备类型!$A$2:$A$5001,0),COLUMN(A3925))","v":{"$error":"#N/A"}}]
[null,{"$f":"INDEX(建筑!$B$2:$B$5001,MATCH(表格模板!A3926,建筑!$A$2:$A$5001,0),COLUMN(A3926))","v":{"$error":"#N/A"}},null,{"$f":"INDEX(设备类型!$B$2:$B$5001,MATCH(表格模板!C3926,设备类型!$A$2:$A$5001,0),COLUMN(A3926))","v":{"$error":"#N/A"}}]
[null,{"$f":"INDEX(建筑!$B$2:$B$5001,MATCH(表格模板!A3927,建筑!$A$2:$A$5001,0),COLUMN(A3927))","v":{"$error":"#N/A"}},null,{"$f":"INDEX(设备类型!$B$2:$B$5001,MATCH(表格模板!C3927,设备类型!$A$2:$A$5001,0),COLUMN(A3927))","v":{"$error":"#N/A"}}]
[null,{"$f":"INDEX(建筑!$B$2:$B$5001,MATCH(表格模板!A3928,建筑!$A$2:$A$5001,0),COLUMN(A3928))","v":{"$error":"#N/A"}},null,{"$f":"INDEX(设备类型!$B$2:$B$5001,MATCH(表格模板!C3928,设备类型!$A$2:$A$5001,0),COLUMN(A3928))","v":{"$error":"#N/A"}}]
[null,{"$f":"INDEX(建筑!$B$2:$B$5001,MATCH(表格模板!A3929,建筑!$A$2:$A$5001,0),COLUMN(A3929))","v":{"$error":"#N/A"}},null,{"$f":"INDEX(设备类型!$B$2:$B$5001,MATCH(表格模板!C3929,设备类型!$A$2:$A$5001,0),COLUMN(A3929))","v":{"$error":"#N/A"}}]
[null,{"$f":"INDEX(建筑!$B$2:$B$5001,MATCH(表格模板!A3930,建筑!$A$2:$A$5001,0),COLUMN(A3930))","v":{"$error":"#N/A"}},null,{"$f":"INDEX(设备类型!$B$2:$B$5001,MATCH(表格模板!C3930,设备类型!$A$2:$A$5001,0),COLUMN(A3930))","v":{"$error":"#N/A"}}]
[null,{"$f":"INDEX(建筑!$B$2:$B$5001,MATCH(表格模板!A3931,建筑!$A$2:$A$5001,0),COLUMN(A3931))","v":{"$error":"#N/A"}},null,{"$f":"INDEX(设备类型!$B$2:$B$5001,MATCH(表格模板!C3931,设备类型!$A$2:$A$5001,0),COLUMN(A3931))","v":{"$error":"#N/A"}}]
[null,{"$f":"INDEX(建筑!$B$2:$B$5001,MATCH(表格模板!A3932,建筑!$A$2:$A$5001,0),COLUMN(A3932))","v":{"$error":"#N/A"}},null,{"$f":"INDEX(设备类型!$B$2:$B$5001,MATCH(表格模板!C3932,设备类型!$A$2:$A$5001,0),COLUMN(A3932))","v":{"$error":"#N/A"}}]
[null,{"$f":"INDEX(建筑!$B$2:$B$5001,MATCH(表格模板!A3933,建筑!$A$2:$A$5001,0),COLUMN(A3933))","v":{"$error":"#N/A"}},null,{"$f":"INDEX(设备类型!$B$2:$B$5001,MATCH(表格模板!C3933,设备类型!$A$2:$A$5001,0),COLUMN(A3933))","v":{"$error":"#N/A"}}]
[null,{"$f":"INDEX(建筑!$B$2:$B$5001,MATCH(表格模板!A3934,建筑!$A$2:$A$5001,0),COLUMN(A3934))","v":{"$error":"#N/A"}},null,{"$f":"INDEX(设备类型!$B$2:$B$5001,MATCH(表格模板!C3934,设备类型!$A$2:$A$5001,0),COLUMN(A3934))","v":{"$error":"#N/A"}}]
[null,{"$f":"INDEX(建筑!$B$2:$B$5001,MATCH(表格模板!A3935,建筑!$A$2:$A$5001,0),COLUMN(A3935))","v":{"$error":"#N/A"}},null,{"$f":"INDEX(设备类型!$B$2:$B$5001,MATCH(表格模板!C3935,设备类型!$A$2:$A$5001,0),COLUMN(A3935))","v":{"$error":"#N/A"}}]
[null,{"$f":"INDEX(建筑!$B$2:$B$5001,MATCH(表格模板!A3936,建筑!$A$2:$A$5001,0),COLUMN(A3936))","v":{"$error":"#N/A"}},null,{"$f":"INDEX(设备类型!$B$2:$B$5001,MATCH(表格模板!C3936,设备类型!$A$2:$A$5001,0),COLUMN(A3936))","v":{"$error":"#N/A"}}]
[null,{"$f":"INDEX(建筑!$B$2:$B$5001,MATCH(表格模板!A3937,建筑!$A$2:$A$5001,0),COLUMN(A3937))","v":{"$error":"#N/A"}},null,{"$f":"INDEX(设备类型!$B$2:$B$5001,MATCH(表格模板!C3937,设备类型!$A$2:$A$5001,0),COLUMN(A3937))","v":{"$error":"#N/A"}}]
[null,{"$f":"INDEX(建筑!$B$2:$B$5001,MATCH(表格模板!A3938,建筑!$A$2:$A$5001,0),COLUMN(A3938))","v":{"$error":"#N/A"}},null,{"$f":"INDEX(设备类型!$B$2:$B$5001,MATCH(表格模板!C3938,设备类型!$A$2:$A$5001,0),COLUMN(A3938))","v":{"$error":"#N/A"}}]
[null,{"$f":"INDEX(建筑!$B$2:$B$5001,MATCH(表格模板!A3939,建筑!$A$2:$A$5001,0),COLUMN(A3939))","v":{"$error":"#N/A"}},null,{"$f":"INDEX(设备类型!$B$2:$B$5001,MATCH(表格模板!C3939,设备类型!$A$2:$A$5001,0),COLUMN(A3939))","v":{"$error":"#N/A"}}]
[null,{"$f":"INDEX(建筑!$B$2:$B$5001,MATCH(表格模板!A3940,建筑!$A$2:$A$5001,0),COLUMN(A3940))","v":{"$error":"#N/A"}},null,{"$f":"INDEX(设备类型!$B$2:$B$5001,MATCH(表格模板!C3940,设备类型!$A$2:$A$5001,0),COLUMN(A3940))","v":{"$error":"#N/A"}}]
[null,{"$f":"INDEX(建筑!$B$2:$B$5001,MATCH(表格模板!A3941,建筑!$A$2:$A$5001,0),COLUMN(A3941))","v":{"$error":"#N/A"}},null,{"$f":"INDEX(设备类型!$B$2:$B$5001,MATCH(表格模板!C3941,设备类型!$A$2:$A$5001,0),COLUMN(A3941))","v":{"$error":"#N/A"}}]
[null,{"$f":"INDEX(建筑!$B$2:$B$5001,MATCH(表格模板!A3942,建筑!$A$2:$A$5001,0),COLUMN(A3942))","v":{"$error":"#N/A"}},null,{"$f":"INDEX(设备类型!$B$2:$B$5001,MATCH(表格模板!C3942,设备类型!$A$2:$A$5001,0),COLUMN(A3942))","v":{"$error":"#N/A"}}]
[null,{"$f":"INDEX(建筑!$B$2:$B$5001,MATCH(表格模板!A3943,建筑!$A$2:$A$5001,0),COLUMN(A3943))","v":{"$error":"#N/A"}},null,{"$f":"INDEX(设备类型!$B$2:$B$5001,MATCH(表格模板!C3943,设备类型!$A$2:$A$5001,0),COLUMN(A3943))","v":{"$error":"#N/A"}}]
[null,{"$f":"INDEX(建筑!$B$2:$B$5001,MATCH(表格模板!A3944,建筑!$A$2:$A$5001,0),COLUMN(A3944))","v":{"$error":"#N/A"}},null,{"$f":"INDEX(设备类型!$B$2:$B$5001,MATCH(表格模板!C3944,设备类型!$A$2:$A$5001,0),COLUMN(A3944))","v":{"$error":"#N/A"}}]
[null,{"$f":"INDEX(建筑!$B$2:$B$5001,MATCH(表格模板!A3945,建筑!$A$2:$A$5001,0),COLUMN(A3945))","v":{"$error":"#N/A"}},null,{"$f":"INDEX(设备类型!$B$2:$B$5001,MATCH(表格模板!C3945,设备类型!$A$2:$A$5001,0),COLUMN(A3945))","v":{"$error":"#N/A"}}]
[null,{"$f":"INDEX(建筑!$B$2:$B$5001,MATCH(表格模板!A3946,建筑!$A$2:$A$5001,0),COLUMN(A3946))","v":{"$error":"#N/A"}},null,{"$f":"INDEX(设备类型!$B$2:$B$5001,MATCH(表格模板!C3946,设备类型!$A$2:$A$5001,0),COLUMN(A3946))","v":{"$error":"#N/A"}}]
[null,{"$f":"INDEX(建筑!$B$2:$B$5001,MATCH(表格模板!A3947,建筑!$A$2:$A$5001,0),COLUMN(A3947))","v":{"$error":"#N/A"}},null,{"$f":"INDEX(设备类型!$B$2:$B$5001,MATCH(表格模板!C3947,设备类型!$A$2:$A$5001,0),COLUMN(A3947))","v":{"$error":"#N/A"}}]
[null,{"$f":"INDEX(建筑!$B$2:$B$5001,MATCH(表格模板!A3948,建筑!$A$2:$A$5001,0),COLUMN(A3948))","v":{"$error":"#N/A"}},null,{"$f":"INDEX(设备类型!$B$2:$B$5001,MATCH(表格模板!C3948,设备类型!$A$2:$A$5001,0),COLUMN(A3948))","v":{"$error":"#N/A"}}]
[null,{"$f":"INDEX(建筑!$B$2:$B$5001,MATCH(表格模板!A3949,建筑!$A$2:$A$5001,0),COLUMN(A3949))","v":{"$error":"#N/A"}},null,{"$f":"INDEX(设备类型!$B$2:$B$5001,MATCH(表格模板!C3949,设备类型!$A$2:$A$5001,0),COLUMN(A3949))","v":{"$error":"#N/A"}}]
[null,{"$f":"INDEX(建筑!$B$2:$B$5001,MATCH(表格模板!A3950,建筑!$A$2:$A$5001,0),COLUMN(A3950))","v":{"$error":"#N/A"}},null,{"$f":"INDEX(设备类型!$B$2:$B$5001,MATCH(表格模板!C3950,设备类型!$A$2:$A$5001,0),COLUMN(A3950))","v":{"$error":"#N/A"}}]
[null,{"$f":"INDEX(建筑!$B$2:$B$5001,MATCH(表格模板!A3951,建筑!$A$2:$A$5001,0),COLUMN(A3951))","v":{"$error":"#N/A"}},null,{"$f":"INDEX(设备类型!$B$2:$B$5001,MATCH(表格模板!C3951,设备类型!$A$2:$A$5001,0),COLUMN(A3951))","v":{"$error":"#N/A"}}]
[null,{"$f":"INDEX(建筑!$B$2:$B$5001,MATCH(表格模板!A3952,建筑!$A$2:$A$5001,0),COLUMN(A3952))","v":{"$error":"#N/A"}},null,{"$f":"INDEX(设备类型!$B$2:$B$5001,MATCH(表格模板!C3952,设备类型!$A$2:$A$5001,0),COLUMN(A3952))","v":{"$error":"#N/A"}}]
[null,{"$f":"INDEX(建筑!$B$2:$B$5001,MATCH(表格模板!A3953,建筑!$A$2:$A$5001,0),COLUMN(A3953))","v":{"$error":"#N/A"}},null,{"$f":"INDEX(设备类型!$B$2:$B$5001,MATCH(表格模板!C3953,设备类型!$A$2:$A$5001,0),COLUMN(A3953))","v":{"$error":"#N/A"}}]
[null,{"$f":"INDEX(建筑!$B$2:$B$5001,MATCH(表格模板!A3954,建筑!$A$2:$A$5001,0),COLUMN(A3954))","v":{"$error":"#N/A"}},null,{"$f":"INDEX(设备类型!$B$2:$B$5001,MATCH(表格模板!C3954,设备类型!$A$2:$A$5001,0),COLUMN(A3954))","v":{"$error":"#N/A"}}]
[null,{"$f":"INDEX(建筑!$B$2:$B$5001,MATCH(表格模板!A3955,建筑!$A$2:$A$5001,0),COLUMN(A3955))","v":{"$error":"#N/A"}},null,{"$f":"INDEX(设备类型!$B$2:$B$5001,MATCH(表格模板!C3955,设备类型!$A$2:$A$5001,0),COLUMN(A3955))","v":{"$error":"#N/A"}}]
[null,{"$f":"INDEX(建筑!$B$2:$B$5001,MATCH(表格模板!A3956,建筑!$A$2:$A$5001,0),COLUMN(A3956))","v":{"$error":"#N/A"}},null,{"$f":"INDEX(设备类型!$B$2:$B$5001,MATCH(表格模板!C3956,设备类型!$A$2:$A$5001,0),COLUMN(A3956))","v":{"$error":"#N/A"}}]
[null,{"$f":"INDEX(建筑!$B$2:$B$5001,MATCH(表格模板!A3957,建筑!$A$2:$A$5001,0),COLUMN(A3957))","v":{"$error":"#N/A"}},null,{"$f":"INDEX(设备类型!$B$2:$B$5001,MATCH(表格模板!C3957,设备类型!$A$2:$A$5001,0),COLUMN(A3957))","v":{"$error":"#N/A"}}]
[null,{"$f":"INDEX(建筑!$B$2:$B$5001,MATCH(表格模板!A3958,建筑!$A$2:$A$5001,0),COLUMN(A3958))","v":{"$error":"#N/A"}},null,{"$f":"INDEX(设备类型!$B$2:$B$5001,MATCH(表格模板!C3958,设备类型!$A$2:$A$5001,0),COLUMN(A3958))","v":{"$error":"#N/A"}}]
[null,{"$f":"INDEX(建筑!$B$2:$B$5001,MATCH(表格模板!A3959,建筑!$A$2:$A$5001,0),COLUMN(A3959))","v":{"$error":"#N/A"}},null,{"$f":"INDEX(设备类型!$B$2:$B$5001,MATCH(表格模板!C3959,设备类型!$A$2:$A$5001,0),COLUMN(A3959))","v":{"$error":"#N/A"}}]
[null,{"$f":"INDEX(建筑!$B$2:$B$5001,MATCH(表格模板!A3960,建筑!$A$2:$A$5001,0),COLUMN(A3960))","v":{"$error":"#N/A"}},null,{"$f":"INDEX(设备类型!$B$2:$B$5001,MATCH(表格模板!C3960,设备类型!$A$2:$A$5001,0),COLUMN(A3960))","v":{"$error":"#N/A"}}]
[null,{"$f":"INDEX(建筑!$B$2:$B$5001,MATCH(表格模板!A3961,建筑!$A$2:$A$5001,0),COLUMN(A3961))","v":{"$error":"#N/A"}},null,{"$f":"INDEX(设备类型!$B$2:$B$5001,MATCH(表格模板!C3961,设备类型!$A$2:$A$5001,0),COLUMN(A3961))","v":{"$error":"#N/A"}}]
[null,{"$f":"INDEX(建筑!$B$2:$B$5001,MATCH(表格模板!A3962,建筑!$A$2:$A$5001,0),COLUMN(A3962))","v":{"$error":"#N/A"}},null,{"$f":"INDEX(设备类型!$B$2:$B$5001,MATCH(表格模板!C3962,设备类型!$A$2:$A$5001,0),COLUMN(A3962))","v":{"$error":"#N/A"}}]
[null,{"$f":"INDEX(建筑!$B$2:$B$5001,MATCH(表格模板!A3963,建筑!$A$2:$A$5001,0),COLUMN(A3963))","v":{"$error":"#N/A"}},null,{"$f":"INDEX(设备类型!$B$2:$B$5001,MATCH(表格模板!C3963,设备类型!$A$2:$A$5001,0),COLUMN(A3963))","v":{"$error":"#N/A"}}]
[null,{"$f":"INDEX(建筑!$B$2:$B$5001,MATCH(表格模板!A3964,建筑!$A$2:$A$5001,0),COLUMN(A3964))","v":{"$error":"#N/A"}},null,{"$f":"INDEX(设备类型!$B$2:$B$5001,MATCH(表格模板!C3964,设备类型!$A$2:$A$5001,0),COLUMN(A3964))","v":{"$error":"#N/A"}}]
[null,{"$f":"INDEX(建筑!$B$2:$B$5001,MATCH(表格模板!A3965,建筑!$A$2:$A$5001,0),COLUMN(A3965))","v":{"$error":"#N/A"}},null,{"$f":"INDEX(设备类型!$B$2:$B$5001,MATCH(表格模板!C3965,设备类型!$A$2:$A$5001,0),COLUMN(A3965))","v":{"$error":"#N/A"}}]
[null,{"$f":"INDEX(建筑!$B$2:$B$5001,MATCH(表格模板!A3966,建筑!$A$2:$A$5001,0),COLUMN(A3966))","v":{"$error":"#N/A"}},null,{"$f":"INDEX(设备类型!$B$2:$B$5001,MATCH(表格模板!C3966,设备类型!$A$2:$A$5001,0),COLUMN(A3966))","v":{"$error":"#N/A"}}]
[null,{"$f":"INDEX(建筑!$B$2:$B$5001,MATCH(表格模板!A3967,建筑!$A$2:$A$5001,0),COLUMN(A3967))","v":{"$error":"#N/A"}},null,{"$f":"INDEX(设备类型!$B$2:$B$5001,MATCH(表格模板!C3967,设备类型!$A$2:$A$5001,0),COLUMN(A3967))","v":{"$error":"#N/A"}}]
[null,{"$f":"INDEX(建筑!$B$2:$B$5001,MATCH(表格模板!A3968,建筑!$A$2:$A$5001,0),COLUMN(A3968))","v":{"$error":"#N/A"}},null,{"$f":"INDEX(设备类型!$B$2:$B$5001,MATCH(表格模板!C3968,设备类型!$A$2:$A$5001,0),COLUMN(A3968))","v":{"$error":"#N/A"}}]
[null,{"$f":"INDEX(建筑!$B$2:$B$5001,MATCH(表格模板!A3969,建筑!$A$2:$A$5001,0),COLUMN(A3969))","v":{"$error":"#N/A"}},null,{"$f":"INDEX(设备类型!$B$2:$B$5001,MATCH(表格模板!C3969,设备类型!$A$2:$A$5001,0),COLUMN(A3969))","v":{"$error":"#N/A"}}]
[null,{"$f":"INDEX(建筑!$B$2:$B$5001,MATCH(表格模板!A3970,建筑!$A$2:$A$5001,0),COLUMN(A3970))","v":{"$error":"#N/A"}},null,{"$f":"INDEX(设备类型!$B$2:$B$5001,MATCH(表格模板!C3970,设备类型!$A$2:$A$5001,0),COLUMN(A3970))","v":{"$error":"#N/A"}}]
[null,{"$f":"INDEX(建筑!$B$2:$B$5001,MATCH(表格模板!A3971,建筑!$A$2:$A$5001,0),COLUMN(A3971))","v":{"$error":"#N/A"}},null,{"$f":"INDEX(设备类型!$B$2:$B$5001,MATCH(表格模板!C3971,设备类型!$A$2:$A$5001,0),COLUMN(A3971))","v":{"$error":"#N/A"}}]
[null,{"$f":"INDEX(建筑!$B$2:$B$5001,MATCH(表格模板!A3972,建筑!$A$2:$A$5001,0),COLUMN(A3972))","v":{"$error":"#N/A"}},null,{"$f":"INDEX(设备类型!$B$2:$B$5001,MATCH(表格模板!C3972,设备类型!$A$2:$A$5001,0),COLUMN(A3972))","v":{"$error":"#N/A"}}]
[null,{"$f":"INDEX(建筑!$B$2:$B$5001,MATCH(表格模板!A3973,建筑!$A$2:$A$5001,0),COLUMN(A3973))","v":{"$error":"#N/A"}},null,{"$f":"INDEX(设备类型!$B$2:$B$5001,MATCH(表格模板!C3973,设备类型!$A$2:$A$5001,0),COLUMN(A3973))","v":{"$error":"#N/A"}}]
[null,{"$f":"INDEX(建筑!$B$2:$B$5001,MATCH(表格模板!A3974,建筑!$A$2:$A$5001,0),COLUMN(A3974))","v":{"$error":"#N/A"}},null,{"$f":"INDEX(设备类型!$B$2:$B$5001,MATCH(表格模板!C3974,设备类型!$A$2:$A$5001,0),COLUMN(A3974))","v":{"$error":"#N/A"}}]
[null,{"$f":"INDEX(建筑!$B$2:$B$5001,MATCH(表格模板!A3975,建筑!$A$2:$A$5001,0),COLUMN(A3975))","v":{"$error":"#N/A"}},null,{"$f":"INDEX(设备类型!$B$2:$B$5001,MATCH(表格模板!C3975,设备类型!$A$2:$A$5001,0),COLUMN(A3975))","v":{"$error":"#N/A"}}]
[null,{"$f":"INDEX(建筑!$B$2:$B$5001,MATCH(表格模板!A3976,建筑!$A$2:$A$5001,0),COLUMN(A3976))","v":{"$error":"#N/A"}},null,{"$f":"INDEX(设备类型!$B$2:$B$5001,MATCH(表格模板!C3976,设备类型!$A$2:$A$5001,0),COLUMN(A3976))","v":{"$error":"#N/A"}}]
[null,{"$f":"INDEX(建筑!$B$2:$B$5001,MATCH(表格模板!A3977,建筑!$A$2:$A$5001,0),COLUMN(A3977))","v":{"$error":"#N/A"}},null,{"$f":"INDEX(设备类型!$B$2:$B$5001,MATCH(表格模板!C3977,设备类型!$A$2:$A$5001,0),COLUMN(A3977))","v":{"$error":"#N/A"}}]
[null,{"$f":"INDEX(建筑!$B$2:$B$5001,MATCH(表格模板!A3978,建筑!$A$2:$A$5001,0),COLUMN(A3978))","v":{"$error":"#N/A"}},null,{"$f":"INDEX(设备类型!$B$2:$B$5001,MATCH(表格模板!C3978,设备类型!$A$2:$A$5001,0),COLUMN(A3978))","v":{"$error":"#N/A"}}]
[null,{"$f":"INDEX(建筑!$B$2:$B$5001,MATCH(表格模板!A3979,建筑!$A$2:$A$5001,0),COLUMN(A3979))","v":{"$error":"#N/A"}},null,{"$f":"INDEX(设备类型!$B$2:$B$5001,MATCH(表格模板!C3979,设备类型!$A$2:$A$5001,0),COLUMN(A3979))","v":{"$error":"#N/A"}}]
[null,{"$f":"INDEX(建筑!$B$2:$B$5001,MATCH(表格模板!A3980,建筑!$A$2:$A$5001,0),COLUMN(A3980))","v":{"$error":"#N/A"}},null,{"$f":"INDEX(设备类型!$B$2:$B$5001,MATCH(表格模板!C3980,设备类型!$A$2:$A$5001,0),COLUMN(A3980))","v":{"$error":"#N/A"}}]
[null,{"$f":"INDEX(建筑!$B$2:$B$5001,MATCH(表格模板!A3981,建筑!$A$2:$A$5001,0),COLUMN(A3981))","v":{"$error":"#N/A"}},null,{"$f":"INDEX(设备类型!$B$2:$B$5001,MATCH(表格模板!C3981,设备类型!$A$2:$A$5001,0),COLUMN(A3981))","v":{"$error":"#N/A"}}]
[null,{"$f":"INDEX(建筑!$B$2:$B$5001,MATCH(表格模板!A3982,建筑!$A$2:$A$5001,0),COLUMN(A3982))","v":{"$error":"#N/A"}},null,{"$f":"INDEX(设备类型!$B$2:$B$5001,MATCH(表格模板!C3982,设备类型!$A$2:$A$5001,0),COLUMN(A3982))","v":{"$error":"#N/A"}}]
[null,{"$f":"INDEX(建筑!$B$2:$B$5001,MATCH(表格模板!A3983,建筑!$A$2:$A$5001,0),COLUMN(A3983))","v":{"$error":"#N/A"}},null,{"$f":"INDEX(设备类型!$B$2:$B$5001,MATCH(表格模板!C3983,设备类型!$A$2:$A$5001,0),COLUMN(A3983))","v":{"$error":"#N/A"}}]
[null,{"$f":"INDEX(建筑!$B$2:$B$5001,MATCH(表格模板!A3984,建筑!$A$2:$A$5001,0),COLUMN(A3984))","v":{"$error":"#N/A"}},null,{"$f":"INDEX(设备类型!$B$2:$B$5001,MATCH(表格模板!C3984,设备类型!$A$2:$A$5001,0),COLUMN(A3984))","v":{"$error":"#N/A"}}]
[null,{"$f":"INDEX(建筑!$B$2:$B$5001,MATCH(表格模板!A3985,建筑!$A$2:$A$5001,0),COLUMN(A3985))","v":{"$error":"#N/A"}},null,{"$f":"INDEX(设备类型!$B$2:$B$5001,MATCH(表格模板!C3985,设备类型!$A$2:$A$5001,0),COLUMN(A3985))","v":{"$error":"#N/A"}}]
[null,{"$f":"INDEX(建筑!$B$2:$B$5001,MATCH(表格模板!A3986,建筑!$A$2:$A$5001,0),COLUMN(A3986))","v":{"$error":"#N/A"}},null,{"$f":"INDEX(设备类型!$B$2:$B$5001,MATCH(表格模板!C3986,设备类型!$A$2:$A$5001,0),COLUMN(A3986))","v":{"$error":"#N/A"}}]
[null,{"$f":"INDEX(建筑!$B$2:$B$5001,MATCH(表格模板!A3987,建筑!$A$2:$A$5001,0),COLUMN(A3987))","v":{"$error":"#N/A"}},null,{"$f":"INDEX(设备类型!$B$2:$B$5001,MATCH(表格模板!C3987,设备类型!$A$2:$A$5001,0),COLUMN(A3987))","v":{"$error":"#N/A"}}]
[null,{"$f":"INDEX(建筑!$B$2:$B$5001,MATCH(表格模板!A3988,建筑!$A$2:$A$5001,0),COLUMN(A3988))","v":{"$error":"#N/A"}},null,{"$f":"INDEX(设备类型!$B$2:$B$5001,MATCH(表格模板!C3988,设备类型!$A$2:$A$5001,0),COLUMN(A3988))","v":{"$error":"#N/A"}}]
[null,{"$f":"INDEX(建筑!$B$2:$B$5001,MATCH(表格模板!A3989,建筑!$A$2:$A$5001,0),COLUMN(A3989))","v":{"$error":"#N/A"}},null,{"$f":"INDEX(设备类型!$B$2:$B$5001,MATCH(表格模板!C3989,设备类型!$A$2:$A$5001,0),COLUMN(A3989))","v":{"$error":"#N/A"}}]
[null,{"$f":"INDEX(建筑!$B$2:$B$5001,MATCH(表格模板!A3990,建筑!$A$2:$A$5001,0),COLUMN(A3990))","v":{"$error":"#N/A"}},null,{"$f":"INDEX(设备类型!$B$2:$B$5001,MATCH(表格模板!C3990,设备类型!$A$2:$A$5001,0),COLUMN(A3990))","v":{"$error":"#N/A"}}]
[null,{"$f":"INDEX(建筑!$B$2:$B$5001,MATCH(表格模板!A3991,建筑!$A$2:$A$5001,0),COLUMN(A3991))","v":{"$error":"#N/A"}},null,{"$f":"INDEX(设备类型!$B$2:$B$5001,MATCH(表格模板!C3991,设备类型!$A$2:$A$5001,0),COLUMN(A3991))","v":{"$error":"#N/A"}}]
[null,{"$f":"INDEX(建筑!$B$2:$B$5001,MATCH(表格模板!A3992,建筑!$A$2:$A$5001,0),COLUMN(A3992))","v":{"$error":"#N/A"}},null,{"$f":"INDEX(设备类型!$B$2:$B$5001,MATCH(表格模板!C3992,设备类型!$A$2:$A$5001,0),COLUMN(A3992))","v":{"$error":"#N/A"}}]
[null,{"$f":"INDEX(建筑!$B$2:$B$5001,MATCH(表格模板!A3993,建筑!$A$2:$A$5001,0),COLUMN(A3993))","v":{"$error":"#N/A"}},null,{"$f":"INDEX(设备类型!$B$2:$B$5001,MATCH(表格模板!C3993,设备类型!$A$2:$A$5001,0),COLUMN(A3993))","v":{"$error":"#N/A"}}]
[null,{"$f":"INDEX(建筑!$B$2:$B$5001,MATCH(表格模板!A3994,建筑!$A$2:$A$5001,0),COLUMN(A3994))","v":{"$error":"#N/A"}},null,{"$f":"INDEX(设备类型!$B$2:$B$5001,MATCH(表格模板!C3994,设备类型!$A$2:$A$5001,0),COLUMN(A3994))","v":{"$error":"#N/A"}}]
[null,{"$f":"INDEX(建筑!$B$2:$B$5001,MATCH(表格模板!A3995,建筑!$A$2:$A$5001,0),COLUMN(A3995))","v":{"$error":"#N/A"}},null,{"$f":"INDEX(设备类型!$B$2:$B$5001,MATCH(表格模板!C3995,设备类型!$A$2:$A$5001,0),COLUMN(A3995))","v":{"$error":"#N/A"}}]
[null,{"$f":"INDEX(建筑!$B$2:$B$5001,MATCH(表格模板!A3996,建筑!$A$2:$A$5001,0),COLUMN(A3996))","v":{"$error":"#N/A"}},null,{"$f":"INDEX(设备类型!$B$2:$B$5001,MATCH(表格模板!C3996,设备类型!$A$2:$A$5001,0),COLUMN(A3996))","v":{"$error":"#N/A"}}]
[null,{"$f":"INDEX(建筑!$B$2:$B$5001,MATCH(表格模板!A3997,建筑!$A$2:$A$5001,0),COLUMN(A3997))","v":{"$error":"#N/A"}},null,{"$f":"INDEX(设备类型!$B$2:$B$5001,MATCH(表格模板!C3997,设备类型!$A$2:$A$5001,0),COLUMN(A3997))","v":{"$error":"#N/A"}}]
[null,{"$f":"INDEX(建筑!$B$2:$B$5001,MATCH(表格模板!A3998,建筑!$A$2:$A$5001,0),COLUMN(A3998))","v":{"$error":"#N/A"}},null,{"$f":"INDEX(设备类型!$B$2:$B$5001,MATCH(表格模板!C3998,设备类型!$A$2:$A$5001,0),COLUMN(A3998))","v":{"$error":"#N/A"}}]
[null,{"$f":"INDEX(建筑!$B$2:$B$5001,MATCH(表格模板!A3999,建筑!$A$2:$A$5001,0),COLUMN(A3999))","v":{"$error":"#N/A"}},null,{"$f":"INDEX(设备类型!$B$2:$B$5001,MATCH(表格模板!C3999,设备类型!$A$2:$A$5001,0),COLUMN(A3999))","v":{"$error":"#N/A"}}]
[null,{"$f":"INDEX(建筑!$B$2:$B$5001,MATCH(表格模板!A4000,建筑!$A$2:$A$5001,0),COLUMN(A4000))","v":{"$error":"#N/A"}},null,{"$f":"INDEX(设备类型!$B$2:$B$5001,MATCH(表格模板!C4000,设备类型!$A$2:$A$5001,0),COLUMN(A4000))","v":{"$error":"#N/A"}}]
[null,{"$f":"INDEX(建筑!$B$2:$B$5001,MATCH(表格模板!A4001,建筑!$A$2:$A$5001,0),COLUMN(A4001))","v":{"$error":"#N/A"}},null,{"$f":"INDEX(设备类型!$B$2:$B$5001,MATCH(表格模板!C4001,设备类型!$A$2:$A$5001,0),COLUMN(A4001))","v":{"$error":"#N/A"}}]
[null,{"$f":"INDEX(建筑!$B$2:$B$5001,MATCH(表格模板!A4002,建筑!$A$2:$A$5001,0),COLUMN(A4002))","v":{"$error":"#N/A"}},null,{"$f":"INDEX(设备类型!$B$2:$B$5001,MATCH(表格模板!C4002,设备类型!$A$2:$A$5001,0),COLUMN(A4002))","v":{"$error":"#N/A"}}]
[null,{"$f":"INDEX(建筑!$B$2:$B$5001,MATCH(表格模板!A4003,建筑!$A$2:$A$5001,0),COLUMN(A4003))","v":{"$error":"#N/A"}},null,{"$f":"INDEX(设备类型!$B$2:$B$5001,MATCH(表格模板!C4003,设备类型!$A$2:$A$5001,0),COLUMN(A4003))","v":{"$error":"#N/A"}}]
[null,{"$f":"INDEX(建筑!$B$2:$B$5001,MATCH(表格模板!A4004,建筑!$A$2:$A$5001,0),COLUMN(A4004))","v":{"$error":"#N/A"}},null,{"$f":"INDEX(设备类型!$B$2:$B$5001,MATCH(表格模板!C4004,设备类型!$A$2:$A$5001,0),COLUMN(A4004))","v":{"$error":"#N/A"}}]
[null,{"$f":"INDEX(建筑!$B$2:$B$5001,MATCH(表格模板!A4005,建筑!$A$2:$A$5001,0),COLUMN(A4005))","v":{"$error":"#N/A"}},null,{"$f":"INDEX(设备类型!$B$2:$B$5001,MATCH(表格模板!C4005,设备类型!$A$2:$A$5001,0),COLUMN(A4005))","v":{"$error":"#N/A"}}]
[null,{"$f":"INDEX(建筑!$B$2:$B$5001,MATCH(表格模板!A4006,建筑!$A$2:$A$5001,0),COLUMN(A4006))","v":{"$error":"#N/A"}},null,{"$f":"INDEX(设备类型!$B$2:$B$5001,MATCH(表格模板!C4006,设备类型!$A$2:$A$5001,0),COLUMN(A4006))","v":{"$error":"#N/A"}}]
[null,{"$f":"INDEX(建筑!$B$2:$B$5001,MATCH(表格模板!A4007,建筑!$A$2:$A$5001,0),COLUMN(A4007))","v":{"$error":"#N/A"}},null,{"$f":"INDEX(设备类型!$B$2:$B$5001,MATCH(表格模板!C4007,设备类型!$A$2:$A$5001,0),COLUMN(A4007))","v":{"$error":"#N/A"}}]
[null,{"$f":"INDEX(建筑!$B$2:$B$5001,MATCH(表格模板!A4008,建筑!$A$2:$A$5001,0),COLUMN(A4008))","v":{"$error":"#N/A"}},null,{"$f":"INDEX(设备类型!$B$2:$B$5001,MATCH(表格模板!C4008,设备类型!$A$2:$A$5001,0),COLUMN(A4008))","v":{"$error":"#N/A"}}]
[null,{"$f":"INDEX(建筑!$B$2:$B$5001,MATCH(表格模板!A4009,建筑!$A$2:$A$5001,0),COLUMN(A4009))","v":{"$error":"#N/A"}},null,{"$f":"INDEX(设备类型!$B$2:$B$5001,MATCH(表格模板!C4009,设备类型!$A$2:$A$5001,0),COLUMN(A4009))","v":{"$error":"#N/A"}}]
[null,{"$f":"INDEX(建筑!$B$2:$B$5001,MATCH(表格模板!A4010,建筑!$A$2:$A$5001,0),COLUMN(A4010))","v":{"$error":"#N/A"}},null,{"$f":"INDEX(设备类型!$B$2:$B$5001,MATCH(表格模板!C4010,设备类型!$A$2:$A$5001,0),COLUMN(A4010))","v":{"$error":"#N/A"}}]
[null,{"$f":"INDEX(建筑!$B$2:$B$5001,MATCH(表格模板!A4011,建筑!$A$2:$A$5001,0),COLUMN(A4011))","v":{"$error":"#N/A"}},null,{"$f":"INDEX(设备类型!$B$2:$B$5001,MATCH(表格模板!C4011,设备类型!$A$2:$A$5001,0),COLUMN(A4011))","v":{"$error":"#N/A"}}]
[null,{"$f":"INDEX(建筑!$B$2:$B$5001,MATCH(表格模板!A4012,建筑!$A$2:$A$5001,0),COLUMN(A4012))","v":{"$error":"#N/A"}},null,{"$f":"INDEX(设备类型!$B$2:$B$5001,MATCH(表格模板!C4012,设备类型!$A$2:$A$5001,0),COLUMN(A4012))","v":{"$error":"#N/A"}}]
[null,{"$f":"INDEX(建筑!$B$2:$B$5001,MATCH(表格模板!A4013,建筑!$A$2:$A$5001,0),COLUMN(A4013))","v":{"$error":"#N/A"}},null,{"$f":"INDEX(设备类型!$B$2:$B$5001,MATCH(表格模板!C4013,设备类型!$A$2:$A$5001,0),COLUMN(A4013))","v":{"$error":"#N/A"}}]
[null,{"$f":"INDEX(建筑!$B$2:$B$5001,MATCH(表格模板!A4014,建筑!$A$2:$A$5001,0),COLUMN(A4014))","v":{"$error":"#N/A"}},null,{"$f":"INDEX(设备类型!$B$2:$B$5001,MATCH(表格模板!C4014,设备类型!$A$2:$A$5001,0),COLUMN(A4014))","v":{"$error":"#N/A"}}]
[null,{"$f":"INDEX(建筑!$B$2:$B$5001,MATCH(表格模板!A4015,建筑!$A$2:$A$5001,0),COLUMN(A4015))","v":{"$error":"#N/A"}},null,{"$f":"INDEX(设备类型!$B$2:$B$5001,MATCH(表格模板!C4015,设备类型!$A$2:$A$5001,0),COLUMN(A4015))","v":{"$error":"#N/A"}}]
[null,{"$f":"INDEX(建筑!$B$2:$B$5001,MATCH(表格模板!A4016,建筑!$A$2:$A$5001,0),COLUMN(A4016))","v":{"$error":"#N/A"}},null,{"$f":"INDEX(设备类型!$B$2:$B$5001,MATCH(表格模板!C4016,设备类型!$A$2:$A$5001,0),COLUMN(A4016))","v":{"$error":"#N/A"}}]
[null,{"$f":"INDEX(建筑!$B$2:$B$5001,MATCH(表格模板!A4017,建筑!$A$2:$A$5001,0),COLUMN(A4017))","v":{"$error":"#N/A"}},null,{"$f":"INDEX(设备类型!$B$2:$B$5001,MATCH(表格模板!C4017,设备类型!$A$2:$A$5001,0),COLUMN(A4017))","v":{"$error":"#N/A"}}]
[null,{"$f":"INDEX(建筑!$B$2:$B$5001,MATCH(表格模板!A4018,建筑!$A$2:$A$5001,0),COLUMN(A4018))","v":{"$error":"#N/A"}},null,{"$f":"INDEX(设备类型!$B$2:$B$5001,MATCH(表格模板!C4018,设备类型!$A$2:$A$5001,0),COLUMN(A4018))","v":{"$error":"#N/A"}}]
[null,{"$f":"INDEX(建筑!$B$2:$B$5001,MATCH(表格模板!A4019,建筑!$A$2:$A$5001,0),COLUMN(A4019))","v":{"$error":"#N/A"}},null,{"$f":"INDEX(设备类型!$B$2:$B$5001,MATCH(表格模板!C4019,设备类型!$A$2:$A$5001,0),COLUMN(A4019))","v":{"$error":"#N/A"}}]
[null,{"$f":"INDEX(建筑!$B$2:$B$5001,MATCH(表格模板!A4020,建筑!$A$2:$A$5001,0),COLUMN(A4020))","v":{"$error":"#N/A"}},null,{"$f":"INDEX(设备类型!$B$2:$B$5001,MATCH(表格模板!C4020,设备类型!$A$2:$A$5001,0),COLUMN(A4020))","v":{"$error":"#N/A"}}]
[null,{"$f":"INDEX(建筑!$B$2:$B$5001,MATCH(表格模板!A4021,建筑!$A$2:$A$5001,0),COLUMN(A4021))","v":{"$error":"#N/A"}},null,{"$f":"INDEX(设备类型!$B$2:$B$5001,MATCH(表格模板!C4021,设备类型!$A$2:$A$5001,0),COLUMN(A4021))","v":{"$error":"#N/A"}}]
[null,{"$f":"INDEX(建筑!$B$2:$B$5001,MATCH(表格模板!A4022,建筑!$A$2:$A$5001,0),COLUMN(A4022))","v":{"$error":"#N/A"}},null,{"$f":"INDEX(设备类型!$B$2:$B$5001,MATCH(表格模板!C4022,设备类型!$A$2:$A$5001,0),COLUMN(A4022))","v":{"$error":"#N/A"}}]
[null,{"$f":"INDEX(建筑!$B$2:$B$5001,MATCH(表格模板!A4023,建筑!$A$2:$A$5001,0),COLUMN(A4023))","v":{"$error":"#N/A"}},null,{"$f":"INDEX(设备类型!$B$2:$B$5001,MATCH(表格模板!C4023,设备类型!$A$2:$A$5001,0),COLUMN(A4023))","v":{"$error":"#N/A"}}]
[null,{"$f":"INDEX(建筑!$B$2:$B$5001,MATCH(表格模板!A4024,建筑!$A$2:$A$5001,0),COLUMN(A4024))","v":{"$error":"#N/A"}},null,{"$f":"INDEX(设备类型!$B$2:$B$5001,MATCH(表格模板!C4024,设备类型!$A$2:$A$5001,0),COLUMN(A4024))","v":{"$error":"#N/A"}}]
[null,{"$f":"INDEX(建筑!$B$2:$B$5001,MATCH(表格模板!A4025,建筑!$A$2:$A$5001,0),COLUMN(A4025))","v":{"$error":"#N/A"}},null,{"$f":"INDEX(设备类型!$B$2:$B$5001,MATCH(表格模板!C4025,设备类型!$A$2:$A$5001,0),COLUMN(A4025))","v":{"$error":"#N/A"}}]
[null,{"$f":"INDEX(建筑!$B$2:$B$5001,MATCH(表格模板!A4026,建筑!$A$2:$A$5001,0),COLUMN(A4026))","v":{"$error":"#N/A"}},null,{"$f":"INDEX(设备类型!$B$2:$B$5001,MATCH(表格模板!C4026,设备类型!$A$2:$A$5001,0),COLUMN(A4026))","v":{"$error":"#N/A"}}]
[null,{"$f":"INDEX(建筑!$B$2:$B$5001,MATCH(表格模板!A4027,建筑!$A$2:$A$5001,0),COLUMN(A4027))","v":{"$error":"#N/A"}},null,{"$f":"INDEX(设备类型!$B$2:$B$5001,MATCH(表格模板!C4027,设备类型!$A$2:$A$5001,0),COLUMN(A4027))","v":{"$error":"#N/A"}}]
[null,{"$f":"INDEX(建筑!$B$2:$B$5001,MATCH(表格模板!A4028,建筑!$A$2:$A$5001,0),COLUMN(A4028))","v":{"$error":"#N/A"}},null,{"$f":"INDEX(设备类型!$B$2:$B$5001,MATCH(表格模板!C4028,设备类型!$A$2:$A$5001,0),COLUMN(A4028))","v":{"$error":"#N/A"}}]
[null,{"$f":"INDEX(建筑!$B$2:$B$5001,MATCH(表格模板!A4029,建筑!$A$2:$A$5001,0),COLUMN(A4029))","v":{"$error":"#N/A"}},null,{"$f":"INDEX(设备类型!$B$2:$B$5001,MATCH(表格模板!C4029,设备类型!$A$2:$A$5001,0),COLUMN(A4029))","v":{"$error":"#N/A"}}]
[null,{"$f":"INDEX(建筑!$B$2:$B$5001,MATCH(表格模板!A4030,建筑!$A$2:$A$5001,0),COLUMN(A4030))","v":{"$error":"#N/A"}},null,{"$f":"INDEX(设备类型!$B$2:$B$5001,MATCH(表格模板!C4030,设备类型!$A$2:$A$5001,0),COLUMN(A4030))","v":{"$error":"#N/A"}}]
[null,{"$f":"INDEX(建筑!$B$2:$B$5001,MATCH(表格模板!A4031,建筑!$A$2:$A$5001,0),COLUMN(A4031))","v":{"$error":"#N/A"}},null,{"$f":"INDEX(设备类型!$B$2:$B$5001,MATCH(表格模板!C4031,设备类型!$A$2:$A$5001,0),COLUMN(A4031))","v":{"$error":"#N/A"}}]
[null,{"$f":"INDEX(建筑!$B$2:$B$5001,MATCH(表格模板!A4032,建筑!$A$2:$A$5001,0),COLUMN(A4032))","v":{"$error":"#N/A"}},null,{"$f":"INDEX(设备类型!$B$2:$B$5001,MATCH(表格模板!C4032,设备类型!$A$2:$A$5001,0),COLUMN(A4032))","v":{"$error":"#N/A"}}]
[null,{"$f":"INDEX(建筑!$B$2:$B$5001,MATCH(表格模板!A4033,建筑!$A$2:$A$5001,0),COLUMN(A4033))","v":{"$error":"#N/A"}},null,{"$f":"INDEX(设备类型!$B$2:$B$5001,MATCH(表格模板!C4033,设备类型!$A$2:$A$5001,0),COLUMN(A4033))","v":{"$error":"#N/A"}}]
[null,{"$f":"INDEX(建筑!$B$2:$B$5001,MATCH(表格模板!A4034,建筑!$A$2:$A$5001,0),COLUMN(A4034))","v":{"$error":"#N/A"}},null,{"$f":"INDEX(设备类型!$B$2:$B$5001,MATCH(表格模板!C4034,设备类型!$A$2:$A$5001,0),COLUMN(A4034))","v":{"$error":"#N/A"}}]
[null,{"$f":"INDEX(建筑!$B$2:$B$5001,MATCH(表格模板!A4035,建筑!$A$2:$A$5001,0),COLUMN(A4035))","v":{"$error":"#N/A"}},null,{"$f":"INDEX(设备类型!$B$2:$B$5001,MATCH(表格模板!C4035,设备类型!$A$2:$A$5001,0),COLUMN(A4035))","v":{"$error":"#N/A"}}]
[null,{"$f":"INDEX(建筑!$B$2:$B$5001,MATCH(表格模板!A4036,建筑!$A$2:$A$5001,0),COLUMN(A4036))","v":{"$error":"#N/A"}},null,{"$f":"INDEX(设备类型!$B$2:$B$5001,MATCH(表格模板!C4036,设备类型!$A$2:$A$5001,0),COLUMN(A4036))","v":{"$error":"#N/A"}}]
[null,{"$f":"INDEX(建筑!$B$2:$B$5001,MATCH(表格模板!A4037,建筑!$A$2:$A$5001,0),COLUMN(A4037))","v":{"$error":"#N/A"}},null,{"$f":"INDEX(设备类型!$B$2:$B$5001,MATCH(表格模板!C4037,设备类型!$A$2:$A$5001,0),COLUMN(A4037))","v":{"$error":"#N/A"}}]
[null,{"$f":"INDEX(建筑!$B$2:$B$5001,MATCH(表格模板!A4038,建筑!$A$2:$A$5001,0),COLUMN(A4038))","v":{"$error":"#N/A"}},null,{"$f":"INDEX(设备类型!$B$2:$B$5001,MATCH(表格模板!C4038,设备类型!$A$2:$A$5001,0),COLUMN(A4038))","v":{"$error":"#N/A"}}]
[null,{"$f":"INDEX(建筑!$B$2:$B$5001,MATCH(表格模板!A4039,建筑!$A$2:$A$5001,0),COLUMN(A4039))","v":{"$error":"#N/A"}},null,{"$f":"INDEX(设备类型!$B$2:$B$5001,MATCH(表格模板!C4039,设备类型!$A$2:$A$5001,0),COLUMN(A4039))","v":{"$error":"#N/A"}}]
[null,{"$f":"INDEX(建筑!$B$2:$B$5001,MATCH(表格模板!A4040,建筑!$A$2:$A$5001,0),COLUMN(A4040))","v":{"$error":"#N/A"}},null,{"$f":"INDEX(设备类型!$B$2:$B$5001,MATCH(表格模板!C4040,设备类型!$A$2:$A$5001,0),COLUMN(A4040))","v":{"$error":"#N/A"}}]
[null,{"$f":"INDEX(建筑!$B$2:$B$5001,MATCH(表格模板!A4041,建筑!$A$2:$A$5001,0),COLUMN(A4041))","v":{"$error":"#N/A"}},null,{"$f":"INDEX(设备类型!$B$2:$B$5001,MATCH(表格模板!C4041,设备类型!$A$2:$A$5001,0),COLUMN(A4041))","v":{"$error":"#N/A"}}]
[null,{"$f":"INDEX(建筑!$B$2:$B$5001,MATCH(表格模板!A4042,建筑!$A$2:$A$5001,0),COLUMN(A4042))","v":{"$error":"#N/A"}},null,{"$f":"INDEX(设备类型!$B$2:$B$5001,MATCH(表格模板!C4042,设备类型!$A$2:$A$5001,0),COLUMN(A4042))","v":{"$error":"#N/A"}}]
[null,{"$f":"INDEX(建筑!$B$2:$B$5001,MATCH(表格模板!A4043,建筑!$A$2:$A$5001,0),COLUMN(A4043))","v":{"$error":"#N/A"}},null,{"$f":"INDEX(设备类型!$B$2:$B$5001,MATCH(表格模板!C4043,设备类型!$A$2:$A$5001,0),COLUMN(A4043))","v":{"$error":"#N/A"}}]
[null,{"$f":"INDEX(建筑!$B$2:$B$5001,MATCH(表格模板!A4044,建筑!$A$2:$A$5001,0),COLUMN(A4044))","v":{"$error":"#N/A"}},null,{"$f":"INDEX(设备类型!$B$2:$B$5001,MATCH(表格模板!C4044,设备类型!$A$2:$A$5001,0),COLUMN(A4044))","v":{"$error":"#N/A"}}]
[null,{"$f":"INDEX(建筑!$B$2:$B$5001,MATCH(表格模板!A4045,建筑!$A$2:$A$5001,0),COLUMN(A4045))","v":{"$error":"#N/A"}},null,{"$f":"INDEX(设备类型!$B$2:$B$5001,MATCH(表格模板!C4045,设备类型!$A$2:$A$5001,0),COLUMN(A4045))","v":{"$error":"#N/A"}}]
[null,{"$f":"INDEX(建筑!$B$2:$B$5001,MATCH(表格模板!A4046,建筑!$A$2:$A$5001,0),COLUMN(A4046))","v":{"$error":"#N/A"}},null,{"$f":"INDEX(设备类型!$B$2:$B$5001,MATCH(表格模板!C4046,设备类型!$A$2:$A$5001,0),COLUMN(A4046))","v":{"$error":"#N/A"}}]
[null,{"$f":"INDEX(建筑!$B$2:$B$5001,MATCH(表格模板!A4047,建筑!$A$2:$A$5001,0),COLUMN(A4047))","v":{"$error":"#N/A"}},null,{"$f":"INDEX(设备类型!$B$2:$B$5001,MATCH(表格模板!C4047,设备类型!$A$2:$A$5001,0),COLUMN(A4047))","v":{"$error":"#N/A"}}]
[null,{"$f":"INDEX(建筑!$B$2:$B$5001,MATCH(表格模板!A4048,建筑!$A$2:$A$5001,0),COLUMN(A4048))","v":{"$error":"#N/A"}},null,{"$f":"INDEX(设备类型!$B$2:$B$5001,MATCH(表格模板!C4048,设备类型!$A$2:$A$5001,0),COLUMN(A4048))","v":{"$error":"#N/A"}}]
[null,{"$f":"INDEX(建筑!$B$2:$B$5001,MATCH(表格模板!A4049,建筑!$A$2:$A$5001,0),COLUMN(A4049))","v":{"$error":"#N/A"}},null,{"$f":"INDEX(设备类型!$B$2:$B$5001,MATCH(表格模板!C4049,设备类型!$A$2:$A$5001,0),COLUMN(A4049))","v":{"$error":"#N/A"}}]
[null,{"$f":"INDEX(建筑!$B$2:$B$5001,MATCH(表格模板!A4050,建筑!$A$2:$A$5001,0),COLUMN(A4050))","v":{"$error":"#N/A"}},null,{"$f":"INDEX(设备类型!$B$2:$B$5001,MATCH(表格模板!C4050,设备类型!$A$2:$A$5001,0),COLUMN(A4050))","v":{"$error":"#N/A"}}]
[null,{"$f":"INDEX(建筑!$B$2:$B$5001,MATCH(表格模板!A4051,建筑!$A$2:$A$5001,0),COLUMN(A4051))","v":{"$error":"#N/A"}},null,{"$f":"INDEX(设备类型!$B$2:$B$5001,MATCH(表格模板!C4051,设备类型!$A$2:$A$5001,0),COLUMN(A4051))","v":{"$error":"#N/A"}}]
[null,{"$f":"INDEX(建筑!$B$2:$B$5001,MATCH(表格模板!A4052,建筑!$A$2:$A$5001,0),COLUMN(A4052))","v":{"$error":"#N/A"}},null,{"$f":"INDEX(设备类型!$B$2:$B$5001,MATCH(表格模板!C4052,设备类型!$A$2:$A$5001,0),COLUMN(A4052))","v":{"$error":"#N/A"}}]
[null,{"$f":"INDEX(建筑!$B$2:$B$5001,MATCH(表格模板!A4053,建筑!$A$2:$A$5001,0),COLUMN(A4053))","v":{"$error":"#N/A"}},null,{"$f":"INDEX(设备类型!$B$2:$B$5001,MATCH(表格模板!C4053,设备类型!$A$2:$A$5001,0),COLUMN(A4053))","v":{"$error":"#N/A"}}]
[null,{"$f":"INDEX(建筑!$B$2:$B$5001,MATCH(表格模板!A4054,建筑!$A$2:$A$5001,0),COLUMN(A4054))","v":{"$error":"#N/A"}},null,{"$f":"INDEX(设备类型!$B$2:$B$5001,MATCH(表格模板!C4054,设备类型!$A$2:$A$5001,0),COLUMN(A4054))","v":{"$error":"#N/A"}}]
[null,{"$f":"INDEX(建筑!$B$2:$B$5001,MATCH(表格模板!A4055,建筑!$A$2:$A$5001,0),COLUMN(A4055))","v":{"$error":"#N/A"}},null,{"$f":"INDEX(设备类型!$B$2:$B$5001,MATCH(表格模板!C4055,设备类型!$A$2:$A$5001,0),COLUMN(A4055))","v":{"$error":"#N/A"}}]
[null,{"$f":"INDEX(建筑!$B$2:$B$5001,MATCH(表格模板!A4056,建筑!$A$2:$A$5001,0),COLUMN(A4056))","v":{"$error":"#N/A"}},null,{"$f":"INDEX(设备类型!$B$2:$B$5001,MATCH(表格模板!C4056,设备类型!$A$2:$A$5001,0),COLUMN(A4056))","v":{"$error":"#N/A"}}]
[null,{"$f":"INDEX(建筑!$B$2:$B$5001,MATCH(表格模板!A4057,建筑!$A$2:$A$5001,0),COLUMN(A4057))","v":{"$error":"#N/A"}},null,{"$f":"INDEX(设备类型!$B$2:$B$5001,MATCH(表格模板!C4057,设备类型!$A$2:$A$5001,0),COLUMN(A4057))","v":{"$error":"#N/A"}}]
[null,{"$f":"INDEX(建筑!$B$2:$B$5001,MATCH(表格模板!A4058,建筑!$A$2:$A$5001,0),COLUMN(A4058))","v":{"$error":"#N/A"}},null,{"$f":"INDEX(设备类型!$B$2:$B$5001,MATCH(表格模板!C4058,设备类型!$A$2:$A$5001,0),COLUMN(A4058))","v":{"$error":"#N/A"}}]
[null,{"$f":"INDEX(建筑!$B$2:$B$5001,MATCH(表格模板!A4059,建筑!$A$2:$A$5001,0),COLUMN(A4059))","v":{"$error":"#N/A"}},null,{"$f":"INDEX(设备类型!$B$2:$B$5001,MATCH(表格模板!C4059,设备类型!$A$2:$A$5001,0),COLUMN(A4059))","v":{"$error":"#N/A"}}]
[null,{"$f":"INDEX(建筑!$B$2:$B$5001,MATCH(表格模板!A4060,建筑!$A$2:$A$5001,0),COLUMN(A4060))","v":{"$error":"#N/A"}},null,{"$f":"INDEX(设备类型!$B$2:$B$5001,MATCH(表格模板!C4060,设备类型!$A$2:$A$5001,0),COLUMN(A4060))","v":{"$error":"#N/A"}}]
[null,{"$f":"INDEX(建筑!$B$2:$B$5001,MATCH(表格模板!A4061,建筑!$A$2:$A$5001,0),COLUMN(A4061))","v":{"$error":"#N/A"}},null,{"$f":"INDEX(设备类型!$B$2:$B$5001,MATCH(表格模板!C4061,设备类型!$A$2:$A$5001,0),COLUMN(A4061))","v":{"$error":"#N/A"}}]
[null,{"$f":"INDEX(建筑!$B$2:$B$5001,MATCH(表格模板!A4062,建筑!$A$2:$A$5001,0),COLUMN(A4062))","v":{"$error":"#N/A"}},null,{"$f":"INDEX(设备类型!$B$2:$B$5001,MATCH(表格模板!C4062,设备类型!$A$2:$A$5001,0),COLUMN(A4062))","v":{"$error":"#N/A"}}]
[null,{"$f":"INDEX(建筑!$B$2:$B$5001,MATCH(表格模板!A4063,建筑!$A$2:$A$5001,0),COLUMN(A4063))","v":{"$error":"#N/A"}},null,{"$f":"INDEX(设备类型!$B$2:$B$5001,MATCH(表格模板!C4063,设备类型!$A$2:$A$5001,0),COLUMN(A4063))","v":{"$error":"#N/A"}}]
[null,{"$f":"INDEX(建筑!$B$2:$B$5001,MATCH(表格模板!A4064,建筑!$A$2:$A$5001,0),COLUMN(A4064))","v":{"$error":"#N/A"}},null,{"$f":"INDEX(设备类型!$B$2:$B$5001,MATCH(表格模板!C4064,设备类型!$A$2:$A$5001,0),COLUMN(A4064))","v":{"$error":"#N/A"}}]
[null,{"$f":"INDEX(建筑!$B$2:$B$5001,MATCH(表格模板!A4065,建筑!$A$2:$A$5001,0),COLUMN(A4065))","v":{"$error":"#N/A"}},null,{"$f":"INDEX(设备类型!$B$2:$B$5001,MATCH(表格模板!C4065,设备类型!$A$2:$A$5001,0),COLUMN(A4065))","v":{"$error":"#N/A"}}]
[null,{"$f":"INDEX(建筑!$B$2:$B$5001,MATCH(表格模板!A4066,建筑!$A$2:$A$5001,0),COLUMN(A4066))","v":{"$error":"#N/A"}},null,{"$f":"INDEX(设备类型!$B$2:$B$5001,MATCH(表格模板!C4066,设备类型!$A$2:$A$5001,0),COLUMN(A4066))","v":{"$error":"#N/A"}}]
[null,{"$f":"INDEX(建筑!$B$2:$B$5001,MATCH(表格模板!A4067,建筑!$A$2:$A$5001,0),COLUMN(A4067))","v":{"$error":"#N/A"}},null,{"$f":"INDEX(设备类型!$B$2:$B$5001,MATCH(表格模板!C4067,设备类型!$A$2:$A$5001,0),COLUMN(A4067))","v":{"$error":"#N/A"}}]
[null,{"$f":"INDEX(建筑!$B$2:$B$5001,MATCH(表格模板!A4068,建筑!$A$2:$A$5001,0),COLUMN(A4068))","v":{"$error":"#N/A"}},null,{"$f":"INDEX(设备类型!$B$2:$B$5001,MATCH(表格模板!C4068,设备类型!$A$2:$A$5001,0),COLUMN(A4068))","v":{"$error":"#N/A"}}]
[null,{"$f":"INDEX(建筑!$B$2:$B$5001,MATCH(表格模板!A4069,建筑!$A$2:$A$5001,0),COLUMN(A4069))","v":{"$error":"#N/A"}},null,{"$f":"INDEX(设备类型!$B$2:$B$5001,MATCH(表格模板!C4069,设备类型!$A$2:$A$5001,0),COLUMN(A4069))","v":{"$error":"#N/A"}}]
[null,{"$f":"INDEX(建筑!$B$2:$B$5001,MATCH(表格模板!A4070,建筑!$A$2:$A$5001,0),COLUMN(A4070))","v":{"$error":"#N/A"}},null,{"$f":"INDEX(设备类型!$B$2:$B$5001,MATCH(表格模板!C4070,设备类型!$A$2:$A$5001,0),COLUMN(A4070))","v":{"$error":"#N/A"}}]
[null,{"$f":"INDEX(建筑!$B$2:$B$5001,MATCH(表格模板!A4071,建筑!$A$2:$A$5001,0),COLUMN(A4071))","v":{"$error":"#N/A"}},null,{"$f":"INDEX(设备类型!$B$2:$B$5001,MATCH(表格模板!C4071,设备类型!$A$2:$A$5001,0),COLUMN(A4071))","v":{"$error":"#N/A"}}]
[null,{"$f":"INDEX(建筑!$B$2:$B$5001,MATCH(表格模板!A4072,建筑!$A$2:$A$5001,0),COLUMN(A4072))","v":{"$error":"#N/A"}},null,{"$f":"INDEX(设备类型!$B$2:$B$5001,MATCH(表格模板!C4072,设备类型!$A$2:$A$5001,0),COLUMN(A4072))","v":{"$error":"#N/A"}}]
[null,{"$f":"INDEX(建筑!$B$2:$B$5001,MATCH(表格模板!A4073,建筑!$A$2:$A$5001,0),COLUMN(A4073))","v":{"$error":"#N/A"}},null,{"$f":"INDEX(设备类型!$B$2:$B$5001,MATCH(表格模板!C4073,设备类型!$A$2:$A$5001,0),COLUMN(A4073))","v":{"$error":"#N/A"}}]
[null,{"$f":"INDEX(建筑!$B$2:$B$5001,MATCH(表格模板!A4074,建筑!$A$2:$A$5001,0),COLUMN(A4074))","v":{"$error":"#N/A"}},null,{"$f":"INDEX(设备类型!$B$2:$B$5001,MATCH(表格模板!C4074,设备类型!$A$2:$A$5001,0),COLUMN(A4074))","v":{"$error":"#N/A"}}]
[null,{"$f":"INDEX(建筑!$B$2:$B$5001,MATCH(表格模板!A4075,建筑!$A$2:$A$5001,0),COLUMN(A4075))","v":{"$error":"#N/A"}},null,{"$f":"INDEX(设备类型!$B$2:$B$5001,MATCH(表格模板!C4075,设备类型!$A$2:$A$5001,0),COLUMN(A4075))","v":{"$error":"#N/A"}}]
[null,{"$f":"INDEX(建筑!$B$2:$B$5001,MATCH(表格模板!A4076,建筑!$A$2:$A$5001,0),COLUMN(A4076))","v":{"$error":"#N/A"}},null,{"$f":"INDEX(设备类型!$B$2:$B$5001,MATCH(表格模板!C4076,设备类型!$A$2:$A$5001,0),COLUMN(A4076))","v":{"$error":"#N/A"}}]
[null,{"$f":"INDEX(建筑!$B$2:$B$5001,MATCH(表格模板!A4077,建筑!$A$2:$A$5001,0),COLUMN(A4077))","v":{"$error":"#N/A"}},null,{"$f":"INDEX(设备类型!$B$2:$B$5001,MATCH(表格模板!C4077,设备类型!$A$2:$A$5001,0),COLUMN(A4077))","v":{"$error":"#N/A"}}]
[null,{"$f":"INDEX(建筑!$B$2:$B$5001,MATCH(表格模板!A4078,建筑!$A$2:$A$5001,0),COLUMN(A4078))","v":{"$error":"#N/A"}},null,{"$f":"INDEX(设备类型!$B$2:$B$5001,MATCH(表格模板!C4078,设备类型!$A$2:$A$5001,0),COLUMN(A4078))","v":{"$error":"#N/A"}}]
[null,{"$f":"INDEX(建筑!$B$2:$B$5001,MATCH(表格模板!A4079,建筑!$A$2:$A$5001,0),COLUMN(A4079))","v":{"$error":"#N/A"}},null,{"$f":"INDEX(设备类型!$B$2:$B$5001,MATCH(表格模板!C4079,设备类型!$A$2:$A$5001,0),COLUMN(A4079))","v":{"$error":"#N/A"}}]
[null,{"$f":"INDEX(建筑!$B$2:$B$5001,MATCH(表格模板!A4080,建筑!$A$2:$A$5001,0),COLUMN(A4080))","v":{"$error":"#N/A"}},null,{"$f":"INDEX(设备类型!$B$2:$B$5001,MATCH(表格模板!C4080,设备类型!$A$2:$A$5001,0),COLUMN(A4080))","v":{"$error":"#N/A"}}]
[null,{"$f":"INDEX(建筑!$B$2:$B$5001,MATCH(表格模板!A4081,建筑!$A$2:$A$5001,0),COLUMN(A4081))","v":{"$error":"#N/A"}},null,{"$f":"INDEX(设备类型!$B$2:$B$5001,MATCH(表格模板!C4081,设备类型!$A$2:$A$5001,0),COLUMN(A4081))","v":{"$error":"#N/A"}}]
[null,{"$f":"INDEX(建筑!$B$2:$B$5001,MATCH(表格模板!A4082,建筑!$A$2:$A$5001,0),COLUMN(A4082))","v":{"$error":"#N/A"}},null,{"$f":"INDEX(设备类型!$B$2:$B$5001,MATCH(表格模板!C4082,设备类型!$A$2:$A$5001,0),COLUMN(A4082))","v":{"$error":"#N/A"}}]
[null,{"$f":"INDEX(建筑!$B$2:$B$5001,MATCH(表格模板!A4083,建筑!$A$2:$A$5001,0),COLUMN(A4083))","v":{"$error":"#N/A"}},null,{"$f":"INDEX(设备类型!$B$2:$B$5001,MATCH(表格模板!C4083,设备类型!$A$2:$A$5001,0),COLUMN(A4083))","v":{"$error":"#N/A"}}]
[null,{"$f":"INDEX(建筑!$B$2:$B$5001,MATCH(表格模板!A4084,建筑!$A$2:$A$5001,0),COLUMN(A4084))","v":{"$error":"#N/A"}},null,{"$f":"INDEX(设备类型!$B$2:$B$5001,MATCH(表格模板!C4084,设备类型!$A$2:$A$5001,0),COLUMN(A4084))","v":{"$error":"#N/A"}}]
[null,{"$f":"INDEX(建筑!$B$2:$B$5001,MATCH(表格模板!A4085,建筑!$A$2:$A$5001,0),COLUMN(A4085))","v":{"$error":"#N/A"}},null,{"$f":"INDEX(设备类型!$B$2:$B$5001,MATCH(表格模板!C4085,设备类型!$A$2:$A$5001,0),COLUMN(A4085))","v":{"$error":"#N/A"}}]
[null,{"$f":"INDEX(建筑!$B$2:$B$5001,MATCH(表格模板!A4086,建筑!$A$2:$A$5001,0),COLUMN(A4086))","v":{"$error":"#N/A"}},null,{"$f":"INDEX(设备类型!$B$2:$B$5001,MATCH(表格模板!C4086,设备类型!$A$2:$A$5001,0),COLUMN(A4086))","v":{"$error":"#N/A"}}]
[null,{"$f":"INDEX(建筑!$B$2:$B$5001,MATCH(表格模板!A4087,建筑!$A$2:$A$5001,0),COLUMN(A4087))","v":{"$error":"#N/A"}},null,{"$f":"INDEX(设备类型!$B$2:$B$5001,MATCH(表格模板!C4087,设备类型!$A$2:$A$5001,0),COLUMN(A4087))","v":{"$error":"#N/A"}}]
[null,{"$f":"INDEX(建筑!$B$2:$B$5001,MATCH(表格模板!A4088,建筑!$A$2:$A$5001,0),COLUMN(A4088))","v":{"$error":"#N/A"}},null,{"$f":"INDEX(设备类型!$B$2:$B$5001,MATCH(表格模板!C4088,设备类型!$A$2:$A$5001,0),COLUMN(A4088))","v":{"$error":"#N/A"}}]
[null,{"$f":"INDEX(建筑!$B$2:$B$5001,MATCH(表格模板!A4089,建筑!$A$2:$A$5001,0),COLUMN(A4089))","v":{"$error":"#N/A"}},null,{"$f":"INDEX(设备类型!$B$2:$B$5001,MATCH(表格模板!C4089,设备类型!$A$2:$A$5001,0),COLUMN(A4089))","v":{"$error":"#N/A"}}]
[null,{"$f":"INDEX(建筑!$B$2:$B$5001,MATCH(表格模板!A4090,建筑!$A$2:$A$5001,0),COLUMN(A4090))","v":{"$error":"#N/A"}},null,{"$f":"INDEX(设备类型!$B$2:$B$5001,MATCH(表格模板!C4090,设备类型!$A$2:$A$5001,0),COLUMN(A4090))","v":{"$error":"#N/A"}}]
[null,{"$f":"INDEX(建筑!$B$2:$B$5001,MATCH(表格模板!A4091,建筑!$A$2:$A$5001,0),COLUMN(A4091))","v":{"$error":"#N/A"}},null,{"$f":"INDEX(设备类型!$B$2:$B$5001,MATCH(表格模板!C4091,设备类型!$A$2:$A$5001,0),COLUMN(A4091))","v":{"$error":"#N/A"}}]
[null,{"$f":"INDEX(建筑!$B$2:$B$5001,MATCH(表格模板!A4092,建筑!$A$2:$A$5001,0),COLUMN(A4092))","v":{"$error":"#N/A"}},null,{"$f":"INDEX(设备类型!$B$2:$B$5001,MATCH(表格模板!C4092,设备类型!$A$2:$A$5001,0),COLUMN(A4092))","v":{"$error":"#N/A"}}]
[null,{"$f":"INDEX(建筑!$B$2:$B$5001,MATCH(表格模板!A4093,建筑!$A$2:$A$5001,0),COLUMN(A4093))","v":{"$error":"#N/A"}},null,{"$f":"INDEX(设备类型!$B$2:$B$5001,MATCH(表格模板!C4093,设备类型!$A$2:$A$5001,0),COLUMN(A4093))","v":{"$error":"#N/A"}}]
[null,{"$f":"INDEX(建筑!$B$2:$B$5001,MATCH(表格模板!A4094,建筑!$A$2:$A$5001,0),COLUMN(A4094))","v":{"$error":"#N/A"}},null,{"$f":"INDEX(设备类型!$B$2:$B$5001,MATCH(表格模板!C4094,设备类型!$A$2:$A$5001,0),COLUMN(A4094))","v":{"$error":"#N/A"}}]
[null,{"$f":"INDEX(建筑!$B$2:$B$5001,MATCH(表格模板!A4095,建筑!$A$2:$A$5001,0),COLUMN(A4095))","v":{"$error":"#N/A"}},null,{"$f":"INDEX(设备类型!$B$2:$B$5001,MATCH(表格模板!C4095,设备类型!$A$2:$A$5001,0),COLUMN(A4095))","v":{"$error":"#N/A"}}]
[null,{"$f":"INDEX(建筑!$B$2:$B$5001,MATCH(表格模板!A4096,建筑!$A$2:$A$5001,0),COLUMN(A4096))","v":{"$error":"#N/A"}},null,{"$f":"INDEX(设备类型!$B$2:$B$5001,MATCH(表格模板!C4096,设备类型!$A$2:$A$5001,0),COLUMN(A4096))","v":{"$error":"#N/A"}}]
[null,{"$f":"INDEX(建筑!$B$2:$B$5001,MATCH(表格模板!A4097,建筑!$A$2:$A$5001,0),COLUMN(A4097))","v":{"$error":"#N/A"}},null,{"$f":"INDEX(设备类型!$B$2:$B$5001,MATCH(表格模板!C4097,设备类型!$A$2:$A$5001,0),COLUMN(A4097))","v":{"$error":"#N/A"}}]
[null,{"$f":"INDEX(建筑!$B$2:$B$5001,MATCH(表格模板!A4098,建筑!$A$2:$A$5001,0),COLUMN(A4098))","v":{"$error":"#N/A"}},null,{"$f":"INDEX(设备类型!$B$2:$B$5001,MATCH(表格模板!C4098,设备类型!$A$2:$A$5001,0),COLUMN(A4098))","v":{"$error":"#N/A"}}]
[null,{"$f":"INDEX(建筑!$B$2:$B$5001,MATCH(表格模板!A4099,建筑!$A$2:$A$5001,0),COLUMN(A4099))","v":{"$error":"#N/A"}},null,{"$f":"INDEX(设备类型!$B$2:$B$5001,MATCH(表格模板!C4099,设备类型!$A$2:$A$5001,0),COLUMN(A4099))","v":{"$error":"#N/A"}}]
[null,{"$f":"INDEX(建筑!$B$2:$B$5001,MATCH(表格模板!A4100,建筑!$A$2:$A$5001,0),COLUMN(A4100))","v":{"$error":"#N/A"}},null,{"$f":"INDEX(设备类型!$B$2:$B$5001,MATCH(表格模板!C4100,设备类型!$A$2:$A$5001,0),COLUMN(A4100))","v":{"$error":"#N/A"}}]
[null,{"$f":"INDEX(建筑!$B$2:$B$5001,MATCH(表格模板!A4101,建筑!$A$2:$A$5001,0),COLUMN(A4101))","v":{"$error":"#N/A"}},null,{"$f":"INDEX(设备类型!$B$2:$B$5001,MATCH(表格模板!C4101,设备类型!$A$2:$A$5001,0),COLUMN(A4101))","v":{"$error":"#N/A"}}]
[null,{"$f":"INDEX(建筑!$B$2:$B$5001,MATCH(表格模板!A4102,建筑!$A$2:$A$5001,0),COLUMN(A4102))","v":{"$error":"#N/A"}},null,{"$f":"INDEX(设备类型!$B$2:$B$5001,MATCH(表格模板!C4102,设备类型!$A$2:$A$5001,0),COLUMN(A4102))","v":{"$error":"#N/A"}}]
[null,{"$f":"INDEX(建筑!$B$2:$B$5001,MATCH(表格模板!A4103,建筑!$A$2:$A$5001,0),COLUMN(A4103))","v":{"$error":"#N/A"}},null,{"$f":"INDEX(设备类型!$B$2:$B$5001,MATCH(表格模板!C4103,设备类型!$A$2:$A$5001,0),COLUMN(A4103))","v":{"$error":"#N/A"}}]
[null,{"$f":"INDEX(建筑!$B$2:$B$5001,MATCH(表格模板!A4104,建筑!$A$2:$A$5001,0),COLUMN(A4104))","v":{"$error":"#N/A"}},null,{"$f":"INDEX(设备类型!$B$2:$B$5001,MATCH(表格模板!C4104,设备类型!$A$2:$A$5001,0),COLUMN(A4104))","v":{"$error":"#N/A"}}]
[null,{"$f":"INDEX(建筑!$B$2:$B$5001,MATCH(表格模板!A4105,建筑!$A$2:$A$5001,0),COLUMN(A4105))","v":{"$error":"#N/A"}},null,{"$f":"INDEX(设备类型!$B$2:$B$5001,MATCH(表格模板!C4105,设备类型!$A$2:$A$5001,0),COLUMN(A4105))","v":{"$error":"#N/A"}}]
[null,{"$f":"INDEX(建筑!$B$2:$B$5001,MATCH(表格模板!A4106,建筑!$A$2:$A$5001,0),COLUMN(A4106))","v":{"$error":"#N/A"}},null,{"$f":"INDEX(设备类型!$B$2:$B$5001,MATCH(表格模板!C4106,设备类型!$A$2:$A$5001,0),COLUMN(A4106))","v":{"$error":"#N/A"}}]
[null,{"$f":"INDEX(建筑!$B$2:$B$5001,MATCH(表格模板!A4107,建筑!$A$2:$A$5001,0),COLUMN(A4107))","v":{"$error":"#N/A"}},null,{"$f":"INDEX(设备类型!$B$2:$B$5001,MATCH(表格模板!C4107,设备类型!$A$2:$A$5001,0),COLUMN(A4107))","v":{"$error":"#N/A"}}]
[null,{"$f":"INDEX(建筑!$B$2:$B$5001,MATCH(表格模板!A4108,建筑!$A$2:$A$5001,0),COLUMN(A4108))","v":{"$error":"#N/A"}},null,{"$f":"INDEX(设备类型!$B$2:$B$5001,MATCH(表格模板!C4108,设备类型!$A$2:$A$5001,0),COLUMN(A4108))","v":{"$error":"#N/A"}}]
[null,{"$f":"INDEX(建筑!$B$2:$B$5001,MATCH(表格模板!A4109,建筑!$A$2:$A$5001,0),COLUMN(A4109))","v":{"$error":"#N/A"}},null,{"$f":"INDEX(设备类型!$B$2:$B$5001,MATCH(表格模板!C4109,设备类型!$A$2:$A$5001,0),COLUMN(A4109))","v":{"$error":"#N/A"}}]
[null,{"$f":"INDEX(建筑!$B$2:$B$5001,MATCH(表格模板!A4110,建筑!$A$2:$A$5001,0),COLUMN(A4110))","v":{"$error":"#N/A"}},null,{"$f":"INDEX(设备类型!$B$2:$B$5001,MATCH(表格模板!C4110,设备类型!$A$2:$A$5001,0),COLUMN(A4110))","v":{"$error":"#N/A"}}]
[null,{"$f":"INDEX(建筑!$B$2:$B$5001,MATCH(表格模板!A4111,建筑!$A$2:$A$5001,0),COLUMN(A4111))","v":{"$error":"#N/A"}},null,{"$f":"INDEX(设备类型!$B$2:$B$5001,MATCH(表格模板!C4111,设备类型!$A$2:$A$5001,0),COLUMN(A4111))","v":{"$error":"#N/A"}}]
[null,{"$f":"INDEX(建筑!$B$2:$B$5001,MATCH(表格模板!A4112,建筑!$A$2:$A$5001,0),COLUMN(A4112))","v":{"$error":"#N/A"}},null,{"$f":"INDEX(设备类型!$B$2:$B$5001,MATCH(表格模板!C4112,设备类型!$A$2:$A$5001,0),COLUMN(A4112))","v":{"$error":"#N/A"}}]
[null,{"$f":"INDEX(建筑!$B$2:$B$5001,MATCH(表格模板!A4113,建筑!$A$2:$A$5001,0),COLUMN(A4113))","v":{"$error":"#N/A"}},null,{"$f":"INDEX(设备类型!$B$2:$B$5001,MATCH(表格模板!C4113,设备类型!$A$2:$A$5001,0),COLUMN(A4113))","v":{"$error":"#N/A"}}]
[null,{"$f":"INDEX(建筑!$B$2:$B$5001,MATCH(表格模板!A4114,建筑!$A$2:$A$5001,0),COLUMN(A4114))","v":{"$error":"#N/A"}},null,{"$f":"INDEX(设备类型!$B$2:$B$5001,MATCH(表格模板!C4114,设备类型!$A$2:$A$5001,0),COLUMN(A4114))","v":{"$error":"#N/A"}}]
[null,{"$f":"INDEX(建筑!$B$2:$B$5001,MATCH(表格模板!A4115,建筑!$A$2:$A$5001,0),COLUMN(A4115))","v":{"$error":"#N/A"}},null,{"$f":"INDEX(设备类型!$B$2:$B$5001,MATCH(表格模板!C4115,设备类型!$A$2:$A$5001,0),COLUMN(A4115))","v":{"$error":"#N/A"}}]
[null,{"$f":"INDEX(建筑!$B$2:$B$5001,MATCH(表格模板!A4116,建筑!$A$2:$A$5001,0),COLUMN(A4116))","v":{"$error":"#N/A"}},null,{"$f":"INDEX(设备类型!$B$2:$B$5001,MATCH(表格模板!C4116,设备类型!$A$2:$A$5001,0),COLUMN(A4116))","v":{"$error":"#N/A"}}]
[null,{"$f":"INDEX(建筑!$B$2:$B$5001,MATCH(表格模板!A4117,建筑!$A$2:$A$5001,0),COLUMN(A4117))","v":{"$error":"#N/A"}},null,{"$f":"INDEX(设备类型!$B$2:$B$5001,MATCH(表格模板!C4117,设备类型!$A$2:$A$5001,0),COLUMN(A4117))","v":{"$error":"#N/A"}}]
[null,{"$f":"INDEX(建筑!$B$2:$B$5001,MATCH(表格模板!A4118,建筑!$A$2:$A$5001,0),COLUMN(A4118))","v":{"$error":"#N/A"}},null,{"$f":"INDEX(设备类型!$B$2:$B$5001,MATCH(表格模板!C4118,设备类型!$A$2:$A$5001,0),COLUMN(A4118))","v":{"$error":"#N/A"}}]
[null,{"$f":"INDEX(建筑!$B$2:$B$5001,MATCH(表格模板!A4119,建筑!$A$2:$A$5001,0),COLUMN(A4119))","v":{"$error":"#N/A"}},null,{"$f":"INDEX(设备类型!$B$2:$B$5001,MATCH(表格模板!C4119,设备类型!$A$2:$A$5001,0),COLUMN(A4119))","v":{"$error":"#N/A"}}]
[null,{"$f":"INDEX(建筑!$B$2:$B$5001,MATCH(表格模板!A4120,建筑!$A$2:$A$5001,0),COLUMN(A4120))","v":{"$error":"#N/A"}},null,{"$f":"INDEX(设备类型!$B$2:$B$5001,MATCH(表格模板!C4120,设备类型!$A$2:$A$5001,0),COLUMN(A4120))","v":{"$error":"#N/A"}}]
[null,{"$f":"INDEX(建筑!$B$2:$B$5001,MATCH(表格模板!A4121,建筑!$A$2:$A$5001,0),COLUMN(A4121))","v":{"$error":"#N/A"}},null,{"$f":"INDEX(设备类型!$B$2:$B$5001,MATCH(表格模板!C4121,设备类型!$A$2:$A$5001,0),COLUMN(A4121))","v":{"$error":"#N/A"}}]
[null,{"$f":"INDEX(建筑!$B$2:$B$5001,MATCH(表格模板!A4122,建筑!$A$2:$A$5001,0),COLUMN(A4122))","v":{"$error":"#N/A"}},null,{"$f":"INDEX(设备类型!$B$2:$B$5001,MATCH(表格模板!C4122,设备类型!$A$2:$A$5001,0),COLUMN(A4122))","v":{"$error":"#N/A"}}]
[null,{"$f":"INDEX(建筑!$B$2:$B$5001,MATCH(表格模板!A4123,建筑!$A$2:$A$5001,0),COLUMN(A4123))","v":{"$error":"#N/A"}},null,{"$f":"INDEX(设备类型!$B$2:$B$5001,MATCH(表格模板!C4123,设备类型!$A$2:$A$5001,0),COLUMN(A4123))","v":{"$error":"#N/A"}}]
[null,{"$f":"INDEX(建筑!$B$2:$B$5001,MATCH(表格模板!A4124,建筑!$A$2:$A$5001,0),COLUMN(A4124))","v":{"$error":"#N/A"}},null,{"$f":"INDEX(设备类型!$B$2:$B$5001,MATCH(表格模板!C4124,设备类型!$A$2:$A$5001,0),COLUMN(A4124))","v":{"$error":"#N/A"}}]
[null,{"$f":"INDEX(建筑!$B$2:$B$5001,MATCH(表格模板!A4125,建筑!$A$2:$A$5001,0),COLUMN(A4125))","v":{"$error":"#N/A"}},null,{"$f":"INDEX(设备类型!$B$2:$B$5001,MATCH(表格模板!C4125,设备类型!$A$2:$A$5001,0),COLUMN(A4125))","v":{"$error":"#N/A"}}]
[null,{"$f":"INDEX(建筑!$B$2:$B$5001,MATCH(表格模板!A4126,建筑!$A$2:$A$5001,0),COLUMN(A4126))","v":{"$error":"#N/A"}},null,{"$f":"INDEX(设备类型!$B$2:$B$5001,MATCH(表格模板!C4126,设备类型!$A$2:$A$5001,0),COLUMN(A4126))","v":{"$error":"#N/A"}}]
[null,{"$f":"INDEX(建筑!$B$2:$B$5001,MATCH(表格模板!A4127,建筑!$A$2:$A$5001,0),COLUMN(A4127))","v":{"$error":"#N/A"}},null,{"$f":"INDEX(设备类型!$B$2:$B$5001,MATCH(表格模板!C4127,设备类型!$A$2:$A$5001,0),COLUMN(A4127))","v":{"$error":"#N/A"}}]
[null,{"$f":"INDEX(建筑!$B$2:$B$5001,MATCH(表格模板!A4128,建筑!$A$2:$A$5001,0),COLUMN(A4128))","v":{"$error":"#N/A"}},null,{"$f":"INDEX(设备类型!$B$2:$B$5001,MATCH(表格模板!C4128,设备类型!$A$2:$A$5001,0),COLUMN(A4128))","v":{"$error":"#N/A"}}]
[null,{"$f":"INDEX(建筑!$B$2:$B$5001,MATCH(表格模板!A4129,建筑!$A$2:$A$5001,0),COLUMN(A4129))","v":{"$error":"#N/A"}},null,{"$f":"INDEX(设备类型!$B$2:$B$5001,MATCH(表格模板!C4129,设备类型!$A$2:$A$5001,0),COLUMN(A4129))","v":{"$error":"#N/A"}}]
[null,{"$f":"INDEX(建筑!$B$2:$B$5001,MATCH(表格模板!A4130,建筑!$A$2:$A$5001,0),COLUMN(A4130))","v":{"$error":"#N/A"}},null,{"$f":"INDEX(设备类型!$B$2:$B$5001,MATCH(表格模板!C4130,设备类型!$A$2:$A$5001,0),COLUMN(A4130))","v":{"$error":"#N/A"}}]
[null,{"$f":"INDEX(建筑!$B$2:$B$5001,MATCH(表格模板!A4131,建筑!$A$2:$A$5001,0),COLUMN(A4131))","v":{"$error":"#N/A"}},null,{"$f":"INDEX(设备类型!$B$2:$B$5001,MATCH(表格模板!C4131,设备类型!$A$2:$A$5001,0),COLUMN(A4131))","v":{"$error":"#N/A"}}]
[null,{"$f":"INDEX(建筑!$B$2:$B$5001,MATCH(表格模板!A4132,建筑!$A$2:$A$5001,0),COLUMN(A4132))","v":{"$error":"#N/A"}},null,{"$f":"INDEX(设备类型!$B$2:$B$5001,MATCH(表格模板!C4132,设备类型!$A$2:$A$5001,0),COLUMN(A4132))","v":{"$error":"#N/A"}}]
[null,{"$f":"INDEX(建筑!$B$2:$B$5001,MATCH(表格模板!A4133,建筑!$A$2:$A$5001,0),COLUMN(A4133))","v":{"$error":"#N/A"}},null,{"$f":"INDEX(设备类型!$B$2:$B$5001,MATCH(表格模板!C4133,设备类型!$A$2:$A$5001,0),COLUMN(A4133))","v":{"$error":"#N/A"}}]
[null,{"$f":"INDEX(建筑!$B$2:$B$5001,MATCH(表格模板!A4134,建筑!$A$2:$A$5001,0),COLUMN(A4134))","v":{"$error":"#N/A"}},null,{"$f":"INDEX(设备类型!$B$2:$B$5001,MATCH(表格模板!C4134,设备类型!$A$2:$A$5001,0),COLUMN(A4134))","v":{"$error":"#N/A"}}]
[null,{"$f":"INDEX(建筑!$B$2:$B$5001,MATCH(表格模板!A4135,建筑!$A$2:$A$5001,0),COLUMN(A4135))","v":{"$error":"#N/A"}},null,{"$f":"INDEX(设备类型!$B$2:$B$5001,MATCH(表格模板!C4135,设备类型!$A$2:$A$5001,0),COLUMN(A4135))","v":{"$error":"#N/A"}}]
[null,{"$f":"INDEX(建筑!$B$2:$B$5001,MATCH(表格模板!A4136,建筑!$A$2:$A$5001,0),COLUMN(A4136))","v":{"$error":"#N/A"}},null,{"$f":"INDEX(设备类型!$B$2:$B$5001,MATCH(表格模板!C4136,设备类型!$A$2:$A$5001,0),COLUMN(A4136))","v":{"$error":"#N/A"}}]
[null,{"$f":"INDEX(建筑!$B$2:$B$5001,MATCH(表格模板!A4137,建筑!$A$2:$A$5001,0),COLUMN(A4137))","v":{"$error":"#N/A"}},null,{"$f":"INDEX(设备类型!$B$2:$B$5001,MATCH(表格模板!C4137,设备类型!$A$2:$A$5001,0),COLUMN(A4137))","v":{"$error":"#N/A"}}]
[null,{"$f":"INDEX(建筑!$B$2:$B$5001,MATCH(表格模板!A4138,建筑!$A$2:$A$5001,0),COLUMN(A4138))","v":{"$error":"#N/A"}},null,{"$f":"INDEX(设备类型!$B$2:$B$5001,MATCH(表格模板!C4138,设备类型!$A$2:$A$5001,0),COLUMN(A4138))","v":{"$error":"#N/A"}}]
[null,{"$f":"INDEX(建筑!$B$2:$B$5001,MATCH(表格模板!A4139,建筑!$A$2:$A$5001,0),COLUMN(A4139))","v":{"$error":"#N/A"}},null,{"$f":"INDEX(设备类型!$B$2:$B$5001,MATCH(表格模板!C4139,设备类型!$A$2:$A$5001,0),COLUMN(A4139))","v":{"$error":"#N/A"}}]
[null,{"$f":"INDEX(建筑!$B$2:$B$5001,MATCH(表格模板!A4140,建筑!$A$2:$A$5001,0),COLUMN(A4140))","v":{"$error":"#N/A"}},null,{"$f":"INDEX(设备类型!$B$2:$B$5001,MATCH(表格模板!C4140,设备类型!$A$2:$A$5001,0),COLUMN(A4140))","v":{"$error":"#N/A"}}]
[null,{"$f":"INDEX(建筑!$B$2:$B$5001,MATCH(表格模板!A4141,建筑!$A$2:$A$5001,0),COLUMN(A4141))","v":{"$error":"#N/A"}},null,{"$f":"INDEX(设备类型!$B$2:$B$5001,MATCH(表格模板!C4141,设备类型!$A$2:$A$5001,0),COLUMN(A4141))","v":{"$error":"#N/A"}}]
[null,{"$f":"INDEX(建筑!$B$2:$B$5001,MATCH(表格模板!A4142,建筑!$A$2:$A$5001,0),COLUMN(A4142))","v":{"$error":"#N/A"}},null,{"$f":"INDEX(设备类型!$B$2:$B$5001,MATCH(表格模板!C4142,设备类型!$A$2:$A$5001,0),COLUMN(A4142))","v":{"$error":"#N/A"}}]
[null,{"$f":"INDEX(建筑!$B$2:$B$5001,MATCH(表格模板!A4143,建筑!$A$2:$A$5001,0),COLUMN(A4143))","v":{"$error":"#N/A"}},null,{"$f":"INDEX(设备类型!$B$2:$B$5001,MATCH(表格模板!C4143,设备类型!$A$2:$A$5001,0),COLUMN(A4143))","v":{"$error":"#N/A"}}]
[null,{"$f":"INDEX(建筑!$B$2:$B$5001,MATCH(表格模板!A4144,建筑!$A$2:$A$5001,0),COLUMN(A4144))","v":{"$error":"#N/A"}},null,{"$f":"INDEX(设备类型!$B$2:$B$5001,MATCH(表格模板!C4144,设备类型!$A$2:$A$5001,0),COLUMN(A4144))","v":{"$error":"#N/A"}}]
[null,{"$f":"INDEX(建筑!$B$2:$B$5001,MATCH(表格模板!A4145,建筑!$A$2:$A$5001,0),COLUMN(A4145))","v":{"$error":"#N/A"}},null,{"$f":"INDEX(设备类型!$B$2:$B$5001,MATCH(表格模板!C4145,设备类型!$A$2:$A$5001,0),COLUMN(A4145))","v":{"$error":"#N/A"}}]
[null,{"$f":"INDEX(建筑!$B$2:$B$5001,MATCH(表格模板!A4146,建筑!$A$2:$A$5001,0),COLUMN(A4146))","v":{"$error":"#N/A"}},null,{"$f":"INDEX(设备类型!$B$2:$B$5001,MATCH(表格模板!C4146,设备类型!$A$2:$A$5001,0),COLUMN(A4146))","v":{"$error":"#N/A"}}]
[null,{"$f":"INDEX(建筑!$B$2:$B$5001,MATCH(表格模板!A4147,建筑!$A$2:$A$5001,0),COLUMN(A4147))","v":{"$error":"#N/A"}},null,{"$f":"INDEX(设备类型!$B$2:$B$5001,MATCH(表格模板!C4147,设备类型!$A$2:$A$5001,0),COLUMN(A4147))","v":{"$error":"#N/A"}}]
[null,{"$f":"INDEX(建筑!$B$2:$B$5001,MATCH(表格模板!A4148,建筑!$A$2:$A$5001,0),COLUMN(A4148))","v":{"$error":"#N/A"}},null,{"$f":"INDEX(设备类型!$B$2:$B$5001,MATCH(表格模板!C4148,设备类型!$A$2:$A$5001,0),COLUMN(A4148))","v":{"$error":"#N/A"}}]
[null,{"$f":"INDEX(建筑!$B$2:$B$5001,MATCH(表格模板!A4149,建筑!$A$2:$A$5001,0),COLUMN(A4149))","v":{"$error":"#N/A"}},null,{"$f":"INDEX(设备类型!$B$2:$B$5001,MATCH(表格模板!C4149,设备类型!$A$2:$A$5001,0),COLUMN(A4149))","v":{"$error":"#N/A"}}]
[null,{"$f":"INDEX(建筑!$B$2:$B$5001,MATCH(表格模板!A4150,建筑!$A$2:$A$5001,0),COLUMN(A4150))","v":{"$error":"#N/A"}},null,{"$f":"INDEX(设备类型!$B$2:$B$5001,MATCH(表格模板!C4150,设备类型!$A$2:$A$5001,0),COLUMN(A4150))","v":{"$error":"#N/A"}}]
[null,{"$f":"INDEX(建筑!$B$2:$B$5001,MATCH(表格模板!A4151,建筑!$A$2:$A$5001,0),COLUMN(A4151))","v":{"$error":"#N/A"}},null,{"$f":"INDEX(设备类型!$B$2:$B$5001,MATCH(表格模板!C4151,设备类型!$A$2:$A$5001,0),COLUMN(A4151))","v":{"$error":"#N/A"}}]
[null,{"$f":"INDEX(建筑!$B$2:$B$5001,MATCH(表格模板!A4152,建筑!$A$2:$A$5001,0),COLUMN(A4152))","v":{"$error":"#N/A"}},null,{"$f":"INDEX(设备类型!$B$2:$B$5001,MATCH(表格模板!C4152,设备类型!$A$2:$A$5001,0),COLUMN(A4152))","v":{"$error":"#N/A"}}]
[null,{"$f":"INDEX(建筑!$B$2:$B$5001,MATCH(表格模板!A4153,建筑!$A$2:$A$5001,0),COLUMN(A4153))","v":{"$error":"#N/A"}},null,{"$f":"INDEX(设备类型!$B$2:$B$5001,MATCH(表格模板!C4153,设备类型!$A$2:$A$5001,0),COLUMN(A4153))","v":{"$error":"#N/A"}}]
[null,{"$f":"INDEX(建筑!$B$2:$B$5001,MATCH(表格模板!A4154,建筑!$A$2:$A$5001,0),COLUMN(A4154))","v":{"$error":"#N/A"}},null,{"$f":"INDEX(设备类型!$B$2:$B$5001,MATCH(表格模板!C4154,设备类型!$A$2:$A$5001,0),COLUMN(A4154))","v":{"$error":"#N/A"}}]
[null,{"$f":"INDEX(建筑!$B$2:$B$5001,MATCH(表格模板!A4155,建筑!$A$2:$A$5001,0),COLUMN(A4155))","v":{"$error":"#N/A"}},null,{"$f":"INDEX(设备类型!$B$2:$B$5001,MATCH(表格模板!C4155,设备类型!$A$2:$A$5001,0),COLUMN(A4155))","v":{"$error":"#N/A"}}]
[null,{"$f":"INDEX(建筑!$B$2:$B$5001,MATCH(表格模板!A4156,建筑!$A$2:$A$5001,0),COLUMN(A4156))","v":{"$error":"#N/A"}},null,{"$f":"INDEX(设备类型!$B$2:$B$5001,MATCH(表格模板!C4156,设备类型!$A$2:$A$5001,0),COLUMN(A4156))","v":{"$error":"#N/A"}}]
[null,{"$f":"INDEX(建筑!$B$2:$B$5001,MATCH(表格模板!A4157,建筑!$A$2:$A$5001,0),COLUMN(A4157))","v":{"$error":"#N/A"}},null,{"$f":"INDEX(设备类型!$B$2:$B$5001,MATCH(表格模板!C4157,设备类型!$A$2:$A$5001,0),COLUMN(A4157))","v":{"$error":"#N/A"}}]
[null,{"$f":"INDEX(建筑!$B$2:$B$5001,MATCH(表格模板!A4158,建筑!$A$2:$A$5001,0),COLUMN(A4158))","v":{"$error":"#N/A"}},null,{"$f":"INDEX(设备类型!$B$2:$B$5001,MATCH(表格模板!C4158,设备类型!$A$2:$A$5001,0),COLUMN(A4158))","v":{"$error":"#N/A"}}]
[null,{"$f":"INDEX(建筑!$B$2:$B$5001,MATCH(表格模板!A4159,建筑!$A$2:$A$5001,0),COLUMN(A4159))","v":{"$error":"#N/A"}},null,{"$f":"INDEX(设备类型!$B$2:$B$5001,MATCH(表格模板!C4159,设备类型!$A$2:$A$5001,0),COLUMN(A4159))","v":{"$error":"#N/A"}}]
[null,{"$f":"INDEX(建筑!$B$2:$B$5001,MATCH(表格模板!A4160,建筑!$A$2:$A$5001,0),COLUMN(A4160))","v":{"$error":"#N/A"}},null,{"$f":"INDEX(设备类型!$B$2:$B$5001,MATCH(表格模板!C4160,设备类型!$A$2:$A$5001,0),COLUMN(A4160))","v":{"$error":"#N/A"}}]
[null,{"$f":"INDEX(建筑!$B$2:$B$5001,MATCH(表格模板!A4161,建筑!$A$2:$A$5001,0),COLUMN(A4161))","v":{"$error":"#N/A"}},null,{"$f":"INDEX(设备类型!$B$2:$B$5001,MATCH(表格模板!C4161,设备类型!$A$2:$A$5001,0),COLUMN(A4161))","v":{"$error":"#N/A"}}]
[null,{"$f":"INDEX(建筑!$B$2:$B$5001,MATCH(表格模板!A4162,建筑!$A$2:$A$5001,0),COLUMN(A4162))","v":{"$error":"#N/A"}},null,{"$f":"INDEX(设备类型!$B$2:$B$5001,MATCH(表格模板!C4162,设备类型!$A$2:$A$5001,0),COLUMN(A4162))","v":{"$error":"#N/A"}}]
[null,{"$f":"INDEX(建筑!$B$2:$B$5001,MATCH(表格模板!A4163,建筑!$A$2:$A$5001,0),COLUMN(A4163))","v":{"$error":"#N/A"}},null,{"$f":"INDEX(设备类型!$B$2:$B$5001,MATCH(表格模板!C4163,设备类型!$A$2:$A$5001,0),COLUMN(A4163))","v":{"$error":"#N/A"}}]
[null,{"$f":"INDEX(建筑!$B$2:$B$5001,MATCH(表格模板!A4164,建筑!$A$2:$A$5001,0),COLUMN(A4164))","v":{"$error":"#N/A"}},null,{"$f":"INDEX(设备类型!$B$2:$B$5001,MATCH(表格模板!C4164,设备类型!$A$2:$A$5001,0),COLUMN(A4164))","v":{"$error":"#N/A"}}]
[null,{"$f":"INDEX(建筑!$B$2:$B$5001,MATCH(表格模板!A4165,建筑!$A$2:$A$5001,0),COLUMN(A4165))","v":{"$error":"#N/A"}},null,{"$f":"INDEX(设备类型!$B$2:$B$5001,MATCH(表格模板!C4165,设备类型!$A$2:$A$5001,0),COLUMN(A4165))","v":{"$error":"#N/A"}}]
[null,{"$f":"INDEX(建筑!$B$2:$B$5001,MATCH(表格模板!A4166,建筑!$A$2:$A$5001,0),COLUMN(A4166))","v":{"$error":"#N/A"}},null,{"$f":"INDEX(设备类型!$B$2:$B$5001,MATCH(表格模板!C4166,设备类型!$A$2:$A$5001,0),COLUMN(A4166))","v":{"$error":"#N/A"}}]
[null,{"$f":"INDEX(建筑!$B$2:$B$5001,MATCH(表格模板!A4167,建筑!$A$2:$A$5001,0),COLUMN(A4167))","v":{"$error":"#N/A"}},null,{"$f":"INDEX(设备类型!$B$2:$B$5001,MATCH(表格模板!C4167,设备类型!$A$2:$A$5001,0),COLUMN(A4167))","v":{"$error":"#N/A"}}]
[null,{"$f":"INDEX(建筑!$B$2:$B$5001,MATCH(表格模板!A4168,建筑!$A$2:$A$5001,0),COLUMN(A4168))","v":{"$error":"#N/A"}},null,{"$f":"INDEX(设备类型!$B$2:$B$5001,MATCH(表格模板!C4168,设备类型!$A$2:$A$5001,0),COLUMN(A4168))","v":{"$error":"#N/A"}}]
[null,{"$f":"INDEX(建筑!$B$2:$B$5001,MATCH(表格模板!A4169,建筑!$A$2:$A$5001,0),COLUMN(A4169))","v":{"$error":"#N/A"}},null,{"$f":"INDEX(设备类型!$B$2:$B$5001,MATCH(表格模板!C4169,设备类型!$A$2:$A$5001,0),COLUMN(A4169))","v":{"$error":"#N/A"}}]
[null,{"$f":"INDEX(建筑!$B$2:$B$5001,MATCH(表格模板!A4170,建筑!$A$2:$A$5001,0),COLUMN(A4170))","v":{"$error":"#N/A"}},null,{"$f":"INDEX(设备类型!$B$2:$B$5001,MATCH(表格模板!C4170,设备类型!$A$2:$A$5001,0),COLUMN(A4170))","v":{"$error":"#N/A"}}]
[null,{"$f":"INDEX(建筑!$B$2:$B$5001,MATCH(表格模板!A4171,建筑!$A$2:$A$5001,0),COLUMN(A4171))","v":{"$error":"#N/A"}},null,{"$f":"INDEX(设备类型!$B$2:$B$5001,MATCH(表格模板!C4171,设备类型!$A$2:$A$5001,0),COLUMN(A4171))","v":{"$error":"#N/A"}}]
[null,{"$f":"INDEX(建筑!$B$2:$B$5001,MATCH(表格模板!A4172,建筑!$A$2:$A$5001,0),COLUMN(A4172))","v":{"$error":"#N/A"}},null,{"$f":"INDEX(设备类型!$B$2:$B$5001,MATCH(表格模板!C4172,设备类型!$A$2:$A$5001,0),COLUMN(A4172))","v":{"$error":"#N/A"}}]
[null,{"$f":"INDEX(建筑!$B$2:$B$5001,MATCH(表格模板!A4173,建筑!$A$2:$A$5001,0),COLUMN(A4173))","v":{"$error":"#N/A"}},null,{"$f":"INDEX(设备类型!$B$2:$B$5001,MATCH(表格模板!C4173,设备类型!$A$2:$A$5001,0),COLUMN(A4173))","v":{"$error":"#N/A"}}]
[null,{"$f":"INDEX(建筑!$B$2:$B$5001,MATCH(表格模板!A4174,建筑!$A$2:$A$5001,0),COLUMN(A4174))","v":{"$error":"#N/A"}},null,{"$f":"INDEX(设备类型!$B$2:$B$5001,MATCH(表格模板!C4174,设备类型!$A$2:$A$5001,0),COLUMN(A4174))","v":{"$error":"#N/A"}}]
[null,{"$f":"INDEX(建筑!$B$2:$B$5001,MATCH(表格模板!A4175,建筑!$A$2:$A$5001,0),COLUMN(A4175))","v":{"$error":"#N/A"}},null,{"$f":"INDEX(设备类型!$B$2:$B$5001,MATCH(表格模板!C4175,设备类型!$A$2:$A$5001,0),COLUMN(A4175))","v":{"$error":"#N/A"}}]
[null,{"$f":"INDEX(建筑!$B$2:$B$5001,MATCH(表格模板!A4176,建筑!$A$2:$A$5001,0),COLUMN(A4176))","v":{"$error":"#N/A"}},null,{"$f":"INDEX(设备类型!$B$2:$B$5001,MATCH(表格模板!C4176,设备类型!$A$2:$A$5001,0),COLUMN(A4176))","v":{"$error":"#N/A"}}]
[null,{"$f":"INDEX(建筑!$B$2:$B$5001,MATCH(表格模板!A4177,建筑!$A$2:$A$5001,0),COLUMN(A4177))","v":{"$error":"#N/A"}},null,{"$f":"INDEX(设备类型!$B$2:$B$5001,MATCH(表格模板!C4177,设备类型!$A$2:$A$5001,0),COLUMN(A4177))","v":{"$error":"#N/A"}}]
[null,{"$f":"INDEX(建筑!$B$2:$B$5001,MATCH(表格模板!A4178,建筑!$A$2:$A$5001,0),COLUMN(A4178))","v":{"$error":"#N/A"}},null,{"$f":"INDEX(设备类型!$B$2:$B$5001,MATCH(表格模板!C4178,设备类型!$A$2:$A$5001,0),COLUMN(A4178))","v":{"$error":"#N/A"}}]
[null,{"$f":"INDEX(建筑!$B$2:$B$5001,MATCH(表格模板!A4179,建筑!$A$2:$A$5001,0),COLUMN(A4179))","v":{"$error":"#N/A"}},null,{"$f":"INDEX(设备类型!$B$2:$B$5001,MATCH(表格模板!C4179,设备类型!$A$2:$A$5001,0),COLUMN(A4179))","v":{"$error":"#N/A"}}]
[null,{"$f":"INDEX(建筑!$B$2:$B$5001,MATCH(表格模板!A4180,建筑!$A$2:$A$5001,0),COLUMN(A4180))","v":{"$error":"#N/A"}},null,{"$f":"INDEX(设备类型!$B$2:$B$5001,MATCH(表格模板!C4180,设备类型!$A$2:$A$5001,0),COLUMN(A4180))","v":{"$error":"#N/A"}}]
[null,{"$f":"INDEX(建筑!$B$2:$B$5001,MATCH(表格模板!A4181,建筑!$A$2:$A$5001,0),COLUMN(A4181))","v":{"$error":"#N/A"}},null,{"$f":"INDEX(设备类型!$B$2:$B$5001,MATCH(表格模板!C4181,设备类型!$A$2:$A$5001,0),COLUMN(A4181))","v":{"$error":"#N/A"}}]
[null,{"$f":"INDEX(建筑!$B$2:$B$5001,MATCH(表格模板!A4182,建筑!$A$2:$A$5001,0),COLUMN(A4182))","v":{"$error":"#N/A"}},null,{"$f":"INDEX(设备类型!$B$2:$B$5001,MATCH(表格模板!C4182,设备类型!$A$2:$A$5001,0),COLUMN(A4182))","v":{"$error":"#N/A"}}]
[null,{"$f":"INDEX(建筑!$B$2:$B$5001,MATCH(表格模板!A4183,建筑!$A$2:$A$5001,0),COLUMN(A4183))","v":{"$error":"#N/A"}},null,{"$f":"INDEX(设备类型!$B$2:$B$5001,MATCH(表格模板!C4183,设备类型!$A$2:$A$5001,0),COLUMN(A4183))","v":{"$error":"#N/A"}}]
[null,{"$f":"INDEX(建筑!$B$2:$B$5001,MATCH(表格模板!A4184,建筑!$A$2:$A$5001,0),COLUMN(A4184))","v":{"$error":"#N/A"}},null,{"$f":"INDEX(设备类型!$B$2:$B$5001,MATCH(表格模板!C4184,设备类型!$A$2:$A$5001,0),COLUMN(A4184))","v":{"$error":"#N/A"}}]
[null,{"$f":"INDEX(建筑!$B$2:$B$5001,MATCH(表格模板!A4185,建筑!$A$2:$A$5001,0),COLUMN(A4185))","v":{"$error":"#N/A"}},null,{"$f":"INDEX(设备类型!$B$2:$B$5001,MATCH(表格模板!C4185,设备类型!$A$2:$A$5001,0),COLUMN(A4185))","v":{"$error":"#N/A"}}]
[null,{"$f":"INDEX(建筑!$B$2:$B$5001,MATCH(表格模板!A4186,建筑!$A$2:$A$5001,0),COLUMN(A4186))","v":{"$error":"#N/A"}},null,{"$f":"INDEX(设备类型!$B$2:$B$5001,MATCH(表格模板!C4186,设备类型!$A$2:$A$5001,0),COLUMN(A4186))","v":{"$error":"#N/A"}}]
[null,{"$f":"INDEX(建筑!$B$2:$B$5001,MATCH(表格模板!A4187,建筑!$A$2:$A$5001,0),COLUMN(A4187))","v":{"$error":"#N/A"}},null,{"$f":"INDEX(设备类型!$B$2:$B$5001,MATCH(表格模板!C4187,设备类型!$A$2:$A$5001,0),COLUMN(A4187))","v":{"$error":"#N/A"}}]
[null,{"$f":"INDEX(建筑!$B$2:$B$5001,MATCH(表格模板!A4188,建筑!$A$2:$A$5001,0),COLUMN(A4188))","v":{"$error":"#N/A"}},null,{"$f":"INDEX(设备类型!$B$2:$B$5001,MATCH(表格模板!C4188,设备类型!$A$2:$A$5001,0),COLUMN(A4188))","v":{"$error":"#N/A"}}]
[null,{"$f":"INDEX(建筑!$B$2:$B$5001,MATCH(表格模板!A4189,建筑!$A$2:$A$5001,0),COLUMN(A4189))","v":{"$error":"#N/A"}},null,{"$f":"INDEX(设备类型!$B$2:$B$5001,MATCH(表格模板!C4189,设备类型!$A$2:$A$5001,0),COLUMN(A4189))","v":{"$error":"#N/A"}}]
[null,{"$f":"INDEX(建筑!$B$2:$B$5001,MATCH(表格模板!A4190,建筑!$A$2:$A$5001,0),COLUMN(A4190))","v":{"$error":"#N/A"}},null,{"$f":"INDEX(设备类型!$B$2:$B$5001,MATCH(表格模板!C4190,设备类型!$A$2:$A$5001,0),COLUMN(A4190))","v":{"$error":"#N/A"}}]
[null,{"$f":"INDEX(建筑!$B$2:$B$5001,MATCH(表格模板!A4191,建筑!$A$2:$A$5001,0),COLUMN(A4191))","v":{"$error":"#N/A"}},null,{"$f":"INDEX(设备类型!$B$2:$B$5001,MATCH(表格模板!C4191,设备类型!$A$2:$A$5001,0),COLUMN(A4191))","v":{"$error":"#N/A"}}]
[null,{"$f":"INDEX(建筑!$B$2:$B$5001,MATCH(表格模板!A4192,建筑!$A$2:$A$5001,0),COLUMN(A4192))","v":{"$error":"#N/A"}},null,{"$f":"INDEX(设备类型!$B$2:$B$5001,MATCH(表格模板!C4192,设备类型!$A$2:$A$5001,0),COLUMN(A4192))","v":{"$error":"#N/A"}}]
[null,{"$f":"INDEX(建筑!$B$2:$B$5001,MATCH(表格模板!A4193,建筑!$A$2:$A$5001,0),COLUMN(A4193))","v":{"$error":"#N/A"}},null,{"$f":"INDEX(设备类型!$B$2:$B$5001,MATCH(表格模板!C4193,设备类型!$A$2:$A$5001,0),COLUMN(A4193))","v":{"$error":"#N/A"}}]
[null,{"$f":"INDEX(建筑!$B$2:$B$5001,MATCH(表格模板!A4194,建筑!$A$2:$A$5001,0),COLUMN(A4194))","v":{"$error":"#N/A"}},null,{"$f":"INDEX(设备类型!$B$2:$B$5001,MATCH(表格模板!C4194,设备类型!$A$2:$A$5001,0),COLUMN(A4194))","v":{"$error":"#N/A"}}]
[null,{"$f":"INDEX(建筑!$B$2:$B$5001,MATCH(表格模板!A4195,建筑!$A$2:$A$5001,0),COLUMN(A4195))","v":{"$error":"#N/A"}},null,{"$f":"INDEX(设备类型!$B$2:$B$5001,MATCH(表格模板!C4195,设备类型!$A$2:$A$5001,0),COLUMN(A4195))","v":{"$error":"#N/A"}}]
[null,{"$f":"INDEX(建筑!$B$2:$B$5001,MATCH(表格模板!A4196,建筑!$A$2:$A$5001,0),COLUMN(A4196))","v":{"$error":"#N/A"}},null,{"$f":"INDEX(设备类型!$B$2:$B$5001,MATCH(表格模板!C4196,设备类型!$A$2:$A$5001,0),COLUMN(A4196))","v":{"$error":"#N/A"}}]
[null,{"$f":"INDEX(建筑!$B$2:$B$5001,MATCH(表格模板!A4197,建筑!$A$2:$A$5001,0),COLUMN(A4197))","v":{"$error":"#N/A"}},null,{"$f":"INDEX(设备类型!$B$2:$B$5001,MATCH(表格模板!C4197,设备类型!$A$2:$A$5001,0),COLUMN(A4197))","v":{"$error":"#N/A"}}]
[null,{"$f":"INDEX(建筑!$B$2:$B$5001,MATCH(表格模板!A4198,建筑!$A$2:$A$5001,0),COLUMN(A4198))","v":{"$error":"#N/A"}},null,{"$f":"INDEX(设备类型!$B$2:$B$5001,MATCH(表格模板!C4198,设备类型!$A$2:$A$5001,0),COLUMN(A4198))","v":{"$error":"#N/A"}}]
[null,{"$f":"INDEX(建筑!$B$2:$B$5001,MATCH(表格模板!A4199,建筑!$A$2:$A$5001,0),COLUMN(A4199))","v":{"$error":"#N/A"}},null,{"$f":"INDEX(设备类型!$B$2:$B$5001,MATCH(表格模板!C4199,设备类型!$A$2:$A$5001,0),COLUMN(A4199))","v":{"$error":"#N/A"}}]
[null,{"$f":"INDEX(建筑!$B$2:$B$5001,MATCH(表格模板!A4200,建筑!$A$2:$A$5001,0),COLUMN(A4200))","v":{"$error":"#N/A"}},null,{"$f":"INDEX(设备类型!$B$2:$B$5001,MATCH(表格模板!C4200,设备类型!$A$2:$A$5001,0),COLUMN(A4200))","v":{"$error":"#N/A"}}]
[null,{"$f":"INDEX(建筑!$B$2:$B$5001,MATCH(表格模板!A4201,建筑!$A$2:$A$5001,0),COLUMN(A4201))","v":{"$error":"#N/A"}},null,{"$f":"INDEX(设备类型!$B$2:$B$5001,MATCH(表格模板!C4201,设备类型!$A$2:$A$5001,0),COLUMN(A4201))","v":{"$error":"#N/A"}}]
[null,{"$f":"INDEX(建筑!$B$2:$B$5001,MATCH(表格模板!A4202,建筑!$A$2:$A$5001,0),COLUMN(A4202))","v":{"$error":"#N/A"}},null,{"$f":"INDEX(设备类型!$B$2:$B$5001,MATCH(表格模板!C4202,设备类型!$A$2:$A$5001,0),COLUMN(A4202))","v":{"$error":"#N/A"}}]
[null,{"$f":"INDEX(建筑!$B$2:$B$5001,MATCH(表格模板!A4203,建筑!$A$2:$A$5001,0),COLUMN(A4203))","v":{"$error":"#N/A"}},null,{"$f":"INDEX(设备类型!$B$2:$B$5001,MATCH(表格模板!C4203,设备类型!$A$2:$A$5001,0),COLUMN(A4203))","v":{"$error":"#N/A"}}]
[null,{"$f":"INDEX(建筑!$B$2:$B$5001,MATCH(表格模板!A4204,建筑!$A$2:$A$5001,0),COLUMN(A4204))","v":{"$error":"#N/A"}},null,{"$f":"INDEX(设备类型!$B$2:$B$5001,MATCH(表格模板!C4204,设备类型!$A$2:$A$5001,0),COLUMN(A4204))","v":{"$error":"#N/A"}}]
[null,{"$f":"INDEX(建筑!$B$2:$B$5001,MATCH(表格模板!A4205,建筑!$A$2:$A$5001,0),COLUMN(A4205))","v":{"$error":"#N/A"}},null,{"$f":"INDEX(设备类型!$B$2:$B$5001,MATCH(表格模板!C4205,设备类型!$A$2:$A$5001,0),COLUMN(A4205))","v":{"$error":"#N/A"}}]
[null,{"$f":"INDEX(建筑!$B$2:$B$5001,MATCH(表格模板!A4206,建筑!$A$2:$A$5001,0),COLUMN(A4206))","v":{"$error":"#N/A"}},null,{"$f":"INDEX(设备类型!$B$2:$B$5001,MATCH(表格模板!C4206,设备类型!$A$2:$A$5001,0),COLUMN(A4206))","v":{"$error":"#N/A"}}]
[null,{"$f":"INDEX(建筑!$B$2:$B$5001,MATCH(表格模板!A4207,建筑!$A$2:$A$5001,0),COLUMN(A4207))","v":{"$error":"#N/A"}},null,{"$f":"INDEX(设备类型!$B$2:$B$5001,MATCH(表格模板!C4207,设备类型!$A$2:$A$5001,0),COLUMN(A4207))","v":{"$error":"#N/A"}}]
[null,{"$f":"INDEX(建筑!$B$2:$B$5001,MATCH(表格模板!A4208,建筑!$A$2:$A$5001,0),COLUMN(A4208))","v":{"$error":"#N/A"}},null,{"$f":"INDEX(设备类型!$B$2:$B$5001,MATCH(表格模板!C4208,设备类型!$A$2:$A$5001,0),COLUMN(A4208))","v":{"$error":"#N/A"}}]
[null,{"$f":"INDEX(建筑!$B$2:$B$5001,MATCH(表格模板!A4209,建筑!$A$2:$A$5001,0),COLUMN(A4209))","v":{"$error":"#N/A"}},null,{"$f":"INDEX(设备类型!$B$2:$B$5001,MATCH(表格模板!C4209,设备类型!$A$2:$A$5001,0),COLUMN(A4209))","v":{"$error":"#N/A"}}]
[null,{"$f":"INDEX(建筑!$B$2:$B$5001,MATCH(表格模板!A4210,建筑!$A$2:$A$5001,0),COLUMN(A4210))","v":{"$error":"#N/A"}},null,{"$f":"INDEX(设备类型!$B$2:$B$5001,MATCH(表格模板!C4210,设备类型!$A$2:$A$5001,0),COLUMN(A4210))","v":{"$error":"#N/A"}}]
[null,{"$f":"INDEX(建筑!$B$2:$B$5001,MATCH(表格模板!A4211,建筑!$A$2:$A$5001,0),COLUMN(A4211))","v":{"$error":"#N/A"}},null,{"$f":"INDEX(设备类型!$B$2:$B$5001,MATCH(表格模板!C4211,设备类型!$A$2:$A$5001,0),COLUMN(A4211))","v":{"$error":"#N/A"}}]
[null,{"$f":"INDEX(建筑!$B$2:$B$5001,MATCH(表格模板!A4212,建筑!$A$2:$A$5001,0),COLUMN(A4212))","v":{"$error":"#N/A"}},null,{"$f":"INDEX(设备类型!$B$2:$B$5001,MATCH(表格模板!C4212,设备类型!$A$2:$A$5001,0),COLUMN(A4212))","v":{"$error":"#N/A"}}]
[null,{"$f":"INDEX(建筑!$B$2:$B$5001,MATCH(表格模板!A4213,建筑!$A$2:$A$5001,0),COLUMN(A4213))","v":{"$error":"#N/A"}},null,{"$f":"INDEX(设备类型!$B$2:$B$5001,MATCH(表格模板!C4213,设备类型!$A$2:$A$5001,0),COLUMN(A4213))","v":{"$error":"#N/A"}}]
[null,{"$f":"INDEX(建筑!$B$2:$B$5001,MATCH(表格模板!A4214,建筑!$A$2:$A$5001,0),COLUMN(A4214))","v":{"$error":"#N/A"}},null,{"$f":"INDEX(设备类型!$B$2:$B$5001,MATCH(表格模板!C4214,设备类型!$A$2:$A$5001,0),COLUMN(A4214))","v":{"$error":"#N/A"}}]
[null,{"$f":"INDEX(建筑!$B$2:$B$5001,MATCH(表格模板!A4215,建筑!$A$2:$A$5001,0),COLUMN(A4215))","v":{"$error":"#N/A"}},null,{"$f":"INDEX(设备类型!$B$2:$B$5001,MATCH(表格模板!C4215,设备类型!$A$2:$A$5001,0),COLUMN(A4215))","v":{"$error":"#N/A"}}]
[null,{"$f":"INDEX(建筑!$B$2:$B$5001,MATCH(表格模板!A4216,建筑!$A$2:$A$5001,0),COLUMN(A4216))","v":{"$error":"#N/A"}},null,{"$f":"INDEX(设备类型!$B$2:$B$5001,MATCH(表格模板!C4216,设备类型!$A$2:$A$5001,0),COLUMN(A4216))","v":{"$error":"#N/A"}}]
[null,{"$f":"INDEX(建筑!$B$2:$B$5001,MATCH(表格模板!A4217,建筑!$A$2:$A$5001,0),COLUMN(A4217))","v":{"$error":"#N/A"}},null,{"$f":"INDEX(设备类型!$B$2:$B$5001,MATCH(表格模板!C4217,设备类型!$A$2:$A$5001,0),COLUMN(A4217))","v":{"$error":"#N/A"}}]
[null,{"$f":"INDEX(建筑!$B$2:$B$5001,MATCH(表格模板!A4218,建筑!$A$2:$A$5001,0),COLUMN(A4218))","v":{"$error":"#N/A"}},null,{"$f":"INDEX(设备类型!$B$2:$B$5001,MATCH(表格模板!C4218,设备类型!$A$2:$A$5001,0),COLUMN(A4218))","v":{"$error":"#N/A"}}]
[null,{"$f":"INDEX(建筑!$B$2:$B$5001,MATCH(表格模板!A4219,建筑!$A$2:$A$5001,0),COLUMN(A4219))","v":{"$error":"#N/A"}},null,{"$f":"INDEX(设备类型!$B$2:$B$5001,MATCH(表格模板!C4219,设备类型!$A$2:$A$5001,0),COLUMN(A4219))","v":{"$error":"#N/A"}}]
[null,{"$f":"INDEX(建筑!$B$2:$B$5001,MATCH(表格模板!A4220,建筑!$A$2:$A$5001,0),COLUMN(A4220))","v":{"$error":"#N/A"}},null,{"$f":"INDEX(设备类型!$B$2:$B$5001,MATCH(表格模板!C4220,设备类型!$A$2:$A$5001,0),COLUMN(A4220))","v":{"$error":"#N/A"}}]
[null,{"$f":"INDEX(建筑!$B$2:$B$5001,MATCH(表格模板!A4221,建筑!$A$2:$A$5001,0),COLUMN(A4221))","v":{"$error":"#N/A"}},null,{"$f":"INDEX(设备类型!$B$2:$B$5001,MATCH(表格模板!C4221,设备类型!$A$2:$A$5001,0),COLUMN(A4221))","v":{"$error":"#N/A"}}]
[null,{"$f":"INDEX(建筑!$B$2:$B$5001,MATCH(表格模板!A4222,建筑!$A$2:$A$5001,0),COLUMN(A4222))","v":{"$error":"#N/A"}},null,{"$f":"INDEX(设备类型!$B$2:$B$5001,MATCH(表格模板!C4222,设备类型!$A$2:$A$5001,0),COLUMN(A4222))","v":{"$error":"#N/A"}}]
[null,{"$f":"INDEX(建筑!$B$2:$B$5001,MATCH(表格模板!A4223,建筑!$A$2:$A$5001,0),COLUMN(A4223))","v":{"$error":"#N/A"}},null,{"$f":"INDEX(设备类型!$B$2:$B$5001,MATCH(表格模板!C4223,设备类型!$A$2:$A$5001,0),COLUMN(A4223))","v":{"$error":"#N/A"}}]
[null,{"$f":"INDEX(建筑!$B$2:$B$5001,MATCH(表格模板!A4224,建筑!$A$2:$A$5001,0),COLUMN(A4224))","v":{"$error":"#N/A"}},null,{"$f":"INDEX(设备类型!$B$2:$B$5001,MATCH(表格模板!C4224,设备类型!$A$2:$A$5001,0),COLUMN(A4224))","v":{"$error":"#N/A"}}]
[null,{"$f":"INDEX(建筑!$B$2:$B$5001,MATCH(表格模板!A4225,建筑!$A$2:$A$5001,0),COLUMN(A4225))","v":{"$error":"#N/A"}},null,{"$f":"INDEX(设备类型!$B$2:$B$5001,MATCH(表格模板!C4225,设备类型!$A$2:$A$5001,0),COLUMN(A4225))","v":{"$error":"#N/A"}}]
[null,{"$f":"INDEX(建筑!$B$2:$B$5001,MATCH(表格模板!A4226,建筑!$A$2:$A$5001,0),COLUMN(A4226))","v":{"$error":"#N/A"}},null,{"$f":"INDEX(设备类型!$B$2:$B$5001,MATCH(表格模板!C4226,设备类型!$A$2:$A$5001,0),COLUMN(A4226))","v":{"$error":"#N/A"}}]
[null,{"$f":"INDEX(建筑!$B$2:$B$5001,MATCH(表格模板!A4227,建筑!$A$2:$A$5001,0),COLUMN(A4227))","v":{"$error":"#N/A"}},null,{"$f":"INDEX(设备类型!$B$2:$B$5001,MATCH(表格模板!C4227,设备类型!$A$2:$A$5001,0),COLUMN(A4227))","v":{"$error":"#N/A"}}]
[null,{"$f":"INDEX(建筑!$B$2:$B$5001,MATCH(表格模板!A4228,建筑!$A$2:$A$5001,0),COLUMN(A4228))","v":{"$error":"#N/A"}},null,{"$f":"INDEX(设备类型!$B$2:$B$5001,MATCH(表格模板!C4228,设备类型!$A$2:$A$5001,0),COLUMN(A4228))","v":{"$error":"#N/A"}}]
[null,{"$f":"INDEX(建筑!$B$2:$B$5001,MATCH(表格模板!A4229,建筑!$A$2:$A$5001,0),COLUMN(A4229))","v":{"$error":"#N/A"}},null,{"$f":"INDEX(设备类型!$B$2:$B$5001,MATCH(表格模板!C4229,设备类型!$A$2:$A$5001,0),COLUMN(A4229))","v":{"$error":"#N/A"}}]
[null,{"$f":"INDEX(建筑!$B$2:$B$5001,MATCH(表格模板!A4230,建筑!$A$2:$A$5001,0),COLUMN(A4230))","v":{"$error":"#N/A"}},null,{"$f":"INDEX(设备类型!$B$2:$B$5001,MATCH(表格模板!C4230,设备类型!$A$2:$A$5001,0),COLUMN(A4230))","v":{"$error":"#N/A"}}]
[null,{"$f":"INDEX(建筑!$B$2:$B$5001,MATCH(表格模板!A4231,建筑!$A$2:$A$5001,0),COLUMN(A4231))","v":{"$error":"#N/A"}},null,{"$f":"INDEX(设备类型!$B$2:$B$5001,MATCH(表格模板!C4231,设备类型!$A$2:$A$5001,0),COLUMN(A4231))","v":{"$error":"#N/A"}}]
[null,{"$f":"INDEX(建筑!$B$2:$B$5001,MATCH(表格模板!A4232,建筑!$A$2:$A$5001,0),COLUMN(A4232))","v":{"$error":"#N/A"}},null,{"$f":"INDEX(设备类型!$B$2:$B$5001,MATCH(表格模板!C4232,设备类型!$A$2:$A$5001,0),COLUMN(A4232))","v":{"$error":"#N/A"}}]
[null,{"$f":"INDEX(建筑!$B$2:$B$5001,MATCH(表格模板!A4233,建筑!$A$2:$A$5001,0),COLUMN(A4233))","v":{"$error":"#N/A"}},null,{"$f":"INDEX(设备类型!$B$2:$B$5001,MATCH(表格模板!C4233,设备类型!$A$2:$A$5001,0),COLUMN(A4233))","v":{"$error":"#N/A"}}]
[null,{"$f":"INDEX(建筑!$B$2:$B$5001,MATCH(表格模板!A4234,建筑!$A$2:$A$5001,0),COLUMN(A4234))","v":{"$error":"#N/A"}},null,{"$f":"INDEX(设备类型!$B$2:$B$5001,MATCH(表格模板!C4234,设备类型!$A$2:$A$5001,0),COLUMN(A4234))","v":{"$error":"#N/A"}}]
[null,{"$f":"INDEX(建筑!$B$2:$B$5001,MATCH(表格模板!A4235,建筑!$A$2:$A$5001,0),COLUMN(A4235))","v":{"$error":"#N/A"}},null,{"$f":"INDEX(设备类型!$B$2:$B$5001,MATCH(表格模板!C4235,设备类型!$A$2:$A$5001,0),COLUMN(A4235))","v":{"$error":"#N/A"}}]
[null,{"$f":"INDEX(建筑!$B$2:$B$5001,MATCH(表格模板!A4236,建筑!$A$2:$A$5001,0),COLUMN(A4236))","v":{"$error":"#N/A"}},null,{"$f":"INDEX(设备类型!$B$2:$B$5001,MATCH(表格模板!C4236,设备类型!$A$2:$A$5001,0),COLUMN(A4236))","v":{"$error":"#N/A"}}]
[null,{"$f":"INDEX(建筑!$B$2:$B$5001,MATCH(表格模板!A4237,建筑!$A$2:$A$5001,0),COLUMN(A4237))","v":{"$error":"#N/A"}},null,{"$f":"INDEX(设备类型!$B$2:$B$5001,MATCH(表格模板!C4237,设备类型!$A$2:$A$5001,0),COLUMN(A4237))","v":{"$error":"#N/A"}}]
[null,{"$f":"INDEX(建筑!$B$2:$B$5001,MATCH(表格模板!A4238,建筑!$A$2:$A$5001,0),COLUMN(A4238))","v":{"$error":"#N/A"}},null,{"$f":"INDEX(设备类型!$B$2:$B$5001,MATCH(表格模板!C4238,设备类型!$A$2:$A$5001,0),COLUMN(A4238))","v":{"$error":"#N/A"}}]
[null,{"$f":"INDEX(建筑!$B$2:$B$5001,MATCH(表格模板!A4239,建筑!$A$2:$A$5001,0),COLUMN(A4239))","v":{"$error":"#N/A"}},null,{"$f":"INDEX(设备类型!$B$2:$B$5001,MATCH(表格模板!C4239,设备类型!$A$2:$A$5001,0),COLUMN(A4239))","v":{"$error":"#N/A"}}]
[null,{"$f":"INDEX(建筑!$B$2:$B$5001,MATCH(表格模板!A4240,建筑!$A$2:$A$5001,0),COLUMN(A4240))","v":{"$error":"#N/A"}},null,{"$f":"INDEX(设备类型!$B$2:$B$5001,MATCH(表格模板!C4240,设备类型!$A$2:$A$5001,0),COLUMN(A4240))","v":{"$error":"#N/A"}}]
[null,{"$f":"INDEX(建筑!$B$2:$B$5001,MATCH(表格模板!A4241,建筑!$A$2:$A$5001,0),COLUMN(A4241))","v":{"$error":"#N/A"}},null,{"$f":"INDEX(设备类型!$B$2:$B$5001,MATCH(表格模板!C4241,设备类型!$A$2:$A$5001,0),COLUMN(A4241))","v":{"$error":"#N/A"}}]
[null,{"$f":"INDEX(建筑!$B$2:$B$5001,MATCH(表格模板!A4242,建筑!$A$2:$A$5001,0),COLUMN(A4242))","v":{"$error":"#N/A"}},null,{"$f":"INDEX(设备类型!$B$2:$B$5001,MATCH(表格模板!C4242,设备类型!$A$2:$A$5001,0),COLUMN(A4242))","v":{"$error":"#N/A"}}]
[null,{"$f":"INDEX(建筑!$B$2:$B$5001,MATCH(表格模板!A4243,建筑!$A$2:$A$5001,0),COLUMN(A4243))","v":{"$error":"#N/A"}},null,{"$f":"INDEX(设备类型!$B$2:$B$5001,MATCH(表格模板!C4243,设备类型!$A$2:$A$5001,0),COLUMN(A4243))","v":{"$error":"#N/A"}}]
[null,{"$f":"INDEX(建筑!$B$2:$B$5001,MATCH(表格模板!A4244,建筑!$A$2:$A$5001,0),COLUMN(A4244))","v":{"$error":"#N/A"}},null,{"$f":"INDEX(设备类型!$B$2:$B$5001,MATCH(表格模板!C4244,设备类型!$A$2:$A$5001,0),COLUMN(A4244))","v":{"$error":"#N/A"}}]
[null,{"$f":"INDEX(建筑!$B$2:$B$5001,MATCH(表格模板!A4245,建筑!$A$2:$A$5001,0),COLUMN(A4245))","v":{"$error":"#N/A"}},null,{"$f":"INDEX(设备类型!$B$2:$B$5001,MATCH(表格模板!C4245,设备类型!$A$2:$A$5001,0),COLUMN(A4245))","v":{"$error":"#N/A"}}]
[null,{"$f":"INDEX(建筑!$B$2:$B$5001,MATCH(表格模板!A4246,建筑!$A$2:$A$5001,0),COLUMN(A4246))","v":{"$error":"#N/A"}},null,{"$f":"INDEX(设备类型!$B$2:$B$5001,MATCH(表格模板!C4246,设备类型!$A$2:$A$5001,0),COLUMN(A4246))","v":{"$error":"#N/A"}}]
[null,{"$f":"INDEX(建筑!$B$2:$B$5001,MATCH(表格模板!A4247,建筑!$A$2:$A$5001,0),COLUMN(A4247))","v":{"$error":"#N/A"}},null,{"$f":"INDEX(设备类型!$B$2:$B$5001,MATCH(表格模板!C4247,设备类型!$A$2:$A$5001,0),COLUMN(A4247))","v":{"$error":"#N/A"}}]
[null,{"$f":"INDEX(建筑!$B$2:$B$5001,MATCH(表格模板!A4248,建筑!$A$2:$A$5001,0),COLUMN(A4248))","v":{"$error":"#N/A"}},null,{"$f":"INDEX(设备类型!$B$2:$B$5001,MATCH(表格模板!C4248,设备类型!$A$2:$A$5001,0),COLUMN(A4248))","v":{"$error":"#N/A"}}]
[null,{"$f":"INDEX(建筑!$B$2:$B$5001,MATCH(表格模板!A4249,建筑!$A$2:$A$5001,0),COLUMN(A4249))","v":{"$error":"#N/A"}},null,{"$f":"INDEX(设备类型!$B$2:$B$5001,MATCH(表格模板!C4249,设备类型!$A$2:$A$5001,0),COLUMN(A4249))","v":{"$error":"#N/A"}}]
[null,{"$f":"INDEX(建筑!$B$2:$B$5001,MATCH(表格模板!A4250,建筑!$A$2:$A$5001,0),COLUMN(A4250))","v":{"$error":"#N/A"}},null,{"$f":"INDEX(设备类型!$B$2:$B$5001,MATCH(表格模板!C4250,设备类型!$A$2:$A$5001,0),COLUMN(A4250))","v":{"$error":"#N/A"}}]
[null,{"$f":"INDEX(建筑!$B$2:$B$5001,MATCH(表格模板!A4251,建筑!$A$2:$A$5001,0),COLUMN(A4251))","v":{"$error":"#N/A"}},null,{"$f":"INDEX(设备类型!$B$2:$B$5001,MATCH(表格模板!C4251,设备类型!$A$2:$A$5001,0),COLUMN(A4251))","v":{"$error":"#N/A"}}]
[null,{"$f":"INDEX(建筑!$B$2:$B$5001,MATCH(表格模板!A4252,建筑!$A$2:$A$5001,0),COLUMN(A4252))","v":{"$error":"#N/A"}},null,{"$f":"INDEX(设备类型!$B$2:$B$5001,MATCH(表格模板!C4252,设备类型!$A$2:$A$5001,0),COLUMN(A4252))","v":{"$error":"#N/A"}}]
[null,{"$f":"INDEX(建筑!$B$2:$B$5001,MATCH(表格模板!A4253,建筑!$A$2:$A$5001,0),COLUMN(A4253))","v":{"$error":"#N/A"}},null,{"$f":"INDEX(设备类型!$B$2:$B$5001,MATCH(表格模板!C4253,设备类型!$A$2:$A$5001,0),COLUMN(A4253))","v":{"$error":"#N/A"}}]
[null,{"$f":"INDEX(建筑!$B$2:$B$5001,MATCH(表格模板!A4254,建筑!$A$2:$A$5001,0),COLUMN(A4254))","v":{"$error":"#N/A"}},null,{"$f":"INDEX(设备类型!$B$2:$B$5001,MATCH(表格模板!C4254,设备类型!$A$2:$A$5001,0),COLUMN(A4254))","v":{"$error":"#N/A"}}]
[null,{"$f":"INDEX(建筑!$B$2:$B$5001,MATCH(表格模板!A4255,建筑!$A$2:$A$5001,0),COLUMN(A4255))","v":{"$error":"#N/A"}},null,{"$f":"INDEX(设备类型!$B$2:$B$5001,MATCH(表格模板!C4255,设备类型!$A$2:$A$5001,0),COLUMN(A4255))","v":{"$error":"#N/A"}}]
[null,{"$f":"INDEX(建筑!$B$2:$B$5001,MATCH(表格模板!A4256,建筑!$A$2:$A$5001,0),COLUMN(A4256))","v":{"$error":"#N/A"}},null,{"$f":"INDEX(设备类型!$B$2:$B$5001,MATCH(表格模板!C4256,设备类型!$A$2:$A$5001,0),COLUMN(A4256))","v":{"$error":"#N/A"}}]
[null,{"$f":"INDEX(建筑!$B$2:$B$5001,MATCH(表格模板!A4257,建筑!$A$2:$A$5001,0),COLUMN(A4257))","v":{"$error":"#N/A"}},null,{"$f":"INDEX(设备类型!$B$2:$B$5001,MATCH(表格模板!C4257,设备类型!$A$2:$A$5001,0),COLUMN(A4257))","v":{"$error":"#N/A"}}]
[null,{"$f":"INDEX(建筑!$B$2:$B$5001,MATCH(表格模板!A4258,建筑!$A$2:$A$5001,0),COLUMN(A4258))","v":{"$error":"#N/A"}},null,{"$f":"INDEX(设备类型!$B$2:$B$5001,MATCH(表格模板!C4258,设备类型!$A$2:$A$5001,0),COLUMN(A4258))","v":{"$error":"#N/A"}}]
[null,{"$f":"INDEX(建筑!$B$2:$B$5001,MATCH(表格模板!A4259,建筑!$A$2:$A$5001,0),COLUMN(A4259))","v":{"$error":"#N/A"}},null,{"$f":"INDEX(设备类型!$B$2:$B$5001,MATCH(表格模板!C4259,设备类型!$A$2:$A$5001,0),COLUMN(A4259))","v":{"$error":"#N/A"}}]
[null,{"$f":"INDEX(建筑!$B$2:$B$5001,MATCH(表格模板!A4260,建筑!$A$2:$A$5001,0),COLUMN(A4260))","v":{"$error":"#N/A"}},null,{"$f":"INDEX(设备类型!$B$2:$B$5001,MATCH(表格模板!C4260,设备类型!$A$2:$A$5001,0),COLUMN(A4260))","v":{"$error":"#N/A"}}]
[null,{"$f":"INDEX(建筑!$B$2:$B$5001,MATCH(表格模板!A4261,建筑!$A$2:$A$5001,0),COLUMN(A4261))","v":{"$error":"#N/A"}},null,{"$f":"INDEX(设备类型!$B$2:$B$5001,MATCH(表格模板!C4261,设备类型!$A$2:$A$5001,0),COLUMN(A4261))","v":{"$error":"#N/A"}}]
[null,{"$f":"INDEX(建筑!$B$2:$B$5001,MATCH(表格模板!A4262,建筑!$A$2:$A$5001,0),COLUMN(A4262))","v":{"$error":"#N/A"}},null,{"$f":"INDEX(设备类型!$B$2:$B$5001,MATCH(表格模板!C4262,设备类型!$A$2:$A$5001,0),COLUMN(A4262))","v":{"$error":"#N/A"}}]
[null,{"$f":"INDEX(建筑!$B$2:$B$5001,MATCH(表格模板!A4263,建筑!$A$2:$A$5001,0),COLUMN(A4263))","v":{"$error":"#N/A"}},null,{"$f":"INDEX(设备类型!$B$2:$B$5001,MATCH(表格模板!C4263,设备类型!$A$2:$A$5001,0),COLUMN(A4263))","v":{"$error":"#N/A"}}]
[null,{"$f":"INDEX(建筑!$B$2:$B$5001,MATCH(表格模板!A4264,建筑!$A$2:$A$5001,0),COLUMN(A4264))","v":{"$error":"#N/A"}},null,{"$f":"INDEX(设备类型!$B$2:$B$5001,MATCH(表格模板!C4264,设备类型!$A$2:$A$5001,0),COLUMN(A4264))","v":{"$error":"#N/A"}}]
[null,{"$f":"INDEX(建筑!$B$2:$B$5001,MATCH(表格模板!A4265,建筑!$A$2:$A$5001,0),COLUMN(A4265))","v":{"$error":"#N/A"}},null,{"$f":"INDEX(设备类型!$B$2:$B$5001,MATCH(表格模板!C4265,设备类型!$A$2:$A$5001,0),COLUMN(A4265))","v":{"$error":"#N/A"}}]
[null,{"$f":"INDEX(建筑!$B$2:$B$5001,MATCH(表格模板!A4266,建筑!$A$2:$A$5001,0),COLUMN(A4266))","v":{"$error":"#N/A"}},null,{"$f":"INDEX(设备类型!$B$2:$B$5001,MATCH(表格模板!C4266,设备类型!$A$2:$A$5001,0),COLUMN(A4266))","v":{"$error":"#N/A"}}]
[null,{"$f":"INDEX(建筑!$B$2:$B$5001,MATCH(表格模板!A4267,建筑!$A$2:$A$5001,0),COLUMN(A4267))","v":{"$error":"#N/A"}},null,{"$f":"INDEX(设备类型!$B$2:$B$5001,MATCH(表格模板!C4267,设备类型!$A$2:$A$5001,0),COLUMN(A4267))","v":{"$error":"#N/A"}}]
[null,{"$f":"INDEX(建筑!$B$2:$B$5001,MATCH(表格模板!A4268,建筑!$A$2:$A$5001,0),COLUMN(A4268))","v":{"$error":"#N/A"}},null,{"$f":"INDEX(设备类型!$B$2:$B$5001,MATCH(表格模板!C4268,设备类型!$A$2:$A$5001,0),COLUMN(A4268))","v":{"$error":"#N/A"}}]
[null,{"$f":"INDEX(建筑!$B$2:$B$5001,MATCH(表格模板!A4269,建筑!$A$2:$A$5001,0),COLUMN(A4269))","v":{"$error":"#N/A"}},null,{"$f":"INDEX(设备类型!$B$2:$B$5001,MATCH(表格模板!C4269,设备类型!$A$2:$A$5001,0),COLUMN(A4269))","v":{"$error":"#N/A"}}]
[null,{"$f":"INDEX(建筑!$B$2:$B$5001,MATCH(表格模板!A4270,建筑!$A$2:$A$5001,0),COLUMN(A4270))","v":{"$error":"#N/A"}},null,{"$f":"INDEX(设备类型!$B$2:$B$5001,MATCH(表格模板!C4270,设备类型!$A$2:$A$5001,0),COLUMN(A4270))","v":{"$error":"#N/A"}}]
[null,{"$f":"INDEX(建筑!$B$2:$B$5001,MATCH(表格模板!A4271,建筑!$A$2:$A$5001,0),COLUMN(A4271))","v":{"$error":"#N/A"}},null,{"$f":"INDEX(设备类型!$B$2:$B$5001,MATCH(表格模板!C4271,设备类型!$A$2:$A$5001,0),COLUMN(A4271))","v":{"$error":"#N/A"}}]
[null,{"$f":"INDEX(建筑!$B$2:$B$5001,MATCH(表格模板!A4272,建筑!$A$2:$A$5001,0),COLUMN(A4272))","v":{"$error":"#N/A"}},null,{"$f":"INDEX(设备类型!$B$2:$B$5001,MATCH(表格模板!C4272,设备类型!$A$2:$A$5001,0),COLUMN(A4272))","v":{"$error":"#N/A"}}]
[null,{"$f":"INDEX(建筑!$B$2:$B$5001,MATCH(表格模板!A4273,建筑!$A$2:$A$5001,0),COLUMN(A4273))","v":{"$error":"#N/A"}},null,{"$f":"INDEX(设备类型!$B$2:$B$5001,MATCH(表格模板!C4273,设备类型!$A$2:$A$5001,0),COLUMN(A4273))","v":{"$error":"#N/A"}}]
[null,{"$f":"INDEX(建筑!$B$2:$B$5001,MATCH(表格模板!A4274,建筑!$A$2:$A$5001,0),COLUMN(A4274))","v":{"$error":"#N/A"}},null,{"$f":"INDEX(设备类型!$B$2:$B$5001,MATCH(表格模板!C4274,设备类型!$A$2:$A$5001,0),COLUMN(A4274))","v":{"$error":"#N/A"}}]
[null,{"$f":"INDEX(建筑!$B$2:$B$5001,MATCH(表格模板!A4275,建筑!$A$2:$A$5001,0),COLUMN(A4275))","v":{"$error":"#N/A"}},null,{"$f":"INDEX(设备类型!$B$2:$B$5001,MATCH(表格模板!C4275,设备类型!$A$2:$A$5001,0),COLUMN(A4275))","v":{"$error":"#N/A"}}]
[null,{"$f":"INDEX(建筑!$B$2:$B$5001,MATCH(表格模板!A4276,建筑!$A$2:$A$5001,0),COLUMN(A4276))","v":{"$error":"#N/A"}},null,{"$f":"INDEX(设备类型!$B$2:$B$5001,MATCH(表格模板!C4276,设备类型!$A$2:$A$5001,0),COLUMN(A4276))","v":{"$error":"#N/A"}}]
[null,{"$f":"INDEX(建筑!$B$2:$B$5001,MATCH(表格模板!A4277,建筑!$A$2:$A$5001,0),COLUMN(A4277))","v":{"$error":"#N/A"}},null,{"$f":"INDEX(设备类型!$B$2:$B$5001,MATCH(表格模板!C4277,设备类型!$A$2:$A$5001,0),COLUMN(A4277))","v":{"$error":"#N/A"}}]
[null,{"$f":"INDEX(建筑!$B$2:$B$5001,MATCH(表格模板!A4278,建筑!$A$2:$A$5001,0),COLUMN(A4278))","v":{"$error":"#N/A"}},null,{"$f":"INDEX(设备类型!$B$2:$B$5001,MATCH(表格模板!C4278,设备类型!$A$2:$A$5001,0),COLUMN(A4278))","v":{"$error":"#N/A"}}]
[null,{"$f":"INDEX(建筑!$B$2:$B$5001,MATCH(表格模板!A4279,建筑!$A$2:$A$5001,0),COLUMN(A4279))","v":{"$error":"#N/A"}},null,{"$f":"INDEX(设备类型!$B$2:$B$5001,MATCH(表格模板!C4279,设备类型!$A$2:$A$5001,0),COLUMN(A4279))","v":{"$error":"#N/A"}}]
[null,{"$f":"INDEX(建筑!$B$2:$B$5001,MATCH(表格模板!A4280,建筑!$A$2:$A$5001,0),COLUMN(A4280))","v":{"$error":"#N/A"}},null,{"$f":"INDEX(设备类型!$B$2:$B$5001,MATCH(表格模板!C4280,设备类型!$A$2:$A$5001,0),COLUMN(A4280))","v":{"$error":"#N/A"}}]
[null,{"$f":"INDEX(建筑!$B$2:$B$5001,MATCH(表格模板!A4281,建筑!$A$2:$A$5001,0),COLUMN(A4281))","v":{"$error":"#N/A"}},null,{"$f":"INDEX(设备类型!$B$2:$B$5001,MATCH(表格模板!C4281,设备类型!$A$2:$A$5001,0),COLUMN(A4281))","v":{"$error":"#N/A"}}]
[null,{"$f":"INDEX(建筑!$B$2:$B$5001,MATCH(表格模板!A4282,建筑!$A$2:$A$5001,0),COLUMN(A4282))","v":{"$error":"#N/A"}},null,{"$f":"INDEX(设备类型!$B$2:$B$5001,MATCH(表格模板!C4282,设备类型!$A$2:$A$5001,0),COLUMN(A4282))","v":{"$error":"#N/A"}}]
[null,{"$f":"INDEX(建筑!$B$2:$B$5001,MATCH(表格模板!A4283,建筑!$A$2:$A$5001,0),COLUMN(A4283))","v":{"$error":"#N/A"}},null,{"$f":"INDEX(设备类型!$B$2:$B$5001,MATCH(表格模板!C4283,设备类型!$A$2:$A$5001,0),COLUMN(A4283))","v":{"$error":"#N/A"}}]
[null,{"$f":"INDEX(建筑!$B$2:$B$5001,MATCH(表格模板!A4284,建筑!$A$2:$A$5001,0),COLUMN(A4284))","v":{"$error":"#N/A"}},null,{"$f":"INDEX(设备类型!$B$2:$B$5001,MATCH(表格模板!C4284,设备类型!$A$2:$A$5001,0),COLUMN(A4284))","v":{"$error":"#N/A"}}]
[null,{"$f":"INDEX(建筑!$B$2:$B$5001,MATCH(表格模板!A4285,建筑!$A$2:$A$5001,0),COLUMN(A4285))","v":{"$error":"#N/A"}},null,{"$f":"INDEX(设备类型!$B$2:$B$5001,MATCH(表格模板!C4285,设备类型!$A$2:$A$5001,0),COLUMN(A4285))","v":{"$error":"#N/A"}}]
[null,{"$f":"INDEX(建筑!$B$2:$B$5001,MATCH(表格模板!A4286,建筑!$A$2:$A$5001,0),COLUMN(A4286))","v":{"$error":"#N/A"}},null,{"$f":"INDEX(设备类型!$B$2:$B$5001,MATCH(表格模板!C4286,设备类型!$A$2:$A$5001,0),COLUMN(A4286))","v":{"$error":"#N/A"}}]
[null,{"$f":"INDEX(建筑!$B$2:$B$5001,MATCH(表格模板!A4287,建筑!$A$2:$A$5001,0),COLUMN(A4287))","v":{"$error":"#N/A"}},null,{"$f":"INDEX(设备类型!$B$2:$B$5001,MATCH(表格模板!C4287,设备类型!$A$2:$A$5001,0),COLUMN(A4287))","v":{"$error":"#N/A"}}]
[null,{"$f":"INDEX(建筑!$B$2:$B$5001,MATCH(表格模板!A4288,建筑!$A$2:$A$5001,0),COLUMN(A4288))","v":{"$error":"#N/A"}},null,{"$f":"INDEX(设备类型!$B$2:$B$5001,MATCH(表格模板!C4288,设备类型!$A$2:$A$5001,0),COLUMN(A4288))","v":{"$error":"#N/A"}}]
[null,{"$f":"INDEX(建筑!$B$2:$B$5001,MATCH(表格模板!A4289,建筑!$A$2:$A$5001,0),COLUMN(A4289))","v":{"$error":"#N/A"}},null,{"$f":"INDEX(设备类型!$B$2:$B$5001,MATCH(表格模板!C4289,设备类型!$A$2:$A$5001,0),COLUMN(A4289))","v":{"$error":"#N/A"}}]
[null,{"$f":"INDEX(建筑!$B$2:$B$5001,MATCH(表格模板!A4290,建筑!$A$2:$A$5001,0),COLUMN(A4290))","v":{"$error":"#N/A"}},null,{"$f":"INDEX(设备类型!$B$2:$B$5001,MATCH(表格模板!C4290,设备类型!$A$2:$A$5001,0),COLUMN(A4290))","v":{"$error":"#N/A"}}]
[null,{"$f":"INDEX(建筑!$B$2:$B$5001,MATCH(表格模板!A4291,建筑!$A$2:$A$5001,0),COLUMN(A4291))","v":{"$error":"#N/A"}},null,{"$f":"INDEX(设备类型!$B$2:$B$5001,MATCH(表格模板!C4291,设备类型!$A$2:$A$5001,0),COLUMN(A4291))","v":{"$error":"#N/A"}}]
[null,{"$f":"INDEX(建筑!$B$2:$B$5001,MATCH(表格模板!A4292,建筑!$A$2:$A$5001,0),COLUMN(A4292))","v":{"$error":"#N/A"}},null,{"$f":"INDEX(设备类型!$B$2:$B$5001,MATCH(表格模板!C4292,设备类型!$A$2:$A$5001,0),COLUMN(A4292))","v":{"$error":"#N/A"}}]
[null,{"$f":"INDEX(建筑!$B$2:$B$5001,MATCH(表格模板!A4293,建筑!$A$2:$A$5001,0),COLUMN(A4293))","v":{"$error":"#N/A"}},null,{"$f":"INDEX(设备类型!$B$2:$B$5001,MATCH(表格模板!C4293,设备类型!$A$2:$A$5001,0),COLUMN(A4293))","v":{"$error":"#N/A"}}]
[null,{"$f":"INDEX(建筑!$B$2:$B$5001,MATCH(表格模板!A4294,建筑!$A$2:$A$5001,0),COLUMN(A4294))","v":{"$error":"#N/A"}},null,{"$f":"INDEX(设备类型!$B$2:$B$5001,MATCH(表格模板!C4294,设备类型!$A$2:$A$5001,0),COLUMN(A4294))","v":{"$error":"#N/A"}}]
[null,{"$f":"INDEX(建筑!$B$2:$B$5001,MATCH(表格模板!A4295,建筑!$A$2:$A$5001,0),COLUMN(A4295))","v":{"$error":"#N/A"}},null,{"$f":"INDEX(设备类型!$B$2:$B$5001,MATCH(表格模板!C4295,设备类型!$A$2:$A$5001,0),COLUMN(A4295))","v":{"$error":"#N/A"}}]
[null,{"$f":"INDEX(建筑!$B$2:$B$5001,MATCH(表格模板!A4296,建筑!$A$2:$A$5001,0),COLUMN(A4296))","v":{"$error":"#N/A"}},null,{"$f":"INDEX(设备类型!$B$2:$B$5001,MATCH(表格模板!C4296,设备类型!$A$2:$A$5001,0),COLUMN(A4296))","v":{"$error":"#N/A"}}]
[null,{"$f":"INDEX(建筑!$B$2:$B$5001,MATCH(表格模板!A4297,建筑!$A$2:$A$5001,0),COLUMN(A4297))","v":{"$error":"#N/A"}},null,{"$f":"INDEX(设备类型!$B$2:$B$5001,MATCH(表格模板!C4297,设备类型!$A$2:$A$5001,0),COLUMN(A4297))","v":{"$error":"#N/A"}}]
[null,{"$f":"INDEX(建筑!$B$2:$B$5001,MATCH(表格模板!A4298,建筑!$A$2:$A$5001,0),COLUMN(A4298))","v":{"$error":"#N/A"}},null,{"$f":"INDEX(设备类型!$B$2:$B$5001,MATCH(表格模板!C4298,设备类型!$A$2:$A$5001,0),COLUMN(A4298))","v":{"$error":"#N/A"}}]
[null,{"$f":"INDEX(建筑!$B$2:$B$5001,MATCH(表格模板!A4299,建筑!$A$2:$A$5001,0),COLUMN(A4299))","v":{"$error":"#N/A"}},null,{"$f":"INDEX(设备类型!$B$2:$B$5001,MATCH(表格模板!C4299,设备类型!$A$2:$A$5001,0),COLUMN(A4299))","v":{"$error":"#N/A"}}]
[null,{"$f":"INDEX(建筑!$B$2:$B$5001,MATCH(表格模板!A4300,建筑!$A$2:$A$5001,0),COLUMN(A4300))","v":{"$error":"#N/A"}},null,{"$f":"INDEX(设备类型!$B$2:$B$5001,MATCH(表格模板!C4300,设备类型!$A$2:$A$5001,0),COLUMN(A4300))","v":{"$error":"#N/A"}}]
[null,{"$f":"INDEX(建筑!$B$2:$B$5001,MATCH(表格模板!A4301,建筑!$A$2:$A$5001,0),COLUMN(A4301))","v":{"$error":"#N/A"}},null,{"$f":"INDEX(设备类型!$B$2:$B$5001,MATCH(表格模板!C4301,设备类型!$A$2:$A$5001,0),COLUMN(A4301))","v":{"$error":"#N/A"}}]
[null,{"$f":"INDEX(建筑!$B$2:$B$5001,MATCH(表格模板!A4302,建筑!$A$2:$A$5001,0),COLUMN(A4302))","v":{"$error":"#N/A"}},null,{"$f":"INDEX(设备类型!$B$2:$B$5001,MATCH(表格模板!C4302,设备类型!$A$2:$A$5001,0),COLUMN(A4302))","v":{"$error":"#N/A"}}]
[null,{"$f":"INDEX(建筑!$B$2:$B$5001,MATCH(表格模板!A4303,建筑!$A$2:$A$5001,0),COLUMN(A4303))","v":{"$error":"#N/A"}},null,{"$f":"INDEX(设备类型!$B$2:$B$5001,MATCH(表格模板!C4303,设备类型!$A$2:$A$5001,0),COLUMN(A4303))","v":{"$error":"#N/A"}}]
[null,{"$f":"INDEX(建筑!$B$2:$B$5001,MATCH(表格模板!A4304,建筑!$A$2:$A$5001,0),COLUMN(A4304))","v":{"$error":"#N/A"}},null,{"$f":"INDEX(设备类型!$B$2:$B$5001,MATCH(表格模板!C4304,设备类型!$A$2:$A$5001,0),COLUMN(A4304))","v":{"$error":"#N/A"}}]
[null,{"$f":"INDEX(建筑!$B$2:$B$5001,MATCH(表格模板!A4305,建筑!$A$2:$A$5001,0),COLUMN(A4305))","v":{"$error":"#N/A"}},null,{"$f":"INDEX(设备类型!$B$2:$B$5001,MATCH(表格模板!C4305,设备类型!$A$2:$A$5001,0),COLUMN(A4305))","v":{"$error":"#N/A"}}]
[null,{"$f":"INDEX(建筑!$B$2:$B$5001,MATCH(表格模板!A4306,建筑!$A$2:$A$5001,0),COLUMN(A4306))","v":{"$error":"#N/A"}},null,{"$f":"INDEX(设备类型!$B$2:$B$5001,MATCH(表格模板!C4306,设备类型!$A$2:$A$5001,0),COLUMN(A4306))","v":{"$error":"#N/A"}}]
[null,{"$f":"INDEX(建筑!$B$2:$B$5001,MATCH(表格模板!A4307,建筑!$A$2:$A$5001,0),COLUMN(A4307))","v":{"$error":"#N/A"}},null,{"$f":"INDEX(设备类型!$B$2:$B$5001,MATCH(表格模板!C4307,设备类型!$A$2:$A$5001,0),COLUMN(A4307))","v":{"$error":"#N/A"}}]
[null,{"$f":"INDEX(建筑!$B$2:$B$5001,MATCH(表格模板!A4308,建筑!$A$2:$A$5001,0),COLUMN(A4308))","v":{"$error":"#N/A"}},null,{"$f":"INDEX(设备类型!$B$2:$B$5001,MATCH(表格模板!C4308,设备类型!$A$2:$A$5001,0),COLUMN(A4308))","v":{"$error":"#N/A"}}]
[null,{"$f":"INDEX(建筑!$B$2:$B$5001,MATCH(表格模板!A4309,建筑!$A$2:$A$5001,0),COLUMN(A4309))","v":{"$error":"#N/A"}},null,{"$f":"INDEX(设备类型!$B$2:$B$5001,MATCH(表格模板!C4309,设备类型!$A$2:$A$5001,0),COLUMN(A4309))","v":{"$error":"#N/A"}}]
[null,{"$f":"INDEX(建筑!$B$2:$B$5001,MATCH(表格模板!A4310,建筑!$A$2:$A$5001,0),COLUMN(A4310))","v":{"$error":"#N/A"}},null,{"$f":"INDEX(设备类型!$B$2:$B$5001,MATCH(表格模板!C4310,设备类型!$A$2:$A$5001,0),COLUMN(A4310))","v":{"$error":"#N/A"}}]
[null,{"$f":"INDEX(建筑!$B$2:$B$5001,MATCH(表格模板!A4311,建筑!$A$2:$A$5001,0),COLUMN(A4311))","v":{"$error":"#N/A"}},null,{"$f":"INDEX(设备类型!$B$2:$B$5001,MATCH(表格模板!C4311,设备类型!$A$2:$A$5001,0),COLUMN(A4311))","v":{"$error":"#N/A"}}]
[null,{"$f":"INDEX(建筑!$B$2:$B$5001,MATCH(表格模板!A4312,建筑!$A$2:$A$5001,0),COLUMN(A4312))","v":{"$error":"#N/A"}},null,{"$f":"INDEX(设备类型!$B$2:$B$5001,MATCH(表格模板!C4312,设备类型!$A$2:$A$5001,0),COLUMN(A4312))","v":{"$error":"#N/A"}}]
[null,{"$f":"INDEX(建筑!$B$2:$B$5001,MATCH(表格模板!A4313,建筑!$A$2:$A$5001,0),COLUMN(A4313))","v":{"$error":"#N/A"}},null,{"$f":"INDEX(设备类型!$B$2:$B$5001,MATCH(表格模板!C4313,设备类型!$A$2:$A$5001,0),COLUMN(A4313))","v":{"$error":"#N/A"}}]
[null,{"$f":"INDEX(建筑!$B$2:$B$5001,MATCH(表格模板!A4314,建筑!$A$2:$A$5001,0),COLUMN(A4314))","v":{"$error":"#N/A"}},null,{"$f":"INDEX(设备类型!$B$2:$B$5001,MATCH(表格模板!C4314,设备类型!$A$2:$A$5001,0),COLUMN(A4314))","v":{"$error":"#N/A"}}]
[null,{"$f":"INDEX(建筑!$B$2:$B$5001,MATCH(表格模板!A4315,建筑!$A$2:$A$5001,0),COLUMN(A4315))","v":{"$error":"#N/A"}},null,{"$f":"INDEX(设备类型!$B$2:$B$5001,MATCH(表格模板!C4315,设备类型!$A$2:$A$5001,0),COLUMN(A4315))","v":{"$error":"#N/A"}}]
[null,{"$f":"INDEX(建筑!$B$2:$B$5001,MATCH(表格模板!A4316,建筑!$A$2:$A$5001,0),COLUMN(A4316))","v":{"$error":"#N/A"}},null,{"$f":"INDEX(设备类型!$B$2:$B$5001,MATCH(表格模板!C4316,设备类型!$A$2:$A$5001,0),COLUMN(A4316))","v":{"$error":"#N/A"}}]
[null,{"$f":"INDEX(建筑!$B$2:$B$5001,MATCH(表格模板!A4317,建筑!$A$2:$A$5001,0),COLUMN(A4317))","v":{"$error":"#N/A"}},null,{"$f":"INDEX(设备类型!$B$2:$B$5001,MATCH(表格模板!C4317,设备类型!$A$2:$A$5001,0),COLUMN(A4317))","v":{"$error":"#N/A"}}]
[null,{"$f":"INDEX(建筑!$B$2:$B$5001,MATCH(表格模板!A4318,建筑!$A$2:$A$5001,0),COLUMN(A4318))","v":{"$error":"#N/A"}},null,{"$f":"INDEX(设备类型!$B$2:$B$5001,MATCH(表格模板!C4318,设备类型!$A$2:$A$5001,0),COLUMN(A4318))","v":{"$error":"#N/A"}}]
[null,{"$f":"INDEX(建筑!$B$2:$B$5001,MATCH(表格模板!A4319,建筑!$A$2:$A$5001,0),COLUMN(A4319))","v":{"$error":"#N/A"}},null,{"$f":"INDEX(设备类型!$B$2:$B$5001,MATCH(表格模板!C4319,设备类型!$A$2:$A$5001,0),COLUMN(A4319))","v":{"$error":"#N/A"}}]
[null,{"$f":"INDEX(建筑!$B$2:$B$5001,MATCH(表格模板!A4320,建筑!$A$2:$A$5001,0),COLUMN(A4320))","v":{"$error":"#N/A"}},null,{"$f":"INDEX(设备类型!$B$2:$B$5001,MATCH(表格模板!C4320,设备类型!$A$2:$A$5001,0),COLUMN(A4320))","v":{"$error":"#N/A"}}]
[null,{"$f":"INDEX(建筑!$B$2:$B$5001,MATCH(表格模板!A4321,建筑!$A$2:$A$5001,0),COLUMN(A4321))","v":{"$error":"#N/A"}},null,{"$f":"INDEX(设备类型!$B$2:$B$5001,MATCH(表格模板!C4321,设备类型!$A$2:$A$5001,0),COLUMN(A4321))","v":{"$error":"#N/A"}}]
[null,{"$f":"INDEX(建筑!$B$2:$B$5001,MATCH(表格模板!A4322,建筑!$A$2:$A$5001,0),COLUMN(A4322))","v":{"$error":"#N/A"}},null,{"$f":"INDEX(设备类型!$B$2:$B$5001,MATCH(表格模板!C4322,设备类型!$A$2:$A$5001,0),COLUMN(A4322))","v":{"$error":"#N/A"}}]
[null,{"$f":"INDEX(建筑!$B$2:$B$5001,MATCH(表格模板!A4323,建筑!$A$2:$A$5001,0),COLUMN(A4323))","v":{"$error":"#N/A"}},null,{"$f":"INDEX(设备类型!$B$2:$B$5001,MATCH(表格模板!C4323,设备类型!$A$2:$A$5001,0),COLUMN(A4323))","v":{"$error":"#N/A"}}]
[null,{"$f":"INDEX(建筑!$B$2:$B$5001,MATCH(表格模板!A4324,建筑!$A$2:$A$5001,0),COLUMN(A4324))","v":{"$error":"#N/A"}},null,{"$f":"INDEX(设备类型!$B$2:$B$5001,MATCH(表格模板!C4324,设备类型!$A$2:$A$5001,0),COLUMN(A4324))","v":{"$error":"#N/A"}}]
[null,{"$f":"INDEX(建筑!$B$2:$B$5001,MATCH(表格模板!A4325,建筑!$A$2:$A$5001,0),COLUMN(A4325))","v":{"$error":"#N/A"}},null,{"$f":"INDEX(设备类型!$B$2:$B$5001,MATCH(表格模板!C4325,设备类型!$A$2:$A$5001,0),COLUMN(A4325))","v":{"$error":"#N/A"}}]
[null,{"$f":"INDEX(建筑!$B$2:$B$5001,MATCH(表格模板!A4326,建筑!$A$2:$A$5001,0),COLUMN(A4326))","v":{"$error":"#N/A"}},null,{"$f":"INDEX(设备类型!$B$2:$B$5001,MATCH(表格模板!C4326,设备类型!$A$2:$A$5001,0),COLUMN(A4326))","v":{"$error":"#N/A"}}]
[null,{"$f":"INDEX(建筑!$B$2:$B$5001,MATCH(表格模板!A4327,建筑!$A$2:$A$5001,0),COLUMN(A4327))","v":{"$error":"#N/A"}},null,{"$f":"INDEX(设备类型!$B$2:$B$5001,MATCH(表格模板!C4327,设备类型!$A$2:$A$5001,0),COLUMN(A4327))","v":{"$error":"#N/A"}}]
[null,{"$f":"INDEX(建筑!$B$2:$B$5001,MATCH(表格模板!A4328,建筑!$A$2:$A$5001,0),COLUMN(A4328))","v":{"$error":"#N/A"}},null,{"$f":"INDEX(设备类型!$B$2:$B$5001,MATCH(表格模板!C4328,设备类型!$A$2:$A$5001,0),COLUMN(A4328))","v":{"$error":"#N/A"}}]
[null,{"$f":"INDEX(建筑!$B$2:$B$5001,MATCH(表格模板!A4329,建筑!$A$2:$A$5001,0),COLUMN(A4329))","v":{"$error":"#N/A"}},null,{"$f":"INDEX(设备类型!$B$2:$B$5001,MATCH(表格模板!C4329,设备类型!$A$2:$A$5001,0),COLUMN(A4329))","v":{"$error":"#N/A"}}]
[null,{"$f":"INDEX(建筑!$B$2:$B$5001,MATCH(表格模板!A4330,建筑!$A$2:$A$5001,0),COLUMN(A4330))","v":{"$error":"#N/A"}},null,{"$f":"INDEX(设备类型!$B$2:$B$5001,MATCH(表格模板!C4330,设备类型!$A$2:$A$5001,0),COLUMN(A4330))","v":{"$error":"#N/A"}}]
[null,{"$f":"INDEX(建筑!$B$2:$B$5001,MATCH(表格模板!A4331,建筑!$A$2:$A$5001,0),COLUMN(A4331))","v":{"$error":"#N/A"}},null,{"$f":"INDEX(设备类型!$B$2:$B$5001,MATCH(表格模板!C4331,设备类型!$A$2:$A$5001,0),COLUMN(A4331))","v":{"$error":"#N/A"}}]
[null,{"$f":"INDEX(建筑!$B$2:$B$5001,MATCH(表格模板!A4332,建筑!$A$2:$A$5001,0),COLUMN(A4332))","v":{"$error":"#N/A"}},null,{"$f":"INDEX(设备类型!$B$2:$B$5001,MATCH(表格模板!C4332,设备类型!$A$2:$A$5001,0),COLUMN(A4332))","v":{"$error":"#N/A"}}]
[null,{"$f":"INDEX(建筑!$B$2:$B$5001,MATCH(表格模板!A4333,建筑!$A$2:$A$5001,0),COLUMN(A4333))","v":{"$error":"#N/A"}},null,{"$f":"INDEX(设备类型!$B$2:$B$5001,MATCH(表格模板!C4333,设备类型!$A$2:$A$5001,0),COLUMN(A4333))","v":{"$error":"#N/A"}}]
[null,{"$f":"INDEX(建筑!$B$2:$B$5001,MATCH(表格模板!A4334,建筑!$A$2:$A$5001,0),COLUMN(A4334))","v":{"$error":"#N/A"}},null,{"$f":"INDEX(设备类型!$B$2:$B$5001,MATCH(表格模板!C4334,设备类型!$A$2:$A$5001,0),COLUMN(A4334))","v":{"$error":"#N/A"}}]
[null,{"$f":"INDEX(建筑!$B$2:$B$5001,MATCH(表格模板!A4335,建筑!$A$2:$A$5001,0),COLUMN(A4335))","v":{"$error":"#N/A"}},null,{"$f":"INDEX(设备类型!$B$2:$B$5001,MATCH(表格模板!C4335,设备类型!$A$2:$A$5001,0),COLUMN(A4335))","v":{"$error":"#N/A"}}]
[null,{"$f":"INDEX(建筑!$B$2:$B$5001,MATCH(表格模板!A4336,建筑!$A$2:$A$5001,0),COLUMN(A4336))","v":{"$error":"#N/A"}},null,{"$f":"INDEX(设备类型!$B$2:$B$5001,MATCH(表格模板!C4336,设备类型!$A$2:$A$5001,0),COLUMN(A4336))","v":{"$error":"#N/A"}}]
[null,{"$f":"INDEX(建筑!$B$2:$B$5001,MATCH(表格模板!A4337,建筑!$A$2:$A$5001,0),COLUMN(A4337))","v":{"$error":"#N/A"}},null,{"$f":"INDEX(设备类型!$B$2:$B$5001,MATCH(表格模板!C4337,设备类型!$A$2:$A$5001,0),COLUMN(A4337))","v":{"$error":"#N/A"}}]
[null,{"$f":"INDEX(建筑!$B$2:$B$5001,MATCH(表格模板!A4338,建筑!$A$2:$A$5001,0),COLUMN(A4338))","v":{"$error":"#N/A"}},null,{"$f":"INDEX(设备类型!$B$2:$B$5001,MATCH(表格模板!C4338,设备类型!$A$2:$A$5001,0),COLUMN(A4338))","v":{"$error":"#N/A"}}]
[null,{"$f":"INDEX(建筑!$B$2:$B$5001,MATCH(表格模板!A4339,建筑!$A$2:$A$5001,0),COLUMN(A4339))","v":{"$error":"#N/A"}},null,{"$f":"INDEX(设备类型!$B$2:$B$5001,MATCH(表格模板!C4339,设备类型!$A$2:$A$5001,0),COLUMN(A4339))","v":{"$error":"#N/A"}}]
[null,{"$f":"INDEX(建筑!$B$2:$B$5001,MATCH(表格模板!A4340,建筑!$A$2:$A$5001,0),COLUMN(A4340))","v":{"$error":"#N/A"}},null,{"$f":"INDEX(设备类型!$B$2:$B$5001,MATCH(表格模板!C4340,设备类型!$A$2:$A$5001,0),COLUMN(A4340))","v":{"$error":"#N/A"}}]
[null,{"$f":"INDEX(建筑!$B$2:$B$5001,MATCH(表格模板!A4341,建筑!$A$2:$A$5001,0),COLUMN(A4341))","v":{"$error":"#N/A"}},null,{"$f":"INDEX(设备类型!$B$2:$B$5001,MATCH(表格模板!C4341,设备类型!$A$2:$A$5001,0),COLUMN(A4341))","v":{"$error":"#N/A"}}]
[null,{"$f":"INDEX(建筑!$B$2:$B$5001,MATCH(表格模板!A4342,建筑!$A$2:$A$5001,0),COLUMN(A4342))","v":{"$error":"#N/A"}},null,{"$f":"INDEX(设备类型!$B$2:$B$5001,MATCH(表格模板!C4342,设备类型!$A$2:$A$5001,0),COLUMN(A4342))","v":{"$error":"#N/A"}}]
[null,{"$f":"INDEX(建筑!$B$2:$B$5001,MATCH(表格模板!A4343,建筑!$A$2:$A$5001,0),COLUMN(A4343))","v":{"$error":"#N/A"}},null,{"$f":"INDEX(设备类型!$B$2:$B$5001,MATCH(表格模板!C4343,设备类型!$A$2:$A$5001,0),COLUMN(A4343))","v":{"$error":"#N/A"}}]
[null,{"$f":"INDEX(建筑!$B$2:$B$5001,MATCH(表格模板!A4344,建筑!$A$2:$A$5001,0),COLUMN(A4344))","v":{"$error":"#N/A"}},null,{"$f":"INDEX(设备类型!$B$2:$B$5001,MATCH(表格模板!C4344,设备类型!$A$2:$A$5001,0),COLUMN(A4344))","v":{"$error":"#N/A"}}]
[null,{"$f":"INDEX(建筑!$B$2:$B$5001,MATCH(表格模板!A4345,建筑!$A$2:$A$5001,0),COLUMN(A4345))","v":{"$error":"#N/A"}},null,{"$f":"INDEX(设备类型!$B$2:$B$5001,MATCH(表格模板!C4345,设备类型!$A$2:$A$5001,0),COLUMN(A4345))","v":{"$error":"#N/A"}}]
[null,{"$f":"INDEX(建筑!$B$2:$B$5001,MATCH(表格模板!A4346,建筑!$A$2:$A$5001,0),COLUMN(A4346))","v":{"$error":"#N/A"}},null,{"$f":"INDEX(设备类型!$B$2:$B$5001,MATCH(表格模板!C4346,设备类型!$A$2:$A$5001,0),COLUMN(A4346))","v":{"$error":"#N/A"}}]
[null,{"$f":"INDEX(建筑!$B$2:$B$5001,MATCH(表格模板!A4347,建筑!$A$2:$A$5001,0),COLUMN(A4347))","v":{"$error":"#N/A"}},null,{"$f":"INDEX(设备类型!$B$2:$B$5001,MATCH(表格模板!C4347,设备类型!$A$2:$A$5001,0),COLUMN(A4347))","v":{"$error":"#N/A"}}]
[null,{"$f":"INDEX(建筑!$B$2:$B$5001,MATCH(表格模板!A4348,建筑!$A$2:$A$5001,0),COLUMN(A4348))","v":{"$error":"#N/A"}},null,{"$f":"INDEX(设备类型!$B$2:$B$5001,MATCH(表格模板!C4348,设备类型!$A$2:$A$5001,0),COLUMN(A4348))","v":{"$error":"#N/A"}}]
[null,{"$f":"INDEX(建筑!$B$2:$B$5001,MATCH(表格模板!A4349,建筑!$A$2:$A$5001,0),COLUMN(A4349))","v":{"$error":"#N/A"}},null,{"$f":"INDEX(设备类型!$B$2:$B$5001,MATCH(表格模板!C4349,设备类型!$A$2:$A$5001,0),COLUMN(A4349))","v":{"$error":"#N/A"}}]
[null,{"$f":"INDEX(建筑!$B$2:$B$5001,MATCH(表格模板!A4350,建筑!$A$2:$A$5001,0),COLUMN(A4350))","v":{"$error":"#N/A"}},null,{"$f":"INDEX(设备类型!$B$2:$B$5001,MATCH(表格模板!C4350,设备类型!$A$2:$A$5001,0),COLUMN(A4350))","v":{"$error":"#N/A"}}]
[null,{"$f":"INDEX(建筑!$B$2:$B$5001,MATCH(表格模板!A4351,建筑!$A$2:$A$5001,0),COLUMN(A4351))","v":{"$error":"#N/A"}},null,{"$f":"INDEX(设备类型!$B$2:$B$5001,MATCH(表格模板!C4351,设备类型!$A$2:$A$5001,0),COLUMN(A4351))","v":{"$error":"#N/A"}}]
[null,{"$f":"INDEX(建筑!$B$2:$B$5001,MATCH(表格模板!A4352,建筑!$A$2:$A$5001,0),COLUMN(A4352))","v":{"$error":"#N/A"}},null,{"$f":"INDEX(设备类型!$B$2:$B$5001,MATCH(表格模板!C4352,设备类型!$A$2:$A$5001,0),COLUMN(A4352))","v":{"$error":"#N/A"}}]
[null,{"$f":"INDEX(建筑!$B$2:$B$5001,MATCH(表格模板!A4353,建筑!$A$2:$A$5001,0),COLUMN(A4353))","v":{"$error":"#N/A"}},null,{"$f":"INDEX(设备类型!$B$2:$B$5001,MATCH(表格模板!C4353,设备类型!$A$2:$A$5001,0),COLUMN(A4353))","v":{"$error":"#N/A"}}]
[null,{"$f":"INDEX(建筑!$B$2:$B$5001,MATCH(表格模板!A4354,建筑!$A$2:$A$5001,0),COLUMN(A4354))","v":{"$error":"#N/A"}},null,{"$f":"INDEX(设备类型!$B$2:$B$5001,MATCH(表格模板!C4354,设备类型!$A$2:$A$5001,0),COLUMN(A4354))","v":{"$error":"#N/A"}}]
[null,{"$f":"INDEX(建筑!$B$2:$B$5001,MATCH(表格模板!A4355,建筑!$A$2:$A$5001,0),COLUMN(A4355))","v":{"$error":"#N/A"}},null,{"$f":"INDEX(设备类型!$B$2:$B$5001,MATCH(表格模板!C4355,设备类型!$A$2:$A$5001,0),COLUMN(A4355))","v":{"$error":"#N/A"}}]
[null,{"$f":"INDEX(建筑!$B$2:$B$5001,MATCH(表格模板!A4356,建筑!$A$2:$A$5001,0),COLUMN(A4356))","v":{"$error":"#N/A"}},null,{"$f":"INDEX(设备类型!$B$2:$B$5001,MATCH(表格模板!C4356,设备类型!$A$2:$A$5001,0),COLUMN(A4356))","v":{"$error":"#N/A"}}]
[null,{"$f":"INDEX(建筑!$B$2:$B$5001,MATCH(表格模板!A4357,建筑!$A$2:$A$5001,0),COLUMN(A4357))","v":{"$error":"#N/A"}},null,{"$f":"INDEX(设备类型!$B$2:$B$5001,MATCH(表格模板!C4357,设备类型!$A$2:$A$5001,0),COLUMN(A4357))","v":{"$error":"#N/A"}}]
[null,{"$f":"INDEX(建筑!$B$2:$B$5001,MATCH(表格模板!A4358,建筑!$A$2:$A$5001,0),COLUMN(A4358))","v":{"$error":"#N/A"}},null,{"$f":"INDEX(设备类型!$B$2:$B$5001,MATCH(表格模板!C4358,设备类型!$A$2:$A$5001,0),COLUMN(A4358))","v":{"$error":"#N/A"}}]
[null,{"$f":"INDEX(建筑!$B$2:$B$5001,MATCH(表格模板!A4359,建筑!$A$2:$A$5001,0),COLUMN(A4359))","v":{"$error":"#N/A"}},null,{"$f":"INDEX(设备类型!$B$2:$B$5001,MATCH(表格模板!C4359,设备类型!$A$2:$A$5001,0),COLUMN(A4359))","v":{"$error":"#N/A"}}]
[null,{"$f":"INDEX(建筑!$B$2:$B$5001,MATCH(表格模板!A4360,建筑!$A$2:$A$5001,0),COLUMN(A4360))","v":{"$error":"#N/A"}},null,{"$f":"INDEX(设备类型!$B$2:$B$5001,MATCH(表格模板!C4360,设备类型!$A$2:$A$5001,0),COLUMN(A4360))","v":{"$error":"#N/A"}}]
[null,{"$f":"INDEX(建筑!$B$2:$B$5001,MATCH(表格模板!A4361,建筑!$A$2:$A$5001,0),COLUMN(A4361))","v":{"$error":"#N/A"}},null,{"$f":"INDEX(设备类型!$B$2:$B$5001,MATCH(表格模板!C4361,设备类型!$A$2:$A$5001,0),COLUMN(A4361))","v":{"$error":"#N/A"}}]
[null,{"$f":"INDEX(建筑!$B$2:$B$5001,MATCH(表格模板!A4362,建筑!$A$2:$A$5001,0),COLUMN(A4362))","v":{"$error":"#N/A"}},null,{"$f":"INDEX(设备类型!$B$2:$B$5001,MATCH(表格模板!C4362,设备类型!$A$2:$A$5001,0),COLUMN(A4362))","v":{"$error":"#N/A"}}]
[null,{"$f":"INDEX(建筑!$B$2:$B$5001,MATCH(表格模板!A4363,建筑!$A$2:$A$5001,0),COLUMN(A4363))","v":{"$error":"#N/A"}},null,{"$f":"INDEX(设备类型!$B$2:$B$5001,MATCH(表格模板!C4363,设备类型!$A$2:$A$5001,0),COLUMN(A4363))","v":{"$error":"#N/A"}}]
[null,{"$f":"INDEX(建筑!$B$2:$B$5001,MATCH(表格模板!A4364,建筑!$A$2:$A$5001,0),COLUMN(A4364))","v":{"$error":"#N/A"}},null,{"$f":"INDEX(设备类型!$B$2:$B$5001,MATCH(表格模板!C4364,设备类型!$A$2:$A$5001,0),COLUMN(A4364))","v":{"$error":"#N/A"}}]
[null,{"$f":"INDEX(建筑!$B$2:$B$5001,MATCH(表格模板!A4365,建筑!$A$2:$A$5001,0),COLUMN(A4365))","v":{"$error":"#N/A"}},null,{"$f":"INDEX(设备类型!$B$2:$B$5001,MATCH(表格模板!C4365,设备类型!$A$2:$A$5001,0),COLUMN(A4365))","v":{"$error":"#N/A"}}]
[null,{"$f":"INDEX(建筑!$B$2:$B$5001,MATCH(表格模板!A4366,建筑!$A$2:$A$5001,0),COLUMN(A4366))","v":{"$error":"#N/A"}},null,{"$f":"INDEX(设备类型!$B$2:$B$5001,MATCH(表格模板!C4366,设备类型!$A$2:$A$5001,0),COLUMN(A4366))","v":{"$error":"#N/A"}}]
[null,{"$f":"INDEX(建筑!$B$2:$B$5001,MATCH(表格模板!A4367,建筑!$A$2:$A$5001,0),COLUMN(A4367))","v":{"$error":"#N/A"}},null,{"$f":"INDEX(设备类型!$B$2:$B$5001,MATCH(表格模板!C4367,设备类型!$A$2:$A$5001,0),COLUMN(A4367))","v":{"$error":"#N/A"}}]
[null,{"$f":"INDEX(建筑!$B$2:$B$5001,MATCH(表格模板!A4368,建筑!$A$2:$A$5001,0),COLUMN(A4368))","v":{"$error":"#N/A"}},null,{"$f":"INDEX(设备类型!$B$2:$B$5001,MATCH(表格模板!C4368,设备类型!$A$2:$A$5001,0),COLUMN(A4368))","v":{"$error":"#N/A"}}]
[null,{"$f":"INDEX(建筑!$B$2:$B$5001,MATCH(表格模板!A4369,建筑!$A$2:$A$5001,0),COLUMN(A4369))","v":{"$error":"#N/A"}},null,{"$f":"INDEX(设备类型!$B$2:$B$5001,MATCH(表格模板!C4369,设备类型!$A$2:$A$5001,0),COLUMN(A4369))","v":{"$error":"#N/A"}}]
[null,{"$f":"INDEX(建筑!$B$2:$B$5001,MATCH(表格模板!A4370,建筑!$A$2:$A$5001,0),COLUMN(A4370))","v":{"$error":"#N/A"}},null,{"$f":"INDEX(设备类型!$B$2:$B$5001,MATCH(表格模板!C4370,设备类型!$A$2:$A$5001,0),COLUMN(A4370))","v":{"$error":"#N/A"}}]
[null,{"$f":"INDEX(建筑!$B$2:$B$5001,MATCH(表格模板!A4371,建筑!$A$2:$A$5001,0),COLUMN(A4371))","v":{"$error":"#N/A"}},null,{"$f":"INDEX(设备类型!$B$2:$B$5001,MATCH(表格模板!C4371,设备类型!$A$2:$A$5001,0),COLUMN(A4371))","v":{"$error":"#N/A"}}]
[null,{"$f":"INDEX(建筑!$B$2:$B$5001,MATCH(表格模板!A4372,建筑!$A$2:$A$5001,0),COLUMN(A4372))","v":{"$error":"#N/A"}},null,{"$f":"INDEX(设备类型!$B$2:$B$5001,MATCH(表格模板!C4372,设备类型!$A$2:$A$5001,0),COLUMN(A4372))","v":{"$error":"#N/A"}}]
[null,{"$f":"INDEX(建筑!$B$2:$B$5001,MATCH(表格模板!A4373,建筑!$A$2:$A$5001,0),COLUMN(A4373))","v":{"$error":"#N/A"}},null,{"$f":"INDEX(设备类型!$B$2:$B$5001,MATCH(表格模板!C4373,设备类型!$A$2:$A$5001,0),COLUMN(A4373))","v":{"$error":"#N/A"}}]
[null,{"$f":"INDEX(建筑!$B$2:$B$5001,MATCH(表格模板!A4374,建筑!$A$2:$A$5001,0),COLUMN(A4374))","v":{"$error":"#N/A"}},null,{"$f":"INDEX(设备类型!$B$2:$B$5001,MATCH(表格模板!C4374,设备类型!$A$2:$A$5001,0),COLUMN(A4374))","v":{"$error":"#N/A"}}]
[null,{"$f":"INDEX(建筑!$B$2:$B$5001,MATCH(表格模板!A4375,建筑!$A$2:$A$5001,0),COLUMN(A4375))","v":{"$error":"#N/A"}},null,{"$f":"INDEX(设备类型!$B$2:$B$5001,MATCH(表格模板!C4375,设备类型!$A$2:$A$5001,0),COLUMN(A4375))","v":{"$error":"#N/A"}}]
[null,{"$f":"INDEX(建筑!$B$2:$B$5001,MATCH(表格模板!A4376,建筑!$A$2:$A$5001,0),COLUMN(A4376))","v":{"$error":"#N/A"}},null,{"$f":"INDEX(设备类型!$B$2:$B$5001,MATCH(表格模板!C4376,设备类型!$A$2:$A$5001,0),COLUMN(A4376))","v":{"$error":"#N/A"}}]
[null,{"$f":"INDEX(建筑!$B$2:$B$5001,MATCH(表格模板!A4377,建筑!$A$2:$A$5001,0),COLUMN(A4377))","v":{"$error":"#N/A"}},null,{"$f":"INDEX(设备类型!$B$2:$B$5001,MATCH(表格模板!C4377,设备类型!$A$2:$A$5001,0),COLUMN(A4377))","v":{"$error":"#N/A"}}]
[null,{"$f":"INDEX(建筑!$B$2:$B$5001,MATCH(表格模板!A4378,建筑!$A$2:$A$5001,0),COLUMN(A4378))","v":{"$error":"#N/A"}},null,{"$f":"INDEX(设备类型!$B$2:$B$5001,MATCH(表格模板!C4378,设备类型!$A$2:$A$5001,0),COLUMN(A4378))","v":{"$error":"#N/A"}}]
[null,{"$f":"INDEX(建筑!$B$2:$B$5001,MATCH(表格模板!A4379,建筑!$A$2:$A$5001,0),COLUMN(A4379))","v":{"$error":"#N/A"}},null,{"$f":"INDEX(设备类型!$B$2:$B$5001,MATCH(表格模板!C4379,设备类型!$A$2:$A$5001,0),COLUMN(A4379))","v":{"$error":"#N/A"}}]
[null,{"$f":"INDEX(建筑!$B$2:$B$5001,MATCH(表格模板!A4380,建筑!$A$2:$A$5001,0),COLUMN(A4380))","v":{"$error":"#N/A"}},null,{"$f":"INDEX(设备类型!$B$2:$B$5001,MATCH(表格模板!C4380,设备类型!$A$2:$A$5001,0),COLUMN(A4380))","v":{"$error":"#N/A"}}]
[null,{"$f":"INDEX(建筑!$B$2:$B$5001,MATCH(表格模板!A4381,建筑!$A$2:$A$5001,0),COLUMN(A4381))","v":{"$error":"#N/A"}},null,{"$f":"INDEX(设备类型!$B$2:$B$5001,MATCH(表格模板!C4381,设备类型!$A$2:$A$5001,0),COLUMN(A4381))","v":{"$error":"#N/A"}}]
[null,{"$f":"INDEX(建筑!$B$2:$B$5001,MATCH(表格模板!A4382,建筑!$A$2:$A$5001,0),COLUMN(A4382))","v":{"$error":"#N/A"}},null,{"$f":"INDEX(设备类型!$B$2:$B$5001,MATCH(表格模板!C4382,设备类型!$A$2:$A$5001,0),COLUMN(A4382))","v":{"$error":"#N/A"}}]
[null,{"$f":"INDEX(建筑!$B$2:$B$5001,MATCH(表格模板!A4383,建筑!$A$2:$A$5001,0),COLUMN(A4383))","v":{"$error":"#N/A"}},null,{"$f":"INDEX(设备类型!$B$2:$B$5001,MATCH(表格模板!C4383,设备类型!$A$2:$A$5001,0),COLUMN(A4383))","v":{"$error":"#N/A"}}]
[null,{"$f":"INDEX(建筑!$B$2:$B$5001,MATCH(表格模板!A4384,建筑!$A$2:$A$5001,0),COLUMN(A4384))","v":{"$error":"#N/A"}},null,{"$f":"INDEX(设备类型!$B$2:$B$5001,MATCH(表格模板!C4384,设备类型!$A$2:$A$5001,0),COLUMN(A4384))","v":{"$error":"#N/A"}}]
[null,{"$f":"INDEX(建筑!$B$2:$B$5001,MATCH(表格模板!A4385,建筑!$A$2:$A$5001,0),COLUMN(A4385))","v":{"$error":"#N/A"}},null,{"$f":"INDEX(设备类型!$B$2:$B$5001,MATCH(表格模板!C4385,设备类型!$A$2:$A$5001,0),COLUMN(A4385))","v":{"$error":"#N/A"}}]
[null,{"$f":"INDEX(建筑!$B$2:$B$5001,MATCH(表格模板!A4386,建筑!$A$2:$A$5001,0),COLUMN(A4386))","v":{"$error":"#N/A"}},null,{"$f":"INDEX(设备类型!$B$2:$B$5001,MATCH(表格模板!C4386,设备类型!$A$2:$A$5001,0),COLUMN(A4386))","v":{"$error":"#N/A"}}]
[null,{"$f":"INDEX(建筑!$B$2:$B$5001,MATCH(表格模板!A4387,建筑!$A$2:$A$5001,0),COLUMN(A4387))","v":{"$error":"#N/A"}},null,{"$f":"INDEX(设备类型!$B$2:$B$5001,MATCH(表格模板!C4387,设备类型!$A$2:$A$5001,0),COLUMN(A4387))","v":{"$error":"#N/A"}}]
[null,{"$f":"INDEX(建筑!$B$2:$B$5001,MATCH(表格模板!A4388,建筑!$A$2:$A$5001,0),COLUMN(A4388))","v":{"$error":"#N/A"}},null,{"$f":"INDEX(设备类型!$B$2:$B$5001,MATCH(表格模板!C4388,设备类型!$A$2:$A$5001,0),COLUMN(A4388))","v":{"$error":"#N/A"}}]
[null,{"$f":"INDEX(建筑!$B$2:$B$5001,MATCH(表格模板!A4389,建筑!$A$2:$A$5001,0),COLUMN(A4389))","v":{"$error":"#N/A"}},null,{"$f":"INDEX(设备类型!$B$2:$B$5001,MATCH(表格模板!C4389,设备类型!$A$2:$A$5001,0),COLUMN(A4389))","v":{"$error":"#N/A"}}]
[null,{"$f":"INDEX(建筑!$B$2:$B$5001,MATCH(表格模板!A4390,建筑!$A$2:$A$5001,0),COLUMN(A4390))","v":{"$error":"#N/A"}},null,{"$f":"INDEX(设备类型!$B$2:$B$5001,MATCH(表格模板!C4390,设备类型!$A$2:$A$5001,0),COLUMN(A4390))","v":{"$error":"#N/A"}}]
[null,{"$f":"INDEX(建筑!$B$2:$B$5001,MATCH(表格模板!A4391,建筑!$A$2:$A$5001,0),COLUMN(A4391))","v":{"$error":"#N/A"}},null,{"$f":"INDEX(设备类型!$B$2:$B$5001,MATCH(表格模板!C4391,设备类型!$A$2:$A$5001,0),COLUMN(A4391))","v":{"$error":"#N/A"}}]
[null,{"$f":"INDEX(建筑!$B$2:$B$5001,MATCH(表格模板!A4392,建筑!$A$2:$A$5001,0),COLUMN(A4392))","v":{"$error":"#N/A"}},null,{"$f":"INDEX(设备类型!$B$2:$B$5001,MATCH(表格模板!C4392,设备类型!$A$2:$A$5001,0),COLUMN(A4392))","v":{"$error":"#N/A"}}]
[null,{"$f":"INDEX(建筑!$B$2:$B$5001,MATCH(表格模板!A4393,建筑!$A$2:$A$5001,0),COLUMN(A4393))","v":{"$error":"#N/A"}},null,{"$f":"INDEX(设备类型!$B$2:$B$5001,MATCH(表格模板!C4393,设备类型!$A$2:$A$5001,0),COLUMN(A4393))","v":{"$error":"#N/A"}}]
[null,{"$f":"INDEX(建筑!$B$2:$B$5001,MATCH(表格模板!A4394,建筑!$A$2:$A$5001,0),COLUMN(A4394))","v":{"$error":"#N/A"}},null,{"$f":"INDEX(设备类型!$B$2:$B$5001,MATCH(表格模板!C4394,设备类型!$A$2:$A$5001,0),COLUMN(A4394))","v":{"$error":"#N/A"}}]
[null,{"$f":"INDEX(建筑!$B$2:$B$5001,MATCH(表格模板!A4395,建筑!$A$2:$A$5001,0),COLUMN(A4395))","v":{"$error":"#N/A"}},null,{"$f":"INDEX(设备类型!$B$2:$B$5001,MATCH(表格模板!C4395,设备类型!$A$2:$A$5001,0),COLUMN(A4395))","v":{"$error":"#N/A"}}]
[null,{"$f":"INDEX(建筑!$B$2:$B$5001,MATCH(表格模板!A4396,建筑!$A$2:$A$5001,0),COLUMN(A4396))","v":{"$error":"#N/A"}},null,{"$f":"INDEX(设备类型!$B$2:$B$5001,MATCH(表格模板!C4396,设备类型!$A$2:$A$5001,0),COLUMN(A4396))","v":{"$error":"#N/A"}}]
[null,{"$f":"INDEX(建筑!$B$2:$B$5001,MATCH(表格模板!A4397,建筑!$A$2:$A$5001,0),COLUMN(A4397))","v":{"$error":"#N/A"}},null,{"$f":"INDEX(设备类型!$B$2:$B$5001,MATCH(表格模板!C4397,设备类型!$A$2:$A$5001,0),COLUMN(A4397))","v":{"$error":"#N/A"}}]
[null,{"$f":"INDEX(建筑!$B$2:$B$5001,MATCH(表格模板!A4398,建筑!$A$2:$A$5001,0),COLUMN(A4398))","v":{"$error":"#N/A"}},null,{"$f":"INDEX(设备类型!$B$2:$B$5001,MATCH(表格模板!C4398,设备类型!$A$2:$A$5001,0),COLUMN(A4398))","v":{"$error":"#N/A"}}]
[null,{"$f":"INDEX(建筑!$B$2:$B$5001,MATCH(表格模板!A4399,建筑!$A$2:$A$5001,0),COLUMN(A4399))","v":{"$error":"#N/A"}},null,{"$f":"INDEX(设备类型!$B$2:$B$5001,MATCH(表格模板!C4399,设备类型!$A$2:$A$5001,0),COLUMN(A4399))","v":{"$error":"#N/A"}}]
[null,{"$f":"INDEX(建筑!$B$2:$B$5001,MATCH(表格模板!A4400,建筑!$A$2:$A$5001,0),COLUMN(A4400))","v":{"$error":"#N/A"}},null,{"$f":"INDEX(设备类型!$B$2:$B$5001,MATCH(表格模板!C4400,设备类型!$A$2:$A$5001,0),COLUMN(A4400))","v":{"$error":"#N/A"}}]
[null,{"$f":"INDEX(建筑!$B$2:$B$5001,MATCH(表格模板!A4401,建筑!$A$2:$A$5001,0),COLUMN(A4401))","v":{"$error":"#N/A"}},null,{"$f":"INDEX(设备类型!$B$2:$B$5001,MATCH(表格模板!C4401,设备类型!$A$2:$A$5001,0),COLUMN(A4401))","v":{"$error":"#N/A"}}]
[null,{"$f":"INDEX(建筑!$B$2:$B$5001,MATCH(表格模板!A4402,建筑!$A$2:$A$5001,0),COLUMN(A4402))","v":{"$error":"#N/A"}},null,{"$f":"INDEX(设备类型!$B$2:$B$5001,MATCH(表格模板!C4402,设备类型!$A$2:$A$5001,0),COLUMN(A4402))","v":{"$error":"#N/A"}}]
[null,{"$f":"INDEX(建筑!$B$2:$B$5001,MATCH(表格模板!A4403,建筑!$A$2:$A$5001,0),COLUMN(A4403))","v":{"$error":"#N/A"}},null,{"$f":"INDEX(设备类型!$B$2:$B$5001,MATCH(表格模板!C4403,设备类型!$A$2:$A$5001,0),COLUMN(A4403))","v":{"$error":"#N/A"}}]
[null,{"$f":"INDEX(建筑!$B$2:$B$5001,MATCH(表格模板!A4404,建筑!$A$2:$A$5001,0),COLUMN(A4404))","v":{"$error":"#N/A"}},null,{"$f":"INDEX(设备类型!$B$2:$B$5001,MATCH(表格模板!C4404,设备类型!$A$2:$A$5001,0),COLUMN(A4404))","v":{"$error":"#N/A"}}]
[null,{"$f":"INDEX(建筑!$B$2:$B$5001,MATCH(表格模板!A4405,建筑!$A$2:$A$5001,0),COLUMN(A4405))","v":{"$error":"#N/A"}},null,{"$f":"INDEX(设备类型!$B$2:$B$5001,MATCH(表格模板!C4405,设备类型!$A$2:$A$5001,0),COLUMN(A4405))","v":{"$error":"#N/A"}}]
[null,{"$f":"INDEX(建筑!$B$2:$B$5001,MATCH(表格模板!A4406,建筑!$A$2:$A$5001,0),COLUMN(A4406))","v":{"$error":"#N/A"}},null,{"$f":"INDEX(设备类型!$B$2:$B$5001,MATCH(表格模板!C4406,设备类型!$A$2:$A$5001,0),COLUMN(A4406))","v":{"$error":"#N/A"}}]
[null,{"$f":"INDEX(建筑!$B$2:$B$5001,MATCH(表格模板!A4407,建筑!$A$2:$A$5001,0),COLUMN(A4407))","v":{"$error":"#N/A"}},null,{"$f":"INDEX(设备类型!$B$2:$B$5001,MATCH(表格模板!C4407,设备类型!$A$2:$A$5001,0),COLUMN(A4407))","v":{"$error":"#N/A"}}]
[null,{"$f":"INDEX(建筑!$B$2:$B$5001,MATCH(表格模板!A4408,建筑!$A$2:$A$5001,0),COLUMN(A4408))","v":{"$error":"#N/A"}},null,{"$f":"INDEX(设备类型!$B$2:$B$5001,MATCH(表格模板!C4408,设备类型!$A$2:$A$5001,0),COLUMN(A4408))","v":{"$error":"#N/A"}}]
[null,{"$f":"INDEX(建筑!$B$2:$B$5001,MATCH(表格模板!A4409,建筑!$A$2:$A$5001,0),COLUMN(A4409))","v":{"$error":"#N/A"}},null,{"$f":"INDEX(设备类型!$B$2:$B$5001,MATCH(表格模板!C4409,设备类型!$A$2:$A$5001,0),COLUMN(A4409))","v":{"$error":"#N/A"}}]
[null,{"$f":"INDEX(建筑!$B$2:$B$5001,MATCH(表格模板!A4410,建筑!$A$2:$A$5001,0),COLUMN(A4410))","v":{"$error":"#N/A"}},null,{"$f":"INDEX(设备类型!$B$2:$B$5001,MATCH(表格模板!C4410,设备类型!$A$2:$A$5001,0),COLUMN(A4410))","v":{"$error":"#N/A"}}]
[null,{"$f":"INDEX(建筑!$B$2:$B$5001,MATCH(表格模板!A4411,建筑!$A$2:$A$5001,0),COLUMN(A4411))","v":{"$error":"#N/A"}},null,{"$f":"INDEX(设备类型!$B$2:$B$5001,MATCH(表格模板!C4411,设备类型!$A$2:$A$5001,0),COLUMN(A4411))","v":{"$error":"#N/A"}}]
[null,{"$f":"INDEX(建筑!$B$2:$B$5001,MATCH(表格模板!A4412,建筑!$A$2:$A$5001,0),COLUMN(A4412))","v":{"$error":"#N/A"}},null,{"$f":"INDEX(设备类型!$B$2:$B$5001,MATCH(表格模板!C4412,设备类型!$A$2:$A$5001,0),COLUMN(A4412))","v":{"$error":"#N/A"}}]
[null,{"$f":"INDEX(建筑!$B$2:$B$5001,MATCH(表格模板!A4413,建筑!$A$2:$A$5001,0),COLUMN(A4413))","v":{"$error":"#N/A"}},null,{"$f":"INDEX(设备类型!$B$2:$B$5001,MATCH(表格模板!C4413,设备类型!$A$2:$A$5001,0),COLUMN(A4413))","v":{"$error":"#N/A"}}]
[null,{"$f":"INDEX(建筑!$B$2:$B$5001,MATCH(表格模板!A4414,建筑!$A$2:$A$5001,0),COLUMN(A4414))","v":{"$error":"#N/A"}},null,{"$f":"INDEX(设备类型!$B$2:$B$5001,MATCH(表格模板!C4414,设备类型!$A$2:$A$5001,0),COLUMN(A4414))","v":{"$error":"#N/A"}}]
[null,{"$f":"INDEX(建筑!$B$2:$B$5001,MATCH(表格模板!A4415,建筑!$A$2:$A$5001,0),COLUMN(A4415))","v":{"$error":"#N/A"}},null,{"$f":"INDEX(设备类型!$B$2:$B$5001,MATCH(表格模板!C4415,设备类型!$A$2:$A$5001,0),COLUMN(A4415))","v":{"$error":"#N/A"}}]
[null,{"$f":"INDEX(建筑!$B$2:$B$5001,MATCH(表格模板!A4416,建筑!$A$2:$A$5001,0),COLUMN(A4416))","v":{"$error":"#N/A"}},null,{"$f":"INDEX(设备类型!$B$2:$B$5001,MATCH(表格模板!C4416,设备类型!$A$2:$A$5001,0),COLUMN(A4416))","v":{"$error":"#N/A"}}]
[null,{"$f":"INDEX(建筑!$B$2:$B$5001,MATCH(表格模板!A4417,建筑!$A$2:$A$5001,0),COLUMN(A4417))","v":{"$error":"#N/A"}},null,{"$f":"INDEX(设备类型!$B$2:$B$5001,MATCH(表格模板!C4417,设备类型!$A$2:$A$5001,0),COLUMN(A4417))","v":{"$error":"#N/A"}}]
[null,{"$f":"INDEX(建筑!$B$2:$B$5001,MATCH(表格模板!A4418,建筑!$A$2:$A$5001,0),COLUMN(A4418))","v":{"$error":"#N/A"}},null,{"$f":"INDEX(设备类型!$B$2:$B$5001,MATCH(表格模板!C4418,设备类型!$A$2:$A$5001,0),COLUMN(A4418))","v":{"$error":"#N/A"}}]
[null,{"$f":"INDEX(建筑!$B$2:$B$5001,MATCH(表格模板!A4419,建筑!$A$2:$A$5001,0),COLUMN(A4419))","v":{"$error":"#N/A"}},null,{"$f":"INDEX(设备类型!$B$2:$B$5001,MATCH(表格模板!C4419,设备类型!$A$2:$A$5001,0),COLUMN(A4419))","v":{"$error":"#N/A"}}]
[null,{"$f":"INDEX(建筑!$B$2:$B$5001,MATCH(表格模板!A4420,建筑!$A$2:$A$5001,0),COLUMN(A4420))","v":{"$error":"#N/A"}},null,{"$f":"INDEX(设备类型!$B$2:$B$5001,MATCH(表格模板!C4420,设备类型!$A$2:$A$5001,0),COLUMN(A4420))","v":{"$error":"#N/A"}}]
[null,{"$f":"INDEX(建筑!$B$2:$B$5001,MATCH(表格模板!A4421,建筑!$A$2:$A$5001,0),COLUMN(A4421))","v":{"$error":"#N/A"}},null,{"$f":"INDEX(设备类型!$B$2:$B$5001,MATCH(表格模板!C4421,设备类型!$A$2:$A$5001,0),COLUMN(A4421))","v":{"$error":"#N/A"}}]
[null,{"$f":"INDEX(建筑!$B$2:$B$5001,MATCH(表格模板!A4422,建筑!$A$2:$A$5001,0),COLUMN(A4422))","v":{"$error":"#N/A"}},null,{"$f":"INDEX(设备类型!$B$2:$B$5001,MATCH(表格模板!C4422,设备类型!$A$2:$A$5001,0),COLUMN(A4422))","v":{"$error":"#N/A"}}]
[null,{"$f":"INDEX(建筑!$B$2:$B$5001,MATCH(表格模板!A4423,建筑!$A$2:$A$5001,0),COLUMN(A4423))","v":{"$error":"#N/A"}},null,{"$f":"INDEX(设备类型!$B$2:$B$5001,MATCH(表格模板!C4423,设备类型!$A$2:$A$5001,0),COLUMN(A4423))","v":{"$error":"#N/A"}}]
[null,{"$f":"INDEX(建筑!$B$2:$B$5001,MATCH(表格模板!A4424,建筑!$A$2:$A$5001,0),COLUMN(A4424))","v":{"$error":"#N/A"}},null,{"$f":"INDEX(设备类型!$B$2:$B$5001,MATCH(表格模板!C4424,设备类型!$A$2:$A$5001,0),COLUMN(A4424))","v":{"$error":"#N/A"}}]
[null,{"$f":"INDEX(建筑!$B$2:$B$5001,MATCH(表格模板!A4425,建筑!$A$2:$A$5001,0),COLUMN(A4425))","v":{"$error":"#N/A"}},null,{"$f":"INDEX(设备类型!$B$2:$B$5001,MATCH(表格模板!C4425,设备类型!$A$2:$A$5001,0),COLUMN(A4425))","v":{"$error":"#N/A"}}]
[null,{"$f":"INDEX(建筑!$B$2:$B$5001,MATCH(表格模板!A4426,建筑!$A$2:$A$5001,0),COLUMN(A4426))","v":{"$error":"#N/A"}},null,{"$f":"INDEX(设备类型!$B$2:$B$5001,MATCH(表格模板!C4426,设备类型!$A$2:$A$5001,0),COLUMN(A4426))","v":{"$error":"#N/A"}}]
[null,{"$f":"INDEX(建筑!$B$2:$B$5001,MATCH(表格模板!A4427,建筑!$A$2:$A$5001,0),COLUMN(A4427))","v":{"$error":"#N/A"}},null,{"$f":"INDEX(设备类型!$B$2:$B$5001,MATCH(表格模板!C4427,设备类型!$A$2:$A$5001,0),COLUMN(A4427))","v":{"$error":"#N/A"}}]
[null,{"$f":"INDEX(建筑!$B$2:$B$5001,MATCH(表格模板!A4428,建筑!$A$2:$A$5001,0),COLUMN(A4428))","v":{"$error":"#N/A"}},null,{"$f":"INDEX(设备类型!$B$2:$B$5001,MATCH(表格模板!C4428,设备类型!$A$2:$A$5001,0),COLUMN(A4428))","v":{"$error":"#N/A"}}]
[null,{"$f":"INDEX(建筑!$B$2:$B$5001,MATCH(表格模板!A4429,建筑!$A$2:$A$5001,0),COLUMN(A4429))","v":{"$error":"#N/A"}},null,{"$f":"INDEX(设备类型!$B$2:$B$5001,MATCH(表格模板!C4429,设备类型!$A$2:$A$5001,0),COLUMN(A4429))","v":{"$error":"#N/A"}}]
[null,{"$f":"INDEX(建筑!$B$2:$B$5001,MATCH(表格模板!A4430,建筑!$A$2:$A$5001,0),COLUMN(A4430))","v":{"$error":"#N/A"}},null,{"$f":"INDEX(设备类型!$B$2:$B$5001,MATCH(表格模板!C4430,设备类型!$A$2:$A$5001,0),COLUMN(A4430))","v":{"$error":"#N/A"}}]
[null,{"$f":"INDEX(建筑!$B$2:$B$5001,MATCH(表格模板!A4431,建筑!$A$2:$A$5001,0),COLUMN(A4431))","v":{"$error":"#N/A"}},null,{"$f":"INDEX(设备类型!$B$2:$B$5001,MATCH(表格模板!C4431,设备类型!$A$2:$A$5001,0),COLUMN(A4431))","v":{"$error":"#N/A"}}]
[null,{"$f":"INDEX(建筑!$B$2:$B$5001,MATCH(表格模板!A4432,建筑!$A$2:$A$5001,0),COLUMN(A4432))","v":{"$error":"#N/A"}},null,{"$f":"INDEX(设备类型!$B$2:$B$5001,MATCH(表格模板!C4432,设备类型!$A$2:$A$5001,0),COLUMN(A4432))","v":{"$error":"#N/A"}}]
[null,{"$f":"INDEX(建筑!$B$2:$B$5001,MATCH(表格模板!A4433,建筑!$A$2:$A$5001,0),COLUMN(A4433))","v":{"$error":"#N/A"}},null,{"$f":"INDEX(设备类型!$B$2:$B$5001,MATCH(表格模板!C4433,设备类型!$A$2:$A$5001,0),COLUMN(A4433))","v":{"$error":"#N/A"}}]
[null,{"$f":"INDEX(建筑!$B$2:$B$5001,MATCH(表格模板!A4434,建筑!$A$2:$A$5001,0),COLUMN(A4434))","v":{"$error":"#N/A"}},null,{"$f":"INDEX(设备类型!$B$2:$B$5001,MATCH(表格模板!C4434,设备类型!$A$2:$A$5001,0),COLUMN(A4434))","v":{"$error":"#N/A"}}]
[null,{"$f":"INDEX(建筑!$B$2:$B$5001,MATCH(表格模板!A4435,建筑!$A$2:$A$5001,0),COLUMN(A4435))","v":{"$error":"#N/A"}},null,{"$f":"INDEX(设备类型!$B$2:$B$5001,MATCH(表格模板!C4435,设备类型!$A$2:$A$5001,0),COLUMN(A4435))","v":{"$error":"#N/A"}}]
[null,{"$f":"INDEX(建筑!$B$2:$B$5001,MATCH(表格模板!A4436,建筑!$A$2:$A$5001,0),COLUMN(A4436))","v":{"$error":"#N/A"}},null,{"$f":"INDEX(设备类型!$B$2:$B$5001,MATCH(表格模板!C4436,设备类型!$A$2:$A$5001,0),COLUMN(A4436))","v":{"$error":"#N/A"}}]
[null,{"$f":"INDEX(建筑!$B$2:$B$5001,MATCH(表格模板!A4437,建筑!$A$2:$A$5001,0),COLUMN(A4437))","v":{"$error":"#N/A"}},null,{"$f":"INDEX(设备类型!$B$2:$B$5001,MATCH(表格模板!C4437,设备类型!$A$2:$A$5001,0),COLUMN(A4437))","v":{"$error":"#N/A"}}]
[null,{"$f":"INDEX(建筑!$B$2:$B$5001,MATCH(表格模板!A4438,建筑!$A$2:$A$5001,0),COLUMN(A4438))","v":{"$error":"#N/A"}},null,{"$f":"INDEX(设备类型!$B$2:$B$5001,MATCH(表格模板!C4438,设备类型!$A$2:$A$5001,0),COLUMN(A4438))","v":{"$error":"#N/A"}}]
[null,{"$f":"INDEX(建筑!$B$2:$B$5001,MATCH(表格模板!A4439,建筑!$A$2:$A$5001,0),COLUMN(A4439))","v":{"$error":"#N/A"}},null,{"$f":"INDEX(设备类型!$B$2:$B$5001,MATCH(表格模板!C4439,设备类型!$A$2:$A$5001,0),COLUMN(A4439))","v":{"$error":"#N/A"}}]
[null,{"$f":"INDEX(建筑!$B$2:$B$5001,MATCH(表格模板!A4440,建筑!$A$2:$A$5001,0),COLUMN(A4440))","v":{"$error":"#N/A"}},null,{"$f":"INDEX(设备类型!$B$2:$B$5001,MATCH(表格模板!C4440,设备类型!$A$2:$A$5001,0),COLUMN(A4440))","v":{"$error":"#N/A"}}]
[null,{"$f":"INDEX(建筑!$B$2:$B$5001,MATCH(表格模板!A4441,建筑!$A$2:$A$5001,0),COLUMN(A4441))","v":{"$error":"#N/A"}},null,{"$f":"INDEX(设备类型!$B$2:$B$5001,MATCH(表格模板!C4441,设备类型!$A$2:$A$5001,0),COLUMN(A4441))","v":{"$error":"#N/A"}}]
[null,{"$f":"INDEX(建筑!$B$2:$B$5001,MATCH(表格模板!A4442,建筑!$A$2:$A$5001,0),COLUMN(A4442))","v":{"$error":"#N/A"}},null,{"$f":"INDEX(设备类型!$B$2:$B$5001,MATCH(表格模板!C4442,设备类型!$A$2:$A$5001,0),COLUMN(A4442))","v":{"$error":"#N/A"}}]
[null,{"$f":"INDEX(建筑!$B$2:$B$5001,MATCH(表格模板!A4443,建筑!$A$2:$A$5001,0),COLUMN(A4443))","v":{"$error":"#N/A"}},null,{"$f":"INDEX(设备类型!$B$2:$B$5001,MATCH(表格模板!C4443,设备类型!$A$2:$A$5001,0),COLUMN(A4443))","v":{"$error":"#N/A"}}]
[null,{"$f":"INDEX(建筑!$B$2:$B$5001,MATCH(表格模板!A4444,建筑!$A$2:$A$5001,0),COLUMN(A4444))","v":{"$error":"#N/A"}},null,{"$f":"INDEX(设备类型!$B$2:$B$5001,MATCH(表格模板!C4444,设备类型!$A$2:$A$5001,0),COLUMN(A4444))","v":{"$error":"#N/A"}}]
[null,{"$f":"INDEX(建筑!$B$2:$B$5001,MATCH(表格模板!A4445,建筑!$A$2:$A$5001,0),COLUMN(A4445))","v":{"$error":"#N/A"}},null,{"$f":"INDEX(设备类型!$B$2:$B$5001,MATCH(表格模板!C4445,设备类型!$A$2:$A$5001,0),COLUMN(A4445))","v":{"$error":"#N/A"}}]
[null,{"$f":"INDEX(建筑!$B$2:$B$5001,MATCH(表格模板!A4446,建筑!$A$2:$A$5001,0),COLUMN(A4446))","v":{"$error":"#N/A"}},null,{"$f":"INDEX(设备类型!$B$2:$B$5001,MATCH(表格模板!C4446,设备类型!$A$2:$A$5001,0),COLUMN(A4446))","v":{"$error":"#N/A"}}]
[null,{"$f":"INDEX(建筑!$B$2:$B$5001,MATCH(表格模板!A4447,建筑!$A$2:$A$5001,0),COLUMN(A4447))","v":{"$error":"#N/A"}},null,{"$f":"INDEX(设备类型!$B$2:$B$5001,MATCH(表格模板!C4447,设备类型!$A$2:$A$5001,0),COLUMN(A4447))","v":{"$error":"#N/A"}}]
[null,{"$f":"INDEX(建筑!$B$2:$B$5001,MATCH(表格模板!A4448,建筑!$A$2:$A$5001,0),COLUMN(A4448))","v":{"$error":"#N/A"}},null,{"$f":"INDEX(设备类型!$B$2:$B$5001,MATCH(表格模板!C4448,设备类型!$A$2:$A$5001,0),COLUMN(A4448))","v":{"$error":"#N/A"}}]
[null,{"$f":"INDEX(建筑!$B$2:$B$5001,MATCH(表格模板!A4449,建筑!$A$2:$A$5001,0),COLUMN(A4449))","v":{"$error":"#N/A"}},null,{"$f":"INDEX(设备类型!$B$2:$B$5001,MATCH(表格模板!C4449,设备类型!$A$2:$A$5001,0),COLUMN(A4449))","v":{"$error":"#N/A"}}]
[null,{"$f":"INDEX(建筑!$B$2:$B$5001,MATCH(表格模板!A4450,建筑!$A$2:$A$5001,0),COLUMN(A4450))","v":{"$error":"#N/A"}},null,{"$f":"INDEX(设备类型!$B$2:$B$5001,MATCH(表格模板!C4450,设备类型!$A$2:$A$5001,0),COLUMN(A4450))","v":{"$error":"#N/A"}}]
[null,{"$f":"INDEX(建筑!$B$2:$B$5001,MATCH(表格模板!A4451,建筑!$A$2:$A$5001,0),COLUMN(A4451))","v":{"$error":"#N/A"}},null,{"$f":"INDEX(设备类型!$B$2:$B$5001,MATCH(表格模板!C4451,设备类型!$A$2:$A$5001,0),COLUMN(A4451))","v":{"$error":"#N/A"}}]
[null,{"$f":"INDEX(建筑!$B$2:$B$5001,MATCH(表格模板!A4452,建筑!$A$2:$A$5001,0),COLUMN(A4452))","v":{"$error":"#N/A"}},null,{"$f":"INDEX(设备类型!$B$2:$B$5001,MATCH(表格模板!C4452,设备类型!$A$2:$A$5001,0),COLUMN(A4452))","v":{"$error":"#N/A"}}]
[null,{"$f":"INDEX(建筑!$B$2:$B$5001,MATCH(表格模板!A4453,建筑!$A$2:$A$5001,0),COLUMN(A4453))","v":{"$error":"#N/A"}},null,{"$f":"INDEX(设备类型!$B$2:$B$5001,MATCH(表格模板!C4453,设备类型!$A$2:$A$5001,0),COLUMN(A4453))","v":{"$error":"#N/A"}}]
[null,{"$f":"INDEX(建筑!$B$2:$B$5001,MATCH(表格模板!A4454,建筑!$A$2:$A$5001,0),COLUMN(A4454))","v":{"$error":"#N/A"}},null,{"$f":"INDEX(设备类型!$B$2:$B$5001,MATCH(表格模板!C4454,设备类型!$A$2:$A$5001,0),COLUMN(A4454))","v":{"$error":"#N/A"}}]
[null,{"$f":"INDEX(建筑!$B$2:$B$5001,MATCH(表格模板!A4455,建筑!$A$2:$A$5001,0),COLUMN(A4455))","v":{"$error":"#N/A"}},null,{"$f":"INDEX(设备类型!$B$2:$B$5001,MATCH(表格模板!C4455,设备类型!$A$2:$A$5001,0),COLUMN(A4455))","v":{"$error":"#N/A"}}]
[null,{"$f":"INDEX(建筑!$B$2:$B$5001,MATCH(表格模板!A4456,建筑!$A$2:$A$5001,0),COLUMN(A4456))","v":{"$error":"#N/A"}},null,{"$f":"INDEX(设备类型!$B$2:$B$5001,MATCH(表格模板!C4456,设备类型!$A$2:$A$5001,0),COLUMN(A4456))","v":{"$error":"#N/A"}}]
[null,{"$f":"INDEX(建筑!$B$2:$B$5001,MATCH(表格模板!A4457,建筑!$A$2:$A$5001,0),COLUMN(A4457))","v":{"$error":"#N/A"}},null,{"$f":"INDEX(设备类型!$B$2:$B$5001,MATCH(表格模板!C4457,设备类型!$A$2:$A$5001,0),COLUMN(A4457))","v":{"$error":"#N/A"}}]
[null,{"$f":"INDEX(建筑!$B$2:$B$5001,MATCH(表格模板!A4458,建筑!$A$2:$A$5001,0),COLUMN(A4458))","v":{"$error":"#N/A"}},null,{"$f":"INDEX(设备类型!$B$2:$B$5001,MATCH(表格模板!C4458,设备类型!$A$2:$A$5001,0),COLUMN(A4458))","v":{"$error":"#N/A"}}]
[null,{"$f":"INDEX(建筑!$B$2:$B$5001,MATCH(表格模板!A4459,建筑!$A$2:$A$5001,0),COLUMN(A4459))","v":{"$error":"#N/A"}},null,{"$f":"INDEX(设备类型!$B$2:$B$5001,MATCH(表格模板!C4459,设备类型!$A$2:$A$5001,0),COLUMN(A4459))","v":{"$error":"#N/A"}}]
[null,{"$f":"INDEX(建筑!$B$2:$B$5001,MATCH(表格模板!A4460,建筑!$A$2:$A$5001,0),COLUMN(A4460))","v":{"$error":"#N/A"}},null,{"$f":"INDEX(设备类型!$B$2:$B$5001,MATCH(表格模板!C4460,设备类型!$A$2:$A$5001,0),COLUMN(A4460))","v":{"$error":"#N/A"}}]
[null,{"$f":"INDEX(建筑!$B$2:$B$5001,MATCH(表格模板!A4461,建筑!$A$2:$A$5001,0),COLUMN(A4461))","v":{"$error":"#N/A"}},null,{"$f":"INDEX(设备类型!$B$2:$B$5001,MATCH(表格模板!C4461,设备类型!$A$2:$A$5001,0),COLUMN(A4461))","v":{"$error":"#N/A"}}]
[null,{"$f":"INDEX(建筑!$B$2:$B$5001,MATCH(表格模板!A4462,建筑!$A$2:$A$5001,0),COLUMN(A4462))","v":{"$error":"#N/A"}},null,{"$f":"INDEX(设备类型!$B$2:$B$5001,MATCH(表格模板!C4462,设备类型!$A$2:$A$5001,0),COLUMN(A4462))","v":{"$error":"#N/A"}}]
[null,{"$f":"INDEX(建筑!$B$2:$B$5001,MATCH(表格模板!A4463,建筑!$A$2:$A$5001,0),COLUMN(A4463))","v":{"$error":"#N/A"}},null,{"$f":"INDEX(设备类型!$B$2:$B$5001,MATCH(表格模板!C4463,设备类型!$A$2:$A$5001,0),COLUMN(A4463))","v":{"$error":"#N/A"}}]
[null,{"$f":"INDEX(建筑!$B$2:$B$5001,MATCH(表格模板!A4464,建筑!$A$2:$A$5001,0),COLUMN(A4464))","v":{"$error":"#N/A"}},null,{"$f":"INDEX(设备类型!$B$2:$B$5001,MATCH(表格模板!C4464,设备类型!$A$2:$A$5001,0),COLUMN(A4464))","v":{"$error":"#N/A"}}]
[null,{"$f":"INDEX(建筑!$B$2:$B$5001,MATCH(表格模板!A4465,建筑!$A$2:$A$5001,0),COLUMN(A4465))","v":{"$error":"#N/A"}},null,{"$f":"INDEX(设备类型!$B$2:$B$5001,MATCH(表格模板!C4465,设备类型!$A$2:$A$5001,0),COLUMN(A4465))","v":{"$error":"#N/A"}}]
[null,{"$f":"INDEX(建筑!$B$2:$B$5001,MATCH(表格模板!A4466,建筑!$A$2:$A$5001,0),COLUMN(A4466))","v":{"$error":"#N/A"}},null,{"$f":"INDEX(设备类型!$B$2:$B$5001,MATCH(表格模板!C4466,设备类型!$A$2:$A$5001,0),COLUMN(A4466))","v":{"$error":"#N/A"}}]
[null,{"$f":"INDEX(建筑!$B$2:$B$5001,MATCH(表格模板!A4467,建筑!$A$2:$A$5001,0),COLUMN(A4467))","v":{"$error":"#N/A"}},null,{"$f":"INDEX(设备类型!$B$2:$B$5001,MATCH(表格模板!C4467,设备类型!$A$2:$A$5001,0),COLUMN(A4467))","v":{"$error":"#N/A"}}]
[null,{"$f":"INDEX(建筑!$B$2:$B$5001,MATCH(表格模板!A4468,建筑!$A$2:$A$5001,0),COLUMN(A4468))","v":{"$error":"#N/A"}},null,{"$f":"INDEX(设备类型!$B$2:$B$5001,MATCH(表格模板!C4468,设备类型!$A$2:$A$5001,0),COLUMN(A4468))","v":{"$error":"#N/A"}}]
[null,{"$f":"INDEX(建筑!$B$2:$B$5001,MATCH(表格模板!A4469,建筑!$A$2:$A$5001,0),COLUMN(A4469))","v":{"$error":"#N/A"}},null,{"$f":"INDEX(设备类型!$B$2:$B$5001,MATCH(表格模板!C4469,设备类型!$A$2:$A$5001,0),COLUMN(A4469))","v":{"$error":"#N/A"}}]
[null,{"$f":"INDEX(建筑!$B$2:$B$5001,MATCH(表格模板!A4470,建筑!$A$2:$A$5001,0),COLUMN(A4470))","v":{"$error":"#N/A"}},null,{"$f":"INDEX(设备类型!$B$2:$B$5001,MATCH(表格模板!C4470,设备类型!$A$2:$A$5001,0),COLUMN(A4470))","v":{"$error":"#N/A"}}]
[null,{"$f":"INDEX(建筑!$B$2:$B$5001,MATCH(表格模板!A4471,建筑!$A$2:$A$5001,0),COLUMN(A4471))","v":{"$error":"#N/A"}},null,{"$f":"INDEX(设备类型!$B$2:$B$5001,MATCH(表格模板!C4471,设备类型!$A$2:$A$5001,0),COLUMN(A4471))","v":{"$error":"#N/A"}}]
[null,{"$f":"INDEX(建筑!$B$2:$B$5001,MATCH(表格模板!A4472,建筑!$A$2:$A$5001,0),COLUMN(A4472))","v":{"$error":"#N/A"}},null,{"$f":"INDEX(设备类型!$B$2:$B$5001,MATCH(表格模板!C4472,设备类型!$A$2:$A$5001,0),COLUMN(A4472))","v":{"$error":"#N/A"}}]
[null,{"$f":"INDEX(建筑!$B$2:$B$5001,MATCH(表格模板!A4473,建筑!$A$2:$A$5001,0),COLUMN(A4473))","v":{"$error":"#N/A"}},null,{"$f":"INDEX(设备类型!$B$2:$B$5001,MATCH(表格模板!C4473,设备类型!$A$2:$A$5001,0),COLUMN(A4473))","v":{"$error":"#N/A"}}]
[null,{"$f":"INDEX(建筑!$B$2:$B$5001,MATCH(表格模板!A4474,建筑!$A$2:$A$5001,0),COLUMN(A4474))","v":{"$error":"#N/A"}},null,{"$f":"INDEX(设备类型!$B$2:$B$5001,MATCH(表格模板!C4474,设备类型!$A$2:$A$5001,0),COLUMN(A4474))","v":{"$error":"#N/A"}}]
[null,{"$f":"INDEX(建筑!$B$2:$B$5001,MATCH(表格模板!A4475,建筑!$A$2:$A$5001,0),COLUMN(A4475))","v":{"$error":"#N/A"}},null,{"$f":"INDEX(设备类型!$B$2:$B$5001,MATCH(表格模板!C4475,设备类型!$A$2:$A$5001,0),COLUMN(A4475))","v":{"$error":"#N/A"}}]
[null,{"$f":"INDEX(建筑!$B$2:$B$5001,MATCH(表格模板!A4476,建筑!$A$2:$A$5001,0),COLUMN(A4476))","v":{"$error":"#N/A"}},null,{"$f":"INDEX(设备类型!$B$2:$B$5001,MATCH(表格模板!C4476,设备类型!$A$2:$A$5001,0),COLUMN(A4476))","v":{"$error":"#N/A"}}]
[null,{"$f":"INDEX(建筑!$B$2:$B$5001,MATCH(表格模板!A4477,建筑!$A$2:$A$5001,0),COLUMN(A4477))","v":{"$error":"#N/A"}},null,{"$f":"INDEX(设备类型!$B$2:$B$5001,MATCH(表格模板!C4477,设备类型!$A$2:$A$5001,0),COLUMN(A4477))","v":{"$error":"#N/A"}}]
[null,{"$f":"INDEX(建筑!$B$2:$B$5001,MATCH(表格模板!A4478,建筑!$A$2:$A$5001,0),COLUMN(A4478))","v":{"$error":"#N/A"}},null,{"$f":"INDEX(设备类型!$B$2:$B$5001,MATCH(表格模板!C4478,设备类型!$A$2:$A$5001,0),COLUMN(A4478))","v":{"$error":"#N/A"}}]
[null,{"$f":"INDEX(建筑!$B$2:$B$5001,MATCH(表格模板!A4479,建筑!$A$2:$A$5001,0),COLUMN(A4479))","v":{"$error":"#N/A"}},null,{"$f":"INDEX(设备类型!$B$2:$B$5001,MATCH(表格模板!C4479,设备类型!$A$2:$A$5001,0),COLUMN(A4479))","v":{"$error":"#N/A"}}]
[null,{"$f":"INDEX(建筑!$B$2:$B$5001,MATCH(表格模板!A4480,建筑!$A$2:$A$5001,0),COLUMN(A4480))","v":{"$error":"#N/A"}},null,{"$f":"INDEX(设备类型!$B$2:$B$5001,MATCH(表格模板!C4480,设备类型!$A$2:$A$5001,0),COLUMN(A4480))","v":{"$error":"#N/A"}}]
[null,{"$f":"INDEX(建筑!$B$2:$B$5001,MATCH(表格模板!A4481,建筑!$A$2:$A$5001,0),COLUMN(A4481))","v":{"$error":"#N/A"}},null,{"$f":"INDEX(设备类型!$B$2:$B$5001,MATCH(表格模板!C4481,设备类型!$A$2:$A$5001,0),COLUMN(A4481))","v":{"$error":"#N/A"}}]
[null,{"$f":"INDEX(建筑!$B$2:$B$5001,MATCH(表格模板!A4482,建筑!$A$2:$A$5001,0),COLUMN(A4482))","v":{"$error":"#N/A"}},null,{"$f":"INDEX(设备类型!$B$2:$B$5001,MATCH(表格模板!C4482,设备类型!$A$2:$A$5001,0),COLUMN(A4482))","v":{"$error":"#N/A"}}]
[null,{"$f":"INDEX(建筑!$B$2:$B$5001,MATCH(表格模板!A4483,建筑!$A$2:$A$5001,0),COLUMN(A4483))","v":{"$error":"#N/A"}},null,{"$f":"INDEX(设备类型!$B$2:$B$5001,MATCH(表格模板!C4483,设备类型!$A$2:$A$5001,0),COLUMN(A4483))","v":{"$error":"#N/A"}}]
[null,{"$f":"INDEX(建筑!$B$2:$B$5001,MATCH(表格模板!A4484,建筑!$A$2:$A$5001,0),COLUMN(A4484))","v":{"$error":"#N/A"}},null,{"$f":"INDEX(设备类型!$B$2:$B$5001,MATCH(表格模板!C4484,设备类型!$A$2:$A$5001,0),COLUMN(A4484))","v":{"$error":"#N/A"}}]
[null,{"$f":"INDEX(建筑!$B$2:$B$5001,MATCH(表格模板!A4485,建筑!$A$2:$A$5001,0),COLUMN(A4485))","v":{"$error":"#N/A"}},null,{"$f":"INDEX(设备类型!$B$2:$B$5001,MATCH(表格模板!C4485,设备类型!$A$2:$A$5001,0),COLUMN(A4485))","v":{"$error":"#N/A"}}]
[null,{"$f":"INDEX(建筑!$B$2:$B$5001,MATCH(表格模板!A4486,建筑!$A$2:$A$5001,0),COLUMN(A4486))","v":{"$error":"#N/A"}},null,{"$f":"INDEX(设备类型!$B$2:$B$5001,MATCH(表格模板!C4486,设备类型!$A$2:$A$5001,0),COLUMN(A4486))","v":{"$error":"#N/A"}}]
[null,{"$f":"INDEX(建筑!$B$2:$B$5001,MATCH(表格模板!A4487,建筑!$A$2:$A$5001,0),COLUMN(A4487))","v":{"$error":"#N/A"}},null,{"$f":"INDEX(设备类型!$B$2:$B$5001,MATCH(表格模板!C4487,设备类型!$A$2:$A$5001,0),COLUMN(A4487))","v":{"$error":"#N/A"}}]
[null,{"$f":"INDEX(建筑!$B$2:$B$5001,MATCH(表格模板!A4488,建筑!$A$2:$A$5001,0),COLUMN(A4488))","v":{"$error":"#N/A"}},null,{"$f":"INDEX(设备类型!$B$2:$B$5001,MATCH(表格模板!C4488,设备类型!$A$2:$A$5001,0),COLUMN(A4488))","v":{"$error":"#N/A"}}]
[null,{"$f":"INDEX(建筑!$B$2:$B$5001,MATCH(表格模板!A4489,建筑!$A$2:$A$5001,0),COLUMN(A4489))","v":{"$error":"#N/A"}},null,{"$f":"INDEX(设备类型!$B$2:$B$5001,MATCH(表格模板!C4489,设备类型!$A$2:$A$5001,0),COLUMN(A4489))","v":{"$error":"#N/A"}}]
[null,{"$f":"INDEX(建筑!$B$2:$B$5001,MATCH(表格模板!A4490,建筑!$A$2:$A$5001,0),COLUMN(A4490))","v":{"$error":"#N/A"}},null,{"$f":"INDEX(设备类型!$B$2:$B$5001,MATCH(表格模板!C4490,设备类型!$A$2:$A$5001,0),COLUMN(A4490))","v":{"$error":"#N/A"}}]
[null,{"$f":"INDEX(建筑!$B$2:$B$5001,MATCH(表格模板!A4491,建筑!$A$2:$A$5001,0),COLUMN(A4491))","v":{"$error":"#N/A"}},null,{"$f":"INDEX(设备类型!$B$2:$B$5001,MATCH(表格模板!C4491,设备类型!$A$2:$A$5001,0),COLUMN(A4491))","v":{"$error":"#N/A"}}]
[null,{"$f":"INDEX(建筑!$B$2:$B$5001,MATCH(表格模板!A4492,建筑!$A$2:$A$5001,0),COLUMN(A4492))","v":{"$error":"#N/A"}},null,{"$f":"INDEX(设备类型!$B$2:$B$5001,MATCH(表格模板!C4492,设备类型!$A$2:$A$5001,0),COLUMN(A4492))","v":{"$error":"#N/A"}}]
[null,{"$f":"INDEX(建筑!$B$2:$B$5001,MATCH(表格模板!A4493,建筑!$A$2:$A$5001,0),COLUMN(A4493))","v":{"$error":"#N/A"}},null,{"$f":"INDEX(设备类型!$B$2:$B$5001,MATCH(表格模板!C4493,设备类型!$A$2:$A$5001,0),COLUMN(A4493))","v":{"$error":"#N/A"}}]
[null,{"$f":"INDEX(建筑!$B$2:$B$5001,MATCH(表格模板!A4494,建筑!$A$2:$A$5001,0),COLUMN(A4494))","v":{"$error":"#N/A"}},null,{"$f":"INDEX(设备类型!$B$2:$B$5001,MATCH(表格模板!C4494,设备类型!$A$2:$A$5001,0),COLUMN(A4494))","v":{"$error":"#N/A"}}]
[null,{"$f":"INDEX(建筑!$B$2:$B$5001,MATCH(表格模板!A4495,建筑!$A$2:$A$5001,0),COLUMN(A4495))","v":{"$error":"#N/A"}},null,{"$f":"INDEX(设备类型!$B$2:$B$5001,MATCH(表格模板!C4495,设备类型!$A$2:$A$5001,0),COLUMN(A4495))","v":{"$error":"#N/A"}}]
[null,{"$f":"INDEX(建筑!$B$2:$B$5001,MATCH(表格模板!A4496,建筑!$A$2:$A$5001,0),COLUMN(A4496))","v":{"$error":"#N/A"}},null,{"$f":"INDEX(设备类型!$B$2:$B$5001,MATCH(表格模板!C4496,设备类型!$A$2:$A$5001,0),COLUMN(A4496))","v":{"$error":"#N/A"}}]
[null,{"$f":"INDEX(建筑!$B$2:$B$5001,MATCH(表格模板!A4497,建筑!$A$2:$A$5001,0),COLUMN(A4497))","v":{"$error":"#N/A"}},null,{"$f":"INDEX(设备类型!$B$2:$B$5001,MATCH(表格模板!C4497,设备类型!$A$2:$A$5001,0),COLUMN(A4497))","v":{"$error":"#N/A"}}]
[null,{"$f":"INDEX(建筑!$B$2:$B$5001,MATCH(表格模板!A4498,建筑!$A$2:$A$5001,0),COLUMN(A4498))","v":{"$error":"#N/A"}},null,{"$f":"INDEX(设备类型!$B$2:$B$5001,MATCH(表格模板!C4498,设备类型!$A$2:$A$5001,0),COLUMN(A4498))","v":{"$error":"#N/A"}}]
[null,{"$f":"INDEX(建筑!$B$2:$B$5001,MATCH(表格模板!A4499,建筑!$A$2:$A$5001,0),COLUMN(A4499))","v":{"$error":"#N/A"}},null,{"$f":"INDEX(设备类型!$B$2:$B$5001,MATCH(表格模板!C4499,设备类型!$A$2:$A$5001,0),COLUMN(A4499))","v":{"$error":"#N/A"}}]
[null,{"$f":"INDEX(建筑!$B$2:$B$5001,MATCH(表格模板!A4500,建筑!$A$2:$A$5001,0),COLUMN(A4500))","v":{"$error":"#N/A"}},null,{"$f":"INDEX(设备类型!$B$2:$B$5001,MATCH(表格模板!C4500,设备类型!$A$2:$A$5001,0),COLUMN(A4500))","v":{"$error":"#N/A"}}]
[null,{"$f":"INDEX(建筑!$B$2:$B$5001,MATCH(表格模板!A4501,建筑!$A$2:$A$5001,0),COLUMN(A4501))","v":{"$error":"#N/A"}},null,{"$f":"INDEX(设备类型!$B$2:$B$5001,MATCH(表格模板!C4501,设备类型!$A$2:$A$5001,0),COLUMN(A4501))","v":{"$error":"#N/A"}}]
[null,{"$f":"INDEX(建筑!$B$2:$B$5001,MATCH(表格模板!A4502,建筑!$A$2:$A$5001,0),COLUMN(A4502))","v":{"$error":"#N/A"}},null,{"$f":"INDEX(设备类型!$B$2:$B$5001,MATCH(表格模板!C4502,设备类型!$A$2:$A$5001,0),COLUMN(A4502))","v":{"$error":"#N/A"}}]
[null,{"$f":"INDEX(建筑!$B$2:$B$5001,MATCH(表格模板!A4503,建筑!$A$2:$A$5001,0),COLUMN(A4503))","v":{"$error":"#N/A"}},null,{"$f":"INDEX(设备类型!$B$2:$B$5001,MATCH(表格模板!C4503,设备类型!$A$2:$A$5001,0),COLUMN(A4503))","v":{"$error":"#N/A"}}]
[null,{"$f":"INDEX(建筑!$B$2:$B$5001,MATCH(表格模板!A4504,建筑!$A$2:$A$5001,0),COLUMN(A4504))","v":{"$error":"#N/A"}},null,{"$f":"INDEX(设备类型!$B$2:$B$5001,MATCH(表格模板!C4504,设备类型!$A$2:$A$5001,0),COLUMN(A4504))","v":{"$error":"#N/A"}}]
[null,{"$f":"INDEX(建筑!$B$2:$B$5001,MATCH(表格模板!A4505,建筑!$A$2:$A$5001,0),COLUMN(A4505))","v":{"$error":"#N/A"}},null,{"$f":"INDEX(设备类型!$B$2:$B$5001,MATCH(表格模板!C4505,设备类型!$A$2:$A$5001,0),COLUMN(A4505))","v":{"$error":"#N/A"}}]
[null,{"$f":"INDEX(建筑!$B$2:$B$5001,MATCH(表格模板!A4506,建筑!$A$2:$A$5001,0),COLUMN(A4506))","v":{"$error":"#N/A"}},null,{"$f":"INDEX(设备类型!$B$2:$B$5001,MATCH(表格模板!C4506,设备类型!$A$2:$A$5001,0),COLUMN(A4506))","v":{"$error":"#N/A"}}]
[null,{"$f":"INDEX(建筑!$B$2:$B$5001,MATCH(表格模板!A4507,建筑!$A$2:$A$5001,0),COLUMN(A4507))","v":{"$error":"#N/A"}},null,{"$f":"INDEX(设备类型!$B$2:$B$5001,MATCH(表格模板!C4507,设备类型!$A$2:$A$5001,0),COLUMN(A4507))","v":{"$error":"#N/A"}}]
[null,{"$f":"INDEX(建筑!$B$2:$B$5001,MATCH(表格模板!A4508,建筑!$A$2:$A$5001,0),COLUMN(A4508))","v":{"$error":"#N/A"}},null,{"$f":"INDEX(设备类型!$B$2:$B$5001,MATCH(表格模板!C4508,设备类型!$A$2:$A$5001,0),COLUMN(A4508))","v":{"$error":"#N/A"}}]
[null,{"$f":"INDEX(建筑!$B$2:$B$5001,MATCH(表格模板!A4509,建筑!$A$2:$A$5001,0),COLUMN(A4509))","v":{"$error":"#N/A"}},null,{"$f":"INDEX(设备类型!$B$2:$B$5001,MATCH(表格模板!C4509,设备类型!$A$2:$A$5001,0),COLUMN(A4509))","v":{"$error":"#N/A"}}]
[null,{"$f":"INDEX(建筑!$B$2:$B$5001,MATCH(表格模板!A4510,建筑!$A$2:$A$5001,0),COLUMN(A4510))","v":{"$error":"#N/A"}},null,{"$f":"INDEX(设备类型!$B$2:$B$5001,MATCH(表格模板!C4510,设备类型!$A$2:$A$5001,0),COLUMN(A4510))","v":{"$error":"#N/A"}}]
[null,{"$f":"INDEX(建筑!$B$2:$B$5001,MATCH(表格模板!A4511,建筑!$A$2:$A$5001,0),COLUMN(A4511))","v":{"$error":"#N/A"}},null,{"$f":"INDEX(设备类型!$B$2:$B$5001,MATCH(表格模板!C4511,设备类型!$A$2:$A$5001,0),COLUMN(A4511))","v":{"$error":"#N/A"}}]
[null,{"$f":"INDEX(建筑!$B$2:$B$5001,MATCH(表格模板!A4512,建筑!$A$2:$A$5001,0),COLUMN(A4512))","v":{"$error":"#N/A"}},null,{"$f":"INDEX(设备类型!$B$2:$B$5001,MATCH(表格模板!C4512,设备类型!$A$2:$A$5001,0),COLUMN(A4512))","v":{"$error":"#N/A"}}]
[null,{"$f":"INDEX(建筑!$B$2:$B$5001,MATCH(表格模板!A4513,建筑!$A$2:$A$5001,0),COLUMN(A4513))","v":{"$error":"#N/A"}},null,{"$f":"INDEX(设备类型!$B$2:$B$5001,MATCH(表格模板!C4513,设备类型!$A$2:$A$5001,0),COLUMN(A4513))","v":{"$error":"#N/A"}}]
[null,{"$f":"INDEX(建筑!$B$2:$B$5001,MATCH(表格模板!A4514,建筑!$A$2:$A$5001,0),COLUMN(A4514))","v":{"$error":"#N/A"}},null,{"$f":"INDEX(设备类型!$B$2:$B$5001,MATCH(表格模板!C4514,设备类型!$A$2:$A$5001,0),COLUMN(A4514))","v":{"$error":"#N/A"}}]
[null,{"$f":"INDEX(建筑!$B$2:$B$5001,MATCH(表格模板!A4515,建筑!$A$2:$A$5001,0),COLUMN(A4515))","v":{"$error":"#N/A"}},null,{"$f":"INDEX(设备类型!$B$2:$B$5001,MATCH(表格模板!C4515,设备类型!$A$2:$A$5001,0),COLUMN(A4515))","v":{"$error":"#N/A"}}]
[null,{"$f":"INDEX(建筑!$B$2:$B$5001,MATCH(表格模板!A4516,建筑!$A$2:$A$5001,0),COLUMN(A4516))","v":{"$error":"#N/A"}},null,{"$f":"INDEX(设备类型!$B$2:$B$5001,MATCH(表格模板!C4516,设备类型!$A$2:$A$5001,0),COLUMN(A4516))","v":{"$error":"#N/A"}}]
[null,{"$f":"INDEX(建筑!$B$2:$B$5001,MATCH(表格模板!A4517,建筑!$A$2:$A$5001,0),COLUMN(A4517))","v":{"$error":"#N/A"}},null,{"$f":"INDEX(设备类型!$B$2:$B$5001,MATCH(表格模板!C4517,设备类型!$A$2:$A$5001,0),COLUMN(A4517))","v":{"$error":"#N/A"}}]
[null,{"$f":"INDEX(建筑!$B$2:$B$5001,MATCH(表格模板!A4518,建筑!$A$2:$A$5001,0),COLUMN(A4518))","v":{"$error":"#N/A"}},null,{"$f":"INDEX(设备类型!$B$2:$B$5001,MATCH(表格模板!C4518,设备类型!$A$2:$A$5001,0),COLUMN(A4518))","v":{"$error":"#N/A"}}]
[null,{"$f":"INDEX(建筑!$B$2:$B$5001,MATCH(表格模板!A4519,建筑!$A$2:$A$5001,0),COLUMN(A4519))","v":{"$error":"#N/A"}},null,{"$f":"INDEX(设备类型!$B$2:$B$5001,MATCH(表格模板!C4519,设备类型!$A$2:$A$5001,0),COLUMN(A4519))","v":{"$error":"#N/A"}}]
[null,{"$f":"INDEX(建筑!$B$2:$B$5001,MATCH(表格模板!A4520,建筑!$A$2:$A$5001,0),COLUMN(A4520))","v":{"$error":"#N/A"}},null,{"$f":"INDEX(设备类型!$B$2:$B$5001,MATCH(表格模板!C4520,设备类型!$A$2:$A$5001,0),COLUMN(A4520))","v":{"$error":"#N/A"}}]
[null,{"$f":"INDEX(建筑!$B$2:$B$5001,MATCH(表格模板!A4521,建筑!$A$2:$A$5001,0),COLUMN(A4521))","v":{"$error":"#N/A"}},null,{"$f":"INDEX(设备类型!$B$2:$B$5001,MATCH(表格模板!C4521,设备类型!$A$2:$A$5001,0),COLUMN(A4521))","v":{"$error":"#N/A"}}]
[null,{"$f":"INDEX(建筑!$B$2:$B$5001,MATCH(表格模板!A4522,建筑!$A$2:$A$5001,0),COLUMN(A4522))","v":{"$error":"#N/A"}},null,{"$f":"INDEX(设备类型!$B$2:$B$5001,MATCH(表格模板!C4522,设备类型!$A$2:$A$5001,0),COLUMN(A4522))","v":{"$error":"#N/A"}}]
[null,{"$f":"INDEX(建筑!$B$2:$B$5001,MATCH(表格模板!A4523,建筑!$A$2:$A$5001,0),COLUMN(A4523))","v":{"$error":"#N/A"}},null,{"$f":"INDEX(设备类型!$B$2:$B$5001,MATCH(表格模板!C4523,设备类型!$A$2:$A$5001,0),COLUMN(A4523))","v":{"$error":"#N/A"}}]
[null,{"$f":"INDEX(建筑!$B$2:$B$5001,MATCH(表格模板!A4524,建筑!$A$2:$A$5001,0),COLUMN(A4524))","v":{"$error":"#N/A"}},null,{"$f":"INDEX(设备类型!$B$2:$B$5001,MATCH(表格模板!C4524,设备类型!$A$2:$A$5001,0),COLUMN(A4524))","v":{"$error":"#N/A"}}]
[null,{"$f":"INDEX(建筑!$B$2:$B$5001,MATCH(表格模板!A4525,建筑!$A$2:$A$5001,0),COLUMN(A4525))","v":{"$error":"#N/A"}},null,{"$f":"INDEX(设备类型!$B$2:$B$5001,MATCH(表格模板!C4525,设备类型!$A$2:$A$5001,0),COLUMN(A4525))","v":{"$error":"#N/A"}}]
[null,{"$f":"INDEX(建筑!$B$2:$B$5001,MATCH(表格模板!A4526,建筑!$A$2:$A$5001,0),COLUMN(A4526))","v":{"$error":"#N/A"}},null,{"$f":"INDEX(设备类型!$B$2:$B$5001,MATCH(表格模板!C4526,设备类型!$A$2:$A$5001,0),COLUMN(A4526))","v":{"$error":"#N/A"}}]
[null,{"$f":"INDEX(建筑!$B$2:$B$5001,MATCH(表格模板!A4527,建筑!$A$2:$A$5001,0),COLUMN(A4527))","v":{"$error":"#N/A"}},null,{"$f":"INDEX(设备类型!$B$2:$B$5001,MATCH(表格模板!C4527,设备类型!$A$2:$A$5001,0),COLUMN(A4527))","v":{"$error":"#N/A"}}]
[null,{"$f":"INDEX(建筑!$B$2:$B$5001,MATCH(表格模板!A4528,建筑!$A$2:$A$5001,0),COLUMN(A4528))","v":{"$error":"#N/A"}},null,{"$f":"INDEX(设备类型!$B$2:$B$5001,MATCH(表格模板!C4528,设备类型!$A$2:$A$5001,0),COLUMN(A4528))","v":{"$error":"#N/A"}}]
[null,{"$f":"INDEX(建筑!$B$2:$B$5001,MATCH(表格模板!A4529,建筑!$A$2:$A$5001,0),COLUMN(A4529))","v":{"$error":"#N/A"}},null,{"$f":"INDEX(设备类型!$B$2:$B$5001,MATCH(表格模板!C4529,设备类型!$A$2:$A$5001,0),COLUMN(A4529))","v":{"$error":"#N/A"}}]
[null,{"$f":"INDEX(建筑!$B$2:$B$5001,MATCH(表格模板!A4530,建筑!$A$2:$A$5001,0),COLUMN(A4530))","v":{"$error":"#N/A"}},null,{"$f":"INDEX(设备类型!$B$2:$B$5001,MATCH(表格模板!C4530,设备类型!$A$2:$A$5001,0),COLUMN(A4530))","v":{"$error":"#N/A"}}]
[null,{"$f":"INDEX(建筑!$B$2:$B$5001,MATCH(表格模板!A4531,建筑!$A$2:$A$5001,0),COLUMN(A4531))","v":{"$error":"#N/A"}},null,{"$f":"INDEX(设备类型!$B$2:$B$5001,MATCH(表格模板!C4531,设备类型!$A$2:$A$5001,0),COLUMN(A4531))","v":{"$error":"#N/A"}}]
[null,{"$f":"INDEX(建筑!$B$2:$B$5001,MATCH(表格模板!A4532,建筑!$A$2:$A$5001,0),COLUMN(A4532))","v":{"$error":"#N/A"}},null,{"$f":"INDEX(设备类型!$B$2:$B$5001,MATCH(表格模板!C4532,设备类型!$A$2:$A$5001,0),COLUMN(A4532))","v":{"$error":"#N/A"}}]
[null,{"$f":"INDEX(建筑!$B$2:$B$5001,MATCH(表格模板!A4533,建筑!$A$2:$A$5001,0),COLUMN(A4533))","v":{"$error":"#N/A"}},null,{"$f":"INDEX(设备类型!$B$2:$B$5001,MATCH(表格模板!C4533,设备类型!$A$2:$A$5001,0),COLUMN(A4533))","v":{"$error":"#N/A"}}]
[null,{"$f":"INDEX(建筑!$B$2:$B$5001,MATCH(表格模板!A4534,建筑!$A$2:$A$5001,0),COLUMN(A4534))","v":{"$error":"#N/A"}},null,{"$f":"INDEX(设备类型!$B$2:$B$5001,MATCH(表格模板!C4534,设备类型!$A$2:$A$5001,0),COLUMN(A4534))","v":{"$error":"#N/A"}}]
[null,{"$f":"INDEX(建筑!$B$2:$B$5001,MATCH(表格模板!A4535,建筑!$A$2:$A$5001,0),COLUMN(A4535))","v":{"$error":"#N/A"}},null,{"$f":"INDEX(设备类型!$B$2:$B$5001,MATCH(表格模板!C4535,设备类型!$A$2:$A$5001,0),COLUMN(A4535))","v":{"$error":"#N/A"}}]
[null,{"$f":"INDEX(建筑!$B$2:$B$5001,MATCH(表格模板!A4536,建筑!$A$2:$A$5001,0),COLUMN(A4536))","v":{"$error":"#N/A"}},null,{"$f":"INDEX(设备类型!$B$2:$B$5001,MATCH(表格模板!C4536,设备类型!$A$2:$A$5001,0),COLUMN(A4536))","v":{"$error":"#N/A"}}]
[null,{"$f":"INDEX(建筑!$B$2:$B$5001,MATCH(表格模板!A4537,建筑!$A$2:$A$5001,0),COLUMN(A4537))","v":{"$error":"#N/A"}},null,{"$f":"INDEX(设备类型!$B$2:$B$5001,MATCH(表格模板!C4537,设备类型!$A$2:$A$5001,0),COLUMN(A4537))","v":{"$error":"#N/A"}}]
[null,{"$f":"INDEX(建筑!$B$2:$B$5001,MATCH(表格模板!A4538,建筑!$A$2:$A$5001,0),COLUMN(A4538))","v":{"$error":"#N/A"}},null,{"$f":"INDEX(设备类型!$B$2:$B$5001,MATCH(表格模板!C4538,设备类型!$A$2:$A$5001,0),COLUMN(A4538))","v":{"$error":"#N/A"}}]
[null,{"$f":"INDEX(建筑!$B$2:$B$5001,MATCH(表格模板!A4539,建筑!$A$2:$A$5001,0),COLUMN(A4539))","v":{"$error":"#N/A"}},null,{"$f":"INDEX(设备类型!$B$2:$B$5001,MATCH(表格模板!C4539,设备类型!$A$2:$A$5001,0),COLUMN(A4539))","v":{"$error":"#N/A"}}]
[null,{"$f":"INDEX(建筑!$B$2:$B$5001,MATCH(表格模板!A4540,建筑!$A$2:$A$5001,0),COLUMN(A4540))","v":{"$error":"#N/A"}},null,{"$f":"INDEX(设备类型!$B$2:$B$5001,MATCH(表格模板!C4540,设备类型!$A$2:$A$5001,0),COLUMN(A4540))","v":{"$error":"#N/A"}}]
[null,{"$f":"INDEX(建筑!$B$2:$B$5001,MATCH(表格模板!A4541,建筑!$A$2:$A$5001,0),COLUMN(A4541))","v":{"$error":"#N/A"}},null,{"$f":"INDEX(设备类型!$B$2:$B$5001,MATCH(表格模板!C4541,设备类型!$A$2:$A$5001,0),COLUMN(A4541))","v":{"$error":"#N/A"}}]
[null,{"$f":"INDEX(建筑!$B$2:$B$5001,MATCH(表格模板!A4542,建筑!$A$2:$A$5001,0),COLUMN(A4542))","v":{"$error":"#N/A"}},null,{"$f":"INDEX(设备类型!$B$2:$B$5001,MATCH(表格模板!C4542,设备类型!$A$2:$A$5001,0),COLUMN(A4542))","v":{"$error":"#N/A"}}]
[null,{"$f":"INDEX(建筑!$B$2:$B$5001,MATCH(表格模板!A4543,建筑!$A$2:$A$5001,0),COLUMN(A4543))","v":{"$error":"#N/A"}},null,{"$f":"INDEX(设备类型!$B$2:$B$5001,MATCH(表格模板!C4543,设备类型!$A$2:$A$5001,0),COLUMN(A4543))","v":{"$error":"#N/A"}}]
[null,{"$f":"INDEX(建筑!$B$2:$B$5001,MATCH(表格模板!A4544,建筑!$A$2:$A$5001,0),COLUMN(A4544))","v":{"$error":"#N/A"}},null,{"$f":"INDEX(设备类型!$B$2:$B$5001,MATCH(表格模板!C4544,设备类型!$A$2:$A$5001,0),COLUMN(A4544))","v":{"$error":"#N/A"}}]
[null,{"$f":"INDEX(建筑!$B$2:$B$5001,MATCH(表格模板!A4545,建筑!$A$2:$A$5001,0),COLUMN(A4545))","v":{"$error":"#N/A"}},null,{"$f":"INDEX(设备类型!$B$2:$B$5001,MATCH(表格模板!C4545,设备类型!$A$2:$A$5001,0),COLUMN(A4545))","v":{"$error":"#N/A"}}]
[null,{"$f":"INDEX(建筑!$B$2:$B$5001,MATCH(表格模板!A4546,建筑!$A$2:$A$5001,0),COLUMN(A4546))","v":{"$error":"#N/A"}},null,{"$f":"INDEX(设备类型!$B$2:$B$5001,MATCH(表格模板!C4546,设备类型!$A$2:$A$5001,0),COLUMN(A4546))","v":{"$error":"#N/A"}}]
[null,{"$f":"INDEX(建筑!$B$2:$B$5001,MATCH(表格模板!A4547,建筑!$A$2:$A$5001,0),COLUMN(A4547))","v":{"$error":"#N/A"}},null,{"$f":"INDEX(设备类型!$B$2:$B$5001,MATCH(表格模板!C4547,设备类型!$A$2:$A$5001,0),COLUMN(A4547))","v":{"$error":"#N/A"}}]
[null,{"$f":"INDEX(建筑!$B$2:$B$5001,MATCH(表格模板!A4548,建筑!$A$2:$A$5001,0),COLUMN(A4548))","v":{"$error":"#N/A"}},null,{"$f":"INDEX(设备类型!$B$2:$B$5001,MATCH(表格模板!C4548,设备类型!$A$2:$A$5001,0),COLUMN(A4548))","v":{"$error":"#N/A"}}]
[null,{"$f":"INDEX(建筑!$B$2:$B$5001,MATCH(表格模板!A4549,建筑!$A$2:$A$5001,0),COLUMN(A4549))","v":{"$error":"#N/A"}},null,{"$f":"INDEX(设备类型!$B$2:$B$5001,MATCH(表格模板!C4549,设备类型!$A$2:$A$5001,0),COLUMN(A4549))","v":{"$error":"#N/A"}}]
[null,{"$f":"INDEX(建筑!$B$2:$B$5001,MATCH(表格模板!A4550,建筑!$A$2:$A$5001,0),COLUMN(A4550))","v":{"$error":"#N/A"}},null,{"$f":"INDEX(设备类型!$B$2:$B$5001,MATCH(表格模板!C4550,设备类型!$A$2:$A$5001,0),COLUMN(A4550))","v":{"$error":"#N/A"}}]
[null,{"$f":"INDEX(建筑!$B$2:$B$5001,MATCH(表格模板!A4551,建筑!$A$2:$A$5001,0),COLUMN(A4551))","v":{"$error":"#N/A"}},null,{"$f":"INDEX(设备类型!$B$2:$B$5001,MATCH(表格模板!C4551,设备类型!$A$2:$A$5001,0),COLUMN(A4551))","v":{"$error":"#N/A"}}]
[null,{"$f":"INDEX(建筑!$B$2:$B$5001,MATCH(表格模板!A4552,建筑!$A$2:$A$5001,0),COLUMN(A4552))","v":{"$error":"#N/A"}},null,{"$f":"INDEX(设备类型!$B$2:$B$5001,MATCH(表格模板!C4552,设备类型!$A$2:$A$5001,0),COLUMN(A4552))","v":{"$error":"#N/A"}}]
[null,{"$f":"INDEX(建筑!$B$2:$B$5001,MATCH(表格模板!A4553,建筑!$A$2:$A$5001,0),COLUMN(A4553))","v":{"$error":"#N/A"}},null,{"$f":"INDEX(设备类型!$B$2:$B$5001,MATCH(表格模板!C4553,设备类型!$A$2:$A$5001,0),COLUMN(A4553))","v":{"$error":"#N/A"}}]
[null,{"$f":"INDEX(建筑!$B$2:$B$5001,MATCH(表格模板!A4554,建筑!$A$2:$A$5001,0),COLUMN(A4554))","v":{"$error":"#N/A"}},null,{"$f":"INDEX(设备类型!$B$2:$B$5001,MATCH(表格模板!C4554,设备类型!$A$2:$A$5001,0),COLUMN(A4554))","v":{"$error":"#N/A"}}]
[null,{"$f":"INDEX(建筑!$B$2:$B$5001,MATCH(表格模板!A4555,建筑!$A$2:$A$5001,0),COLUMN(A4555))","v":{"$error":"#N/A"}},null,{"$f":"INDEX(设备类型!$B$2:$B$5001,MATCH(表格模板!C4555,设备类型!$A$2:$A$5001,0),COLUMN(A4555))","v":{"$error":"#N/A"}}]
[null,{"$f":"INDEX(建筑!$B$2:$B$5001,MATCH(表格模板!A4556,建筑!$A$2:$A$5001,0),COLUMN(A4556))","v":{"$error":"#N/A"}},null,{"$f":"INDEX(设备类型!$B$2:$B$5001,MATCH(表格模板!C4556,设备类型!$A$2:$A$5001,0),COLUMN(A4556))","v":{"$error":"#N/A"}}]
[null,{"$f":"INDEX(建筑!$B$2:$B$5001,MATCH(表格模板!A4557,建筑!$A$2:$A$5001,0),COLUMN(A4557))","v":{"$error":"#N/A"}},null,{"$f":"INDEX(设备类型!$B$2:$B$5001,MATCH(表格模板!C4557,设备类型!$A$2:$A$5001,0),COLUMN(A4557))","v":{"$error":"#N/A"}}]
[null,{"$f":"INDEX(建筑!$B$2:$B$5001,MATCH(表格模板!A4558,建筑!$A$2:$A$5001,0),COLUMN(A4558))","v":{"$error":"#N/A"}},null,{"$f":"INDEX(设备类型!$B$2:$B$5001,MATCH(表格模板!C4558,设备类型!$A$2:$A$5001,0),COLUMN(A4558))","v":{"$error":"#N/A"}}]
[null,{"$f":"INDEX(建筑!$B$2:$B$5001,MATCH(表格模板!A4559,建筑!$A$2:$A$5001,0),COLUMN(A4559))","v":{"$error":"#N/A"}},null,{"$f":"INDEX(设备类型!$B$2:$B$5001,MATCH(表格模板!C4559,设备类型!$A$2:$A$5001,0),COLUMN(A4559))","v":{"$error":"#N/A"}}]
[null,{"$f":"INDEX(建筑!$B$2:$B$5001,MATCH(表格模板!A4560,建筑!$A$2:$A$5001,0),COLUMN(A4560))","v":{"$error":"#N/A"}},null,{"$f":"INDEX(设备类型!$B$2:$B$5001,MATCH(表格模板!C4560,设备类型!$A$2:$A$5001,0),COLUMN(A4560))","v":{"$error":"#N/A"}}]
[null,{"$f":"INDEX(建筑!$B$2:$B$5001,MATCH(表格模板!A4561,建筑!$A$2:$A$5001,0),COLUMN(A4561))","v":{"$error":"#N/A"}},null,{"$f":"INDEX(设备类型!$B$2:$B$5001,MATCH(表格模板!C4561,设备类型!$A$2:$A$5001,0),COLUMN(A4561))","v":{"$error":"#N/A"}}]
[null,{"$f":"INDEX(建筑!$B$2:$B$5001,MATCH(表格模板!A4562,建筑!$A$2:$A$5001,0),COLUMN(A4562))","v":{"$error":"#N/A"}},null,{"$f":"INDEX(设备类型!$B$2:$B$5001,MATCH(表格模板!C4562,设备类型!$A$2:$A$5001,0),COLUMN(A4562))","v":{"$error":"#N/A"}}]
[null,{"$f":"INDEX(建筑!$B$2:$B$5001,MATCH(表格模板!A4563,建筑!$A$2:$A$5001,0),COLUMN(A4563))","v":{"$error":"#N/A"}},null,{"$f":"INDEX(设备类型!$B$2:$B$5001,MATCH(表格模板!C4563,设备类型!$A$2:$A$5001,0),COLUMN(A4563))","v":{"$error":"#N/A"}}]
[null,{"$f":"INDEX(建筑!$B$2:$B$5001,MATCH(表格模板!A4564,建筑!$A$2:$A$5001,0),COLUMN(A4564))","v":{"$error":"#N/A"}},null,{"$f":"INDEX(设备类型!$B$2:$B$5001,MATCH(表格模板!C4564,设备类型!$A$2:$A$5001,0),COLUMN(A4564))","v":{"$error":"#N/A"}}]
[null,{"$f":"INDEX(建筑!$B$2:$B$5001,MATCH(表格模板!A4565,建筑!$A$2:$A$5001,0),COLUMN(A4565))","v":{"$error":"#N/A"}},null,{"$f":"INDEX(设备类型!$B$2:$B$5001,MATCH(表格模板!C4565,设备类型!$A$2:$A$5001,0),COLUMN(A4565))","v":{"$error":"#N/A"}}]
[null,{"$f":"INDEX(建筑!$B$2:$B$5001,MATCH(表格模板!A4566,建筑!$A$2:$A$5001,0),COLUMN(A4566))","v":{"$error":"#N/A"}},null,{"$f":"INDEX(设备类型!$B$2:$B$5001,MATCH(表格模板!C4566,设备类型!$A$2:$A$5001,0),COLUMN(A4566))","v":{"$error":"#N/A"}}]
[null,{"$f":"INDEX(建筑!$B$2:$B$5001,MATCH(表格模板!A4567,建筑!$A$2:$A$5001,0),COLUMN(A4567))","v":{"$error":"#N/A"}},null,{"$f":"INDEX(设备类型!$B$2:$B$5001,MATCH(表格模板!C4567,设备类型!$A$2:$A$5001,0),COLUMN(A4567))","v":{"$error":"#N/A"}}]
[null,{"$f":"INDEX(建筑!$B$2:$B$5001,MATCH(表格模板!A4568,建筑!$A$2:$A$5001,0),COLUMN(A4568))","v":{"$error":"#N/A"}},null,{"$f":"INDEX(设备类型!$B$2:$B$5001,MATCH(表格模板!C4568,设备类型!$A$2:$A$5001,0),COLUMN(A4568))","v":{"$error":"#N/A"}}]
[null,{"$f":"INDEX(建筑!$B$2:$B$5001,MATCH(表格模板!A4569,建筑!$A$2:$A$5001,0),COLUMN(A4569))","v":{"$error":"#N/A"}},null,{"$f":"INDEX(设备类型!$B$2:$B$5001,MATCH(表格模板!C4569,设备类型!$A$2:$A$5001,0),COLUMN(A4569))","v":{"$error":"#N/A"}}]
[null,{"$f":"INDEX(建筑!$B$2:$B$5001,MATCH(表格模板!A4570,建筑!$A$2:$A$5001,0),COLUMN(A4570))","v":{"$error":"#N/A"}},null,{"$f":"INDEX(设备类型!$B$2:$B$5001,MATCH(表格模板!C4570,设备类型!$A$2:$A$5001,0),COLUMN(A4570))","v":{"$error":"#N/A"}}]
[null,{"$f":"INDEX(建筑!$B$2:$B$5001,MATCH(表格模板!A4571,建筑!$A$2:$A$5001,0),COLUMN(A4571))","v":{"$error":"#N/A"}},null,{"$f":"INDEX(设备类型!$B$2:$B$5001,MATCH(表格模板!C4571,设备类型!$A$2:$A$5001,0),COLUMN(A4571))","v":{"$error":"#N/A"}}]
[null,{"$f":"INDEX(建筑!$B$2:$B$5001,MATCH(表格模板!A4572,建筑!$A$2:$A$5001,0),COLUMN(A4572))","v":{"$error":"#N/A"}},null,{"$f":"INDEX(设备类型!$B$2:$B$5001,MATCH(表格模板!C4572,设备类型!$A$2:$A$5001,0),COLUMN(A4572))","v":{"$error":"#N/A"}}]
[null,{"$f":"INDEX(建筑!$B$2:$B$5001,MATCH(表格模板!A4573,建筑!$A$2:$A$5001,0),COLUMN(A4573))","v":{"$error":"#N/A"}},null,{"$f":"INDEX(设备类型!$B$2:$B$5001,MATCH(表格模板!C4573,设备类型!$A$2:$A$5001,0),COLUMN(A4573))","v":{"$error":"#N/A"}}]
[null,{"$f":"INDEX(建筑!$B$2:$B$5001,MATCH(表格模板!A4574,建筑!$A$2:$A$5001,0),COLUMN(A4574))","v":{"$error":"#N/A"}},null,{"$f":"INDEX(设备类型!$B$2:$B$5001,MATCH(表格模板!C4574,设备类型!$A$2:$A$5001,0),COLUMN(A4574))","v":{"$error":"#N/A"}}]
[null,{"$f":"INDEX(建筑!$B$2:$B$5001,MATCH(表格模板!A4575,建筑!$A$2:$A$5001,0),COLUMN(A4575))","v":{"$error":"#N/A"}},null,{"$f":"INDEX(设备类型!$B$2:$B$5001,MATCH(表格模板!C4575,设备类型!$A$2:$A$5001,0),COLUMN(A4575))","v":{"$error":"#N/A"}}]
[null,{"$f":"INDEX(建筑!$B$2:$B$5001,MATCH(表格模板!A4576,建筑!$A$2:$A$5001,0),COLUMN(A4576))","v":{"$error":"#N/A"}},null,{"$f":"INDEX(设备类型!$B$2:$B$5001,MATCH(表格模板!C4576,设备类型!$A$2:$A$5001,0),COLUMN(A4576))","v":{"$error":"#N/A"}}]
[null,{"$f":"INDEX(建筑!$B$2:$B$5001,MATCH(表格模板!A4577,建筑!$A$2:$A$5001,0),COLUMN(A4577))","v":{"$error":"#N/A"}},null,{"$f":"INDEX(设备类型!$B$2:$B$5001,MATCH(表格模板!C4577,设备类型!$A$2:$A$5001,0),COLUMN(A4577))","v":{"$error":"#N/A"}}]
[null,{"$f":"INDEX(建筑!$B$2:$B$5001,MATCH(表格模板!A4578,建筑!$A$2:$A$5001,0),COLUMN(A4578))","v":{"$error":"#N/A"}},null,{"$f":"INDEX(设备类型!$B$2:$B$5001,MATCH(表格模板!C4578,设备类型!$A$2:$A$5001,0),COLUMN(A4578))","v":{"$error":"#N/A"}}]
[null,{"$f":"INDEX(建筑!$B$2:$B$5001,MATCH(表格模板!A4579,建筑!$A$2:$A$5001,0),COLUMN(A4579))","v":{"$error":"#N/A"}},null,{"$f":"INDEX(设备类型!$B$2:$B$5001,MATCH(表格模板!C4579,设备类型!$A$2:$A$5001,0),COLUMN(A4579))","v":{"$error":"#N/A"}}]
[null,{"$f":"INDEX(建筑!$B$2:$B$5001,MATCH(表格模板!A4580,建筑!$A$2:$A$5001,0),COLUMN(A4580))","v":{"$error":"#N/A"}},null,{"$f":"INDEX(设备类型!$B$2:$B$5001,MATCH(表格模板!C4580,设备类型!$A$2:$A$5001,0),COLUMN(A4580))","v":{"$error":"#N/A"}}]
[null,{"$f":"INDEX(建筑!$B$2:$B$5001,MATCH(表格模板!A4581,建筑!$A$2:$A$5001,0),COLUMN(A4581))","v":{"$error":"#N/A"}},null,{"$f":"INDEX(设备类型!$B$2:$B$5001,MATCH(表格模板!C4581,设备类型!$A$2:$A$5001,0),COLUMN(A4581))","v":{"$error":"#N/A"}}]
[null,{"$f":"INDEX(建筑!$B$2:$B$5001,MATCH(表格模板!A4582,建筑!$A$2:$A$5001,0),COLUMN(A4582))","v":{"$error":"#N/A"}},null,{"$f":"INDEX(设备类型!$B$2:$B$5001,MATCH(表格模板!C4582,设备类型!$A$2:$A$5001,0),COLUMN(A4582))","v":{"$error":"#N/A"}}]
[null,{"$f":"INDEX(建筑!$B$2:$B$5001,MATCH(表格模板!A4583,建筑!$A$2:$A$5001,0),COLUMN(A4583))","v":{"$error":"#N/A"}},null,{"$f":"INDEX(设备类型!$B$2:$B$5001,MATCH(表格模板!C4583,设备类型!$A$2:$A$5001,0),COLUMN(A4583))","v":{"$error":"#N/A"}}]
[null,{"$f":"INDEX(建筑!$B$2:$B$5001,MATCH(表格模板!A4584,建筑!$A$2:$A$5001,0),COLUMN(A4584))","v":{"$error":"#N/A"}},null,{"$f":"INDEX(设备类型!$B$2:$B$5001,MATCH(表格模板!C4584,设备类型!$A$2:$A$5001,0),COLUMN(A4584))","v":{"$error":"#N/A"}}]
[null,{"$f":"INDEX(建筑!$B$2:$B$5001,MATCH(表格模板!A4585,建筑!$A$2:$A$5001,0),COLUMN(A4585))","v":{"$error":"#N/A"}},null,{"$f":"INDEX(设备类型!$B$2:$B$5001,MATCH(表格模板!C4585,设备类型!$A$2:$A$5001,0),COLUMN(A4585))","v":{"$error":"#N/A"}}]
[null,{"$f":"INDEX(建筑!$B$2:$B$5001,MATCH(表格模板!A4586,建筑!$A$2:$A$5001,0),COLUMN(A4586))","v":{"$error":"#N/A"}},null,{"$f":"INDEX(设备类型!$B$2:$B$5001,MATCH(表格模板!C4586,设备类型!$A$2:$A$5001,0),COLUMN(A4586))","v":{"$error":"#N/A"}}]
[null,{"$f":"INDEX(建筑!$B$2:$B$5001,MATCH(表格模板!A4587,建筑!$A$2:$A$5001,0),COLUMN(A4587))","v":{"$error":"#N/A"}},null,{"$f":"INDEX(设备类型!$B$2:$B$5001,MATCH(表格模板!C4587,设备类型!$A$2:$A$5001,0),COLUMN(A4587))","v":{"$error":"#N/A"}}]
[null,{"$f":"INDEX(建筑!$B$2:$B$5001,MATCH(表格模板!A4588,建筑!$A$2:$A$5001,0),COLUMN(A4588))","v":{"$error":"#N/A"}},null,{"$f":"INDEX(设备类型!$B$2:$B$5001,MATCH(表格模板!C4588,设备类型!$A$2:$A$5001,0),COLUMN(A4588))","v":{"$error":"#N/A"}}]
[null,{"$f":"INDEX(建筑!$B$2:$B$5001,MATCH(表格模板!A4589,建筑!$A$2:$A$5001,0),COLUMN(A4589))","v":{"$error":"#N/A"}},null,{"$f":"INDEX(设备类型!$B$2:$B$5001,MATCH(表格模板!C4589,设备类型!$A$2:$A$5001,0),COLUMN(A4589))","v":{"$error":"#N/A"}}]
[null,{"$f":"INDEX(建筑!$B$2:$B$5001,MATCH(表格模板!A4590,建筑!$A$2:$A$5001,0),COLUMN(A4590))","v":{"$error":"#N/A"}},null,{"$f":"INDEX(设备类型!$B$2:$B$5001,MATCH(表格模板!C4590,设备类型!$A$2:$A$5001,0),COLUMN(A4590))","v":{"$error":"#N/A"}}]
[null,{"$f":"INDEX(建筑!$B$2:$B$5001,MATCH(表格模板!A4591,建筑!$A$2:$A$5001,0),COLUMN(A4591))","v":{"$error":"#N/A"}},null,{"$f":"INDEX(设备类型!$B$2:$B$5001,MATCH(表格模板!C4591,设备类型!$A$2:$A$5001,0),COLUMN(A4591))","v":{"$error":"#N/A"}}]
[null,{"$f":"INDEX(建筑!$B$2:$B$5001,MATCH(表格模板!A4592,建筑!$A$2:$A$5001,0),COLUMN(A4592))","v":{"$error":"#N/A"}},null,{"$f":"INDEX(设备类型!$B$2:$B$5001,MATCH(表格模板!C4592,设备类型!$A$2:$A$5001,0),COLUMN(A4592))","v":{"$error":"#N/A"}}]
[null,{"$f":"INDEX(建筑!$B$2:$B$5001,MATCH(表格模板!A4593,建筑!$A$2:$A$5001,0),COLUMN(A4593))","v":{"$error":"#N/A"}},null,{"$f":"INDEX(设备类型!$B$2:$B$5001,MATCH(表格模板!C4593,设备类型!$A$2:$A$5001,0),COLUMN(A4593))","v":{"$error":"#N/A"}}]
[null,{"$f":"INDEX(建筑!$B$2:$B$5001,MATCH(表格模板!A4594,建筑!$A$2:$A$5001,0),COLUMN(A4594))","v":{"$error":"#N/A"}},null,{"$f":"INDEX(设备类型!$B$2:$B$5001,MATCH(表格模板!C4594,设备类型!$A$2:$A$5001,0),COLUMN(A4594))","v":{"$error":"#N/A"}}]
[null,{"$f":"INDEX(建筑!$B$2:$B$5001,MATCH(表格模板!A4595,建筑!$A$2:$A$5001,0),COLUMN(A4595))","v":{"$error":"#N/A"}},null,{"$f":"INDEX(设备类型!$B$2:$B$5001,MATCH(表格模板!C4595,设备类型!$A$2:$A$5001,0),COLUMN(A4595))","v":{"$error":"#N/A"}}]
[null,{"$f":"INDEX(建筑!$B$2:$B$5001,MATCH(表格模板!A4596,建筑!$A$2:$A$5001,0),COLUMN(A4596))","v":{"$error":"#N/A"}},null,{"$f":"INDEX(设备类型!$B$2:$B$5001,MATCH(表格模板!C4596,设备类型!$A$2:$A$5001,0),COLUMN(A4596))","v":{"$error":"#N/A"}}]
[null,{"$f":"INDEX(建筑!$B$2:$B$5001,MATCH(表格模板!A4597,建筑!$A$2:$A$5001,0),COLUMN(A4597))","v":{"$error":"#N/A"}},null,{"$f":"INDEX(设备类型!$B$2:$B$5001,MATCH(表格模板!C4597,设备类型!$A$2:$A$5001,0),COLUMN(A4597))","v":{"$error":"#N/A"}}]
[null,{"$f":"INDEX(建筑!$B$2:$B$5001,MATCH(表格模板!A4598,建筑!$A$2:$A$5001,0),COLUMN(A4598))","v":{"$error":"#N/A"}},null,{"$f":"INDEX(设备类型!$B$2:$B$5001,MATCH(表格模板!C4598,设备类型!$A$2:$A$5001,0),COLUMN(A4598))","v":{"$error":"#N/A"}}]
[null,{"$f":"INDEX(建筑!$B$2:$B$5001,MATCH(表格模板!A4599,建筑!$A$2:$A$5001,0),COLUMN(A4599))","v":{"$error":"#N/A"}},null,{"$f":"INDEX(设备类型!$B$2:$B$5001,MATCH(表格模板!C4599,设备类型!$A$2:$A$5001,0),COLUMN(A4599))","v":{"$error":"#N/A"}}]
[null,{"$f":"INDEX(建筑!$B$2:$B$5001,MATCH(表格模板!A4600,建筑!$A$2:$A$5001,0),COLUMN(A4600))","v":{"$error":"#N/A"}},null,{"$f":"INDEX(设备类型!$B$2:$B$5001,MATCH(表格模板!C4600,设备类型!$A$2:$A$5001,0),COLUMN(A4600))","v":{"$error":"#N/A"}}]
[null,{"$f":"INDEX(建筑!$B$2:$B$5001,MATCH(表格模板!A4601,建筑!$A$2:$A$5001,0),COLUMN(A4601))","v":{"$error":"#N/A"}},null,{"$f":"INDEX(设备类型!$B$2:$B$5001,MATCH(表格模板!C4601,设备类型!$A$2:$A$5001,0),COLUMN(A4601))","v":{"$error":"#N/A"}}]
[null,{"$f":"INDEX(建筑!$B$2:$B$5001,MATCH(表格模板!A4602,建筑!$A$2:$A$5001,0),COLUMN(A4602))","v":{"$error":"#N/A"}},null,{"$f":"INDEX(设备类型!$B$2:$B$5001,MATCH(表格模板!C4602,设备类型!$A$2:$A$5001,0),COLUMN(A4602))","v":{"$error":"#N/A"}}]
[null,{"$f":"INDEX(建筑!$B$2:$B$5001,MATCH(表格模板!A4603,建筑!$A$2:$A$5001,0),COLUMN(A4603))","v":{"$error":"#N/A"}},null,{"$f":"INDEX(设备类型!$B$2:$B$5001,MATCH(表格模板!C4603,设备类型!$A$2:$A$5001,0),COLUMN(A4603))","v":{"$error":"#N/A"}}]
[null,{"$f":"INDEX(建筑!$B$2:$B$5001,MATCH(表格模板!A4604,建筑!$A$2:$A$5001,0),COLUMN(A4604))","v":{"$error":"#N/A"}},null,{"$f":"INDEX(设备类型!$B$2:$B$5001,MATCH(表格模板!C4604,设备类型!$A$2:$A$5001,0),COLUMN(A4604))","v":{"$error":"#N/A"}}]
[null,{"$f":"INDEX(建筑!$B$2:$B$5001,MATCH(表格模板!A4605,建筑!$A$2:$A$5001,0),COLUMN(A4605))","v":{"$error":"#N/A"}},null,{"$f":"INDEX(设备类型!$B$2:$B$5001,MATCH(表格模板!C4605,设备类型!$A$2:$A$5001,0),COLUMN(A4605))","v":{"$error":"#N/A"}}]
[null,{"$f":"INDEX(建筑!$B$2:$B$5001,MATCH(表格模板!A4606,建筑!$A$2:$A$5001,0),COLUMN(A4606))","v":{"$error":"#N/A"}},null,{"$f":"INDEX(设备类型!$B$2:$B$5001,MATCH(表格模板!C4606,设备类型!$A$2:$A$5001,0),COLUMN(A4606))","v":{"$error":"#N/A"}}]
[null,{"$f":"INDEX(建筑!$B$2:$B$5001,MATCH(表格模板!A4607,建筑!$A$2:$A$5001,0),COLUMN(A4607))","v":{"$error":"#N/A"}},null,{"$f":"INDEX(设备类型!$B$2:$B$5001,MATCH(表格模板!C4607,设备类型!$A$2:$A$5001,0),COLUMN(A4607))","v":{"$error":"#N/A"}}]
[null,{"$f":"INDEX(建筑!$B$2:$B$5001,MATCH(表格模板!A4608,建筑!$A$2:$A$5001,0),COLUMN(A4608))","v":{"$error":"#N/A"}},null,{"$f":"INDEX(设备类型!$B$2:$B$5001,MATCH(表格模板!C4608,设备类型!$A$2:$A$5001,0),COLUMN(A4608))","v":{"$error":"#N/A"}}]
[null,{"$f":"INDEX(建筑!$B$2:$B$5001,MATCH(表格模板!A4609,建筑!$A$2:$A$5001,0),COLUMN(A4609))","v":{"$error":"#N/A"}},null,{"$f":"INDEX(设备类型!$B$2:$B$5001,MATCH(表格模板!C4609,设备类型!$A$2:$A$5001,0),COLUMN(A4609))","v":{"$error":"#N/A"}}]
[null,{"$f":"INDEX(建筑!$B$2:$B$5001,MATCH(表格模板!A4610,建筑!$A$2:$A$5001,0),COLUMN(A4610))","v":{"$error":"#N/A"}},null,{"$f":"INDEX(设备类型!$B$2:$B$5001,MATCH(表格模板!C4610,设备类型!$A$2:$A$5001,0),COLUMN(A4610))","v":{"$error":"#N/A"}}]
[null,{"$f":"INDEX(建筑!$B$2:$B$5001,MATCH(表格模板!A4611,建筑!$A$2:$A$5001,0),COLUMN(A4611))","v":{"$error":"#N/A"}},null,{"$f":"INDEX(设备类型!$B$2:$B$5001,MATCH(表格模板!C4611,设备类型!$A$2:$A$5001,0),COLUMN(A4611))","v":{"$error":"#N/A"}}]
[null,{"$f":"INDEX(建筑!$B$2:$B$5001,MATCH(表格模板!A4612,建筑!$A$2:$A$5001,0),COLUMN(A4612))","v":{"$error":"#N/A"}},null,{"$f":"INDEX(设备类型!$B$2:$B$5001,MATCH(表格模板!C4612,设备类型!$A$2:$A$5001,0),COLUMN(A4612))","v":{"$error":"#N/A"}}]
[null,{"$f":"INDEX(建筑!$B$2:$B$5001,MATCH(表格模板!A4613,建筑!$A$2:$A$5001,0),COLUMN(A4613))","v":{"$error":"#N/A"}},null,{"$f":"INDEX(设备类型!$B$2:$B$5001,MATCH(表格模板!C4613,设备类型!$A$2:$A$5001,0),COLUMN(A4613))","v":{"$error":"#N/A"}}]
[null,{"$f":"INDEX(建筑!$B$2:$B$5001,MATCH(表格模板!A4614,建筑!$A$2:$A$5001,0),COLUMN(A4614))","v":{"$error":"#N/A"}},null,{"$f":"INDEX(设备类型!$B$2:$B$5001,MATCH(表格模板!C4614,设备类型!$A$2:$A$5001,0),COLUMN(A4614))","v":{"$error":"#N/A"}}]
[null,{"$f":"INDEX(建筑!$B$2:$B$5001,MATCH(表格模板!A4615,建筑!$A$2:$A$5001,0),COLUMN(A4615))","v":{"$error":"#N/A"}},null,{"$f":"INDEX(设备类型!$B$2:$B$5001,MATCH(表格模板!C4615,设备类型!$A$2:$A$5001,0),COLUMN(A4615))","v":{"$error":"#N/A"}}]
[null,{"$f":"INDEX(建筑!$B$2:$B$5001,MATCH(表格模板!A4616,建筑!$A$2:$A$5001,0),COLUMN(A4616))","v":{"$error":"#N/A"}},null,{"$f":"INDEX(设备类型!$B$2:$B$5001,MATCH(表格模板!C4616,设备类型!$A$2:$A$5001,0),COLUMN(A4616))","v":{"$error":"#N/A"}}]
[null,{"$f":"INDEX(建筑!$B$2:$B$5001,MATCH(表格模板!A4617,建筑!$A$2:$A$5001,0),COLUMN(A4617))","v":{"$error":"#N/A"}},null,{"$f":"INDEX(设备类型!$B$2:$B$5001,MATCH(表格模板!C4617,设备类型!$A$2:$A$5001,0),COLUMN(A4617))","v":{"$error":"#N/A"}}]
[null,{"$f":"INDEX(建筑!$B$2:$B$5001,MATCH(表格模板!A4618,建筑!$A$2:$A$5001,0),COLUMN(A4618))","v":{"$error":"#N/A"}},null,{"$f":"INDEX(设备类型!$B$2:$B$5001,MATCH(表格模板!C4618,设备类型!$A$2:$A$5001,0),COLUMN(A4618))","v":{"$error":"#N/A"}}]
[null,{"$f":"INDEX(建筑!$B$2:$B$5001,MATCH(表格模板!A4619,建筑!$A$2:$A$5001,0),COLUMN(A4619))","v":{"$error":"#N/A"}},null,{"$f":"INDEX(设备类型!$B$2:$B$5001,MATCH(表格模板!C4619,设备类型!$A$2:$A$5001,0),COLUMN(A4619))","v":{"$error":"#N/A"}}]
[null,{"$f":"INDEX(建筑!$B$2:$B$5001,MATCH(表格模板!A4620,建筑!$A$2:$A$5001,0),COLUMN(A4620))","v":{"$error":"#N/A"}},null,{"$f":"INDEX(设备类型!$B$2:$B$5001,MATCH(表格模板!C4620,设备类型!$A$2:$A$5001,0),COLUMN(A4620))","v":{"$error":"#N/A"}}]
[null,{"$f":"INDEX(建筑!$B$2:$B$5001,MATCH(表格模板!A4621,建筑!$A$2:$A$5001,0),COLUMN(A4621))","v":{"$error":"#N/A"}},null,{"$f":"INDEX(设备类型!$B$2:$B$5001,MATCH(表格模板!C4621,设备类型!$A$2:$A$5001,0),COLUMN(A4621))","v":{"$error":"#N/A"}}]
[null,{"$f":"INDEX(建筑!$B$2:$B$5001,MATCH(表格模板!A4622,建筑!$A$2:$A$5001,0),COLUMN(A4622))","v":{"$error":"#N/A"}},null,{"$f":"INDEX(设备类型!$B$2:$B$5001,MATCH(表格模板!C4622,设备类型!$A$2:$A$5001,0),COLUMN(A4622))","v":{"$error":"#N/A"}}]
[null,{"$f":"INDEX(建筑!$B$2:$B$5001,MATCH(表格模板!A4623,建筑!$A$2:$A$5001,0),COLUMN(A4623))","v":{"$error":"#N/A"}},null,{"$f":"INDEX(设备类型!$B$2:$B$5001,MATCH(表格模板!C4623,设备类型!$A$2:$A$5001,0),COLUMN(A4623))","v":{"$error":"#N/A"}}]
[null,{"$f":"INDEX(建筑!$B$2:$B$5001,MATCH(表格模板!A4624,建筑!$A$2:$A$5001,0),COLUMN(A4624))","v":{"$error":"#N/A"}},null,{"$f":"INDEX(设备类型!$B$2:$B$5001,MATCH(表格模板!C4624,设备类型!$A$2:$A$5001,0),COLUMN(A4624))","v":{"$error":"#N/A"}}]
[null,{"$f":"INDEX(建筑!$B$2:$B$5001,MATCH(表格模板!A4625,建筑!$A$2:$A$5001,0),COLUMN(A4625))","v":{"$error":"#N/A"}},null,{"$f":"INDEX(设备类型!$B$2:$B$5001,MATCH(表格模板!C4625,设备类型!$A$2:$A$5001,0),COLUMN(A4625))","v":{"$error":"#N/A"}}]
[null,{"$f":"INDEX(建筑!$B$2:$B$5001,MATCH(表格模板!A4626,建筑!$A$2:$A$5001,0),COLUMN(A4626))","v":{"$error":"#N/A"}},null,{"$f":"INDEX(设备类型!$B$2:$B$5001,MATCH(表格模板!C4626,设备类型!$A$2:$A$5001,0),COLUMN(A4626))","v":{"$error":"#N/A"}}]
[null,{"$f":"INDEX(建筑!$B$2:$B$5001,MATCH(表格模板!A4627,建筑!$A$2:$A$5001,0),COLUMN(A4627))","v":{"$error":"#N/A"}},null,{"$f":"INDEX(设备类型!$B$2:$B$5001,MATCH(表格模板!C4627,设备类型!$A$2:$A$5001,0),COLUMN(A4627))","v":{"$error":"#N/A"}}]
[null,{"$f":"INDEX(建筑!$B$2:$B$5001,MATCH(表格模板!A4628,建筑!$A$2:$A$5001,0),COLUMN(A4628))","v":{"$error":"#N/A"}},null,{"$f":"INDEX(设备类型!$B$2:$B$5001,MATCH(表格模板!C4628,设备类型!$A$2:$A$5001,0),COLUMN(A4628))","v":{"$error":"#N/A"}}]
[null,{"$f":"INDEX(建筑!$B$2:$B$5001,MATCH(表格模板!A4629,建筑!$A$2:$A$5001,0),COLUMN(A4629))","v":{"$error":"#N/A"}},null,{"$f":"INDEX(设备类型!$B$2:$B$5001,MATCH(表格模板!C4629,设备类型!$A$2:$A$5001,0),COLUMN(A4629))","v":{"$error":"#N/A"}}]
[null,{"$f":"INDEX(建筑!$B$2:$B$5001,MATCH(表格模板!A4630,建筑!$A$2:$A$5001,0),COLUMN(A4630))","v":{"$error":"#N/A"}},null,{"$f":"INDEX(设备类型!$B$2:$B$5001,MATCH(表格模板!C4630,设备类型!$A$2:$A$5001,0),COLUMN(A4630))","v":{"$error":"#N/A"}}]
[null,{"$f":"INDEX(建筑!$B$2:$B$5001,MATCH(表格模板!A4631,建筑!$A$2:$A$5001,0),COLUMN(A4631))","v":{"$error":"#N/A"}},null,{"$f":"INDEX(设备类型!$B$2:$B$5001,MATCH(表格模板!C4631,设备类型!$A$2:$A$5001,0),COLUMN(A4631))","v":{"$error":"#N/A"}}]
[null,{"$f":"INDEX(建筑!$B$2:$B$5001,MATCH(表格模板!A4632,建筑!$A$2:$A$5001,0),COLUMN(A4632))","v":{"$error":"#N/A"}},null,{"$f":"INDEX(设备类型!$B$2:$B$5001,MATCH(表格模板!C4632,设备类型!$A$2:$A$5001,0),COLUMN(A4632))","v":{"$error":"#N/A"}}]
[null,{"$f":"INDEX(建筑!$B$2:$B$5001,MATCH(表格模板!A4633,建筑!$A$2:$A$5001,0),COLUMN(A4633))","v":{"$error":"#N/A"}},null,{"$f":"INDEX(设备类型!$B$2:$B$5001,MATCH(表格模板!C4633,设备类型!$A$2:$A$5001,0),COLUMN(A4633))","v":{"$error":"#N/A"}}]
[null,{"$f":"INDEX(建筑!$B$2:$B$5001,MATCH(表格模板!A4634,建筑!$A$2:$A$5001,0),COLUMN(A4634))","v":{"$error":"#N/A"}},null,{"$f":"INDEX(设备类型!$B$2:$B$5001,MATCH(表格模板!C4634,设备类型!$A$2:$A$5001,0),COLUMN(A4634))","v":{"$error":"#N/A"}}]
[null,{"$f":"INDEX(建筑!$B$2:$B$5001,MATCH(表格模板!A4635,建筑!$A$2:$A$5001,0),COLUMN(A4635))","v":{"$error":"#N/A"}},null,{"$f":"INDEX(设备类型!$B$2:$B$5001,MATCH(表格模板!C4635,设备类型!$A$2:$A$5001,0),COLUMN(A4635))","v":{"$error":"#N/A"}}]
[null,{"$f":"INDEX(建筑!$B$2:$B$5001,MATCH(表格模板!A4636,建筑!$A$2:$A$5001,0),COLUMN(A4636))","v":{"$error":"#N/A"}},null,{"$f":"INDEX(设备类型!$B$2:$B$5001,MATCH(表格模板!C4636,设备类型!$A$2:$A$5001,0),COLUMN(A4636))","v":{"$error":"#N/A"}}]
[null,{"$f":"INDEX(建筑!$B$2:$B$5001,MATCH(表格模板!A4637,建筑!$A$2:$A$5001,0),COLUMN(A4637))","v":{"$error":"#N/A"}},null,{"$f":"INDEX(设备类型!$B$2:$B$5001,MATCH(表格模板!C4637,设备类型!$A$2:$A$5001,0),COLUMN(A4637))","v":{"$error":"#N/A"}}]
[null,{"$f":"INDEX(建筑!$B$2:$B$5001,MATCH(表格模板!A4638,建筑!$A$2:$A$5001,0),COLUMN(A4638))","v":{"$error":"#N/A"}},null,{"$f":"INDEX(设备类型!$B$2:$B$5001,MATCH(表格模板!C4638,设备类型!$A$2:$A$5001,0),COLUMN(A4638))","v":{"$error":"#N/A"}}]
[null,{"$f":"INDEX(建筑!$B$2:$B$5001,MATCH(表格模板!A4639,建筑!$A$2:$A$5001,0),COLUMN(A4639))","v":{"$error":"#N/A"}},null,{"$f":"INDEX(设备类型!$B$2:$B$5001,MATCH(表格模板!C4639,设备类型!$A$2:$A$5001,0),COLUMN(A4639))","v":{"$error":"#N/A"}}]
[null,{"$f":"INDEX(建筑!$B$2:$B$5001,MATCH(表格模板!A4640,建筑!$A$2:$A$5001,0),COLUMN(A4640))","v":{"$error":"#N/A"}},null,{"$f":"INDEX(设备类型!$B$2:$B$5001,MATCH(表格模板!C4640,设备类型!$A$2:$A$5001,0),COLUMN(A4640))","v":{"$error":"#N/A"}}]
[null,{"$f":"INDEX(建筑!$B$2:$B$5001,MATCH(表格模板!A4641,建筑!$A$2:$A$5001,0),COLUMN(A4641))","v":{"$error":"#N/A"}},null,{"$f":"INDEX(设备类型!$B$2:$B$5001,MATCH(表格模板!C4641,设备类型!$A$2:$A$5001,0),COLUMN(A4641))","v":{"$error":"#N/A"}}]
[null,{"$f":"INDEX(建筑!$B$2:$B$5001,MATCH(表格模板!A4642,建筑!$A$2:$A$5001,0),COLUMN(A4642))","v":{"$error":"#N/A"}},null,{"$f":"INDEX(设备类型!$B$2:$B$5001,MATCH(表格模板!C4642,设备类型!$A$2:$A$5001,0),COLUMN(A4642))","v":{"$error":"#N/A"}}]
[null,{"$f":"INDEX(建筑!$B$2:$B$5001,MATCH(表格模板!A4643,建筑!$A$2:$A$5001,0),COLUMN(A4643))","v":{"$error":"#N/A"}},null,{"$f":"INDEX(设备类型!$B$2:$B$5001,MATCH(表格模板!C4643,设备类型!$A$2:$A$5001,0),COLUMN(A4643))","v":{"$error":"#N/A"}}]
[null,{"$f":"INDEX(建筑!$B$2:$B$5001,MATCH(表格模板!A4644,建筑!$A$2:$A$5001,0),COLUMN(A4644))","v":{"$error":"#N/A"}},null,{"$f":"INDEX(设备类型!$B$2:$B$5001,MATCH(表格模板!C4644,设备类型!$A$2:$A$5001,0),COLUMN(A4644))","v":{"$error":"#N/A"}}]
[null,{"$f":"INDEX(建筑!$B$2:$B$5001,MATCH(表格模板!A4645,建筑!$A$2:$A$5001,0),COLUMN(A4645))","v":{"$error":"#N/A"}},null,{"$f":"INDEX(设备类型!$B$2:$B$5001,MATCH(表格模板!C4645,设备类型!$A$2:$A$5001,0),COLUMN(A4645))","v":{"$error":"#N/A"}}]
[null,{"$f":"INDEX(建筑!$B$2:$B$5001,MATCH(表格模板!A4646,建筑!$A$2:$A$5001,0),COLUMN(A4646))","v":{"$error":"#N/A"}},null,{"$f":"INDEX(设备类型!$B$2:$B$5001,MATCH(表格模板!C4646,设备类型!$A$2:$A$5001,0),COLUMN(A4646))","v":{"$error":"#N/A"}}]
[null,{"$f":"INDEX(建筑!$B$2:$B$5001,MATCH(表格模板!A4647,建筑!$A$2:$A$5001,0),COLUMN(A4647))","v":{"$error":"#N/A"}},null,{"$f":"INDEX(设备类型!$B$2:$B$5001,MATCH(表格模板!C4647,设备类型!$A$2:$A$5001,0),COLUMN(A4647))","v":{"$error":"#N/A"}}]
[null,{"$f":"INDEX(建筑!$B$2:$B$5001,MATCH(表格模板!A4648,建筑!$A$2:$A$5001,0),COLUMN(A4648))","v":{"$error":"#N/A"}},null,{"$f":"INDEX(设备类型!$B$2:$B$5001,MATCH(表格模板!C4648,设备类型!$A$2:$A$5001,0),COLUMN(A4648))","v":{"$error":"#N/A"}}]
[null,{"$f":"INDEX(建筑!$B$2:$B$5001,MATCH(表格模板!A4649,建筑!$A$2:$A$5001,0),COLUMN(A4649))","v":{"$error":"#N/A"}},null,{"$f":"INDEX(设备类型!$B$2:$B$5001,MATCH(表格模板!C4649,设备类型!$A$2:$A$5001,0),COLUMN(A4649))","v":{"$error":"#N/A"}}]
[null,{"$f":"INDEX(建筑!$B$2:$B$5001,MATCH(表格模板!A4650,建筑!$A$2:$A$5001,0),COLUMN(A4650))","v":{"$error":"#N/A"}},null,{"$f":"INDEX(设备类型!$B$2:$B$5001,MATCH(表格模板!C4650,设备类型!$A$2:$A$5001,0),COLUMN(A4650))","v":{"$error":"#N/A"}}]
[null,{"$f":"INDEX(建筑!$B$2:$B$5001,MATCH(表格模板!A4651,建筑!$A$2:$A$5001,0),COLUMN(A4651))","v":{"$error":"#N/A"}},null,{"$f":"INDEX(设备类型!$B$2:$B$5001,MATCH(表格模板!C4651,设备类型!$A$2:$A$5001,0),COLUMN(A4651))","v":{"$error":"#N/A"}}]
[null,{"$f":"INDEX(建筑!$B$2:$B$5001,MATCH(表格模板!A4652,建筑!$A$2:$A$5001,0),COLUMN(A4652))","v":{"$error":"#N/A"}},null,{"$f":"INDEX(设备类型!$B$2:$B$5001,MATCH(表格模板!C4652,设备类型!$A$2:$A$5001,0),COLUMN(A4652))","v":{"$error":"#N/A"}}]
[null,{"$f":"INDEX(建筑!$B$2:$B$5001,MATCH(表格模板!A4653,建筑!$A$2:$A$5001,0),COLUMN(A4653))","v":{"$error":"#N/A"}},null,{"$f":"INDEX(设备类型!$B$2:$B$5001,MATCH(表格模板!C4653,设备类型!$A$2:$A$5001,0),COLUMN(A4653))","v":{"$error":"#N/A"}}]
[null,{"$f":"INDEX(建筑!$B$2:$B$5001,MATCH(表格模板!A4654,建筑!$A$2:$A$5001,0),COLUMN(A4654))","v":{"$error":"#N/A"}},null,{"$f":"INDEX(设备类型!$B$2:$B$5001,MATCH(表格模板!C4654,设备类型!$A$2:$A$5001,0),COLUMN(A4654))","v":{"$error":"#N/A"}}]
[null,{"$f":"INDEX(建筑!$B$2:$B$5001,MATCH(表格模板!A4655,建筑!$A$2:$A$5001,0),COLUMN(A4655))","v":{"$error":"#N/A"}},null,{"$f":"INDEX(设备类型!$B$2:$B$5001,MATCH(表格模板!C4655,设备类型!$A$2:$A$5001,0),COLUMN(A4655))","v":{"$error":"#N/A"}}]
[null,{"$f":"INDEX(建筑!$B$2:$B$5001,MATCH(表格模板!A4656,建筑!$A$2:$A$5001,0),COLUMN(A4656))","v":{"$error":"#N/A"}},null,{"$f":"INDEX(设备类型!$B$2:$B$5001,MATCH(表格模板!C4656,设备类型!$A$2:$A$5001,0),COLUMN(A4656))","v":{"$error":"#N/A"}}]
[null,{"$f":"INDEX(建筑!$B$2:$B$5001,MATCH(表格模板!A4657,建筑!$A$2:$A$5001,0),COLUMN(A4657))","v":{"$error":"#N/A"}},null,{"$f":"INDEX(设备类型!$B$2:$B$5001,MATCH(表格模板!C4657,设备类型!$A$2:$A$5001,0),COLUMN(A4657))","v":{"$error":"#N/A"}}]
[null,{"$f":"INDEX(建筑!$B$2:$B$5001,MATCH(表格模板!A4658,建筑!$A$2:$A$5001,0),COLUMN(A4658))","v":{"$error":"#N/A"}},null,{"$f":"INDEX(设备类型!$B$2:$B$5001,MATCH(表格模板!C4658,设备类型!$A$2:$A$5001,0),COLUMN(A4658))","v":{"$error":"#N/A"}}]
[null,{"$f":"INDEX(建筑!$B$2:$B$5001,MATCH(表格模板!A4659,建筑!$A$2:$A$5001,0),COLUMN(A4659))","v":{"$error":"#N/A"}},null,{"$f":"INDEX(设备类型!$B$2:$B$5001,MATCH(表格模板!C4659,设备类型!$A$2:$A$5001,0),COLUMN(A4659))","v":{"$error":"#N/A"}}]
[null,{"$f":"INDEX(建筑!$B$2:$B$5001,MATCH(表格模板!A4660,建筑!$A$2:$A$5001,0),COLUMN(A4660))","v":{"$error":"#N/A"}},null,{"$f":"INDEX(设备类型!$B$2:$B$5001,MATCH(表格模板!C4660,设备类型!$A$2:$A$5001,0),COLUMN(A4660))","v":{"$error":"#N/A"}}]
[null,{"$f":"INDEX(建筑!$B$2:$B$5001,MATCH(表格模板!A4661,建筑!$A$2:$A$5001,0),COLUMN(A4661))","v":{"$error":"#N/A"}},null,{"$f":"INDEX(设备类型!$B$2:$B$5001,MATCH(表格模板!C4661,设备类型!$A$2:$A$5001,0),COLUMN(A4661))","v":{"$error":"#N/A"}}]
[null,{"$f":"INDEX(建筑!$B$2:$B$5001,MATCH(表格模板!A4662,建筑!$A$2:$A$5001,0),COLUMN(A4662))","v":{"$error":"#N/A"}},null,{"$f":"INDEX(设备类型!$B$2:$B$5001,MATCH(表格模板!C4662,设备类型!$A$2:$A$5001,0),COLUMN(A4662))","v":{"$error":"#N/A"}}]
[null,{"$f":"INDEX(建筑!$B$2:$B$5001,MATCH(表格模板!A4663,建筑!$A$2:$A$5001,0),COLUMN(A4663))","v":{"$error":"#N/A"}},null,{"$f":"INDEX(设备类型!$B$2:$B$5001,MATCH(表格模板!C4663,设备类型!$A$2:$A$5001,0),COLUMN(A4663))","v":{"$error":"#N/A"}}]
[null,{"$f":"INDEX(建筑!$B$2:$B$5001,MATCH(表格模板!A4664,建筑!$A$2:$A$5001,0),COLUMN(A4664))","v":{"$error":"#N/A"}},null,{"$f":"INDEX(设备类型!$B$2:$B$5001,MATCH(表格模板!C4664,设备类型!$A$2:$A$5001,0),COLUMN(A4664))","v":{"$error":"#N/A"}}]
[null,{"$f":"INDEX(建筑!$B$2:$B$5001,MATCH(表格模板!A4665,建筑!$A$2:$A$5001,0),COLUMN(A4665))","v":{"$error":"#N/A"}},null,{"$f":"INDEX(设备类型!$B$2:$B$5001,MATCH(表格模板!C4665,设备类型!$A$2:$A$5001,0),COLUMN(A4665))","v":{"$error":"#N/A"}}]
[null,{"$f":"INDEX(建筑!$B$2:$B$5001,MATCH(表格模板!A4666,建筑!$A$2:$A$5001,0),COLUMN(A4666))","v":{"$error":"#N/A"}},null,{"$f":"INDEX(设备类型!$B$2:$B$5001,MATCH(表格模板!C4666,设备类型!$A$2:$A$5001,0),COLUMN(A4666))","v":{"$error":"#N/A"}}]
[null,{"$f":"INDEX(建筑!$B$2:$B$5001,MATCH(表格模板!A4667,建筑!$A$2:$A$5001,0),COLUMN(A4667))","v":{"$error":"#N/A"}},null,{"$f":"INDEX(设备类型!$B$2:$B$5001,MATCH(表格模板!C4667,设备类型!$A$2:$A$5001,0),COLUMN(A4667))","v":{"$error":"#N/A"}}]
[null,{"$f":"INDEX(建筑!$B$2:$B$5001,MATCH(表格模板!A4668,建筑!$A$2:$A$5001,0),COLUMN(A4668))","v":{"$error":"#N/A"}},null,{"$f":"INDEX(设备类型!$B$2:$B$5001,MATCH(表格模板!C4668,设备类型!$A$2:$A$5001,0),COLUMN(A4668))","v":{"$error":"#N/A"}}]
[null,{"$f":"INDEX(建筑!$B$2:$B$5001,MATCH(表格模板!A4669,建筑!$A$2:$A$5001,0),COLUMN(A4669))","v":{"$error":"#N/A"}},null,{"$f":"INDEX(设备类型!$B$2:$B$5001,MATCH(表格模板!C4669,设备类型!$A$2:$A$5001,0),COLUMN(A4669))","v":{"$error":"#N/A"}}]
[null,{"$f":"INDEX(建筑!$B$2:$B$5001,MATCH(表格模板!A4670,建筑!$A$2:$A$5001,0),COLUMN(A4670))","v":{"$error":"#N/A"}},null,{"$f":"INDEX(设备类型!$B$2:$B$5001,MATCH(表格模板!C4670,设备类型!$A$2:$A$5001,0),COLUMN(A4670))","v":{"$error":"#N/A"}}]
[null,{"$f":"INDEX(建筑!$B$2:$B$5001,MATCH(表格模板!A4671,建筑!$A$2:$A$5001,0),COLUMN(A4671))","v":{"$error":"#N/A"}},null,{"$f":"INDEX(设备类型!$B$2:$B$5001,MATCH(表格模板!C4671,设备类型!$A$2:$A$5001,0),COLUMN(A4671))","v":{"$error":"#N/A"}}]
[null,{"$f":"INDEX(建筑!$B$2:$B$5001,MATCH(表格模板!A4672,建筑!$A$2:$A$5001,0),COLUMN(A4672))","v":{"$error":"#N/A"}},null,{"$f":"INDEX(设备类型!$B$2:$B$5001,MATCH(表格模板!C4672,设备类型!$A$2:$A$5001,0),COLUMN(A4672))","v":{"$error":"#N/A"}}]
[null,{"$f":"INDEX(建筑!$B$2:$B$5001,MATCH(表格模板!A4673,建筑!$A$2:$A$5001,0),COLUMN(A4673))","v":{"$error":"#N/A"}},null,{"$f":"INDEX(设备类型!$B$2:$B$5001,MATCH(表格模板!C4673,设备类型!$A$2:$A$5001,0),COLUMN(A4673))","v":{"$error":"#N/A"}}]
[null,{"$f":"INDEX(建筑!$B$2:$B$5001,MATCH(表格模板!A4674,建筑!$A$2:$A$5001,0),COLUMN(A4674))","v":{"$error":"#N/A"}},null,{"$f":"INDEX(设备类型!$B$2:$B$5001,MATCH(表格模板!C4674,设备类型!$A$2:$A$5001,0),COLUMN(A4674))","v":{"$error":"#N/A"}}]
[null,{"$f":"INDEX(建筑!$B$2:$B$5001,MATCH(表格模板!A4675,建筑!$A$2:$A$5001,0),COLUMN(A4675))","v":{"$error":"#N/A"}},null,{"$f":"INDEX(设备类型!$B$2:$B$5001,MATCH(表格模板!C4675,设备类型!$A$2:$A$5001,0),COLUMN(A4675))","v":{"$error":"#N/A"}}]
[null,{"$f":"INDEX(建筑!$B$2:$B$5001,MATCH(表格模板!A4676,建筑!$A$2:$A$5001,0),COLUMN(A4676))","v":{"$error":"#N/A"}},null,{"$f":"INDEX(设备类型!$B$2:$B$5001,MATCH(表格模板!C4676,设备类型!$A$2:$A$5001,0),COLUMN(A4676))","v":{"$error":"#N/A"}}]
[null,{"$f":"INDEX(建筑!$B$2:$B$5001,MATCH(表格模板!A4677,建筑!$A$2:$A$5001,0),COLUMN(A4677))","v":{"$error":"#N/A"}},null,{"$f":"INDEX(设备类型!$B$2:$B$5001,MATCH(表格模板!C4677,设备类型!$A$2:$A$5001,0),COLUMN(A4677))","v":{"$error":"#N/A"}}]
[null,{"$f":"INDEX(建筑!$B$2:$B$5001,MATCH(表格模板!A4678,建筑!$A$2:$A$5001,0),COLUMN(A4678))","v":{"$error":"#N/A"}},null,{"$f":"INDEX(设备类型!$B$2:$B$5001,MATCH(表格模板!C4678,设备类型!$A$2:$A$5001,0),COLUMN(A4678))","v":{"$error":"#N/A"}}]
[null,{"$f":"INDEX(建筑!$B$2:$B$5001,MATCH(表格模板!A4679,建筑!$A$2:$A$5001,0),COLUMN(A4679))","v":{"$error":"#N/A"}},null,{"$f":"INDEX(设备类型!$B$2:$B$5001,MATCH(表格模板!C4679,设备类型!$A$2:$A$5001,0),COLUMN(A4679))","v":{"$error":"#N/A"}}]
[null,{"$f":"INDEX(建筑!$B$2:$B$5001,MATCH(表格模板!A4680,建筑!$A$2:$A$5001,0),COLUMN(A4680))","v":{"$error":"#N/A"}},null,{"$f":"INDEX(设备类型!$B$2:$B$5001,MATCH(表格模板!C4680,设备类型!$A$2:$A$5001,0),COLUMN(A4680))","v":{"$error":"#N/A"}}]
[null,{"$f":"INDEX(建筑!$B$2:$B$5001,MATCH(表格模板!A4681,建筑!$A$2:$A$5001,0),COLUMN(A4681))","v":{"$error":"#N/A"}},null,{"$f":"INDEX(设备类型!$B$2:$B$5001,MATCH(表格模板!C4681,设备类型!$A$2:$A$5001,0),COLUMN(A4681))","v":{"$error":"#N/A"}}]
[null,{"$f":"INDEX(建筑!$B$2:$B$5001,MATCH(表格模板!A4682,建筑!$A$2:$A$5001,0),COLUMN(A4682))","v":{"$error":"#N/A"}},null,{"$f":"INDEX(设备类型!$B$2:$B$5001,MATCH(表格模板!C4682,设备类型!$A$2:$A$5001,0),COLUMN(A4682))","v":{"$error":"#N/A"}}]
[null,{"$f":"INDEX(建筑!$B$2:$B$5001,MATCH(表格模板!A4683,建筑!$A$2:$A$5001,0),COLUMN(A4683))","v":{"$error":"#N/A"}},null,{"$f":"INDEX(设备类型!$B$2:$B$5001,MATCH(表格模板!C4683,设备类型!$A$2:$A$5001,0),COLUMN(A4683))","v":{"$error":"#N/A"}}]
[null,{"$f":"INDEX(建筑!$B$2:$B$5001,MATCH(表格模板!A4684,建筑!$A$2:$A$5001,0),COLUMN(A4684))","v":{"$error":"#N/A"}},null,{"$f":"INDEX(设备类型!$B$2:$B$5001,MATCH(表格模板!C4684,设备类型!$A$2:$A$5001,0),COLUMN(A4684))","v":{"$error":"#N/A"}}]
[null,{"$f":"INDEX(建筑!$B$2:$B$5001,MATCH(表格模板!A4685,建筑!$A$2:$A$5001,0),COLUMN(A4685))","v":{"$error":"#N/A"}},null,{"$f":"INDEX(设备类型!$B$2:$B$5001,MATCH(表格模板!C4685,设备类型!$A$2:$A$5001,0),COLUMN(A4685))","v":{"$error":"#N/A"}}]
[null,{"$f":"INDEX(建筑!$B$2:$B$5001,MATCH(表格模板!A4686,建筑!$A$2:$A$5001,0),COLUMN(A4686))","v":{"$error":"#N/A"}},null,{"$f":"INDEX(设备类型!$B$2:$B$5001,MATCH(表格模板!C4686,设备类型!$A$2:$A$5001,0),COLUMN(A4686))","v":{"$error":"#N/A"}}]
[null,{"$f":"INDEX(建筑!$B$2:$B$5001,MATCH(表格模板!A4687,建筑!$A$2:$A$5001,0),COLUMN(A4687))","v":{"$error":"#N/A"}},null,{"$f":"INDEX(设备类型!$B$2:$B$5001,MATCH(表格模板!C4687,设备类型!$A$2:$A$5001,0),COLUMN(A4687))","v":{"$error":"#N/A"}}]
[null,{"$f":"INDEX(建筑!$B$2:$B$5001,MATCH(表格模板!A4688,建筑!$A$2:$A$5001,0),COLUMN(A4688))","v":{"$error":"#N/A"}},null,{"$f":"INDEX(设备类型!$B$2:$B$5001,MATCH(表格模板!C4688,设备类型!$A$2:$A$5001,0),COLUMN(A4688))","v":{"$error":"#N/A"}}]
[null,{"$f":"INDEX(建筑!$B$2:$B$5001,MATCH(表格模板!A4689,建筑!$A$2:$A$5001,0),COLUMN(A4689))","v":{"$error":"#N/A"}},null,{"$f":"INDEX(设备类型!$B$2:$B$5001,MATCH(表格模板!C4689,设备类型!$A$2:$A$5001,0),COLUMN(A4689))","v":{"$error":"#N/A"}}]
[null,{"$f":"INDEX(建筑!$B$2:$B$5001,MATCH(表格模板!A4690,建筑!$A$2:$A$5001,0),COLUMN(A4690))","v":{"$error":"#N/A"}},null,{"$f":"INDEX(设备类型!$B$2:$B$5001,MATCH(表格模板!C4690,设备类型!$A$2:$A$5001,0),COLUMN(A4690))","v":{"$error":"#N/A"}}]
[null,{"$f":"INDEX(建筑!$B$2:$B$5001,MATCH(表格模板!A4691,建筑!$A$2:$A$5001,0),COLUMN(A4691))","v":{"$error":"#N/A"}},null,{"$f":"INDEX(设备类型!$B$2:$B$5001,MATCH(表格模板!C4691,设备类型!$A$2:$A$5001,0),COLUMN(A4691))","v":{"$error":"#N/A"}}]
[null,{"$f":"INDEX(建筑!$B$2:$B$5001,MATCH(表格模板!A4692,建筑!$A$2:$A$5001,0),COLUMN(A4692))","v":{"$error":"#N/A"}},null,{"$f":"INDEX(设备类型!$B$2:$B$5001,MATCH(表格模板!C4692,设备类型!$A$2:$A$5001,0),COLUMN(A4692))","v":{"$error":"#N/A"}}]
[null,{"$f":"INDEX(建筑!$B$2:$B$5001,MATCH(表格模板!A4693,建筑!$A$2:$A$5001,0),COLUMN(A4693))","v":{"$error":"#N/A"}},null,{"$f":"INDEX(设备类型!$B$2:$B$5001,MATCH(表格模板!C4693,设备类型!$A$2:$A$5001,0),COLUMN(A4693))","v":{"$error":"#N/A"}}]
[null,{"$f":"INDEX(建筑!$B$2:$B$5001,MATCH(表格模板!A4694,建筑!$A$2:$A$5001,0),COLUMN(A4694))","v":{"$error":"#N/A"}},null,{"$f":"INDEX(设备类型!$B$2:$B$5001,MATCH(表格模板!C4694,设备类型!$A$2:$A$5001,0),COLUMN(A4694))","v":{"$error":"#N/A"}}]
[null,{"$f":"INDEX(建筑!$B$2:$B$5001,MATCH(表格模板!A4695,建筑!$A$2:$A$5001,0),COLUMN(A4695))","v":{"$error":"#N/A"}},null,{"$f":"INDEX(设备类型!$B$2:$B$5001,MATCH(表格模板!C4695,设备类型!$A$2:$A$5001,0),COLUMN(A4695))","v":{"$error":"#N/A"}}]
[null,{"$f":"INDEX(建筑!$B$2:$B$5001,MATCH(表格模板!A4696,建筑!$A$2:$A$5001,0),COLUMN(A4696))","v":{"$error":"#N/A"}},null,{"$f":"INDEX(设备类型!$B$2:$B$5001,MATCH(表格模板!C4696,设备类型!$A$2:$A$5001,0),COLUMN(A4696))","v":{"$error":"#N/A"}}]
[null,{"$f":"INDEX(建筑!$B$2:$B$5001,MATCH(表格模板!A4697,建筑!$A$2:$A$5001,0),COLUMN(A4697))","v":{"$error":"#N/A"}},null,{"$f":"INDEX(设备类型!$B$2:$B$5001,MATCH(表格模板!C4697,设备类型!$A$2:$A$5001,0),COLUMN(A4697))","v":{"$error":"#N/A"}}]
[null,{"$f":"INDEX(建筑!$B$2:$B$5001,MATCH(表格模板!A4698,建筑!$A$2:$A$5001,0),COLUMN(A4698))","v":{"$error":"#N/A"}},null,{"$f":"INDEX(设备类型!$B$2:$B$5001,MATCH(表格模板!C4698,设备类型!$A$2:$A$5001,0),COLUMN(A4698))","v":{"$error":"#N/A"}}]
[null,{"$f":"INDEX(建筑!$B$2:$B$5001,MATCH(表格模板!A4699,建筑!$A$2:$A$5001,0),COLUMN(A4699))","v":{"$error":"#N/A"}},null,{"$f":"INDEX(设备类型!$B$2:$B$5001,MATCH(表格模板!C4699,设备类型!$A$2:$A$5001,0),COLUMN(A4699))","v":{"$error":"#N/A"}}]
[null,{"$f":"INDEX(建筑!$B$2:$B$5001,MATCH(表格模板!A4700,建筑!$A$2:$A$5001,0),COLUMN(A4700))","v":{"$error":"#N/A"}},null,{"$f":"INDEX(设备类型!$B$2:$B$5001,MATCH(表格模板!C4700,设备类型!$A$2:$A$5001,0),COLUMN(A4700))","v":{"$error":"#N/A"}}]
[null,{"$f":"INDEX(建筑!$B$2:$B$5001,MATCH(表格模板!A4701,建筑!$A$2:$A$5001,0),COLUMN(A4701))","v":{"$error":"#N/A"}},null,{"$f":"INDEX(设备类型!$B$2:$B$5001,MATCH(表格模板!C4701,设备类型!$A$2:$A$5001,0),COLUMN(A4701))","v":{"$error":"#N/A"}}]
[null,{"$f":"INDEX(建筑!$B$2:$B$5001,MATCH(表格模板!A4702,建筑!$A$2:$A$5001,0),COLUMN(A4702))","v":{"$error":"#N/A"}},null,{"$f":"INDEX(设备类型!$B$2:$B$5001,MATCH(表格模板!C4702,设备类型!$A$2:$A$5001,0),COLUMN(A4702))","v":{"$error":"#N/A"}}]
[null,{"$f":"INDEX(建筑!$B$2:$B$5001,MATCH(表格模板!A4703,建筑!$A$2:$A$5001,0),COLUMN(A4703))","v":{"$error":"#N/A"}},null,{"$f":"INDEX(设备类型!$B$2:$B$5001,MATCH(表格模板!C4703,设备类型!$A$2:$A$5001,0),COLUMN(A4703))","v":{"$error":"#N/A"}}]
[null,{"$f":"INDEX(建筑!$B$2:$B$5001,MATCH(表格模板!A4704,建筑!$A$2:$A$5001,0),COLUMN(A4704))","v":{"$error":"#N/A"}},null,{"$f":"INDEX(设备类型!$B$2:$B$5001,MATCH(表格模板!C4704,设备类型!$A$2:$A$5001,0),COLUMN(A4704))","v":{"$error":"#N/A"}}]
[null,{"$f":"INDEX(建筑!$B$2:$B$5001,MATCH(表格模板!A4705,建筑!$A$2:$A$5001,0),COLUMN(A4705))","v":{"$error":"#N/A"}},null,{"$f":"INDEX(设备类型!$B$2:$B$5001,MATCH(表格模板!C4705,设备类型!$A$2:$A$5001,0),COLUMN(A4705))","v":{"$error":"#N/A"}}]
[null,{"$f":"INDEX(建筑!$B$2:$B$5001,MATCH(表格模板!A4706,建筑!$A$2:$A$5001,0),COLUMN(A4706))","v":{"$error":"#N/A"}},null,{"$f":"INDEX(设备类型!$B$2:$B$5001,MATCH(表格模板!C4706,设备类型!$A$2:$A$5001,0),COLUMN(A4706))","v":{"$error":"#N/A"}}]
[null,{"$f":"INDEX(建筑!$B$2:$B$5001,MATCH(表格模板!A4707,建筑!$A$2:$A$5001,0),COLUMN(A4707))","v":{"$error":"#N/A"}},null,{"$f":"INDEX(设备类型!$B$2:$B$5001,MATCH(表格模板!C4707,设备类型!$A$2:$A$5001,0),COLUMN(A4707))","v":{"$error":"#N/A"}}]
[null,{"$f":"INDEX(建筑!$B$2:$B$5001,MATCH(表格模板!A4708,建筑!$A$2:$A$5001,0),COLUMN(A4708))","v":{"$error":"#N/A"}},null,{"$f":"INDEX(设备类型!$B$2:$B$5001,MATCH(表格模板!C4708,设备类型!$A$2:$A$5001,0),COLUMN(A4708))","v":{"$error":"#N/A"}}]
[null,{"$f":"INDEX(建筑!$B$2:$B$5001,MATCH(表格模板!A4709,建筑!$A$2:$A$5001,0),COLUMN(A4709))","v":{"$error":"#N/A"}},null,{"$f":"INDEX(设备类型!$B$2:$B$5001,MATCH(表格模板!C4709,设备类型!$A$2:$A$5001,0),COLUMN(A4709))","v":{"$error":"#N/A"}}]
[null,{"$f":"INDEX(建筑!$B$2:$B$5001,MATCH(表格模板!A4710,建筑!$A$2:$A$5001,0),COLUMN(A4710))","v":{"$error":"#N/A"}},null,{"$f":"INDEX(设备类型!$B$2:$B$5001,MATCH(表格模板!C4710,设备类型!$A$2:$A$5001,0),COLUMN(A4710))","v":{"$error":"#N/A"}}]
[null,{"$f":"INDEX(建筑!$B$2:$B$5001,MATCH(表格模板!A4711,建筑!$A$2:$A$5001,0),COLUMN(A4711))","v":{"$error":"#N/A"}},null,{"$f":"INDEX(设备类型!$B$2:$B$5001,MATCH(表格模板!C4711,设备类型!$A$2:$A$5001,0),COLUMN(A4711))","v":{"$error":"#N/A"}}]
[null,{"$f":"INDEX(建筑!$B$2:$B$5001,MATCH(表格模板!A4712,建筑!$A$2:$A$5001,0),COLUMN(A4712))","v":{"$error":"#N/A"}},null,{"$f":"INDEX(设备类型!$B$2:$B$5001,MATCH(表格模板!C4712,设备类型!$A$2:$A$5001,0),COLUMN(A4712))","v":{"$error":"#N/A"}}]
[null,{"$f":"INDEX(建筑!$B$2:$B$5001,MATCH(表格模板!A4713,建筑!$A$2:$A$5001,0),COLUMN(A4713))","v":{"$error":"#N/A"}},null,{"$f":"INDEX(设备类型!$B$2:$B$5001,MATCH(表格模板!C4713,设备类型!$A$2:$A$5001,0),COLUMN(A4713))","v":{"$error":"#N/A"}}]
[null,{"$f":"INDEX(建筑!$B$2:$B$5001,MATCH(表格模板!A4714,建筑!$A$2:$A$5001,0),COLUMN(A4714))","v":{"$error":"#N/A"}},null,{"$f":"INDEX(设备类型!$B$2:$B$5001,MATCH(表格模板!C4714,设备类型!$A$2:$A$5001,0),COLUMN(A4714))","v":{"$error":"#N/A"}}]
[null,{"$f":"INDEX(建筑!$B$2:$B$5001,MATCH(表格模板!A4715,建筑!$A$2:$A$5001,0),COLUMN(A4715))","v":{"$error":"#N/A"}},null,{"$f":"INDEX(设备类型!$B$2:$B$5001,MATCH(表格模板!C4715,设备类型!$A$2:$A$5001,0),COLUMN(A4715))","v":{"$error":"#N/A"}}]
[null,{"$f":"INDEX(建筑!$B$2:$B$5001,MATCH(表格模板!A4716,建筑!$A$2:$A$5001,0),COLUMN(A4716))","v":{"$error":"#N/A"}},null,{"$f":"INDEX(设备类型!$B$2:$B$5001,MATCH(表格模板!C4716,设备类型!$A$2:$A$5001,0),COLUMN(A4716))","v":{"$error":"#N/A"}}]
[null,{"$f":"INDEX(建筑!$B$2:$B$5001,MATCH(表格模板!A4717,建筑!$A$2:$A$5001,0),COLUMN(A4717))","v":{"$error":"#N/A"}},null,{"$f":"INDEX(设备类型!$B$2:$B$5001,MATCH(表格模板!C4717,设备类型!$A$2:$A$5001,0),COLUMN(A4717))","v":{"$error":"#N/A"}}]
[null,{"$f":"INDEX(建筑!$B$2:$B$5001,MATCH(表格模板!A4718,建筑!$A$2:$A$5001,0),COLUMN(A4718))","v":{"$error":"#N/A"}},null,{"$f":"INDEX(设备类型!$B$2:$B$5001,MATCH(表格模板!C4718,设备类型!$A$2:$A$5001,0),COLUMN(A4718))","v":{"$error":"#N/A"}}]
[null,{"$f":"INDEX(建筑!$B$2:$B$5001,MATCH(表格模板!A4719,建筑!$A$2:$A$5001,0),COLUMN(A4719))","v":{"$error":"#N/A"}},null,{"$f":"INDEX(设备类型!$B$2:$B$5001,MATCH(表格模板!C4719,设备类型!$A$2:$A$5001,0),COLUMN(A4719))","v":{"$error":"#N/A"}}]
[null,{"$f":"INDEX(建筑!$B$2:$B$5001,MATCH(表格模板!A4720,建筑!$A$2:$A$5001,0),COLUMN(A4720))","v":{"$error":"#N/A"}},null,{"$f":"INDEX(设备类型!$B$2:$B$5001,MATCH(表格模板!C4720,设备类型!$A$2:$A$5001,0),COLUMN(A4720))","v":{"$error":"#N/A"}}]
[null,{"$f":"INDEX(建筑!$B$2:$B$5001,MATCH(表格模板!A4721,建筑!$A$2:$A$5001,0),COLUMN(A4721))","v":{"$error":"#N/A"}},null,{"$f":"INDEX(设备类型!$B$2:$B$5001,MATCH(表格模板!C4721,设备类型!$A$2:$A$5001,0),COLUMN(A4721))","v":{"$error":"#N/A"}}]
[null,{"$f":"INDEX(建筑!$B$2:$B$5001,MATCH(表格模板!A4722,建筑!$A$2:$A$5001,0),COLUMN(A4722))","v":{"$error":"#N/A"}},null,{"$f":"INDEX(设备类型!$B$2:$B$5001,MATCH(表格模板!C4722,设备类型!$A$2:$A$5001,0),COLUMN(A4722))","v":{"$error":"#N/A"}}]
[null,{"$f":"INDEX(建筑!$B$2:$B$5001,MATCH(表格模板!A4723,建筑!$A$2:$A$5001,0),COLUMN(A4723))","v":{"$error":"#N/A"}},null,{"$f":"INDEX(设备类型!$B$2:$B$5001,MATCH(表格模板!C4723,设备类型!$A$2:$A$5001,0),COLUMN(A4723))","v":{"$error":"#N/A"}}]
[null,{"$f":"INDEX(建筑!$B$2:$B$5001,MATCH(表格模板!A4724,建筑!$A$2:$A$5001,0),COLUMN(A4724))","v":{"$error":"#N/A"}},null,{"$f":"INDEX(设备类型!$B$2:$B$5001,MATCH(表格模板!C4724,设备类型!$A$2:$A$5001,0),COLUMN(A4724))","v":{"$error":"#N/A"}}]
[null,{"$f":"INDEX(建筑!$B$2:$B$5001,MATCH(表格模板!A4725,建筑!$A$2:$A$5001,0),COLUMN(A4725))","v":{"$error":"#N/A"}},null,{"$f":"INDEX(设备类型!$B$2:$B$5001,MATCH(表格模板!C4725,设备类型!$A$2:$A$5001,0),COLUMN(A4725))","v":{"$error":"#N/A"}}]
[null,{"$f":"INDEX(建筑!$B$2:$B$5001,MATCH(表格模板!A4726,建筑!$A$2:$A$5001,0),COLUMN(A4726))","v":{"$error":"#N/A"}},null,{"$f":"INDEX(设备类型!$B$2:$B$5001,MATCH(表格模板!C4726,设备类型!$A$2:$A$5001,0),COLUMN(A4726))","v":{"$error":"#N/A"}}]
[null,{"$f":"INDEX(建筑!$B$2:$B$5001,MATCH(表格模板!A4727,建筑!$A$2:$A$5001,0),COLUMN(A4727))","v":{"$error":"#N/A"}},null,{"$f":"INDEX(设备类型!$B$2:$B$5001,MATCH(表格模板!C4727,设备类型!$A$2:$A$5001,0),COLUMN(A4727))","v":{"$error":"#N/A"}}]
[null,{"$f":"INDEX(建筑!$B$2:$B$5001,MATCH(表格模板!A4728,建筑!$A$2:$A$5001,0),COLUMN(A4728))","v":{"$error":"#N/A"}},null,{"$f":"INDEX(设备类型!$B$2:$B$5001,MATCH(表格模板!C4728,设备类型!$A$2:$A$5001,0),COLUMN(A4728))","v":{"$error":"#N/A"}}]
[null,{"$f":"INDEX(建筑!$B$2:$B$5001,MATCH(表格模板!A4729,建筑!$A$2:$A$5001,0),COLUMN(A4729))","v":{"$error":"#N/A"}},null,{"$f":"INDEX(设备类型!$B$2:$B$5001,MATCH(表格模板!C4729,设备类型!$A$2:$A$5001,0),COLUMN(A4729))","v":{"$error":"#N/A"}}]
[null,{"$f":"INDEX(建筑!$B$2:$B$5001,MATCH(表格模板!A4730,建筑!$A$2:$A$5001,0),COLUMN(A4730))","v":{"$error":"#N/A"}},null,{"$f":"INDEX(设备类型!$B$2:$B$5001,MATCH(表格模板!C4730,设备类型!$A$2:$A$5001,0),COLUMN(A4730))","v":{"$error":"#N/A"}}]
[null,{"$f":"INDEX(建筑!$B$2:$B$5001,MATCH(表格模板!A4731,建筑!$A$2:$A$5001,0),COLUMN(A4731))","v":{"$error":"#N/A"}},null,{"$f":"INDEX(设备类型!$B$2:$B$5001,MATCH(表格模板!C4731,设备类型!$A$2:$A$5001,0),COLUMN(A4731))","v":{"$error":"#N/A"}}]
[null,{"$f":"INDEX(建筑!$B$2:$B$5001,MATCH(表格模板!A4732,建筑!$A$2:$A$5001,0),COLUMN(A4732))","v":{"$error":"#N/A"}},null,{"$f":"INDEX(设备类型!$B$2:$B$5001,MATCH(表格模板!C4732,设备类型!$A$2:$A$5001,0),COLUMN(A4732))","v":{"$error":"#N/A"}}]
[null,{"$f":"INDEX(建筑!$B$2:$B$5001,MATCH(表格模板!A4733,建筑!$A$2:$A$5001,0),COLUMN(A4733))","v":{"$error":"#N/A"}},null,{"$f":"INDEX(设备类型!$B$2:$B$5001,MATCH(表格模板!C4733,设备类型!$A$2:$A$5001,0),COLUMN(A4733))","v":{"$error":"#N/A"}}]
[null,{"$f":"INDEX(建筑!$B$2:$B$5001,MATCH(表格模板!A4734,建筑!$A$2:$A$5001,0),COLUMN(A4734))","v":{"$error":"#N/A"}},null,{"$f":"INDEX(设备类型!$B$2:$B$5001,MATCH(表格模板!C4734,设备类型!$A$2:$A$5001,0),COLUMN(A4734))","v":{"$error":"#N/A"}}]
[null,{"$f":"INDEX(建筑!$B$2:$B$5001,MATCH(表格模板!A4735,建筑!$A$2:$A$5001,0),COLUMN(A4735))","v":{"$error":"#N/A"}},null,{"$f":"INDEX(设备类型!$B$2:$B$5001,MATCH(表格模板!C4735,设备类型!$A$2:$A$5001,0),COLUMN(A4735))","v":{"$error":"#N/A"}}]
[null,{"$f":"INDEX(建筑!$B$2:$B$5001,MATCH(表格模板!A4736,建筑!$A$2:$A$5001,0),COLUMN(A4736))","v":{"$error":"#N/A"}},null,{"$f":"INDEX(设备类型!$B$2:$B$5001,MATCH(表格模板!C4736,设备类型!$A$2:$A$5001,0),COLUMN(A4736))","v":{"$error":"#N/A"}}]
[null,{"$f":"INDEX(建筑!$B$2:$B$5001,MATCH(表格模板!A4737,建筑!$A$2:$A$5001,0),COLUMN(A4737))","v":{"$error":"#N/A"}},null,{"$f":"INDEX(设备类型!$B$2:$B$5001,MATCH(表格模板!C4737,设备类型!$A$2:$A$5001,0),COLUMN(A4737))","v":{"$error":"#N/A"}}]
[null,{"$f":"INDEX(建筑!$B$2:$B$5001,MATCH(表格模板!A4738,建筑!$A$2:$A$5001,0),COLUMN(A4738))","v":{"$error":"#N/A"}},null,{"$f":"INDEX(设备类型!$B$2:$B$5001,MATCH(表格模板!C4738,设备类型!$A$2:$A$5001,0),COLUMN(A4738))","v":{"$error":"#N/A"}}]
[null,{"$f":"INDEX(建筑!$B$2:$B$5001,MATCH(表格模板!A4739,建筑!$A$2:$A$5001,0),COLUMN(A4739))","v":{"$error":"#N/A"}},null,{"$f":"INDEX(设备类型!$B$2:$B$5001,MATCH(表格模板!C4739,设备类型!$A$2:$A$5001,0),COLUMN(A4739))","v":{"$error":"#N/A"}}]
[null,{"$f":"INDEX(建筑!$B$2:$B$5001,MATCH(表格模板!A4740,建筑!$A$2:$A$5001,0),COLUMN(A4740))","v":{"$error":"#N/A"}},null,{"$f":"INDEX(设备类型!$B$2:$B$5001,MATCH(表格模板!C4740,设备类型!$A$2:$A$5001,0),COLUMN(A4740))","v":{"$error":"#N/A"}}]
[null,{"$f":"INDEX(建筑!$B$2:$B$5001,MATCH(表格模板!A4741,建筑!$A$2:$A$5001,0),COLUMN(A4741))","v":{"$error":"#N/A"}},null,{"$f":"INDEX(设备类型!$B$2:$B$5001,MATCH(表格模板!C4741,设备类型!$A$2:$A$5001,0),COLUMN(A4741))","v":{"$error":"#N/A"}}]
[null,{"$f":"INDEX(建筑!$B$2:$B$5001,MATCH(表格模板!A4742,建筑!$A$2:$A$5001,0),COLUMN(A4742))","v":{"$error":"#N/A"}},null,{"$f":"INDEX(设备类型!$B$2:$B$5001,MATCH(表格模板!C4742,设备类型!$A$2:$A$5001,0),COLUMN(A4742))","v":{"$error":"#N/A"}}]
[null,{"$f":"INDEX(建筑!$B$2:$B$5001,MATCH(表格模板!A4743,建筑!$A$2:$A$5001,0),COLUMN(A4743))","v":{"$error":"#N/A"}},null,{"$f":"INDEX(设备类型!$B$2:$B$5001,MATCH(表格模板!C4743,设备类型!$A$2:$A$5001,0),COLUMN(A4743))","v":{"$error":"#N/A"}}]
[null,{"$f":"INDEX(建筑!$B$2:$B$5001,MATCH(表格模板!A4744,建筑!$A$2:$A$5001,0),COLUMN(A4744))","v":{"$error":"#N/A"}},null,{"$f":"INDEX(设备类型!$B$2:$B$5001,MATCH(表格模板!C4744,设备类型!$A$2:$A$5001,0),COLUMN(A4744))","v":{"$error":"#N/A"}}]
[null,{"$f":"INDEX(建筑!$B$2:$B$5001,MATCH(表格模板!A4745,建筑!$A$2:$A$5001,0),COLUMN(A4745))","v":{"$error":"#N/A"}},null,{"$f":"INDEX(设备类型!$B$2:$B$5001,MATCH(表格模板!C4745,设备类型!$A$2:$A$5001,0),COLUMN(A4745))","v":{"$error":"#N/A"}}]
[null,{"$f":"INDEX(建筑!$B$2:$B$5001,MATCH(表格模板!A4746,建筑!$A$2:$A$5001,0),COLUMN(A4746))","v":{"$error":"#N/A"}},null,{"$f":"INDEX(设备类型!$B$2:$B$5001,MATCH(表格模板!C4746,设备类型!$A$2:$A$5001,0),COLUMN(A4746))","v":{"$error":"#N/A"}}]
[null,{"$f":"INDEX(建筑!$B$2:$B$5001,MATCH(表格模板!A4747,建筑!$A$2:$A$5001,0),COLUMN(A4747))","v":{"$error":"#N/A"}},null,{"$f":"INDEX(设备类型!$B$2:$B$5001,MATCH(表格模板!C4747,设备类型!$A$2:$A$5001,0),COLUMN(A4747))","v":{"$error":"#N/A"}}]
[null,{"$f":"INDEX(建筑!$B$2:$B$5001,MATCH(表格模板!A4748,建筑!$A$2:$A$5001,0),COLUMN(A4748))","v":{"$error":"#N/A"}},null,{"$f":"INDEX(设备类型!$B$2:$B$5001,MATCH(表格模板!C4748,设备类型!$A$2:$A$5001,0),COLUMN(A4748))","v":{"$error":"#N/A"}}]
[null,{"$f":"INDEX(建筑!$B$2:$B$5001,MATCH(表格模板!A4749,建筑!$A$2:$A$5001,0),COLUMN(A4749))","v":{"$error":"#N/A"}},null,{"$f":"INDEX(设备类型!$B$2:$B$5001,MATCH(表格模板!C4749,设备类型!$A$2:$A$5001,0),COLUMN(A4749))","v":{"$error":"#N/A"}}]
[null,{"$f":"INDEX(建筑!$B$2:$B$5001,MATCH(表格模板!A4750,建筑!$A$2:$A$5001,0),COLUMN(A4750))","v":{"$error":"#N/A"}},null,{"$f":"INDEX(设备类型!$B$2:$B$5001,MATCH(表格模板!C4750,设备类型!$A$2:$A$5001,0),COLUMN(A4750))","v":{"$error":"#N/A"}}]
[null,{"$f":"INDEX(建筑!$B$2:$B$5001,MATCH(表格模板!A4751,建筑!$A$2:$A$5001,0),COLUMN(A4751))","v":{"$error":"#N/A"}},null,{"$f":"INDEX(设备类型!$B$2:$B$5001,MATCH(表格模板!C4751,设备类型!$A$2:$A$5001,0),COLUMN(A4751))","v":{"$error":"#N/A"}}]
[null,{"$f":"INDEX(建筑!$B$2:$B$5001,MATCH(表格模板!A4752,建筑!$A$2:$A$5001,0),COLUMN(A4752))","v":{"$error":"#N/A"}},null,{"$f":"INDEX(设备类型!$B$2:$B$5001,MATCH(表格模板!C4752,设备类型!$A$2:$A$5001,0),COLUMN(A4752))","v":{"$error":"#N/A"}}]
[null,{"$f":"INDEX(建筑!$B$2:$B$5001,MATCH(表格模板!A4753,建筑!$A$2:$A$5001,0),COLUMN(A4753))","v":{"$error":"#N/A"}},null,{"$f":"INDEX(设备类型!$B$2:$B$5001,MATCH(表格模板!C4753,设备类型!$A$2:$A$5001,0),COLUMN(A4753))","v":{"$error":"#N/A"}}]
[null,{"$f":"INDEX(建筑!$B$2:$B$5001,MATCH(表格模板!A4754,建筑!$A$2:$A$5001,0),COLUMN(A4754))","v":{"$error":"#N/A"}},null,{"$f":"INDEX(设备类型!$B$2:$B$5001,MATCH(表格模板!C4754,设备类型!$A$2:$A$5001,0),COLUMN(A4754))","v":{"$error":"#N/A"}}]
[null,{"$f":"INDEX(建筑!$B$2:$B$5001,MATCH(表格模板!A4755,建筑!$A$2:$A$5001,0),COLUMN(A4755))","v":{"$error":"#N/A"}},null,{"$f":"INDEX(设备类型!$B$2:$B$5001,MATCH(表格模板!C4755,设备类型!$A$2:$A$5001,0),COLUMN(A4755))","v":{"$error":"#N/A"}}]
[null,{"$f":"INDEX(建筑!$B$2:$B$5001,MATCH(表格模板!A4756,建筑!$A$2:$A$5001,0),COLUMN(A4756))","v":{"$error":"#N/A"}},null,{"$f":"INDEX(设备类型!$B$2:$B$5001,MATCH(表格模板!C4756,设备类型!$A$2:$A$5001,0),COLUMN(A4756))","v":{"$error":"#N/A"}}]
[null,{"$f":"INDEX(建筑!$B$2:$B$5001,MATCH(表格模板!A4757,建筑!$A$2:$A$5001,0),COLUMN(A4757))","v":{"$error":"#N/A"}},null,{"$f":"INDEX(设备类型!$B$2:$B$5001,MATCH(表格模板!C4757,设备类型!$A$2:$A$5001,0),COLUMN(A4757))","v":{"$error":"#N/A"}}]
[null,{"$f":"INDEX(建筑!$B$2:$B$5001,MATCH(表格模板!A4758,建筑!$A$2:$A$5001,0),COLUMN(A4758))","v":{"$error":"#N/A"}},null,{"$f":"INDEX(设备类型!$B$2:$B$5001,MATCH(表格模板!C4758,设备类型!$A$2:$A$5001,0),COLUMN(A4758))","v":{"$error":"#N/A"}}]
[null,{"$f":"INDEX(建筑!$B$2:$B$5001,MATCH(表格模板!A4759,建筑!$A$2:$A$5001,0),COLUMN(A4759))","v":{"$error":"#N/A"}},null,{"$f":"INDEX(设备类型!$B$2:$B$5001,MATCH(表格模板!C4759,设备类型!$A$2:$A$5001,0),COLUMN(A4759))","v":{"$error":"#N/A"}}]
[null,{"$f":"INDEX(建筑!$B$2:$B$5001,MATCH(表格模板!A4760,建筑!$A$2:$A$5001,0),COLUMN(A4760))","v":{"$error":"#N/A"}},null,{"$f":"INDEX(设备类型!$B$2:$B$5001,MATCH(表格模板!C4760,设备类型!$A$2:$A$5001,0),COLUMN(A4760))","v":{"$error":"#N/A"}}]
[null,{"$f":"INDEX(建筑!$B$2:$B$5001,MATCH(表格模板!A4761,建筑!$A$2:$A$5001,0),COLUMN(A4761))","v":{"$error":"#N/A"}},null,{"$f":"INDEX(设备类型!$B$2:$B$5001,MATCH(表格模板!C4761,设备类型!$A$2:$A$5001,0),COLUMN(A4761))","v":{"$error":"#N/A"}}]
[null,{"$f":"INDEX(建筑!$B$2:$B$5001,MATCH(表格模板!A4762,建筑!$A$2:$A$5001,0),COLUMN(A4762))","v":{"$error":"#N/A"}},null,{"$f":"INDEX(设备类型!$B$2:$B$5001,MATCH(表格模板!C4762,设备类型!$A$2:$A$5001,0),COLUMN(A4762))","v":{"$error":"#N/A"}}]
[null,{"$f":"INDEX(建筑!$B$2:$B$5001,MATCH(表格模板!A4763,建筑!$A$2:$A$5001,0),COLUMN(A4763))","v":{"$error":"#N/A"}},null,{"$f":"INDEX(设备类型!$B$2:$B$5001,MATCH(表格模板!C4763,设备类型!$A$2:$A$5001,0),COLUMN(A4763))","v":{"$error":"#N/A"}}]
[null,{"$f":"INDEX(建筑!$B$2:$B$5001,MATCH(表格模板!A4764,建筑!$A$2:$A$5001,0),COLUMN(A4764))","v":{"$error":"#N/A"}},null,{"$f":"INDEX(设备类型!$B$2:$B$5001,MATCH(表格模板!C4764,设备类型!$A$2:$A$5001,0),COLUMN(A4764))","v":{"$error":"#N/A"}}]
[null,{"$f":"INDEX(建筑!$B$2:$B$5001,MATCH(表格模板!A4765,建筑!$A$2:$A$5001,0),COLUMN(A4765))","v":{"$error":"#N/A"}},null,{"$f":"INDEX(设备类型!$B$2:$B$5001,MATCH(表格模板!C4765,设备类型!$A$2:$A$5001,0),COLUMN(A4765))","v":{"$error":"#N/A"}}]
[null,{"$f":"INDEX(建筑!$B$2:$B$5001,MATCH(表格模板!A4766,建筑!$A$2:$A$5001,0),COLUMN(A4766))","v":{"$error":"#N/A"}},null,{"$f":"INDEX(设备类型!$B$2:$B$5001,MATCH(表格模板!C4766,设备类型!$A$2:$A$5001,0),COLUMN(A4766))","v":{"$error":"#N/A"}}]
[null,{"$f":"INDEX(建筑!$B$2:$B$5001,MATCH(表格模板!A4767,建筑!$A$2:$A$5001,0),COLUMN(A4767))","v":{"$error":"#N/A"}},null,{"$f":"INDEX(设备类型!$B$2:$B$5001,MATCH(表格模板!C4767,设备类型!$A$2:$A$5001,0),COLUMN(A4767))","v":{"$error":"#N/A"}}]
[null,{"$f":"INDEX(建筑!$B$2:$B$5001,MATCH(表格模板!A4768,建筑!$A$2:$A$5001,0),COLUMN(A4768))","v":{"$error":"#N/A"}},null,{"$f":"INDEX(设备类型!$B$2:$B$5001,MATCH(表格模板!C4768,设备类型!$A$2:$A$5001,0),COLUMN(A4768))","v":{"$error":"#N/A"}}]
[null,{"$f":"INDEX(建筑!$B$2:$B$5001,MATCH(表格模板!A4769,建筑!$A$2:$A$5001,0),COLUMN(A4769))","v":{"$error":"#N/A"}},null,{"$f":"INDEX(设备类型!$B$2:$B$5001,MATCH(表格模板!C4769,设备类型!$A$2:$A$5001,0),COLUMN(A4769))","v":{"$error":"#N/A"}}]
[null,{"$f":"INDEX(建筑!$B$2:$B$5001,MATCH(表格模板!A4770,建筑!$A$2:$A$5001,0),COLUMN(A4770))","v":{"$error":"#N/A"}},null,{"$f":"INDEX(设备类型!$B$2:$B$5001,MATCH(表格模板!C4770,设备类型!$A$2:$A$5001,0),COLUMN(A4770))","v":{"$error":"#N/A"}}]
[null,{"$f":"INDEX(建筑!$B$2:$B$5001,MATCH(表格模板!A4771,建筑!$A$2:$A$5001,0),COLUMN(A4771))","v":{"$error":"#N/A"}},null,{"$f":"INDEX(设备类型!$B$2:$B$5001,MATCH(表格模板!C4771,设备类型!$A$2:$A$5001,0),COLUMN(A4771))","v":{"$error":"#N/A"}}]
[null,{"$f":"INDEX(建筑!$B$2:$B$5001,MATCH(表格模板!A4772,建筑!$A$2:$A$5001,0),COLUMN(A4772))","v":{"$error":"#N/A"}},null,{"$f":"INDEX(设备类型!$B$2:$B$5001,MATCH(表格模板!C4772,设备类型!$A$2:$A$5001,0),COLUMN(A4772))","v":{"$error":"#N/A"}}]
[null,{"$f":"INDEX(建筑!$B$2:$B$5001,MATCH(表格模板!A4773,建筑!$A$2:$A$5001,0),COLUMN(A4773))","v":{"$error":"#N/A"}},null,{"$f":"INDEX(设备类型!$B$2:$B$5001,MATCH(表格模板!C4773,设备类型!$A$2:$A$5001,0),COLUMN(A4773))","v":{"$error":"#N/A"}}]
[null,{"$f":"INDEX(建筑!$B$2:$B$5001,MATCH(表格模板!A4774,建筑!$A$2:$A$5001,0),COLUMN(A4774))","v":{"$error":"#N/A"}},null,{"$f":"INDEX(设备类型!$B$2:$B$5001,MATCH(表格模板!C4774,设备类型!$A$2:$A$5001,0),COLUMN(A4774))","v":{"$error":"#N/A"}}]
[null,{"$f":"INDEX(建筑!$B$2:$B$5001,MATCH(表格模板!A4775,建筑!$A$2:$A$5001,0),COLUMN(A4775))","v":{"$error":"#N/A"}},null,{"$f":"INDEX(设备类型!$B$2:$B$5001,MATCH(表格模板!C4775,设备类型!$A$2:$A$5001,0),COLUMN(A4775))","v":{"$error":"#N/A"}}]
[null,{"$f":"INDEX(建筑!$B$2:$B$5001,MATCH(表格模板!A4776,建筑!$A$2:$A$5001,0),COLUMN(A4776))","v":{"$error":"#N/A"}},null,{"$f":"INDEX(设备类型!$B$2:$B$5001,MATCH(表格模板!C4776,设备类型!$A$2:$A$5001,0),COLUMN(A4776))","v":{"$error":"#N/A"}}]
[null,{"$f":"INDEX(建筑!$B$2:$B$5001,MATCH(表格模板!A4777,建筑!$A$2:$A$5001,0),COLUMN(A4777))","v":{"$error":"#N/A"}},null,{"$f":"INDEX(设备类型!$B$2:$B$5001,MATCH(表格模板!C4777,设备类型!$A$2:$A$5001,0),COLUMN(A4777))","v":{"$error":"#N/A"}}]
[null,{"$f":"INDEX(建筑!$B$2:$B$5001,MATCH(表格模板!A4778,建筑!$A$2:$A$5001,0),COLUMN(A4778))","v":{"$error":"#N/A"}},null,{"$f":"INDEX(设备类型!$B$2:$B$5001,MATCH(表格模板!C4778,设备类型!$A$2:$A$5001,0),COLUMN(A4778))","v":{"$error":"#N/A"}}]
[null,{"$f":"INDEX(建筑!$B$2:$B$5001,MATCH(表格模板!A4779,建筑!$A$2:$A$5001,0),COLUMN(A4779))","v":{"$error":"#N/A"}},null,{"$f":"INDEX(设备类型!$B$2:$B$5001,MATCH(表格模板!C4779,设备类型!$A$2:$A$5001,0),COLUMN(A4779))","v":{"$error":"#N/A"}}]
[null,{"$f":"INDEX(建筑!$B$2:$B$5001,MATCH(表格模板!A4780,建筑!$A$2:$A$5001,0),COLUMN(A4780))","v":{"$error":"#N/A"}},null,{"$f":"INDEX(设备类型!$B$2:$B$5001,MATCH(表格模板!C4780,设备类型!$A$2:$A$5001,0),COLUMN(A4780))","v":{"$error":"#N/A"}}]
[null,{"$f":"INDEX(建筑!$B$2:$B$5001,MATCH(表格模板!A4781,建筑!$A$2:$A$5001,0),COLUMN(A4781))","v":{"$error":"#N/A"}},null,{"$f":"INDEX(设备类型!$B$2:$B$5001,MATCH(表格模板!C4781,设备类型!$A$2:$A$5001,0),COLUMN(A4781))","v":{"$error":"#N/A"}}]
[null,{"$f":"INDEX(建筑!$B$2:$B$5001,MATCH(表格模板!A4782,建筑!$A$2:$A$5001,0),COLUMN(A4782))","v":{"$error":"#N/A"}},null,{"$f":"INDEX(设备类型!$B$2:$B$5001,MATCH(表格模板!C4782,设备类型!$A$2:$A$5001,0),COLUMN(A4782))","v":{"$error":"#N/A"}}]
[null,{"$f":"INDEX(建筑!$B$2:$B$5001,MATCH(表格模板!A4783,建筑!$A$2:$A$5001,0),COLUMN(A4783))","v":{"$error":"#N/A"}},null,{"$f":"INDEX(设备类型!$B$2:$B$5001,MATCH(表格模板!C4783,设备类型!$A$2:$A$5001,0),COLUMN(A4783))","v":{"$error":"#N/A"}}]
[null,{"$f":"INDEX(建筑!$B$2:$B$5001,MATCH(表格模板!A4784,建筑!$A$2:$A$5001,0),COLUMN(A4784))","v":{"$error":"#N/A"}},null,{"$f":"INDEX(设备类型!$B$2:$B$5001,MATCH(表格模板!C4784,设备类型!$A$2:$A$5001,0),COLUMN(A4784))","v":{"$error":"#N/A"}}]
[null,{"$f":"INDEX(建筑!$B$2:$B$5001,MATCH(表格模板!A4785,建筑!$A$2:$A$5001,0),COLUMN(A4785))","v":{"$error":"#N/A"}},null,{"$f":"INDEX(设备类型!$B$2:$B$5001,MATCH(表格模板!C4785,设备类型!$A$2:$A$5001,0),COLUMN(A4785))","v":{"$error":"#N/A"}}]
[null,{"$f":"INDEX(建筑!$B$2:$B$5001,MATCH(表格模板!A4786,建筑!$A$2:$A$5001,0),COLUMN(A4786))","v":{"$error":"#N/A"}},null,{"$f":"INDEX(设备类型!$B$2:$B$5001,MATCH(表格模板!C4786,设备类型!$A$2:$A$5001,0),COLUMN(A4786))","v":{"$error":"#N/A"}}]
[null,{"$f":"INDEX(建筑!$B$2:$B$5001,MATCH(表格模板!A4787,建筑!$A$2:$A$5001,0),COLUMN(A4787))","v":{"$error":"#N/A"}},null,{"$f":"INDEX(设备类型!$B$2:$B$5001,MATCH(表格模板!C4787,设备类型!$A$2:$A$5001,0),COLUMN(A4787))","v":{"$error":"#N/A"}}]
[null,{"$f":"INDEX(建筑!$B$2:$B$5001,MATCH(表格模板!A4788,建筑!$A$2:$A$5001,0),COLUMN(A4788))","v":{"$error":"#N/A"}},null,{"$f":"INDEX(设备类型!$B$2:$B$5001,MATCH(表格模板!C4788,设备类型!$A$2:$A$5001,0),COLUMN(A4788))","v":{"$error":"#N/A"}}]
[null,{"$f":"INDEX(建筑!$B$2:$B$5001,MATCH(表格模板!A4789,建筑!$A$2:$A$5001,0),COLUMN(A4789))","v":{"$error":"#N/A"}},null,{"$f":"INDEX(设备类型!$B$2:$B$5001,MATCH(表格模板!C4789,设备类型!$A$2:$A$5001,0),COLUMN(A4789))","v":{"$error":"#N/A"}}]
[null,{"$f":"INDEX(建筑!$B$2:$B$5001,MATCH(表格模板!A4790,建筑!$A$2:$A$5001,0),COLUMN(A4790))","v":{"$error":"#N/A"}},null,{"$f":"INDEX(设备类型!$B$2:$B$5001,MATCH(表格模板!C4790,设备类型!$A$2:$A$5001,0),COLUMN(A4790))","v":{"$error":"#N/A"}}]
[null,{"$f":"INDEX(建筑!$B$2:$B$5001,MATCH(表格模板!A4791,建筑!$A$2:$A$5001,0),COLUMN(A4791))","v":{"$error":"#N/A"}},null,{"$f":"INDEX(设备类型!$B$2:$B$5001,MATCH(表格模板!C4791,设备类型!$A$2:$A$5001,0),COLUMN(A4791))","v":{"$error":"#N/A"}}]
[null,{"$f":"INDEX(建筑!$B$2:$B$5001,MATCH(表格模板!A4792,建筑!$A$2:$A$5001,0),COLUMN(A4792))","v":{"$error":"#N/A"}},null,{"$f":"INDEX(设备类型!$B$2:$B$5001,MATCH(表格模板!C4792,设备类型!$A$2:$A$5001,0),COLUMN(A4792))","v":{"$error":"#N/A"}}]
[null,{"$f":"INDEX(建筑!$B$2:$B$5001,MATCH(表格模板!A4793,建筑!$A$2:$A$5001,0),COLUMN(A4793))","v":{"$error":"#N/A"}},null,{"$f":"INDEX(设备类型!$B$2:$B$5001,MATCH(表格模板!C4793,设备类型!$A$2:$A$5001,0),COLUMN(A4793))","v":{"$error":"#N/A"}}]
[null,{"$f":"INDEX(建筑!$B$2:$B$5001,MATCH(表格模板!A4794,建筑!$A$2:$A$5001,0),COLUMN(A4794))","v":{"$error":"#N/A"}},null,{"$f":"INDEX(设备类型!$B$2:$B$5001,MATCH(表格模板!C4794,设备类型!$A$2:$A$5001,0),COLUMN(A4794))","v":{"$error":"#N/A"}}]
[null,{"$f":"INDEX(建筑!$B$2:$B$5001,MATCH(表格模板!A4795,建筑!$A$2:$A$5001,0),COLUMN(A4795))","v":{"$error":"#N/A"}},null,{"$f":"INDEX(设备类型!$B$2:$B$5001,MATCH(表格模板!C4795,设备类型!$A$2:$A$5001,0),COLUMN(A4795))","v":{"$error":"#N/A"}}]
[null,{"$f":"INDEX(建筑!$B$2:$B$5001,MATCH(表格模板!A4796,建筑!$A$2:$A$5001,0),COLUMN(A4796))","v":{"$error":"#N/A"}},null,{"$f":"INDEX(设备类型!$B$2:$B$5001,MATCH(表格模板!C4796,设备类型!$A$2:$A$5001,0),COLUMN(A4796))","v":{"$error":"#N/A"}}]
[null,{"$f":"INDEX(建筑!$B$2:$B$5001,MATCH(表格模板!A4797,建筑!$A$2:$A$5001,0),COLUMN(A4797))","v":{"$error":"#N/A"}},null,{"$f":"INDEX(设备类型!$B$2:$B$5001,MATCH(表格模板!C4797,设备类型!$A$2:$A$5001,0),COLUMN(A4797))","v":{"$error":"#N/A"}}]
[null,{"$f":"INDEX(建筑!$B$2:$B$5001,MATCH(表格模板!A4798,建筑!$A$2:$A$5001,0),COLUMN(A4798))","v":{"$error":"#N/A"}},null,{"$f":"INDEX(设备类型!$B$2:$B$5001,MATCH(表格模板!C4798,设备类型!$A$2:$A$5001,0),COLUMN(A4798))","v":{"$error":"#N/A"}}]
[null,{"$f":"INDEX(建筑!$B$2:$B$5001,MATCH(表格模板!A4799,建筑!$A$2:$A$5001,0),COLUMN(A4799))","v":{"$error":"#N/A"}},null,{"$f":"INDEX(设备类型!$B$2:$B$5001,MATCH(表格模板!C4799,设备类型!$A$2:$A$5001,0),COLUMN(A4799))","v":{"$error":"#N/A"}}]
[null,{"$f":"INDEX(建筑!$B$2:$B$5001,MATCH(表格模板!A4800,建筑!$A$2:$A$5001,0),COLUMN(A4800))","v":{"$error":"#N/A"}},null,{"$f":"INDEX(设备类型!$B$2:$B$5001,MATCH(表格模板!C4800,设备类型!$A$2:$A$5001,0),COLUMN(A4800))","v":{"$error":"#N/A"}}]
[null,{"$f":"INDEX(建筑!$B$2:$B$5001,MATCH(表格模板!A4801,建筑!$A$2:$A$5001,0),COLUMN(A4801))","v":{"$error":"#N/A"}},null,{"$f":"INDEX(设备类型!$B$2:$B$5001,MATCH(表格模板!C4801,设备类型!$A$2:$A$5001,0),COLUMN(A4801))","v":{"$error":"#N/A"}}]
[null,{"$f":"INDEX(建筑!$B$2:$B$5001,MATCH(表格模板!A4802,建筑!$A$2:$A$5001,0),COLUMN(A4802))","v":{"$error":"#N/A"}},null,{"$f":"INDEX(设备类型!$B$2:$B$5001,MATCH(表格模板!C4802,设备类型!$A$2:$A$5001,0),COLUMN(A4802))","v":{"$error":"#N/A"}}]
[null,{"$f":"INDEX(建筑!$B$2:$B$5001,MATCH(表格模板!A4803,建筑!$A$2:$A$5001,0),COLUMN(A4803))","v":{"$error":"#N/A"}},null,{"$f":"INDEX(设备类型!$B$2:$B$5001,MATCH(表格模板!C4803,设备类型!$A$2:$A$5001,0),COLUMN(A4803))","v":{"$error":"#N/A"}}]
[null,{"$f":"INDEX(建筑!$B$2:$B$5001,MATCH(表格模板!A4804,建筑!$A$2:$A$5001,0),COLUMN(A4804))","v":{"$error":"#N/A"}},null,{"$f":"INDEX(设备类型!$B$2:$B$5001,MATCH(表格模板!C4804,设备类型!$A$2:$A$5001,0),COLUMN(A4804))","v":{"$error":"#N/A"}}]
[null,{"$f":"INDEX(建筑!$B$2:$B$5001,MATCH(表格模板!A4805,建筑!$A$2:$A$5001,0),COLUMN(A4805))","v":{"$error":"#N/A"}},null,{"$f":"INDEX(设备类型!$B$2:$B$5001,MATCH(表格模板!C4805,设备类型!$A$2:$A$5001,0),COLUMN(A4805))","v":{"$error":"#N/A"}}]
[null,{"$f":"INDEX(建筑!$B$2:$B$5001,MATCH(表格模板!A4806,建筑!$A$2:$A$5001,0),COLUMN(A4806))","v":{"$error":"#N/A"}},null,{"$f":"INDEX(设备类型!$B$2:$B$5001,MATCH(表格模板!C4806,设备类型!$A$2:$A$5001,0),COLUMN(A4806))","v":{"$error":"#N/A"}}]
[null,{"$f":"INDEX(建筑!$B$2:$B$5001,MATCH(表格模板!A4807,建筑!$A$2:$A$5001,0),COLUMN(A4807))","v":{"$error":"#N/A"}},null,{"$f":"INDEX(设备类型!$B$2:$B$5001,MATCH(表格模板!C4807,设备类型!$A$2:$A$5001,0),COLUMN(A4807))","v":{"$error":"#N/A"}}]
[null,{"$f":"INDEX(建筑!$B$2:$B$5001,MATCH(表格模板!A4808,建筑!$A$2:$A$5001,0),COLUMN(A4808))","v":{"$error":"#N/A"}},null,{"$f":"INDEX(设备类型!$B$2:$B$5001,MATCH(表格模板!C4808,设备类型!$A$2:$A$5001,0),COLUMN(A4808))","v":{"$error":"#N/A"}}]
[null,{"$f":"INDEX(建筑!$B$2:$B$5001,MATCH(表格模板!A4809,建筑!$A$2:$A$5001,0),COLUMN(A4809))","v":{"$error":"#N/A"}},null,{"$f":"INDEX(设备类型!$B$2:$B$5001,MATCH(表格模板!C4809,设备类型!$A$2:$A$5001,0),COLUMN(A4809))","v":{"$error":"#N/A"}}]
[null,{"$f":"INDEX(建筑!$B$2:$B$5001,MATCH(表格模板!A4810,建筑!$A$2:$A$5001,0),COLUMN(A4810))","v":{"$error":"#N/A"}},null,{"$f":"INDEX(设备类型!$B$2:$B$5001,MATCH(表格模板!C4810,设备类型!$A$2:$A$5001,0),COLUMN(A4810))","v":{"$error":"#N/A"}}]
[null,{"$f":"INDEX(建筑!$B$2:$B$5001,MATCH(表格模板!A4811,建筑!$A$2:$A$5001,0),COLUMN(A4811))","v":{"$error":"#N/A"}},null,{"$f":"INDEX(设备类型!$B$2:$B$5001,MATCH(表格模板!C4811,设备类型!$A$2:$A$5001,0),COLUMN(A4811))","v":{"$error":"#N/A"}}]
[null,{"$f":"INDEX(建筑!$B$2:$B$5001,MATCH(表格模板!A4812,建筑!$A$2:$A$5001,0),COLUMN(A4812))","v":{"$error":"#N/A"}},null,{"$f":"INDEX(设备类型!$B$2:$B$5001,MATCH(表格模板!C4812,设备类型!$A$2:$A$5001,0),COLUMN(A4812))","v":{"$error":"#N/A"}}]
[null,{"$f":"INDEX(建筑!$B$2:$B$5001,MATCH(表格模板!A4813,建筑!$A$2:$A$5001,0),COLUMN(A4813))","v":{"$error":"#N/A"}},null,{"$f":"INDEX(设备类型!$B$2:$B$5001,MATCH(表格模板!C4813,设备类型!$A$2:$A$5001,0),COLUMN(A4813))","v":{"$error":"#N/A"}}]
[null,{"$f":"INDEX(建筑!$B$2:$B$5001,MATCH(表格模板!A4814,建筑!$A$2:$A$5001,0),COLUMN(A4814))","v":{"$error":"#N/A"}},null,{"$f":"INDEX(设备类型!$B$2:$B$5001,MATCH(表格模板!C4814,设备类型!$A$2:$A$5001,0),COLUMN(A4814))","v":{"$error":"#N/A"}}]
[null,{"$f":"INDEX(建筑!$B$2:$B$5001,MATCH(表格模板!A4815,建筑!$A$2:$A$5001,0),COLUMN(A4815))","v":{"$error":"#N/A"}},null,{"$f":"INDEX(设备类型!$B$2:$B$5001,MATCH(表格模板!C4815,设备类型!$A$2:$A$5001,0),COLUMN(A4815))","v":{"$error":"#N/A"}}]
[null,{"$f":"INDEX(建筑!$B$2:$B$5001,MATCH(表格模板!A4816,建筑!$A$2:$A$5001,0),COLUMN(A4816))","v":{"$error":"#N/A"}},null,{"$f":"INDEX(设备类型!$B$2:$B$5001,MATCH(表格模板!C4816,设备类型!$A$2:$A$5001,0),COLUMN(A4816))","v":{"$error":"#N/A"}}]
[null,{"$f":"INDEX(建筑!$B$2:$B$5001,MATCH(表格模板!A4817,建筑!$A$2:$A$5001,0),COLUMN(A4817))","v":{"$error":"#N/A"}},null,{"$f":"INDEX(设备类型!$B$2:$B$5001,MATCH(表格模板!C4817,设备类型!$A$2:$A$5001,0),COLUMN(A4817))","v":{"$error":"#N/A"}}]
[null,{"$f":"INDEX(建筑!$B$2:$B$5001,MATCH(表格模板!A4818,建筑!$A$2:$A$5001,0),COLUMN(A4818))","v":{"$error":"#N/A"}},null,{"$f":"INDEX(设备类型!$B$2:$B$5001,MATCH(表格模板!C4818,设备类型!$A$2:$A$5001,0),COLUMN(A4818))","v":{"$error":"#N/A"}}]
[null,{"$f":"INDEX(建筑!$B$2:$B$5001,MATCH(表格模板!A4819,建筑!$A$2:$A$5001,0),COLUMN(A4819))","v":{"$error":"#N/A"}},null,{"$f":"INDEX(设备类型!$B$2:$B$5001,MATCH(表格模板!C4819,设备类型!$A$2:$A$5001,0),COLUMN(A4819))","v":{"$error":"#N/A"}}]
[null,{"$f":"INDEX(建筑!$B$2:$B$5001,MATCH(表格模板!A4820,建筑!$A$2:$A$5001,0),COLUMN(A4820))","v":{"$error":"#N/A"}},null,{"$f":"INDEX(设备类型!$B$2:$B$5001,MATCH(表格模板!C4820,设备类型!$A$2:$A$5001,0),COLUMN(A4820))","v":{"$error":"#N/A"}}]
[null,{"$f":"INDEX(建筑!$B$2:$B$5001,MATCH(表格模板!A4821,建筑!$A$2:$A$5001,0),COLUMN(A4821))","v":{"$error":"#N/A"}},null,{"$f":"INDEX(设备类型!$B$2:$B$5001,MATCH(表格模板!C4821,设备类型!$A$2:$A$5001,0),COLUMN(A4821))","v":{"$error":"#N/A"}}]
[null,{"$f":"INDEX(建筑!$B$2:$B$5001,MATCH(表格模板!A4822,建筑!$A$2:$A$5001,0),COLUMN(A4822))","v":{"$error":"#N/A"}},null,{"$f":"INDEX(设备类型!$B$2:$B$5001,MATCH(表格模板!C4822,设备类型!$A$2:$A$5001,0),COLUMN(A4822))","v":{"$error":"#N/A"}}]
[null,{"$f":"INDEX(建筑!$B$2:$B$5001,MATCH(表格模板!A4823,建筑!$A$2:$A$5001,0),COLUMN(A4823))","v":{"$error":"#N/A"}},null,{"$f":"INDEX(设备类型!$B$2:$B$5001,MATCH(表格模板!C4823,设备类型!$A$2:$A$5001,0),COLUMN(A4823))","v":{"$error":"#N/A"}}]
[null,{"$f":"INDEX(建筑!$B$2:$B$5001,MATCH(表格模板!A4824,建筑!$A$2:$A$5001,0),COLUMN(A4824))","v":{"$error":"#N/A"}},null,{"$f":"INDEX(设备类型!$B$2:$B$5001,MATCH(表格模板!C4824,设备类型!$A$2:$A$5001,0),COLUMN(A4824))","v":{"$error":"#N/A"}}]
[null,{"$f":"INDEX(建筑!$B$2:$B$5001,MATCH(表格模板!A4825,建筑!$A$2:$A$5001,0),COLUMN(A4825))","v":{"$error":"#N/A"}},null,{"$f":"INDEX(设备类型!$B$2:$B$5001,MATCH(表格模板!C4825,设备类型!$A$2:$A$5001,0),COLUMN(A4825))","v":{"$error":"#N/A"}}]
[null,{"$f":"INDEX(建筑!$B$2:$B$5001,MATCH(表格模板!A4826,建筑!$A$2:$A$5001,0),COLUMN(A4826))","v":{"$error":"#N/A"}},null,{"$f":"INDEX(设备类型!$B$2:$B$5001,MATCH(表格模板!C4826,设备类型!$A$2:$A$5001,0),COLUMN(A4826))","v":{"$error":"#N/A"}}]
[null,{"$f":"INDEX(建筑!$B$2:$B$5001,MATCH(表格模板!A4827,建筑!$A$2:$A$5001,0),COLUMN(A4827))","v":{"$error":"#N/A"}},null,{"$f":"INDEX(设备类型!$B$2:$B$5001,MATCH(表格模板!C4827,设备类型!$A$2:$A$5001,0),COLUMN(A4827))","v":{"$error":"#N/A"}}]
[null,{"$f":"INDEX(建筑!$B$2:$B$5001,MATCH(表格模板!A4828,建筑!$A$2:$A$5001,0),COLUMN(A4828))","v":{"$error":"#N/A"}},null,{"$f":"INDEX(设备类型!$B$2:$B$5001,MATCH(表格模板!C4828,设备类型!$A$2:$A$5001,0),COLUMN(A4828))","v":{"$error":"#N/A"}}]
[null,{"$f":"INDEX(建筑!$B$2:$B$5001,MATCH(表格模板!A4829,建筑!$A$2:$A$5001,0),COLUMN(A4829))","v":{"$error":"#N/A"}},null,{"$f":"INDEX(设备类型!$B$2:$B$5001,MATCH(表格模板!C4829,设备类型!$A$2:$A$5001,0),COLUMN(A4829))","v":{"$error":"#N/A"}}]
[null,{"$f":"INDEX(建筑!$B$2:$B$5001,MATCH(表格模板!A4830,建筑!$A$2:$A$5001,0),COLUMN(A4830))","v":{"$error":"#N/A"}},null,{"$f":"INDEX(设备类型!$B$2:$B$5001,MATCH(表格模板!C4830,设备类型!$A$2:$A$5001,0),COLUMN(A4830))","v":{"$error":"#N/A"}}]
[null,{"$f":"INDEX(建筑!$B$2:$B$5001,MATCH(表格模板!A4831,建筑!$A$2:$A$5001,0),COLUMN(A4831))","v":{"$error":"#N/A"}},null,{"$f":"INDEX(设备类型!$B$2:$B$5001,MATCH(表格模板!C4831,设备类型!$A$2:$A$5001,0),COLUMN(A4831))","v":{"$error":"#N/A"}}]
[null,{"$f":"INDEX(建筑!$B$2:$B$5001,MATCH(表格模板!A4832,建筑!$A$2:$A$5001,0),COLUMN(A4832))","v":{"$error":"#N/A"}},null,{"$f":"INDEX(设备类型!$B$2:$B$5001,MATCH(表格模板!C4832,设备类型!$A$2:$A$5001,0),COLUMN(A4832))","v":{"$error":"#N/A"}}]
[null,{"$f":"INDEX(建筑!$B$2:$B$5001,MATCH(表格模板!A4833,建筑!$A$2:$A$5001,0),COLUMN(A4833))","v":{"$error":"#N/A"}},null,{"$f":"INDEX(设备类型!$B$2:$B$5001,MATCH(表格模板!C4833,设备类型!$A$2:$A$5001,0),COLUMN(A4833))","v":{"$error":"#N/A"}}]
[null,{"$f":"INDEX(建筑!$B$2:$B$5001,MATCH(表格模板!A4834,建筑!$A$2:$A$5001,0),COLUMN(A4834))","v":{"$error":"#N/A"}},null,{"$f":"INDEX(设备类型!$B$2:$B$5001,MATCH(表格模板!C4834,设备类型!$A$2:$A$5001,0),COLUMN(A4834))","v":{"$error":"#N/A"}}]
[null,{"$f":"INDEX(建筑!$B$2:$B$5001,MATCH(表格模板!A4835,建筑!$A$2:$A$5001,0),COLUMN(A4835))","v":{"$error":"#N/A"}},null,{"$f":"INDEX(设备类型!$B$2:$B$5001,MATCH(表格模板!C4835,设备类型!$A$2:$A$5001,0),COLUMN(A4835))","v":{"$error":"#N/A"}}]
[null,{"$f":"INDEX(建筑!$B$2:$B$5001,MATCH(表格模板!A4836,建筑!$A$2:$A$5001,0),COLUMN(A4836))","v":{"$error":"#N/A"}},null,{"$f":"INDEX(设备类型!$B$2:$B$5001,MATCH(表格模板!C4836,设备类型!$A$2:$A$5001,0),COLUMN(A4836))","v":{"$error":"#N/A"}}]
[null,{"$f":"INDEX(建筑!$B$2:$B$5001,MATCH(表格模板!A4837,建筑!$A$2:$A$5001,0),COLUMN(A4837))","v":{"$error":"#N/A"}},null,{"$f":"INDEX(设备类型!$B$2:$B$5001,MATCH(表格模板!C4837,设备类型!$A$2:$A$5001,0),COLUMN(A4837))","v":{"$error":"#N/A"}}]
[null,{"$f":"INDEX(建筑!$B$2:$B$5001,MATCH(表格模板!A4838,建筑!$A$2:$A$5001,0),COLUMN(A4838))","v":{"$error":"#N/A"}},null,{"$f":"INDEX(设备类型!$B$2:$B$5001,MATCH(表格模板!C4838,设备类型!$A$2:$A$5001,0),COLUMN(A4838))","v":{"$error":"#N/A"}}]
[null,{"$f":"INDEX(建筑!$B$2:$B$5001,MATCH(表格模板!A4839,建筑!$A$2:$A$5001,0),COLUMN(A4839))","v":{"$error":"#N/A"}},null,{"$f":"INDEX(设备类型!$B$2:$B$5001,MATCH(表格模板!C4839,设备类型!$A$2:$A$5001,0),COLUMN(A4839))","v":{"$error":"#N/A"}}]
[null,{"$f":"INDEX(建筑!$B$2:$B$5001,MATCH(表格模板!A4840,建筑!$A$2:$A$5001,0),COLUMN(A4840))","v":{"$error":"#N/A"}},null,{"$f":"INDEX(设备类型!$B$2:$B$5001,MATCH(表格模板!C4840,设备类型!$A$2:$A$5001,0),COLUMN(A4840))","v":{"$error":"#N/A"}}]
[null,{"$f":"INDEX(建筑!$B$2:$B$5001,MATCH(表格模板!A4841,建筑!$A$2:$A$5001,0),COLUMN(A4841))","v":{"$error":"#N/A"}},null,{"$f":"INDEX(设备类型!$B$2:$B$5001,MATCH(表格模板!C4841,设备类型!$A$2:$A$5001,0),COLUMN(A4841))","v":{"$error":"#N/A"}}]
[null,{"$f":"INDEX(建筑!$B$2:$B$5001,MATCH(表格模板!A4842,建筑!$A$2:$A$5001,0),COLUMN(A4842))","v":{"$error":"#N/A"}},null,{"$f":"INDEX(设备类型!$B$2:$B$5001,MATCH(表格模板!C4842,设备类型!$A$2:$A$5001,0),COLUMN(A4842))","v":{"$error":"#N/A"}}]
[null,{"$f":"INDEX(建筑!$B$2:$B$5001,MATCH(表格模板!A4843,建筑!$A$2:$A$5001,0),COLUMN(A4843))","v":{"$error":"#N/A"}},null,{"$f":"INDEX(设备类型!$B$2:$B$5001,MATCH(表格模板!C4843,设备类型!$A$2:$A$5001,0),COLUMN(A4843))","v":{"$error":"#N/A"}}]
[null,{"$f":"INDEX(建筑!$B$2:$B$5001,MATCH(表格模板!A4844,建筑!$A$2:$A$5001,0),COLUMN(A4844))","v":{"$error":"#N/A"}},null,{"$f":"INDEX(设备类型!$B$2:$B$5001,MATCH(表格模板!C4844,设备类型!$A$2:$A$5001,0),COLUMN(A4844))","v":{"$error":"#N/A"}}]
[null,{"$f":"INDEX(建筑!$B$2:$B$5001,MATCH(表格模板!A4845,建筑!$A$2:$A$5001,0),COLUMN(A4845))","v":{"$error":"#N/A"}},null,{"$f":"INDEX(设备类型!$B$2:$B$5001,MATCH(表格模板!C4845,设备类型!$A$2:$A$5001,0),COLUMN(A4845))","v":{"$error":"#N/A"}}]
[null,{"$f":"INDEX(建筑!$B$2:$B$5001,MATCH(表格模板!A4846,建筑!$A$2:$A$5001,0),COLUMN(A4846))","v":{"$error":"#N/A"}},null,{"$f":"INDEX(设备类型!$B$2:$B$5001,MATCH(表格模板!C4846,设备类型!$A$2:$A$5001,0),COLUMN(A4846))","v":{"$error":"#N/A"}}]
[null,{"$f":"INDEX(建筑!$B$2:$B$5001,MATCH(表格模板!A4847,建筑!$A$2:$A$5001,0),COLUMN(A4847))","v":{"$error":"#N/A"}},null,{"$f":"INDEX(设备类型!$B$2:$B$5001,MATCH(表格模板!C4847,设备类型!$A$2:$A$5001,0),COLUMN(A4847))","v":{"$error":"#N/A"}}]
[null,{"$f":"INDEX(建筑!$B$2:$B$5001,MATCH(表格模板!A4848,建筑!$A$2:$A$5001,0),COLUMN(A4848))","v":{"$error":"#N/A"}},null,{"$f":"INDEX(设备类型!$B$2:$B$5001,MATCH(表格模板!C4848,设备类型!$A$2:$A$5001,0),COLUMN(A4848))","v":{"$error":"#N/A"}}]
[null,{"$f":"INDEX(建筑!$B$2:$B$5001,MATCH(表格模板!A4849,建筑!$A$2:$A$5001,0),COLUMN(A4849))","v":{"$error":"#N/A"}},null,{"$f":"INDEX(设备类型!$B$2:$B$5001,MATCH(表格模板!C4849,设备类型!$A$2:$A$5001,0),COLUMN(A4849))","v":{"$error":"#N/A"}}]
[null,{"$f":"INDEX(建筑!$B$2:$B$5001,MATCH(表格模板!A4850,建筑!$A$2:$A$5001,0),COLUMN(A4850))","v":{"$error":"#N/A"}},null,{"$f":"INDEX(设备类型!$B$2:$B$5001,MATCH(表格模板!C4850,设备类型!$A$2:$A$5001,0),COLUMN(A4850))","v":{"$error":"#N/A"}}]
[null,{"$f":"INDEX(建筑!$B$2:$B$5001,MATCH(表格模板!A4851,建筑!$A$2:$A$5001,0),COLUMN(A4851))","v":{"$error":"#N/A"}},null,{"$f":"INDEX(设备类型!$B$2:$B$5001,MATCH(表格模板!C4851,设备类型!$A$2:$A$5001,0),COLUMN(A4851))","v":{"$error":"#N/A"}}]
[null,{"$f":"INDEX(建筑!$B$2:$B$5001,MATCH(表格模板!A4852,建筑!$A$2:$A$5001,0),COLUMN(A4852))","v":{"$error":"#N/A"}},null,{"$f":"INDEX(设备类型!$B$2:$B$5001,MATCH(表格模板!C4852,设备类型!$A$2:$A$5001,0),COLUMN(A4852))","v":{"$error":"#N/A"}}]
[null,{"$f":"INDEX(建筑!$B$2:$B$5001,MATCH(表格模板!A4853,建筑!$A$2:$A$5001,0),COLUMN(A4853))","v":{"$error":"#N/A"}},null,{"$f":"INDEX(设备类型!$B$2:$B$5001,MATCH(表格模板!C4853,设备类型!$A$2:$A$5001,0),COLUMN(A4853))","v":{"$error":"#N/A"}}]
[null,{"$f":"INDEX(建筑!$B$2:$B$5001,MATCH(表格模板!A4854,建筑!$A$2:$A$5001,0),COLUMN(A4854))","v":{"$error":"#N/A"}},null,{"$f":"INDEX(设备类型!$B$2:$B$5001,MATCH(表格模板!C4854,设备类型!$A$2:$A$5001,0),COLUMN(A4854))","v":{"$error":"#N/A"}}]
[null,{"$f":"INDEX(建筑!$B$2:$B$5001,MATCH(表格模板!A4855,建筑!$A$2:$A$5001,0),COLUMN(A4855))","v":{"$error":"#N/A"}},null,{"$f":"INDEX(设备类型!$B$2:$B$5001,MATCH(表格模板!C4855,设备类型!$A$2:$A$5001,0),COLUMN(A4855))","v":{"$error":"#N/A"}}]
[null,{"$f":"INDEX(建筑!$B$2:$B$5001,MATCH(表格模板!A4856,建筑!$A$2:$A$5001,0),COLUMN(A4856))","v":{"$error":"#N/A"}},null,{"$f":"INDEX(设备类型!$B$2:$B$5001,MATCH(表格模板!C4856,设备类型!$A$2:$A$5001,0),COLUMN(A4856))","v":{"$error":"#N/A"}}]
[null,{"$f":"INDEX(建筑!$B$2:$B$5001,MATCH(表格模板!A4857,建筑!$A$2:$A$5001,0),COLUMN(A4857))","v":{"$error":"#N/A"}},null,{"$f":"INDEX(设备类型!$B$2:$B$5001,MATCH(表格模板!C4857,设备类型!$A$2:$A$5001,0),COLUMN(A4857))","v":{"$error":"#N/A"}}]
[null,{"$f":"INDEX(建筑!$B$2:$B$5001,MATCH(表格模板!A4858,建筑!$A$2:$A$5001,0),COLUMN(A4858))","v":{"$error":"#N/A"}},null,{"$f":"INDEX(设备类型!$B$2:$B$5001,MATCH(表格模板!C4858,设备类型!$A$2:$A$5001,0),COLUMN(A4858))","v":{"$error":"#N/A"}}]
[null,{"$f":"INDEX(建筑!$B$2:$B$5001,MATCH(表格模板!A4859,建筑!$A$2:$A$5001,0),COLUMN(A4859))","v":{"$error":"#N/A"}},null,{"$f":"INDEX(设备类型!$B$2:$B$5001,MATCH(表格模板!C4859,设备类型!$A$2:$A$5001,0),COLUMN(A4859))","v":{"$error":"#N/A"}}]
[null,{"$f":"INDEX(建筑!$B$2:$B$5001,MATCH(表格模板!A4860,建筑!$A$2:$A$5001,0),COLUMN(A4860))","v":{"$error":"#N/A"}},null,{"$f":"INDEX(设备类型!$B$2:$B$5001,MATCH(表格模板!C4860,设备类型!$A$2:$A$5001,0),COLUMN(A4860))","v":{"$error":"#N/A"}}]
[null,{"$f":"INDEX(建筑!$B$2:$B$5001,MATCH(表格模板!A4861,建筑!$A$2:$A$5001,0),COLUMN(A4861))","v":{"$error":"#N/A"}},null,{"$f":"INDEX(设备类型!$B$2:$B$5001,MATCH(表格模板!C4861,设备类型!$A$2:$A$5001,0),COLUMN(A4861))","v":{"$error":"#N/A"}}]
[null,{"$f":"INDEX(建筑!$B$2:$B$5001,MATCH(表格模板!A4862,建筑!$A$2:$A$5001,0),COLUMN(A4862))","v":{"$error":"#N/A"}},null,{"$f":"INDEX(设备类型!$B$2:$B$5001,MATCH(表格模板!C4862,设备类型!$A$2:$A$5001,0),COLUMN(A4862))","v":{"$error":"#N/A"}}]
[null,{"$f":"INDEX(建筑!$B$2:$B$5001,MATCH(表格模板!A4863,建筑!$A$2:$A$5001,0),COLUMN(A4863))","v":{"$error":"#N/A"}},null,{"$f":"INDEX(设备类型!$B$2:$B$5001,MATCH(表格模板!C4863,设备类型!$A$2:$A$5001,0),COLUMN(A4863))","v":{"$error":"#N/A"}}]
[null,{"$f":"INDEX(建筑!$B$2:$B$5001,MATCH(表格模板!A4864,建筑!$A$2:$A$5001,0),COLUMN(A4864))","v":{"$error":"#N/A"}},null,{"$f":"INDEX(设备类型!$B$2:$B$5001,MATCH(表格模板!C4864,设备类型!$A$2:$A$5001,0),COLUMN(A4864))","v":{"$error":"#N/A"}}]
[null,{"$f":"INDEX(建筑!$B$2:$B$5001,MATCH(表格模板!A4865,建筑!$A$2:$A$5001,0),COLUMN(A4865))","v":{"$error":"#N/A"}},null,{"$f":"INDEX(设备类型!$B$2:$B$5001,MATCH(表格模板!C4865,设备类型!$A$2:$A$5001,0),COLUMN(A4865))","v":{"$error":"#N/A"}}]
[null,{"$f":"INDEX(建筑!$B$2:$B$5001,MATCH(表格模板!A4866,建筑!$A$2:$A$5001,0),COLUMN(A4866))","v":{"$error":"#N/A"}},null,{"$f":"INDEX(设备类型!$B$2:$B$5001,MATCH(表格模板!C4866,设备类型!$A$2:$A$5001,0),COLUMN(A4866))","v":{"$error":"#N/A"}}]
[null,{"$f":"INDEX(建筑!$B$2:$B$5001,MATCH(表格模板!A4867,建筑!$A$2:$A$5001,0),COLUMN(A4867))","v":{"$error":"#N/A"}},null,{"$f":"INDEX(设备类型!$B$2:$B$5001,MATCH(表格模板!C4867,设备类型!$A$2:$A$5001,0),COLUMN(A4867))","v":{"$error":"#N/A"}}]
[null,{"$f":"INDEX(建筑!$B$2:$B$5001,MATCH(表格模板!A4868,建筑!$A$2:$A$5001,0),COLUMN(A4868))","v":{"$error":"#N/A"}},null,{"$f":"INDEX(设备类型!$B$2:$B$5001,MATCH(表格模板!C4868,设备类型!$A$2:$A$5001,0),COLUMN(A4868))","v":{"$error":"#N/A"}}]
[null,{"$f":"INDEX(建筑!$B$2:$B$5001,MATCH(表格模板!A4869,建筑!$A$2:$A$5001,0),COLUMN(A4869))","v":{"$error":"#N/A"}},null,{"$f":"INDEX(设备类型!$B$2:$B$5001,MATCH(表格模板!C4869,设备类型!$A$2:$A$5001,0),COLUMN(A4869))","v":{"$error":"#N/A"}}]
[null,{"$f":"INDEX(建筑!$B$2:$B$5001,MATCH(表格模板!A4870,建筑!$A$2:$A$5001,0),COLUMN(A4870))","v":{"$error":"#N/A"}},null,{"$f":"INDEX(设备类型!$B$2:$B$5001,MATCH(表格模板!C4870,设备类型!$A$2:$A$5001,0),COLUMN(A4870))","v":{"$error":"#N/A"}}]
[null,{"$f":"INDEX(建筑!$B$2:$B$5001,MATCH(表格模板!A4871,建筑!$A$2:$A$5001,0),COLUMN(A4871))","v":{"$error":"#N/A"}},null,{"$f":"INDEX(设备类型!$B$2:$B$5001,MATCH(表格模板!C4871,设备类型!$A$2:$A$5001,0),COLUMN(A4871))","v":{"$error":"#N/A"}}]
[null,{"$f":"INDEX(建筑!$B$2:$B$5001,MATCH(表格模板!A4872,建筑!$A$2:$A$5001,0),COLUMN(A4872))","v":{"$error":"#N/A"}},null,{"$f":"INDEX(设备类型!$B$2:$B$5001,MATCH(表格模板!C4872,设备类型!$A$2:$A$5001,0),COLUMN(A4872))","v":{"$error":"#N/A"}}]
[null,{"$f":"INDEX(建筑!$B$2:$B$5001,MATCH(表格模板!A4873,建筑!$A$2:$A$5001,0),COLUMN(A4873))","v":{"$error":"#N/A"}},null,{"$f":"INDEX(设备类型!$B$2:$B$5001,MATCH(表格模板!C4873,设备类型!$A$2:$A$5001,0),COLUMN(A4873))","v":{"$error":"#N/A"}}]
[null,{"$f":"INDEX(建筑!$B$2:$B$5001,MATCH(表格模板!A4874,建筑!$A$2:$A$5001,0),COLUMN(A4874))","v":{"$error":"#N/A"}},null,{"$f":"INDEX(设备类型!$B$2:$B$5001,MATCH(表格模板!C4874,设备类型!$A$2:$A$5001,0),COLUMN(A4874))","v":{"$error":"#N/A"}}]
[null,{"$f":"INDEX(建筑!$B$2:$B$5001,MATCH(表格模板!A4875,建筑!$A$2:$A$5001,0),COLUMN(A4875))","v":{"$error":"#N/A"}},null,{"$f":"INDEX(设备类型!$B$2:$B$5001,MATCH(表格模板!C4875,设备类型!$A$2:$A$5001,0),COLUMN(A4875))","v":{"$error":"#N/A"}}]
[null,{"$f":"INDEX(建筑!$B$2:$B$5001,MATCH(表格模板!A4876,建筑!$A$2:$A$5001,0),COLUMN(A4876))","v":{"$error":"#N/A"}},null,{"$f":"INDEX(设备类型!$B$2:$B$5001,MATCH(表格模板!C4876,设备类型!$A$2:$A$5001,0),COLUMN(A4876))","v":{"$error":"#N/A"}}]
[null,{"$f":"INDEX(建筑!$B$2:$B$5001,MATCH(表格模板!A4877,建筑!$A$2:$A$5001,0),COLUMN(A4877))","v":{"$error":"#N/A"}},null,{"$f":"INDEX(设备类型!$B$2:$B$5001,MATCH(表格模板!C4877,设备类型!$A$2:$A$5001,0),COLUMN(A4877))","v":{"$error":"#N/A"}}]
[null,{"$f":"INDEX(建筑!$B$2:$B$5001,MATCH(表格模板!A4878,建筑!$A$2:$A$5001,0),COLUMN(A4878))","v":{"$error":"#N/A"}},null,{"$f":"INDEX(设备类型!$B$2:$B$5001,MATCH(表格模板!C4878,设备类型!$A$2:$A$5001,0),COLUMN(A4878))","v":{"$error":"#N/A"}}]
[null,{"$f":"INDEX(建筑!$B$2:$B$5001,MATCH(表格模板!A4879,建筑!$A$2:$A$5001,0),COLUMN(A4879))","v":{"$error":"#N/A"}},null,{"$f":"INDEX(设备类型!$B$2:$B$5001,MATCH(表格模板!C4879,设备类型!$A$2:$A$5001,0),COLUMN(A4879))","v":{"$error":"#N/A"}}]
[null,{"$f":"INDEX(建筑!$B$2:$B$5001,MATCH(表格模板!A4880,建筑!$A$2:$A$5001,0),COLUMN(A4880))","v":{"$error":"#N/A"}},null,{"$f":"INDEX(设备类型!$B$2:$B$5001,MATCH(表格模板!C4880,设备类型!$A$2:$A$5001,0),COLUMN(A4880))","v":{"$error":"#N/A"}}]
[null,{"$f":"INDEX(建筑!$B$2:$B$5001,MATCH(表格模板!A4881,建筑!$A$2:$A$5001,0),COLUMN(A4881))","v":{"$error":"#N/A"}},null,{"$f":"INDEX(设备类型!$B$2:$B$5001,MATCH(表格模板!C4881,设备类型!$A$2:$A$5001,0),COLUMN(A4881))","v":{"$error":"#N/A"}}]
[null,{"$f":"INDEX(建筑!$B$2:$B$5001,MATCH(表格模板!A4882,建筑!$A$2:$A$5001,0),COLUMN(A4882))","v":{"$error":"#N/A"}},null,{"$f":"INDEX(设备类型!$B$2:$B$5001,MATCH(表格模板!C4882,设备类型!$A$2:$A$5001,0),COLUMN(A4882))","v":{"$error":"#N/A"}}]
[null,{"$f":"INDEX(建筑!$B$2:$B$5001,MATCH(表格模板!A4883,建筑!$A$2:$A$5001,0),COLUMN(A4883))","v":{"$error":"#N/A"}},null,{"$f":"INDEX(设备类型!$B$2:$B$5001,MATCH(表格模板!C4883,设备类型!$A$2:$A$5001,0),COLUMN(A4883))","v":{"$error":"#N/A"}}]
[null,{"$f":"INDEX(建筑!$B$2:$B$5001,MATCH(表格模板!A4884,建筑!$A$2:$A$5001,0),COLUMN(A4884))","v":{"$error":"#N/A"}},null,{"$f":"INDEX(设备类型!$B$2:$B$5001,MATCH(表格模板!C4884,设备类型!$A$2:$A$5001,0),COLUMN(A4884))","v":{"$error":"#N/A"}}]
[null,{"$f":"INDEX(建筑!$B$2:$B$5001,MATCH(表格模板!A4885,建筑!$A$2:$A$5001,0),COLUMN(A4885))","v":{"$error":"#N/A"}},null,{"$f":"INDEX(设备类型!$B$2:$B$5001,MATCH(表格模板!C4885,设备类型!$A$2:$A$5001,0),COLUMN(A4885))","v":{"$error":"#N/A"}}]
[null,{"$f":"INDEX(建筑!$B$2:$B$5001,MATCH(表格模板!A4886,建筑!$A$2:$A$5001,0),COLUMN(A4886))","v":{"$error":"#N/A"}},null,{"$f":"INDEX(设备类型!$B$2:$B$5001,MATCH(表格模板!C4886,设备类型!$A$2:$A$5001,0),COLUMN(A4886))","v":{"$error":"#N/A"}}]
[null,{"$f":"INDEX(建筑!$B$2:$B$5001,MATCH(表格模板!A4887,建筑!$A$2:$A$5001,0),COLUMN(A4887))","v":{"$error":"#N/A"}},null,{"$f":"INDEX(设备类型!$B$2:$B$5001,MATCH(表格模板!C4887,设备类型!$A$2:$A$5001,0),COLUMN(A4887))","v":{"$error":"#N/A"}}]
[null,{"$f":"INDEX(建筑!$B$2:$B$5001,MATCH(表格模板!A4888,建筑!$A$2:$A$5001,0),COLUMN(A4888))","v":{"$error":"#N/A"}},null,{"$f":"INDEX(设备类型!$B$2:$B$5001,MATCH(表格模板!C4888,设备类型!$A$2:$A$5001,0),COLUMN(A4888))","v":{"$error":"#N/A"}}]
[null,{"$f":"INDEX(建筑!$B$2:$B$5001,MATCH(表格模板!A4889,建筑!$A$2:$A$5001,0),COLUMN(A4889))","v":{"$error":"#N/A"}},null,{"$f":"INDEX(设备类型!$B$2:$B$5001,MATCH(表格模板!C4889,设备类型!$A$2:$A$5001,0),COLUMN(A4889))","v":{"$error":"#N/A"}}]
[null,{"$f":"INDEX(建筑!$B$2:$B$5001,MATCH(表格模板!A4890,建筑!$A$2:$A$5001,0),COLUMN(A4890))","v":{"$error":"#N/A"}},null,{"$f":"INDEX(设备类型!$B$2:$B$5001,MATCH(表格模板!C4890,设备类型!$A$2:$A$5001,0),COLUMN(A4890))","v":{"$error":"#N/A"}}]
[null,{"$f":"INDEX(建筑!$B$2:$B$5001,MATCH(表格模板!A4891,建筑!$A$2:$A$5001,0),COLUMN(A4891))","v":{"$error":"#N/A"}},null,{"$f":"INDEX(设备类型!$B$2:$B$5001,MATCH(表格模板!C4891,设备类型!$A$2:$A$5001,0),COLUMN(A4891))","v":{"$error":"#N/A"}}]
[null,{"$f":"INDEX(建筑!$B$2:$B$5001,MATCH(表格模板!A4892,建筑!$A$2:$A$5001,0),COLUMN(A4892))","v":{"$error":"#N/A"}},null,{"$f":"INDEX(设备类型!$B$2:$B$5001,MATCH(表格模板!C4892,设备类型!$A$2:$A$5001,0),COLUMN(A4892))","v":{"$error":"#N/A"}}]
[null,{"$f":"INDEX(建筑!$B$2:$B$5001,MATCH(表格模板!A4893,建筑!$A$2:$A$5001,0),COLUMN(A4893))","v":{"$error":"#N/A"}},null,{"$f":"INDEX(设备类型!$B$2:$B$5001,MATCH(表格模板!C4893,设备类型!$A$2:$A$5001,0),COLUMN(A4893))","v":{"$error":"#N/A"}}]
[null,{"$f":"INDEX(建筑!$B$2:$B$5001,MATCH(表格模板!A4894,建筑!$A$2:$A$5001,0),COLUMN(A4894))","v":{"$error":"#N/A"}},null,{"$f":"INDEX(设备类型!$B$2:$B$5001,MATCH(表格模板!C4894,设备类型!$A$2:$A$5001,0),COLUMN(A4894))","v":{"$error":"#N/A"}}]
[null,{"$f":"INDEX(建筑!$B$2:$B$5001,MATCH(表格模板!A4895,建筑!$A$2:$A$5001,0),COLUMN(A4895))","v":{"$error":"#N/A"}},null,{"$f":"INDEX(设备类型!$B$2:$B$5001,MATCH(表格模板!C4895,设备类型!$A$2:$A$5001,0),COLUMN(A4895))","v":{"$error":"#N/A"}}]
[null,{"$f":"INDEX(建筑!$B$2:$B$5001,MATCH(表格模板!A4896,建筑!$A$2:$A$5001,0),COLUMN(A4896))","v":{"$error":"#N/A"}},null,{"$f":"INDEX(设备类型!$B$2:$B$5001,MATCH(表格模板!C4896,设备类型!$A$2:$A$5001,0),COLUMN(A4896))","v":{"$error":"#N/A"}}]
[null,{"$f":"INDEX(建筑!$B$2:$B$5001,MATCH(表格模板!A4897,建筑!$A$2:$A$5001,0),COLUMN(A4897))","v":{"$error":"#N/A"}},null,{"$f":"INDEX(设备类型!$B$2:$B$5001,MATCH(表格模板!C4897,设备类型!$A$2:$A$5001,0),COLUMN(A4897))","v":{"$error":"#N/A"}}]
[null,{"$f":"INDEX(建筑!$B$2:$B$5001,MATCH(表格模板!A4898,建筑!$A$2:$A$5001,0),COLUMN(A4898))","v":{"$error":"#N/A"}},null,{"$f":"INDEX(设备类型!$B$2:$B$5001,MATCH(表格模板!C4898,设备类型!$A$2:$A$5001,0),COLUMN(A4898))","v":{"$error":"#N/A"}}]
[null,{"$f":"INDEX(建筑!$B$2:$B$5001,MATCH(表格模板!A4899,建筑!$A$2:$A$5001,0),COLUMN(A4899))","v":{"$error":"#N/A"}},null,{"$f":"INDEX(设备类型!$B$2:$B$5001,MATCH(表格模板!C4899,设备类型!$A$2:$A$5001,0),COLUMN(A4899))","v":{"$error":"#N/A"}}]
[null,{"$f":"INDEX(建筑!$B$2:$B$5001,MATCH(表格模板!A4900,建筑!$A$2:$A$5001,0),COLUMN(A4900))","v":{"$error":"#N/A"}},null,{"$f":"INDEX(设备类型!$B$2:$B$5001,MATCH(表格模板!C4900,设备类型!$A$2:$A$5001,0),COLUMN(A4900))","v":{"$error":"#N/A"}}]
[null,{"$f":"INDEX(建筑!$B$2:$B$5001,MATCH(表格模板!A4901,建筑!$A$2:$A$5001,0),COLUMN(A4901))","v":{"$error":"#N/A"}},null,{"$f":"INDEX(设备类型!$B$2:$B$5001,MATCH(表格模板!C4901,设备类型!$A$2:$A$5001,0),COLUMN(A4901))","v":{"$error":"#N/A"}}]
[null,{"$f":"INDEX(建筑!$B$2:$B$5001,MATCH(表格模板!A4902,建筑!$A$2:$A$5001,0),COLUMN(A4902))","v":{"$error":"#N/A"}},null,{"$f":"INDEX(设备类型!$B$2:$B$5001,MATCH(表格模板!C4902,设备类型!$A$2:$A$5001,0),COLUMN(A4902))","v":{"$error":"#N/A"}}]
[null,{"$f":"INDEX(建筑!$B$2:$B$5001,MATCH(表格模板!A4903,建筑!$A$2:$A$5001,0),COLUMN(A4903))","v":{"$error":"#N/A"}},null,{"$f":"INDEX(设备类型!$B$2:$B$5001,MATCH(表格模板!C4903,设备类型!$A$2:$A$5001,0),COLUMN(A4903))","v":{"$error":"#N/A"}}]
[null,{"$f":"INDEX(建筑!$B$2:$B$5001,MATCH(表格模板!A4904,建筑!$A$2:$A$5001,0),COLUMN(A4904))","v":{"$error":"#N/A"}},null,{"$f":"INDEX(设备类型!$B$2:$B$5001,MATCH(表格模板!C4904,设备类型!$A$2:$A$5001,0),COLUMN(A4904))","v":{"$error":"#N/A"}}]
[null,{"$f":"INDEX(建筑!$B$2:$B$5001,MATCH(表格模板!A4905,建筑!$A$2:$A$5001,0),COLUMN(A4905))","v":{"$error":"#N/A"}},null,{"$f":"INDEX(设备类型!$B$2:$B$5001,MATCH(表格模板!C4905,设备类型!$A$2:$A$5001,0),COLUMN(A4905))","v":{"$error":"#N/A"}}]
[null,{"$f":"INDEX(建筑!$B$2:$B$5001,MATCH(表格模板!A4906,建筑!$A$2:$A$5001,0),COLUMN(A4906))","v":{"$error":"#N/A"}},null,{"$f":"INDEX(设备类型!$B$2:$B$5001,MATCH(表格模板!C4906,设备类型!$A$2:$A$5001,0),COLUMN(A4906))","v":{"$error":"#N/A"}}]
[null,{"$f":"INDEX(建筑!$B$2:$B$5001,MATCH(表格模板!A4907,建筑!$A$2:$A$5001,0),COLUMN(A4907))","v":{"$error":"#N/A"}},null,{"$f":"INDEX(设备类型!$B$2:$B$5001,MATCH(表格模板!C4907,设备类型!$A$2:$A$5001,0),COLUMN(A4907))","v":{"$error":"#N/A"}}]
[null,{"$f":"INDEX(建筑!$B$2:$B$5001,MATCH(表格模板!A4908,建筑!$A$2:$A$5001,0),COLUMN(A4908))","v":{"$error":"#N/A"}},null,{"$f":"INDEX(设备类型!$B$2:$B$5001,MATCH(表格模板!C4908,设备类型!$A$2:$A$5001,0),COLUMN(A4908))","v":{"$error":"#N/A"}}]
[null,{"$f":"INDEX(建筑!$B$2:$B$5001,MATCH(表格模板!A4909,建筑!$A$2:$A$5001,0),COLUMN(A4909))","v":{"$error":"#N/A"}},null,{"$f":"INDEX(设备类型!$B$2:$B$5001,MATCH(表格模板!C4909,设备类型!$A$2:$A$5001,0),COLUMN(A4909))","v":{"$error":"#N/A"}}]
[null,{"$f":"INDEX(建筑!$B$2:$B$5001,MATCH(表格模板!A4910,建筑!$A$2:$A$5001,0),COLUMN(A4910))","v":{"$error":"#N/A"}},null,{"$f":"INDEX(设备类型!$B$2:$B$5001,MATCH(表格模板!C4910,设备类型!$A$2:$A$5001,0),COLUMN(A4910))","v":{"$error":"#N/A"}}]
[null,{"$f":"INDEX(建筑!$B$2:$B$5001,MATCH(表格模板!A4911,建筑!$A$2:$A$5001,0),COLUMN(A4911))","v":{"$error":"#N/A"}},null,{"$f":"INDEX(设备类型!$B$2:$B$5001,MATCH(表格模板!C4911,设备类型!$A$2:$A$5001,0),COLUMN(A4911))","v":{"$error":"#N/A"}}]
[null,{"$f":"INDEX(建筑!$B$2:$B$5001,MATCH(表格模板!A4912,建筑!$A$2:$A$5001,0),COLUMN(A4912))","v":{"$error":"#N/A"}},null,{"$f":"INDEX(设备类型!$B$2:$B$5001,MATCH(表格模板!C4912,设备类型!$A$2:$A$5001,0),COLUMN(A4912))","v":{"$error":"#N/A"}}]
[null,{"$f":"INDEX(建筑!$B$2:$B$5001,MATCH(表格模板!A4913,建筑!$A$2:$A$5001,0),COLUMN(A4913))","v":{"$error":"#N/A"}},null,{"$f":"INDEX(设备类型!$B$2:$B$5001,MATCH(表格模板!C4913,设备类型!$A$2:$A$5001,0),COLUMN(A4913))","v":{"$error":"#N/A"}}]
[null,{"$f":"INDEX(建筑!$B$2:$B$5001,MATCH(表格模板!A4914,建筑!$A$2:$A$5001,0),COLUMN(A4914))","v":{"$error":"#N/A"}},null,{"$f":"INDEX(设备类型!$B$2:$B$5001,MATCH(表格模板!C4914,设备类型!$A$2:$A$5001,0),COLUMN(A4914))","v":{"$error":"#N/A"}}]
[null,{"$f":"INDEX(建筑!$B$2:$B$5001,MATCH(表格模板!A4915,建筑!$A$2:$A$5001,0),COLUMN(A4915))","v":{"$error":"#N/A"}},null,{"$f":"INDEX(设备类型!$B$2:$B$5001,MATCH(表格模板!C4915,设备类型!$A$2:$A$5001,0),COLUMN(A4915))","v":{"$error":"#N/A"}}]
[null,{"$f":"INDEX(建筑!$B$2:$B$5001,MATCH(表格模板!A4916,建筑!$A$2:$A$5001,0),COLUMN(A4916))","v":{"$error":"#N/A"}},null,{"$f":"INDEX(设备类型!$B$2:$B$5001,MATCH(表格模板!C4916,设备类型!$A$2:$A$5001,0),COLUMN(A4916))","v":{"$error":"#N/A"}}]
[null,{"$f":"INDEX(建筑!$B$2:$B$5001,MATCH(表格模板!A4917,建筑!$A$2:$A$5001,0),COLUMN(A4917))","v":{"$error":"#N/A"}},null,{"$f":"INDEX(设备类型!$B$2:$B$5001,MATCH(表格模板!C4917,设备类型!$A$2:$A$5001,0),COLUMN(A4917))","v":{"$error":"#N/A"}}]
[null,{"$f":"INDEX(建筑!$B$2:$B$5001,MATCH(表格模板!A4918,建筑!$A$2:$A$5001,0),COLUMN(A4918))","v":{"$error":"#N/A"}},null,{"$f":"INDEX(设备类型!$B$2:$B$5001,MATCH(表格模板!C4918,设备类型!$A$2:$A$5001,0),COLUMN(A4918))","v":{"$error":"#N/A"}}]
[null,{"$f":"INDEX(建筑!$B$2:$B$5001,MATCH(表格模板!A4919,建筑!$A$2:$A$5001,0),COLUMN(A4919))","v":{"$error":"#N/A"}},null,{"$f":"INDEX(设备类型!$B$2:$B$5001,MATCH(表格模板!C4919,设备类型!$A$2:$A$5001,0),COLUMN(A4919))","v":{"$error":"#N/A"}}]
[null,{"$f":"INDEX(建筑!$B$2:$B$5001,MATCH(表格模板!A4920,建筑!$A$2:$A$5001,0),COLUMN(A4920))","v":{"$error":"#N/A"}},null,{"$f":"INDEX(设备类型!$B$2:$B$5001,MATCH(表格模板!C4920,设备类型!$A$2:$A$5001,0),COLUMN(A4920))","v":{"$error":"#N/A"}}]
[null,{"$f":"INDEX(建筑!$B$2:$B$5001,MATCH(表格模板!A4921,建筑!$A$2:$A$5001,0),COLUMN(A4921))","v":{"$error":"#N/A"}},null,{"$f":"INDEX(设备类型!$B$2:$B$5001,MATCH(表格模板!C4921,设备类型!$A$2:$A$5001,0),COLUMN(A4921))","v":{"$error":"#N/A"}}]
[null,{"$f":"INDEX(建筑!$B$2:$B$5001,MATCH(表格模板!A4922,建筑!$A$2:$A$5001,0),COLUMN(A4922))","v":{"$error":"#N/A"}},null,{"$f":"INDEX(设备类型!$B$2:$B$5001,MATCH(表格模板!C4922,设备类型!$A$2:$A$5001,0),COLUMN(A4922))","v":{"$error":"#N/A"}}]
[null,{"$f":"INDEX(建筑!$B$2:$B$5001,MATCH(表格模板!A4923,建筑!$A$2:$A$5001,0),COLUMN(A4923))","v":{"$error":"#N/A"}},null,{"$f":"INDEX(设备类型!$B$2:$B$5001,MATCH(表格模板!C4923,设备类型!$A$2:$A$5001,0),COLUMN(A4923))","v":{"$error":"#N/A"}}]
[null,{"$f":"INDEX(建筑!$B$2:$B$5001,MATCH(表格模板!A4924,建筑!$A$2:$A$5001,0),COLUMN(A4924))","v":{"$error":"#N/A"}},null,{"$f":"INDEX(设备类型!$B$2:$B$5001,MATCH(表格模板!C4924,设备类型!$A$2:$A$5001,0),COLUMN(A4924))","v":{"$error":"#N/A"}}]
[null,{"$f":"INDEX(建筑!$B$2:$B$5001,MATCH(表格模板!A4925,建筑!$A$2:$A$5001,0),COLUMN(A4925))","v":{"$error":"#N/A"}},null,{"$f":"INDEX(设备类型!$B$2:$B$5001,MATCH(表格模板!C4925,设备类型!$A$2:$A$5001,0),COLUMN(A4925))","v":{"$error":"#N/A"}}]
[null,{"$f":"INDEX(建筑!$B$2:$B$5001,MATCH(表格模板!A4926,建筑!$A$2:$A$5001,0),COLUMN(A4926))","v":{"$error":"#N/A"}},null,{"$f":"INDEX(设备类型!$B$2:$B$5001,MATCH(表格模板!C4926,设备类型!$A$2:$A$5001,0),COLUMN(A4926))","v":{"$error":"#N/A"}}]
[null,{"$f":"INDEX(建筑!$B$2:$B$5001,MATCH(表格模板!A4927,建筑!$A$2:$A$5001,0),COLUMN(A4927))","v":{"$error":"#N/A"}},null,{"$f":"INDEX(设备类型!$B$2:$B$5001,MATCH(表格模板!C4927,设备类型!$A$2:$A$5001,0),COLUMN(A4927))","v":{"$error":"#N/A"}}]
[null,{"$f":"INDEX(建筑!$B$2:$B$5001,MATCH(表格模板!A4928,建筑!$A$2:$A$5001,0),COLUMN(A4928))","v":{"$error":"#N/A"}},null,{"$f":"INDEX(设备类型!$B$2:$B$5001,MATCH(表格模板!C4928,设备类型!$A$2:$A$5001,0),COLUMN(A4928))","v":{"$error":"#N/A"}}]
[null,{"$f":"INDEX(建筑!$B$2:$B$5001,MATCH(表格模板!A4929,建筑!$A$2:$A$5001,0),COLUMN(A4929))","v":{"$error":"#N/A"}},null,{"$f":"INDEX(设备类型!$B$2:$B$5001,MATCH(表格模板!C4929,设备类型!$A$2:$A$5001,0),COLUMN(A4929))","v":{"$error":"#N/A"}}]
[null,{"$f":"INDEX(建筑!$B$2:$B$5001,MATCH(表格模板!A4930,建筑!$A$2:$A$5001,0),COLUMN(A4930))","v":{"$error":"#N/A"}},null,{"$f":"INDEX(设备类型!$B$2:$B$5001,MATCH(表格模板!C4930,设备类型!$A$2:$A$5001,0),COLUMN(A4930))","v":{"$error":"#N/A"}}]
[null,{"$f":"INDEX(建筑!$B$2:$B$5001,MATCH(表格模板!A4931,建筑!$A$2:$A$5001,0),COLUMN(A4931))","v":{"$error":"#N/A"}},null,{"$f":"INDEX(设备类型!$B$2:$B$5001,MATCH(表格模板!C4931,设备类型!$A$2:$A$5001,0),COLUMN(A4931))","v":{"$error":"#N/A"}}]
[null,{"$f":"INDEX(建筑!$B$2:$B$5001,MATCH(表格模板!A4932,建筑!$A$2:$A$5001,0),COLUMN(A4932))","v":{"$error":"#N/A"}},null,{"$f":"INDEX(设备类型!$B$2:$B$5001,MATCH(表格模板!C4932,设备类型!$A$2:$A$5001,0),COLUMN(A4932))","v":{"$error":"#N/A"}}]
[null,{"$f":"INDEX(建筑!$B$2:$B$5001,MATCH(表格模板!A4933,建筑!$A$2:$A$5001,0),COLUMN(A4933))","v":{"$error":"#N/A"}},null,{"$f":"INDEX(设备类型!$B$2:$B$5001,MATCH(表格模板!C4933,设备类型!$A$2:$A$5001,0),COLUMN(A4933))","v":{"$error":"#N/A"}}]
[null,{"$f":"INDEX(建筑!$B$2:$B$5001,MATCH(表格模板!A4934,建筑!$A$2:$A$5001,0),COLUMN(A4934))","v":{"$error":"#N/A"}},null,{"$f":"INDEX(设备类型!$B$2:$B$5001,MATCH(表格模板!C4934,设备类型!$A$2:$A$5001,0),COLUMN(A4934))","v":{"$error":"#N/A"}}]
[null,{"$f":"INDEX(建筑!$B$2:$B$5001,MATCH(表格模板!A4935,建筑!$A$2:$A$5001,0),COLUMN(A4935))","v":{"$error":"#N/A"}},null,{"$f":"INDEX(设备类型!$B$2:$B$5001,MATCH(表格模板!C4935,设备类型!$A$2:$A$5001,0),COLUMN(A4935))","v":{"$error":"#N/A"}}]
[null,{"$f":"INDEX(建筑!$B$2:$B$5001,MATCH(表格模板!A4936,建筑!$A$2:$A$5001,0),COLUMN(A4936))","v":{"$error":"#N/A"}},null,{"$f":"INDEX(设备类型!$B$2:$B$5001,MATCH(表格模板!C4936,设备类型!$A$2:$A$5001,0),COLUMN(A4936))","v":{"$error":"#N/A"}}]
[null,{"$f":"INDEX(建筑!$B$2:$B$5001,MATCH(表格模板!A4937,建筑!$A$2:$A$5001,0),COLUMN(A4937))","v":{"$error":"#N/A"}},null,{"$f":"INDEX(设备类型!$B$2:$B$5001,MATCH(表格模板!C4937,设备类型!$A$2:$A$5001,0),COLUMN(A4937))","v":{"$error":"#N/A"}}]
[null,{"$f":"INDEX(建筑!$B$2:$B$5001,MATCH(表格模板!A4938,建筑!$A$2:$A$5001,0),COLUMN(A4938))","v":{"$error":"#N/A"}},null,{"$f":"INDEX(设备类型!$B$2:$B$5001,MATCH(表格模板!C4938,设备类型!$A$2:$A$5001,0),COLUMN(A4938))","v":{"$error":"#N/A"}}]
[null,{"$f":"INDEX(建筑!$B$2:$B$5001,MATCH(表格模板!A4939,建筑!$A$2:$A$5001,0),COLUMN(A4939))","v":{"$error":"#N/A"}},null,{"$f":"INDEX(设备类型!$B$2:$B$5001,MATCH(表格模板!C4939,设备类型!$A$2:$A$5001,0),COLUMN(A4939))","v":{"$error":"#N/A"}}]
[null,{"$f":"INDEX(建筑!$B$2:$B$5001,MATCH(表格模板!A4940,建筑!$A$2:$A$5001,0),COLUMN(A4940))","v":{"$error":"#N/A"}},null,{"$f":"INDEX(设备类型!$B$2:$B$5001,MATCH(表格模板!C4940,设备类型!$A$2:$A$5001,0),COLUMN(A4940))","v":{"$error":"#N/A"}}]
[null,{"$f":"INDEX(建筑!$B$2:$B$5001,MATCH(表格模板!A4941,建筑!$A$2:$A$5001,0),COLUMN(A4941))","v":{"$error":"#N/A"}},null,{"$f":"INDEX(设备类型!$B$2:$B$5001,MATCH(表格模板!C4941,设备类型!$A$2:$A$5001,0),COLUMN(A4941))","v":{"$error":"#N/A"}}]
[null,{"$f":"INDEX(建筑!$B$2:$B$5001,MATCH(表格模板!A4942,建筑!$A$2:$A$5001,0),COLUMN(A4942))","v":{"$error":"#N/A"}},null,{"$f":"INDEX(设备类型!$B$2:$B$5001,MATCH(表格模板!C4942,设备类型!$A$2:$A$5001,0),COLUMN(A4942))","v":{"$error":"#N/A"}}]
[null,{"$f":"INDEX(建筑!$B$2:$B$5001,MATCH(表格模板!A4943,建筑!$A$2:$A$5001,0),COLUMN(A4943))","v":{"$error":"#N/A"}},null,{"$f":"INDEX(设备类型!$B$2:$B$5001,MATCH(表格模板!C4943,设备类型!$A$2:$A$5001,0),COLUMN(A4943))","v":{"$error":"#N/A"}}]
[null,{"$f":"INDEX(建筑!$B$2:$B$5001,MATCH(表格模板!A4944,建筑!$A$2:$A$5001,0),COLUMN(A4944))","v":{"$error":"#N/A"}},null,{"$f":"INDEX(设备类型!$B$2:$B$5001,MATCH(表格模板!C4944,设备类型!$A$2:$A$5001,0),COLUMN(A4944))","v":{"$error":"#N/A"}}]
[null,{"$f":"INDEX(建筑!$B$2:$B$5001,MATCH(表格模板!A4945,建筑!$A$2:$A$5001,0),COLUMN(A4945))","v":{"$error":"#N/A"}},null,{"$f":"INDEX(设备类型!$B$2:$B$5001,MATCH(表格模板!C4945,设备类型!$A$2:$A$5001,0),COLUMN(A4945))","v":{"$error":"#N/A"}}]
[null,{"$f":"INDEX(建筑!$B$2:$B$5001,MATCH(表格模板!A4946,建筑!$A$2:$A$5001,0),COLUMN(A4946))","v":{"$error":"#N/A"}},null,{"$f":"INDEX(设备类型!$B$2:$B$5001,MATCH(表格模板!C4946,设备类型!$A$2:$A$5001,0),COLUMN(A4946))","v":{"$error":"#N/A"}}]
[null,{"$f":"INDEX(建筑!$B$2:$B$5001,MATCH(表格模板!A4947,建筑!$A$2:$A$5001,0),COLUMN(A4947))","v":{"$error":"#N/A"}},null,{"$f":"INDEX(设备类型!$B$2:$B$5001,MATCH(表格模板!C4947,设备类型!$A$2:$A$5001,0),COLUMN(A4947))","v":{"$error":"#N/A"}}]
[null,{"$f":"INDEX(建筑!$B$2:$B$5001,MATCH(表格模板!A4948,建筑!$A$2:$A$5001,0),COLUMN(A4948))","v":{"$error":"#N/A"}},null,{"$f":"INDEX(设备类型!$B$2:$B$5001,MATCH(表格模板!C4948,设备类型!$A$2:$A$5001,0),COLUMN(A4948))","v":{"$error":"#N/A"}}]
[null,{"$f":"INDEX(建筑!$B$2:$B$5001,MATCH(表格模板!A4949,建筑!$A$2:$A$5001,0),COLUMN(A4949))","v":{"$error":"#N/A"}},null,{"$f":"INDEX(设备类型!$B$2:$B$5001,MATCH(表格模板!C4949,设备类型!$A$2:$A$5001,0),COLUMN(A4949))","v":{"$error":"#N/A"}}]
[null,{"$f":"INDEX(建筑!$B$2:$B$5001,MATCH(表格模板!A4950,建筑!$A$2:$A$5001,0),COLUMN(A4950))","v":{"$error":"#N/A"}},null,{"$f":"INDEX(设备类型!$B$2:$B$5001,MATCH(表格模板!C4950,设备类型!$A$2:$A$5001,0),COLUMN(A4950))","v":{"$error":"#N/A"}}]
[null,{"$f":"INDEX(建筑!$B$2:$B$5001,MATCH(表格模板!A4951,建筑!$A$2:$A$5001,0),COLUMN(A4951))","v":{"$error":"#N/A"}},null,{"$f":"INDEX(设备类型!$B$2:$B$5001,MATCH(表格模板!C4951,设备类型!$A$2:$A$5001,0),COLUMN(A4951))","v":{"$error":"#N/A"}}]
[null,{"$f":"INDEX(建筑!$B$2:$B$5001,MATCH(表格模板!A4952,建筑!$A$2:$A$5001,0),COLUMN(A4952))","v":{"$error":"#N/A"}},null,{"$f":"INDEX(设备类型!$B$2:$B$5001,MATCH(表格模板!C4952,设备类型!$A$2:$A$5001,0),COLUMN(A4952))","v":{"$error":"#N/A"}}]
[null,{"$f":"INDEX(建筑!$B$2:$B$5001,MATCH(表格模板!A4953,建筑!$A$2:$A$5001,0),COLUMN(A4953))","v":{"$error":"#N/A"}},null,{"$f":"INDEX(设备类型!$B$2:$B$5001,MATCH(表格模板!C4953,设备类型!$A$2:$A$5001,0),COLUMN(A4953))","v":{"$error":"#N/A"}}]
[null,{"$f":"INDEX(建筑!$B$2:$B$5001,MATCH(表格模板!A4954,建筑!$A$2:$A$5001,0),COLUMN(A4954))","v":{"$error":"#N/A"}},null,{"$f":"INDEX(设备类型!$B$2:$B$5001,MATCH(表格模板!C4954,设备类型!$A$2:$A$5001,0),COLUMN(A4954))","v":{"$error":"#N/A"}}]
[null,{"$f":"INDEX(建筑!$B$2:$B$5001,MATCH(表格模板!A4955,建筑!$A$2:$A$5001,0),COLUMN(A4955))","v":{"$error":"#N/A"}},null,{"$f":"INDEX(设备类型!$B$2:$B$5001,MATCH(表格模板!C4955,设备类型!$A$2:$A$5001,0),COLUMN(A4955))","v":{"$error":"#N/A"}}]
[null,{"$f":"INDEX(建筑!$B$2:$B$5001,MATCH(表格模板!A4956,建筑!$A$2:$A$5001,0),COLUMN(A4956))","v":{"$error":"#N/A"}},null,{"$f":"INDEX(设备类型!$B$2:$B$5001,MATCH(表格模板!C4956,设备类型!$A$2:$A$5001,0),COLUMN(A4956))","v":{"$error":"#N/A"}}]
[null,{"$f":"INDEX(建筑!$B$2:$B$5001,MATCH(表格模板!A4957,建筑!$A$2:$A$5001,0),COLUMN(A4957))","v":{"$error":"#N/A"}},null,{"$f":"INDEX(设备类型!$B$2:$B$5001,MATCH(表格模板!C4957,设备类型!$A$2:$A$5001,0),COLUMN(A4957))","v":{"$error":"#N/A"}}]
[null,{"$f":"INDEX(建筑!$B$2:$B$5001,MATCH(表格模板!A4958,建筑!$A$2:$A$5001,0),COLUMN(A4958))","v":{"$error":"#N/A"}},null,{"$f":"INDEX(设备类型!$B$2:$B$5001,MATCH(表格模板!C4958,设备类型!$A$2:$A$5001,0),COLUMN(A4958))","v":{"$error":"#N/A"}}]
[null,{"$f":"INDEX(建筑!$B$2:$B$5001,MATCH(表格模板!A4959,建筑!$A$2:$A$5001,0),COLUMN(A4959))","v":{"$error":"#N/A"}},null,{"$f":"INDEX(设备类型!$B$2:$B$5001,MATCH(表格模板!C4959,设备类型!$A$2:$A$5001,0),COLUMN(A4959))","v":{"$error":"#N/A"}}]
[null,{"$f":"INDEX(建筑!$B$2:$B$5001,MATCH(表格模板!A4960,建筑!$A$2:$A$5001,0),COLUMN(A4960))","v":{"$error":"#N/A"}},null,{"$f":"INDEX(设备类型!$B$2:$B$5001,MATCH(表格模板!C4960,设备类型!$A$2:$A$5001,0),COLUMN(A4960))","v":{"$error":"#N/A"}}]
[null,{"$f":"INDEX(建筑!$B$2:$B$5001,MATCH(表格模板!A4961,建筑!$A$2:$A$5001,0),COLUMN(A4961))","v":{"$error":"#N/A"}},null,{"$f":"INDEX(设备类型!$B$2:$B$5001,MATCH(表格模板!C4961,设备类型!$A$2:$A$5001,0),COLUMN(A4961))","v":{"$error":"#N/A"}}]
[null,{"$f":"INDEX(建筑!$B$2:$B$5001,MATCH(表格模板!A4962,建筑!$A$2:$A$5001,0),COLUMN(A4962))","v":{"$error":"#N/A"}},null,{"$f":"INDEX(设备类型!$B$2:$B$5001,MATCH(表格模板!C4962,设备类型!$A$2:$A$5001,0),COLUMN(A4962))","v":{"$error":"#N/A"}}]
[null,{"$f":"INDEX(建筑!$B$2:$B$5001,MATCH(表格模板!A4963,建筑!$A$2:$A$5001,0),COLUMN(A4963))","v":{"$error":"#N/A"}},null,{"$f":"INDEX(设备类型!$B$2:$B$5001,MATCH(表格模板!C4963,设备类型!$A$2:$A$5001,0),COLUMN(A4963))","v":{"$error":"#N/A"}}]
[null,{"$f":"INDEX(建筑!$B$2:$B$5001,MATCH(表格模板!A4964,建筑!$A$2:$A$5001,0),COLUMN(A4964))","v":{"$error":"#N/A"}},null,{"$f":"INDEX(设备类型!$B$2:$B$5001,MATCH(表格模板!C4964,设备类型!$A$2:$A$5001,0),COLUMN(A4964))","v":{"$error":"#N/A"}}]
[null,{"$f":"INDEX(建筑!$B$2:$B$5001,MATCH(表格模板!A4965,建筑!$A$2:$A$5001,0),COLUMN(A4965))","v":{"$error":"#N/A"}},null,{"$f":"INDEX(设备类型!$B$2:$B$5001,MATCH(表格模板!C4965,设备类型!$A$2:$A$5001,0),COLUMN(A4965))","v":{"$error":"#N/A"}}]
[null,{"$f":"INDEX(建筑!$B$2:$B$5001,MATCH(表格模板!A4966,建筑!$A$2:$A$5001,0),COLUMN(A4966))","v":{"$error":"#N/A"}},null,{"$f":"INDEX(设备类型!$B$2:$B$5001,MATCH(表格模板!C4966,设备类型!$A$2:$A$5001,0),COLUMN(A4966))","v":{"$error":"#N/A"}}]
[null,{"$f":"INDEX(建筑!$B$2:$B$5001,MATCH(表格模板!A4967,建筑!$A$2:$A$5001,0),COLUMN(A4967))","v":{"$error":"#N/A"}},null,{"$f":"INDEX(设备类型!$B$2:$B$5001,MATCH(表格模板!C4967,设备类型!$A$2:$A$5001,0),COLUMN(A4967))","v":{"$error":"#N/A"}}]
[null,{"$f":"INDEX(建筑!$B$2:$B$5001,MATCH(表格模板!A4968,建筑!$A$2:$A$5001,0),COLUMN(A4968))","v":{"$error":"#N/A"}},null,{"$f":"INDEX(设备类型!$B$2:$B$5001,MATCH(表格模板!C4968,设备类型!$A$2:$A$5001,0),COLUMN(A4968))","v":{"$error":"#N/A"}}]
[null,{"$f":"INDEX(建筑!$B$2:$B$5001,MATCH(表格模板!A4969,建筑!$A$2:$A$5001,0),COLUMN(A4969))","v":{"$error":"#N/A"}},null,{"$f":"INDEX(设备类型!$B$2:$B$5001,MATCH(表格模板!C4969,设备类型!$A$2:$A$5001,0),COLUMN(A4969))","v":{"$error":"#N/A"}}]
[null,{"$f":"INDEX(建筑!$B$2:$B$5001,MATCH(表格模板!A4970,建筑!$A$2:$A$5001,0),COLUMN(A4970))","v":{"$error":"#N/A"}},null,{"$f":"INDEX(设备类型!$B$2:$B$5001,MATCH(表格模板!C4970,设备类型!$A$2:$A$5001,0),COLUMN(A4970))","v":{"$error":"#N/A"}}]
[null,{"$f":"INDEX(建筑!$B$2:$B$5001,MATCH(表格模板!A4971,建筑!$A$2:$A$5001,0),COLUMN(A4971))","v":{"$error":"#N/A"}},null,{"$f":"INDEX(设备类型!$B$2:$B$5001,MATCH(表格模板!C4971,设备类型!$A$2:$A$5001,0),COLUMN(A4971))","v":{"$error":"#N/A"}}]
[null,{"$f":"INDEX(建筑!$B$2:$B$5001,MATCH(表格模板!A4972,建筑!$A$2:$A$5001,0),COLUMN(A4972))","v":{"$error":"#N/A"}},null,{"$f":"INDEX(设备类型!$B$2:$B$5001,MATCH(表格模板!C4972,设备类型!$A$2:$A$5001,0),COLUMN(A4972))","v":{"$error":"#N/A"}}]
[null,{"$f":"INDEX(建筑!$B$2:$B$5001,MATCH(表格模板!A4973,建筑!$A$2:$A$5001,0),COLUMN(A4973))","v":{"$error":"#N/A"}},null,{"$f":"INDEX(设备类型!$B$2:$B$5001,MATCH(表格模板!C4973,设备类型!$A$2:$A$5001,0),COLUMN(A4973))","v":{"$error":"#N/A"}}]
[null,{"$f":"INDEX(建筑!$B$2:$B$5001,MATCH(表格模板!A4974,建筑!$A$2:$A$5001,0),COLUMN(A4974))","v":{"$error":"#N/A"}},null,{"$f":"INDEX(设备类型!$B$2:$B$5001,MATCH(表格模板!C4974,设备类型!$A$2:$A$5001,0),COLUMN(A4974))","v":{"$error":"#N/A"}}]
[null,{"$f":"INDEX(建筑!$B$2:$B$5001,MATCH(表格模板!A4975,建筑!$A$2:$A$5001,0),COLUMN(A4975))","v":{"$error":"#N/A"}},null,{"$f":"INDEX(设备类型!$B$2:$B$5001,MATCH(表格模板!C4975,设备类型!$A$2:$A$5001,0),COLUMN(A4975))","v":{"$error":"#N/A"}}]
[null,{"$f":"INDEX(建筑!$B$2:$B$5001,MATCH(表格模板!A4976,建筑!$A$2:$A$5001,0),COLUMN(A4976))","v":{"$error":"#N/A"}},null,{"$f":"INDEX(设备类型!$B$2:$B$5001,MATCH(表格模板!C4976,设备类型!$A$2:$A$5001,0),COLUMN(A4976))","v":{"$error":"#N/A"}}]
[null,{"$f":"INDEX(建筑!$B$2:$B$5001,MATCH(表格模板!A4977,建筑!$A$2:$A$5001,0),COLUMN(A4977))","v":{"$error":"#N/A"}},null,{"$f":"INDEX(设备类型!$B$2:$B$5001,MATCH(表格模板!C4977,设备类型!$A$2:$A$5001,0),COLUMN(A4977))","v":{"$error":"#N/A"}}]
[null,{"$f":"INDEX(建筑!$B$2:$B$5001,MATCH(表格模板!A4978,建筑!$A$2:$A$5001,0),COLUMN(A4978))","v":{"$error":"#N/A"}},null,{"$f":"INDEX(设备类型!$B$2:$B$5001,MATCH(表格模板!C4978,设备类型!$A$2:$A$5001,0),COLUMN(A4978))","v":{"$error":"#N/A"}}]
[null,{"$f":"INDEX(建筑!$B$2:$B$5001,MATCH(表格模板!A4979,建筑!$A$2:$A$5001,0),COLUMN(A4979))","v":{"$error":"#N/A"}},null,{"$f":"INDEX(设备类型!$B$2:$B$5001,MATCH(表格模板!C4979,设备类型!$A$2:$A$5001,0),COLUMN(A4979))","v":{"$error":"#N/A"}}]
[null,{"$f":"INDEX(建筑!$B$2:$B$5001,MATCH(表格模板!A4980,建筑!$A$2:$A$5001,0),COLUMN(A4980))","v":{"$error":"#N/A"}},null,{"$f":"INDEX(设备类型!$B$2:$B$5001,MATCH(表格模板!C4980,设备类型!$A$2:$A$5001,0),COLUMN(A4980))","v":{"$error":"#N/A"}}]
[null,{"$f":"INDEX(建筑!$B$2:$B$5001,MATCH(表格模板!A4981,建筑!$A$2:$A$5001,0),COLUMN(A4981))","v":{"$error":"#N/A"}},null,{"$f":"INDEX(设备类型!$B$2:$B$5001,MATCH(表格模板!C4981,设备类型!$A$2:$A$5001,0),COLUMN(A4981))","v":{"$error":"#N/A"}}]
[null,{"$f":"INDEX(建筑!$B$2:$B$5001,MATCH(表格模板!A4982,建筑!$A$2:$A$5001,0),COLUMN(A4982))","v":{"$error":"#N/A"}},null,{"$f":"INDEX(设备类型!$B$2:$B$5001,MATCH(表格模板!C4982,设备类型!$A$2:$A$5001,0),COLUMN(A4982))","v":{"$error":"#N/A"}}]
[null,{"$f":"INDEX(建筑!$B$2:$B$5001,MATCH(表格模板!A4983,建筑!$A$2:$A$5001,0),COLUMN(A4983))","v":{"$error":"#N/A"}},null,{"$f":"INDEX(设备类型!$B$2:$B$5001,MATCH(表格模板!C4983,设备类型!$A$2:$A$5001,0),COLUMN(A4983))","v":{"$error":"#N/A"}}]
[null,{"$f":"INDEX(建筑!$B$2:$B$5001,MATCH(表格模板!A4984,建筑!$A$2:$A$5001,0),COLUMN(A4984))","v":{"$error":"#N/A"}},null,{"$f":"INDEX(设备类型!$B$2:$B$5001,MATCH(表格模板!C4984,设备类型!$A$2:$A$5001,0),COLUMN(A4984))","v":{"$error":"#N/A"}}]
[null,{"$f":"INDEX(建筑!$B$2:$B$5001,MATCH(表格模板!A4985,建筑!$A$2:$A$5001,0),COLUMN(A4985))","v":{"$error":"#N/A"}},null,{"$f":"INDEX(设备类型!$B$2:$B$5001,MATCH(表格模板!C4985,设备类型!$A$2:$A$5001,0),COLUMN(A4985))","v":{"$error":"#N/A"}}]
[null,{"$f":"INDEX(建筑!$B$2:$B$5001,MATCH(表格模板!A4986,建筑!$A$2:$A$5001,0),COLUMN(A4986))","v":{"$error":"#N/A"}},null,{"$f":"INDEX(设备类型!$B$2:$B$5001,MATCH(表格模板!C4986,设备类型!$A$2:$A$5001,0),COLUMN(A4986))","v":{"$error":"#N/A"}}]
[null,{"$f":"INDEX(建筑!$B$2:$B$5001,MATCH(表格模板!A4987,建筑!$A$2:$A$5001,0),COLUMN(A4987))","v":{"$error":"#N/A"}},null,{"$f":"INDEX(设备类型!$B$2:$B$5001,MATCH(表格模板!C4987,设备类型!$A$2:$A$5001,0),COLUMN(A4987))","v":{"$error":"#N/A"}}]
[null,{"$f":"INDEX(建筑!$B$2:$B$5001,MATCH(表格模板!A4988,建筑!$A$2:$A$5001,0),COLUMN(A4988))","v":{"$error":"#N/A"}},null,{"$f":"INDEX(设备类型!$B$2:$B$5001,MATCH(表格模板!C4988,设备类型!$A$2:$A$5001,0),COLUMN(A4988))","v":{"$error":"#N/A"}}]
[null,{"$f":"INDEX(建筑!$B$2:$B$5001,MATCH(表格模板!A4989,建筑!$A$2:$A$5001,0),COLUMN(A4989))","v":{"$error":"#N/A"}},null,{"$f":"INDEX(设备类型!$B$2:$B$5001,MATCH(表格模板!C4989,设备类型!$A$2:$A$5001,0),COLUMN(A4989))","v":{"$error":"#N/A"}}]
[null,{"$f":"INDEX(建筑!$B$2:$B$5001,MATCH(表格模板!A4990,建筑!$A$2:$A$5001,0),COLUMN(A4990))","v":{"$error":"#N/A"}},null,{"$f":"INDEX(设备类型!$B$2:$B$5001,MATCH(表格模板!C4990,设备类型!$A$2:$A$5001,0),COLUMN(A4990))","v":{"$error":"#N/A"}}]
[null,{"$f":"INDEX(建筑!$B$2:$B$5001,MATCH(表格模板!A4991,建筑!$A$2:$A$5001,0),COLUMN(A4991))","v":{"$error":"#N/A"}},null,{"$f":"INDEX(设备类型!$B$2:$B$5001,MATCH(表格模板!C4991,设备类型!$A$2:$A$5001,0),COLUMN(A4991))","v":{"$error":"#N/A"}}]
[null,{"$f":"INDEX(建筑!$B$2:$B$5001,MATCH(表格模板!A4992,建筑!$A$2:$A$5001,0),COLUMN(A4992))","v":{"$error":"#N/A"}},null,{"$f":"INDEX(设备类型!$B$2:$B$5001,MATCH(表格模板!C4992,设备类型!$A$2:$A$5001,0),COLUMN(A4992))","v":{"$error":"#N/A"}}]
[null,{"$f":"INDEX(建筑!$B$2:$B$5001,MATCH(表格模板!A4993,建筑!$A$2:$A$5001,0),COLUMN(A4993))","v":{"$error":"#N/A"}},null,{"$f":"INDEX(设备类型!$B$2:$B$5001,MATCH(表格模板!C4993,设备类型!$A$2:$A$5001,0),COLUMN(A4993))","v":{"$error":"#N/A"}}]
[null,{"$f":"INDEX(建筑!$B$2:$B$5001,MATCH(表格模板!A4994,建筑!$A$2:$A$5001,0),COLUMN(A4994))","v":{"$error":"#N/A"}},null,{"$f":"INDEX(设备类型!$B$2:$B$5001,MATCH(表格模板!C4994,设备类型!$A$2:$A$5001,0),COLUMN(A4994))","v":{"$error":"#N/A"}}]
[null,{"$f":"INDEX(建筑!$B$2:$B$5001,MATCH(表格模板!A4995,建筑!$A$2:$A$5001,0),COLUMN(A4995))","v":{"$error":"#N/A"}},null,{"$f":"INDEX(设备类型!$B$2:$B$5001,MATCH(表格模板!C4995,设备类型!$A$2:$A$5001,0),COLUMN(A4995))","v":{"$error":"#N/A"}}]
[null,{"$f":"INDEX(建筑!$B$2:$B$5001,MATCH(表格模板!A4996,建筑!$A$2:$A$5001,0),COLUMN(A4996))","v":{"$error":"#N/A"}},null,{"$f":"INDEX(设备类型!$B$2:$B$5001,MATCH(表格模板!C4996,设备类型!$A$2:$A$5001,0),COLUMN(A4996))","v":{"$error":"#N/A"}}]
[null,{"$f":"INDEX(建筑!$B$2:$B$5001,MATCH(表格模板!A4997,建筑!$A$2:$A$5001,0),COLUMN(A4997))","v":{"$error":"#N/A"}},null,{"$f":"INDEX(设备类型!$B$2:$B$5001,MATCH(表格模板!C4997,设备类型!$A$2:$A$5001,0),COLUMN(A4997))","v":{"$error":"#N/A"}}]
[null,{"$f":"INDEX(建筑!$B$2:$B$5001,MATCH(表格模板!A4998,建筑!$A$2:$A$5001,0),COLUMN(A4998))","v":{"$error":"#N/A"}},null,{"$f":"INDEX(设备类型!$B$2:$B$5001,MATCH(表格模板!C4998,设备类型!$A$2:$A$5001,0),COLUMN(A4998))","v":{"$error":"#N/A"}}]
[null,{"$f":"INDEX(建筑!$B$2:$B$5001,MATCH(表格模板!A4999,建筑!$A$2:$A$5001,0),COLUMN(A4999))","v":{"$error":"#N/A"}},null,{"$f":"INDEX(设备类型!$B$2:$B$5001,MATCH(表格模板!C4999,设备类型!$A$2:$A$5001,0),COLUMN(A4999))","v":{"$error":"#N/A"}}]
[null,{"$f":"INDEX(建筑!$B$2:$B$5001,MATCH(表格模板!A5000,建筑!$A$2:$A$5001,0),COLUMN(A5000))","v":{"$error":"#N/A"}},null,{"$f":"INDEX(设备类型!$B$2:$B$5001,MATCH(表格模板!C5000,设备类型!$A$2:$A$5001,0),COLUMN(A5000))","v":{"$error":"#N/A"}}]
[null,{"$f":"INDEX(建筑!$B$2:$B$5001,MATCH(表格模板!A5001,建筑!$A$2:$A$5001,0),COLUMN(A5001))","v":{"$error":"#N/A"}},null,{"$f":"INDEX(设备类型!$B$2:$B$5001,MATCH(表格模板!C5001,设备类型!$A$2:$A$5001,0),COLUMN(A5001))","v":{"$error":"#N/A"}}]
[null,{"$f":"INDEX(建筑!$B$2:$B$5001,MATCH(表格模板!A5002,建筑!$A$2:$A$5001,0),COLUMN(A5002))","v":{"$error":"#N/A"}},null,{"$f":"INDEX(设备类型!$B$2:$B$5001,MATCH(表格模板!C5002,设备类型!$A$2:$A$5001,0),COLUMN(A5002))","v":{"$error":"#N/A"}}]
[null,{"$f":"INDEX(建筑!$B$2:$B$5001,MATCH(表格模板!A5003,建筑!$A$2:$A$5001,0),COLUMN(A5003))","v":{"$error":"#N/A"}},null,{"$f":"INDEX(设备类型!$B$2:$B$5001,MATCH(表格模板!C5003,设备类型!$A$2:$A$5001,0),COLUMN(A5003))","v":{"$error":"#N/A"}}]
[null,{"$f":"INDEX(建筑!$B$2:$B$5001,MATCH(表格模板!A5004,建筑!$A$2:$A$5001,0),COLUMN(A5004))","v":{"$error":"#N/A"}},null,{"$f":"INDEX(设备类型!$B$2:$B$5001,MATCH(表格模板!C5004,设备类型!$A$2:$A$5001,0),COLUMN(A5004))","v":{"$error":"#N/A"}}]

{"sheet":"建筑","index":1,"n_rows":2,"n_cols":4,"rows_kept":2,"cut":false,"hidden":false,"merged":[]}
["建筑名称","建筑ID","地下层数","地上层数"]
["${building.name}","${building.id}","${building.underFloorNum}","${building.floorNum}"]

{"sheet":"设备类型","index":2,"n_rows":2,"n_cols":2,"rows_kept":2,"cut":false,"hidden":false,"merged":[]}
["设备类型","设备ID"]
["${deviceType.manufacturerName}/${deviceType.equipmentType}/${deviceType.model}","${deviceType.id}"]